Workbook
Name _Toc536356329: 'Systematisk beskrivelse'!$A$110
Name _Toc536356335: 'Nødvendighet og proposjonalitet'!$A$37
Name serie2: Konsekvensutredning!$J$15:$J$64

Sheet Initialvurdering
A1: Personvernkonsekvensvurdering (DPIA - Data Protection Impact Assessment - KUNDE)
A2: Hensikt med DPIA | B2: Det er obligatorisk å utføre en personvernkonsekvensvurdering (DPIA) dersom det er sannsynlig at en type behandling av personopplysninger kan medføre en høy risiko for fysiske personers personvern, deres rettigheter og friheter (personvernforordningen, artikkel 35). Personvernkonsekvensvurderingen skal utføres før behandlingen starter og skal alltid være vurdert av personvernombudet.
A4: (1) Innledende informasjon
A5: Navn på behandling som vurderes (Tjeneste, system, anskaffelse etc) | B5: Digitalt tilsyn fra xxxxx
A6: Type behandling (Overordnet beskrivelse) | B6: For eksempel: Digitalt tilsyn-hvilke? Fallsensor, Dørsensorikk, Kameratilsyn, Radar, Mattesensor som registrer paramerter?
A7: Formål (Mål, hensikt, gevinst ved behandlingen (Art. 5b)) | B7: For eksempel: Få oversikt over brukerer og deres tilstedeværelse i seng/stol på en eller flere avdelinger. Forebygge fall ved å gjennomføre passivt tilsyn for tilstedeværelse i seng. Forbedre søvnkvalitet og redusere uro ved å unngå unødige fysiske tilsyn. Få innsikt gjennom målinger over tid (tilstedeværelse, søvn, bevegelse, døgnmønster, hjertefrekvens, respirasjonsfrekvens) og tidlig oppdage endringer fra normalen.
A8: Rettslig grunnlag/ behandlingsgrunnlag (Det må finnes et lovlig grunnlag (Art. 5a, 6.1)) | B8: Oppfylle rettslig forpliktelse (lov) | J8: Velg fra nedtrekksmeny
A9: Hjemmel (Ved lovpålagt tjeneste, allmenn interesse, offentlig myndighet (Art. 6.3)) | B9: For eksempel: bruker- og brukerrettighetsloven §4-6 bruker- og brukerrettighetsloven kap. 4a Helse- og omsorgstjenesteloven kap. 3 Helse- og omsorgstjenesteloven kap.9
A10: Kommentarer til innledende informasjon:
A11: Deltakere - Viktig at alle interessenter er representert ved full DPIA
A12: Behandlingsansvarlig eller representant for denne: | B12: Finn ut: Hvem er behandlingsansvarlig i din kommune? Kommunedirektør? IKT sjef? Kommunealsjef? Enhetsleder? Andre? Definer hvem som er med i denne oppgaven
A13: Personvernombud: | B13: Finn ut:
A14: Representant(er) for den/de registrerte: Begrunn dersom det ikke er relevant å innhente deres synspunkter | B14: For eksempel: Brukerrepresentant, navn, rolle
A15: Andre: (Eks. prosjektleder, jurist, IT-sikkerhet, IT-drift, databehandler) | B15: Vurder: Skal leverandør bidra inn i DPIA?
A16: Kommentarer til deltakere:
A18: DPIA - Initiell vurdering | H18: Ja/Nei
A19: (1) Omfatter behandlingen særlige kategorier av personopplysninger, eller personopplysninger av meget personlig karakter? Rasemessig eller etnisk opprinnelse, politisk oppfatning, religion, filosofisk overbevisning eller fagforeningsmedlemskap, samt behandling av genetiske og biometriske opplysninger, helseopplysninger eller opplysninger om en fysisk persons seksuelle forhold, eller seksuelle orientering, straffedommer og lovovertredelser. (Art. 9 og 10) | H19: Nei | J19: Velg fra nedtrekksmeny | L19: Søvn er her definert som en helseopplysning, tjenesten baserer seg på puls og pust
A20: (2) Innebærer behandlingen prediksjon av atferd, profilering av, rangering av, evaluering eller poengsetting av individer? | H20: Nei | J20: Velg fra nedtrekksmeny
A21: (3) Innebærer behandlingen automatiserte beslutninger som får effekt for den registrertes rettigheter? Gjennomføres det en automatisert beslutningsprosess, enten helt eller delvis, som har rettslig eller tilsvarende betydelig virkning for den fysiske personen? | H21: Nei | J21: Velg fra nedtrekksmeny
A22: (4) Innebærer behandlingen systematisk overvåking av den registrerte? Kontinuerlig overvåkning av den registrerte, eller overvåkning av offentlig rom, slik at den registrerte ikke nødvendigvis er klar over at han/hun overvåkes, eller at det kan være vanskelig for den registrerte å unngå overvåkingen (eksempelvis videoovervåking av offentlig tilgjengelig område, bruk av lokasjonsdata, kontroll av ansatte (effektivitet, ferdigheter, kunnskap, mental helse)). Merk at: Systematisk overvåking/monitorering av ansatte medfører alltid full DPIA | H22: Nei | J22: Velg fra nedtrekksmeny
A23: (5) Gjennomføres det behandling i stor skala? Høyt antall registrerte eller høy prosentdel av registrerte, stor mengde personopplysninger, mange ulike typer personopplysninger, dekker stort geografisk område, eller foregår over lengre tid, herunder permanent. | H23: Nei | J23: Velg fra nedtrekksmeny
A24: (6) Kobling eller sammenstilling av flere datasett? Datasett som tidligere ble behandlet av to eller flere aktører, eller med to eller flere hensikter, slås sammen og kan nyttes til hensikter som det var vanskelig for den registrerte å forestille seg. | H24: Nei | J24: Velg fra nedtrekksmeny
A25: (7) Omfatter behandlingen personopplysninger om sårbare registrerte? Sårbare individer er i en svak maktposisjon i forhold til den som behandler data, og har derfor begrenset evne til å motsette seg. Sårbare registrerte kan omfatte barn, psykisk syke, brukerer, rusavhengige, asylsøkere, eldre og arbeidstakere. | H25: Nei | J25: Velg fra nedtrekksmeny
A26: (8) Omfatter behandlingen innovativ bruk av personopplysninger eller bruk av teknologiske eller organisatoriske løsninger, hvor tilknyttet risiko enda ikke er kjent? Eksempelvis nye app'er, velferdsteknologi, "tingenes internett" (IoT) eller kunstig intelligens (AI). | H26: Nei | J26: Velg fra nedtrekksmeny
A27: (9) Hindrer behandlingen den registrerte i å utøve en rettighet, en tjeneste, eller en kontrakt? Når behandlingen har det formål å begrense hvem som får tilgang til noe, f.eks. en beslutningsprosess hvor man avgjør hvem som får tilskudd eller ikke. Punktet omfatter også overvåkning av offentlig rom som man må passere for å komme et sted. | H27: Nei | J27: Velg fra nedtrekksmeny
A28: (10) Er personopplysningene samlet inn via en tredjepart (ekstern leverandør)? For eksempel innsamling og sammenstilling av personopplysninger fra tredjeparter for å avgjøre om den registrerte skal få tilbud om, fortsette å motta, eller nektes et produkt, en tjeneste eller et tilbud. | H28: Nei | J28: Velg fra nedtrekksmeny
A29: Kommentarer til vurderingene: | B29: Hvor mange ja? Andre kommentarer?
A31: Konklusjon initiell vurdering: | H31: Full DPIA
A32: Det er færre enn to "Ja" og full DPIA er derfor ikke nødvendig | H32: =IF(A32='Ark 6'!A31,"Nei",IF(A32='Ark 6'!A32,"Ja",IF(A32='Ark 6'!A33,"Ja",""))) -> Nei | J32: Velg fra nedtrekksmeny
A33: Kommentarer til konklusjon:
A35: Behandlingsansvarliges signatur/dato (benyttes kun ved "Nei" på full DPIA):

Sheet Systematisk beskrivelse
A1: (2) Systematisk beskrivelse av behandlingen
A3: 2.1 Formål
A4: Behandlingens formål (preutfylles fra fanen Initialvurdering) | C4: Kopi fra side 1?
A5: =+Initialvurdering!B7 -> For eksempel: Få oversikt over brukerer og deres tilstedeværelse i seng/stol på en eller flere avdelinger. Forebygge fall ved å gjennomføre passivt tilsyn for tilstedeværelse i seng. Forbedre søvnkvalitet og redusere uro ved å unngå unødige fysiske tilsyn. Få innsikt gjennom målinger over tid (tilstedeværelse, søvn, bevegelse, døgnmønster, hjertefrekvens, respirasjonsfrekvens) og tidlig oppdage endringer fra normalen.
A6: Vil behandlingen av personopplysninger ha som mål å ta beslutninger som får betydning for den registrerte? | H6: Nei
A7: Skal opplysningene brukes for å profilere den registrerte? (preutfylles fra fanen Initialvurdering) | H7: =+Initialvurdering!H20 -> Nei
A8: Brukes personopplysningene for å avdekke ukjente sider eller for å gjenkjenne mønstre ved den registrerte? Gjelder også sammenstilling av opplysninger og bruk til andre formål enn oppgitt/infomert (preutfylles fra fanen Initialvurdering) | H8: =+Initialvurdering!H24 -> Nei
A9: Brukes personopplysningene for å avdekke ukjente sider eller for å gjenkjenne mønstre ved den registrerte gjennom matching/sammenstilling, og videre benytte dette til hensikter som det var vanskelig for den registrerte å forestille seg? | H9: Nei
A10: Vil personopplysningene viderebehandles til nye eller andre formål? | H10: Nei
A11: Vurdering av om formålet er godt nok beskrevet:
A12: Vurdering av om behandlingens formål er godt nok beskrevet: | H12: Kritiske mangler | J12: Gi visuell vurdering - mangel/risiko
A14: 2.2 Behandlingsgrunnlag
A15: Behandlingsgrunnlag (preutfylles fra fanen Initialvurdering)
A16: =+Initialvurdering!B8 -> Oppfylle rettslig forpliktelse (lov)
A17: Beskriv/begrunn behandlingsgrunnlaget
A18: For eksempel : Mer målrettede fysiske tilsyn Unngå å forstyrre brukere som sover Bedre oversikt på avdelingene Bedre beslutningsgrunnlag med tanke på videre tiltak Måling av helseparameter uten å forstyrre bruker
A19: Hjemmel (ved lovpålagt tjeneste) (preutfylles fra fanen Initialvurdering)
A20: =+Initialvurdering!B9 -> For eksempel: bruker- og brukerrettighetsloven §4-6 bruker- og brukerrettighetsloven kap. 4a Helse- og omsorgstjenesteloven kap. 3 Helse- og omsorgstjenesteloven kap.9
A21: Vurdering av om behandlingsgrunnlaget er godt nok beskrevet:
A22: Vurdering av om behandlingsgrunnlaget er godt nok beskrevet: | H22: Kritiske mangler | J22: =+J12 -> Gi visuell vurdering - mangel/risiko
A24: 2.3 Behandlingens art
A25: Hvem samles det inn personopplysninger om (kategorier registrerte, eksempelvis ansatte, elever, barn, innbyggere, brukerer, kryss av for aktuelle)?
A26: Kategorier av registrerte | C26: Innhentet (Velg "X") | D26: Hvilke opplysninger? For eksempel:
A27: Innbyggere | D27: Navn, adresse, fødselsnummer
A28: Ansatte | D28: Navn, avdeling og kommunal e-post
A29: Barn/ungdom | D29: Unik bruker ID - Institusjon, avdeling og romnummer
A30: Foreldre/foresatte
A31: Elever
A32: Eldre | D32: Unik bruker ID - Institusjon, avdeling og romnummer, ev navn og fød nr?
A33: brukerer | D33: Unik bruker ID - Institusjon, avdeling og romnummer, ev navn og fød nr?
A34: Asylsøkere
A35: Politikere
A36: Beredskapshjem/fosterforeldre
A37: Slektninger/nettverk/venner
A38: Institusjoner/myndighetspersoner
A39: Flere…
A40: Mennesker med utviklingshemming | D40: Unik bruker ID - Institusjon, avdeling og romnummer
A45: Hvordan samles personopplysningene inn (samles opplysningene inn fra den registrerte selv og/eller andre kilder)?
A46: For eksempel: Tjenestemottaker sender inn søknad? Registrerer seg selv? Ansatte i kommunen registrerer søkand, behandler søkand brukerjournal, dokumentasjon av tiltak
A47: Hvor behandles/oppbevares personopplysningene (eks.: lokalt, i sky)?
A49: Hvordan lagres personopplysningene (eks.: format, database, tekstdokument, regneark, papir)?
A51: Geografisk omfang av behandling(lokalt, regionalt, hvor i skyen, Norge, EU, 3. land)?
A53: Hvem har tilgang til personopplysningene (eks. saksbehandler, IT-operatør, leverandør etc)?
A54: For eksempel: Ansatte med tjenelig formål som skal dokumenter helsehjelp Personell ved distributør og leverandør (support) Andre?
A55: Brukes det ny teknologi eller bruk av eksisterende teknologi hvor personvernkonsekvenser ikke har blitt vurdert? (preutfylles fra fanen Initialvurdering) | H55: =+Initialvurdering!H26 -> Nei
A57: Vurdering av om behandlingens art er godt nok beskrevet:
A58: Vurdering av om behandlingens art er godt nok beskrevet: | H58: Kritiske mangler | J58: =+J12 -> Gi visuell vurdering - mangel/risiko
A60: 2.4 Behandlingens omfang
A61: Hvilke typer av alminnelige personopplysninger behandles (kryss av for aktuelle)? For eksempel:
A62: Type personopplysning | C62: Innhentet (Velg "X") | D62: Årsak innhenting | G62: Hentet fra
A63: Fornavn | D63: Opprette tilgang for ansatte Opprette bruker i tjenesten | G63: System-admin (eks. avdelingsleder)
A64: Etternavn | D64: Opprette tilgang for ansatte Opprette bruker i tjenesten (frarådes) | G64: System-admin (eks. avdelingsleder)
A65: Adresse
A66: Telefonnummer
A67: Epostadresse (jobbmail) | D67: Opprette tilgang for ansatte | G67: System-admin (eks. avdelingsleder)
A69: Personnummer
A70: Fødselsnummer
A71: Unik bruker-ID (journalnummer) | D71: Opprette bruker i tjenesten | G71: System-admin eller Admin (eks. ansvarlig sykepleier)
A73: Avdeling | D73: Opprette bruker i tjenesten | G73: System-admin eller Admin (eks. ansvarlig sykepleier)
A74: Rom | D74: Opprette bruker i tjenesten | G74: System-admin eller Admin (eks. ansvarlig sykepleier)
A76: (Legg til alle innhentede personoppl.)
A78: Omfatter behandlingen særlige kategorier av personopplysninger, eller personopplysninger av svært personlig karakter? Rase, eller etnisk opphav, politiske meninger, religiøs eller filosofisk oppfatning, fagforeningsmedlemskap, genetiske data, biometriske data som kan identifisere en enkeltperson, helsedata, beskrivelse av kjønnsliv, eller seksuell orientering (preutfylles fra fanen Initialvurdering) | H78: =+Initialvurdering!H19 -> Nei
A80: Hvilke særlige kategorier av personopplysninger behandles (kryss av for aktuelle)?
A81: Type personopplysning | C81: Innhentet (Velg "X") | D81: Årsak innhenting | G81: Hentet fra
A82: Rasemessig eller etnisk opprinnelse
A83: Politisk oppfatning
A84: Religion
A85: Filosofisk overbevisning
A86: Fagforeningsmedlemskap
A87: Genetiske opplysninger
A88: Biometriske opplysninger
A89: Helseopplysninger
A90: Seksuelle forhold
A91: Seksuell legning
A92: Straffedommer
A93: Lovovertredelser
... A102: For eksempel: Personopplysninger slettes etter x dager Arkivverdige varsler (eks. hyppig vandring, fall, puls, pus) lagres til evig tid i brukerjournal (arkivloven) Alle opplysninger om ansatte, kvitteringslogg, brukerinfo (romnummer/avdeling/løpenummer) slettes. Hendelser om bruker anonymiseres og lagres.
A103: Gjennomføres det behandling i stor skala? Høyt antall registrerte eller høy prosentdel av innbyggere, stor mengde data, mange ulike typer data, dekker stort geografisk område, eller foregår over lengre tid, herunder permanent (preutfylles fra fanen Initialvurdering) | H103: =+Initialvurdering!H23 -> Nei
A104: Evt. kommentarer:
A105: Opprett en skisse som viser flyten av personopplysninger gjennom behandlingens alle faser.
A106: Lagre flytskjemaet som: "ÅÅÅÅ-MM-DD DPIA for behandlingsnavn - Vedlegg A" | J106: bruker opprettes --> bruker monitoreres --> brukerdata slettes bruker opprettes --> bruker monitoreres --> hendelsesdata anonymiseres og lagres Ansatt opprettes --> logging av bruk --> ansattdata slettes Ansatt opprettes --> logging av bruk --> kvittering av hendelser beholdes inntil organisasjonen slettes Organisasjon opprettes --> logging av bruk --> organisasjon og logger slettes Organisasjon opprettes --> logging av bruk --> anonymiserte hendelser lagres
A107: Vurdering av om behandlingens omfang er godt nok beskrevet:
A108: Vurdering av om behandlingens omfang er godt nok beskrevet: | H108: Mangler | J108: =+J12 -> Gi visuell vurdering - mangel/risiko
A110: 2.5 Konteksten behandlingen utføres i
A111: Beskriv hvordan behandlingen vil oppfattes fra den registrertes synsvinkel. Kan den registrerte oppfatte behandlingen som uforutsigbar? (Viktig at den registrerte vurderer!)
A112: For eksempel: Målinger krever vedtak/samtykke. Det er kommunen sitt ansvar å innhente og dokumentere dette samtykket. Leverandør/Kommune tilbyr informasjonsbrosjyre til bruker eller pårørende som kan brukes ved innhenting av samtykke.
A113: Vil den registrerte ha en særskilt forventning om at personopplysningene er nødvendige og korrekte? (Viktig at den registrerte vurderer!)
A114: For eksempel: Ja, informasjonen (Unik pasient-ID, rom, avdeling) må være korrekt for å sikre forsvarlig helsehjelp og korrekt dokumentasjon av helsehjelp. Nei?
A115: Omfatter behandlingen personopplysninger om sårbare registrerte? Sårbare individer er i en svak maktposisjon i forhold til den som behandler data, og har derfor begrenset evne til å motsette seg. Eksempler kan være; barn, psykisk syke, brukerer, rusavhengige, asylsøkere og eldre (preutfylles fra fanen Initialvurdering) | H115: =+Initialvurdering!H25 -> Nei
A116: Evt. kommentarer:
A117: Omfatter behandlingen innovativ bruk av teknologi eller organisatoriske verktøy, hvor tilknyttet risiko enda ikke er kjent? Eksempelvis nye app'er, velferdsteknologi eller kunstig intelligens (AI) (preutfylles fra fanen Initialvurdering) | H117: =+Initialvurdering!H26 -> Nei
A118: Evt. kommentarer:
A119: Matches eller sammenstilles flere datasett? Datasett som tidligere ble behandlet av to eller flere aktører, eller med to eller flere hensikter, slås sammen og kan nyttes til hensikter som det var vanskelig for den registrerte å forestille seg når samtykke ble innhentet (preutfylles fra fanen Initialvurdering) | H119: =+Initialvurdering!H24 -> Nei
A120: Evt. kommentarer:
A121: Vurdering av om behandlingens kontekst er godt nok beskrevet:
A122: Vurdering av om behandlingens kontekst er godt nok beskrevet: | H122: Kritiske mangler | J122: =+J12 -> Gi visuell vurdering - mangel/risiko
A124: 2.6 Innebygd personvern
A125: Hvordan ivaretar informasjonssystemet/løsningen som benyttes til behandlingen kravet til innebygd personvern og personvern som standardinnstilling? (Se link i fanen Endringslogg)
A126: For eksempel: Identifiserende data beholdes i x dager etter sletting av bruker. Tilgang til brukerdata avgrenses ved hjelp av tilgangsstyring, som er styrt av kommunen (via System-admin). Alle data lagres innad i EU (datasenter i xx).
A127: Vurdering av om innebygd personvern for behandlingen er godt nok beskrevet:
...

Sheet Nødvendighet og proposjonalitet
A1: (3) Nødvendighet og proporsjonalitet
A3: 3.1 Vurdering av personvernprinsippene
A4: Personvernprinsippene
A5: Baseres behandlingen på et tydelig rettslig grunnlag? | H5: Ja
A6: Er det rettslige grunnlaget gyldig og rimelig? | H6: Ja
A7: Hvordan vil åpenhet bli ivaretatt i behandlingen?
A8: For eksempel :Informasjon om behandling av personopplysninger er offentliggjort på xxxx nettsider Informasjon om behandling av personeopplysninger opplyses ved søknad om tjenester, opplyses om når vedtak sendes til bruker, opplyses gjennom brukerrepresentant inn i gjennomførig av DPIA
A9: Formålsbegrensning
A10: Er formålet klart definert? (Viktig at den registrerte vurderer!) | H10: Ja
A11: Samsvarer formålet forventningene til den registrerte? (Viktig at den registrerte vurderer!) | H11: Ja
A12: Kan formålet oppnås med anonyme eller pseudonyme alternativer? | H12: Ja
A13: For eksempel: Tjenesten benytter seg av pseudonyme alternativer- romnummer og ikke bruk av navn eller andre identifikatorer
A14: Dataminimering
A15: Er alle personopplysningene som samles inn nødvendige for å oppnå formålet? | H15: Ja
A16: Er det mulig å begrense innsamlingen av personopplysninger? | H16: Ja
A17: Er det mulig å redusere detaljgraden av personopplysninger? | H17: Ja
A18: For eksempel: Tjenestemottaker er anonymisert ved å bruke romnummer og Unik pasient-ID for å sikre rett identifikasjon av den enkelte bruker. For hjemmetjenesten trengs navn i tillegg for å kunne sikre rett identifikasjon av den enkelte bruker. Det abrukes fornavn og en bokstav i etternavn/ EPJ nummer benyttes, ikke navn
A19: Riktighet
A20: Hvordan holdes personopplysningene korrekte og oppdaterte?
A21: For eksempel: System-administrator og administrator vil oppdatere personopplysningene ved behov Integrasjon via VKP sikrer korrekt informasjon fra EPJ
A22: Ut fra den registrertes rettigheter, er det behov for kontradiksjon? Det vil si den registrertes anledning til å imøtegå det som den behandlingsansvarlige har registrert. | H22: Nei
A24: Lagringsbegrensning
A25: Blir personopplysningene slettet når formålet er oppnådd, i så fall hvordan? | H25: Ja
A26: Identifiserende personopplysninger slettes når bruker slettes fra løsningen. I dentifiserende personopplysninger inntil x dager.
A27: Integritet og fortrolighet
A28: Er det gjennomført RoS-analyse av informasjonssystemet? (preutfylles fra 2.8) | H28: =+'Systematisk beskrivelse'!H139 -> Nei
A29: Brukes databehandler? (preutfylles fra 2.7) | H29: =+'Systematisk beskrivelse'!H131 -> Ja
A30: Er det opprettet databehandleravtale? (preutfylles fra 2.7) | H30: =+'Systematisk beskrivelse'!H132 -> Ja
A31: Er personopplysningssikkerheten tilstrekkelig ivaretatt? | H31: Ja
A32: =+'Systematisk beskrivelse'!A144:H144 -> 0
A33: Vurdering av om personvernprinsippene er godt nok beskrevet:
A34: Vurdering av om personvernprinsippene er godt nok beskrevet: | H34: Kritiske mangler | J34: =+'Systematisk beskrivelse'!J12 -> Gi visuell vurdering - mangel/risiko
A36: 3.2 Den registrertes rettigheter og friheter
A37: Den registrertes rettigheter
A38: Hvordan gis informasjon om behandlingen til den registrerte?
A39: For eksempel: Gjennom samtale og skriftlig informasjon til bruker og pårørende.
A40: Innsyn i egne personopplysninger
A41: Hvordan kan den registrerte utøve retten til innsyn i egne personopplysninger?
A42: For eksempel: Ved å henvende seg til kommunen/ aktuell tjeneste/angitt adresse i kommunen
A43: Korrigering av egne personopplysninger
A44: Skal det være mulig for den registrerte å korrigere sine egne personopplysninger (jf formål og behandlingsgrunnlag)? | H44: Ja
A45: Hvordan kan i så fall den registrerte utøve denne rettigheten?
A46: For eksempel: Ved å henvende seg til kommunen / vise til kommunel prosedyre
A47: Sletting av egne personopplysninger
A48: Skal det være mulig for den registrerte å slette sine egne personopplysninger (jf formål og behandlingsgrunnlag)? | H48: Ja
A49: Hvordan kan i så fall den registrerte utøve denne rettigheten?
A50: Kan henvende seg til kommunen. Men har ikke automatisk rett til å få personopplysninger slettet. Vise til lovhjemmel
A51: Begrensning av behandling av personopplysninger
A52: Hvordan kan den registrerte utøve retten til å begrense behandlingen av egne personopplysninger?
A53: For eksempel: Være med å bestemme type målinger Være med å bestemme type passive varsler Være med å bestemme tidspunkt for passive varsler Kan ikke motsette eg, er en del av helsehjelpen som ytes i x kommune og forutsetnig for digitalt tilsyn
A54: Dataportabilitet
A55: Hvordan kan den registrerte utøve retten til dataportabilitet?
A56: Vurder: Ikke relevant dersom behandlingsgrunnlaget er offentlig myndighetsutøvelse/lovpålagt tjeneste – må verifiseres for den konkrete behandlingen
A57: Innsigelse mot behandlinger
A58: Hvordan kan den registrerte utøve retten til innsigelse mot behandlingen?
A59: For eksempel: Ved å henvende seg til kommunen.
A60: Automatiserte avgjørelser og profilering
A61: Vil behandlingen av personopplysninger ha som mål å ta beslutninger som får betydning for den registrerte? (preutfylles fra fanen Initialvurdering) | H61: =+Initialvurdering!H21 -> Nei
A62: Hvis behandlingen innebærer automatiserte avgjørelser og profilering, hvordan kan den registrerte reservere seg mot slik behandling?
A63: For eksempel: Ved å henvende seg til kommunen.
A64: Vurdering av om den registrertes rettigheter er godt nok beskrevet:
A65: Vurdering av om den registrertes rettigheter er godt nok beskrevet: | H65: Kritiske mangler | J65: =+'Systematisk beskrivelse'!J12 -> Gi visuell vurdering - mangel/risiko
A67: 3.3 Den registrertes friheter
A68: Vurderinger rundt den registrertes friheter i forhold til Den europeiske menneskerettskonvensjonen (EMK).
A69: Hvordan tar behandlingen hensyn til retten til privatliv og kommunikasjonsvern? (Viktig at den registrerte vurderer!)
A70: For eksempel: Brukeren registreres ikke med identifiserende personopplysninger og varsles pr romnummer For hjemmetjenesten lagres navn i tillegg for å kunne sikre rett identifikasjon av den enkelte bruker. Det anbefales bruk av fornavn og en bokstav i etternavn Kameratilsyn utføres med sladdet bilde/pikselering som gjør at bruker ikke kan ses med nøyaktighet Tilsynet benyttes kun i avtalte perioder Tilsynet benytter ikke ly/Bilde
A71: Hvordan tar behandlingen hensyn til retten til ikke å bli diskriminert? (Viktig at den registrerte vurderer!)
A72: For eksempel: tjenesten utformes ikk slik at personer med lav digital kompetanse, kognitiv svikt, funksjonsnedsettelser eller språkbarrierer får dårligere tilgang til tjenesten at innbyggeren får reell mulighet til å velge eller motsette seg digitalt tilsyn, der regelverket og tjenestebehovet tilsier det at det finnes alternative måter å yte tilsyn på dersom digitalt tilsyn ikke er egnet for den enkelte at teknologien ikke brukes som eneste grunnlag for å redusere eller endre tjenester uten en individuell og faglig vurdering
A73: Hvordan tar behandlingen hensyn til retten til tanke-, tros- og religionsfrihet? (Viktig at den registrerte vurderer!)
A74: For eksempel: Det er ikke lagring av lys og bilde, de registrerte trenger ikke vegre seg for å prate/oppføre seg fritt Brukeren får tydelig informasjon om når, hvordan og hvilke opplysninger som registreres
A75: Hvordan tar behandlingen hensyn til retten til ytrings- og informasjonsfrihet? (Viktig at den registrerte vurderer!)
A76: For eksempel: brukeren føler seg fri til å snakke og opptre som normalt kamera, lyd eller sensorer kan gi en opplevelse av å være overvåket løsningen begrenses til det som er nødvendig, for eksempel bestemte tidspunkt eller hendelser lyd eller samtaler ikke registreres uten at dette er nødvendig og særskilt begrunnet brukeren får tydelig informasjon om når tilsyn skjer, hva som registreres og hvem som har tilgang private samtaler med pårørende, helsepersonell eller andre skjermes den registrerte kan si fra dersom løsningen oppleves begrensende eller ubehagelig
A77: Vurdering av om den registrertes friheter er godt nok beskrevet:
A78: Vurdering av om den registrertes friheter er godt nok beskrevet: | H78: Kritiske mangler | J78: =+'Systematisk beskrivelse'!J12 -> Gi visuell vurdering - mangel/risiko

Sheet Konsekvensutredning
A1: (4) Risiko for uønskede hendelser og (5) tiltak for å redusere disse for den registrertes rettigheter og friheter
A3: Risikoer knyttet til personopplysningsvernet og anbefalte tiltak
A4: Konfidensialitet | B4: Hvordan ivaretar behandlingen konfidentialiteten/fortroligheten til informasjonen om den registrerte, og hva kan det i verste fall føre til hvis informasjonen kommer uvedkommende i hende? | D4: Risiko | G4: Foreslåtte tekniske eller organisatoriske tiltak som vil kunne redusere risikoen for uønskede hendelser | H4: Risiko etter tiltak
B5: Risikomomenter | C5: Eksisterende tiltak | D5: S | E5: K | F5: R | G5: Nye tiltak | H5: S | I5: K | J5: R
B6: Innloggingsdetaljer kommer på avveie | C6: Fjerne brukertilgang Skifte passord AD-integrasjon Loggføres hvem som har gjort tilsyn for hver enkelt bruker Tofaktor-autentisering (sender sms til tjenestetelefonen) | F6: =(D6*E6) -> 0 | J6: =(H6*I6) -> 0
B7: Telefoner kommer på avveie | C7: Låsekode på telefon Låst ned i MDM Fjerne brukertilgang Skifte passord | F7: =(D7*E7) -> 0 | J7: =(H7*I7) -> 0
B8: Gitt feil tilganger til ansatte | C8: God opplæring Admin ser rollen til hver enkelt ansatte Kan ikke gi tilgang til tilsvarende rolle Loggføres hvem som har gjort tilsyn på hver enkelt bruker Automatisk brukerstyring via Azure AD | F8: =(D8*E8) -> 0 | J8: =(H8*I8) -> 0
B9: Tidligere ansatte utfører tilsyn | C9: Fjerne brukertilgang Deaktivere ansatt AD-integrasjon To-faktorautentisering (sender sms til tjenestetelefon) | F9: =(D9*E9) -> 0 | J9: =(H9*I9) -> 0
B10: Systemet blir hacket | C10: Tofaktor-autentisering på administrativt system Server er fysisk plassert på et datasenter i Frankfurt Automatisk backup av databaser | F10: =(D10*E10) -> 0 | J10: =(H10*I10) -> 0
B11: Uautorisert tilsyn utenfor tilsynstid | C11: Obligatorisk opplæring God kompetanse/forståelse av løsningen og tiltak | F11: =(D11*E11) -> 0 | G11: Rapport over tilsynstid | H11: 1 | I11: 1 | J11: =(H11*I11) -> 1
B12: Uautorisert tilsyn utenfor arbeidstid | C12: Obligatorisk opplæring God kompetanse/forståelse av løsningen og tiltak | F12: =(D12*E12) -> 0 | G12: Begrenset tilgang til appen: kun når man er på kommunalt nett. | H12: 1 | I12: 1 | J12: =(H12*I12) -> 1
F13: =(D13*E13) -> 0 | J13: =(H13*I13) -> 0
F14: =(D14*E14) -> 0 | J14: =(H14*I14) -> 0
F15: =(D15*E15) -> 0 | J15: =(H15*I15) -> 0
A17: Integritet | B17: Hvordan ivaretar behandlingen integriteten/riktigheten til informasjonen om den registrerte, og hva kan det i verste fall føre til hvis informasjonen er uriktig? | D17: Risiko | G17: Foreslåtte tekniske eller organisatoriske tiltak som vil kunne redusere risikoen for uønskede hendelser | H17: Risiko etter tiltak
A18: Risikomomenter | B18: Risikomomenter | C18: Eksisterende tiltak | D18: S | E18: K | F18: R | G18: Nye tiltak | H18: S | I18: K | J18: R
B19: Der sensor er plassert i stol vil man kunne få målinger av andre enn tjenestemottaker | F19: =(D19*E19) -> 0 | G19: Tilstedemarkering for pårørende. | H19: 1 | I19: 2 | J19: =(H19*I19) -> 2
B20: Sensor plasseres på feil rom | C20: Opplæring Administrator kan selv flytte sensor i systemet Enkel brosjyre som forklarer hvordan man flytter en sensor fra et rom til et annet | F20: =(D20*E20) -> 0 | G20: Oppdaterte prosedyrer og rutiner. God forståelse av systemet og konsekvensene av sine handlinger. | H20: 1 | I20: 3 | J20: =(H20*I20) -> 3
F21: =(D21*E21) -> 0 | J21: =(H21*I21) -> 0
F22: =(D22*E22) -> 0 | J22: =(H22*I22) -> 0
F23: =(D23*E23) -> 0 | J23: =(H23*I23) -> 0
A25: Tilgjengelighet | B25: Hvordan ivaretar behandlingen tilgjengeligheten til informasjonen om den registrerte, og hva kan det i verste fall føre til hvis informasjonen ikke er tilgjengelig? | D25: Risiko | G25: Foreslåtte tekniske eller organisatoriske tiltak som vil kunne redusere risikoen for uønskede hendelser | H25: Risiko etter tiltak
A26: Risikomomenter | B26: Risikomomenter | C26: Eksisterende tiltak | D26: S | E26: K | F26: R | G26: Nye tiltak | H26: S | I26: K | J26: R
B27: Stikkontakt trekkes ut | C27: Får varsel i app når man ikke mottar data fra sensor | F27: =(D27*E27) -> 0 | G27: Oppdaterte prosedyrer og rutiner. | H27: 4 | I27: 1 | J27: =(H27*I27) -> 4
B28: Strømbrudd | C28: Får varsel i app når man ikke mottar data fra sensor | F28: =(D28*E28) -> 0 | G28: Oppdaterte prosedyrer og rutiner. | H28: 1 | I28: 1 | J28: =(H28*I28) -> 1
B29: App slutter å fungere etter oppdatering | C29: Kan pushe ut oppdatering gjennom app Informeres om nye oppdateringer i forkant av oppdateringen. | F29: =(D29*E29) -> 0 | H29: 2 | I29: 2 | J29: =(H29*I29) -> 4
B30: Mobildata fungerer ikke | C30: Får varsel i app når man ikke mottar data fra sensor. Roaming SIM vil automatisk bytte til et bedre nettverk i området. | F30: =(D30*E30) -> 0 | H30: 1 | I30: 2 | J30: =(H30*I30) -> 2
B31: Sensor plasseres på feil rom | C31: Administrator skal selv flytte sensor i systemet. Enkel brosjyre som forklarer hvordan man flytter en sensor fra et rom til et annet. | F31: =(D31*E31) -> 0 | G31: Opplæring. Oppdaterte prosedyrer og rutiner. God forståelse av systemet og konsekvensene av sine handlinger. | H31: 1 | I31: 4 | J31: =(H31*I31) -> 4
A33: Åpenhet | B33: Hvordan ivaretar behandlingen åpenheten rundt informasjonen om den registrerte, og hvilke konsekvenser kan det få for den registrertes personvern om tilstrekkelig informasjon ikke er gitt? | D33: Risiko | G33: Foreslåtte tekniske eller organisatoriske tiltak som vil kunne redusere risikoen for uønskede hendelser | H33: Risiko etter tiltak
A34: Risikomomenter | B34: Risikomomenter | C34: Eksisterende tiltak | D34: S | E34: K | F34: R | G34: Nye tiltak | H34: S | I34: K | J34: R
B35: Den registrerte kjenner ikke til hva som blir målt med løsningen | C35: Kommuene tilbyr brosjyre for brukere og pårørende med informasjon om hva som måles med løsningen og hvorfor. Informasjon, samtykkevurdering og innhente samtykke. | F35: =(D35*E35) -> 0 | J35: =(H35*I35) -> 0
F36: =(D36*E36) -> 0 | J36: =(H36*I36) -> 0
F37: =(D37*E37) -> 0 | J37: =(H37*I37) -> 0
F38: =(D38*E38) -> 0 | J38: =(H38*I38) -> 0
F39: =(D39*E39) -> 0 | J39: =(H39*I39) -> 0
A41: Forutsigbarhet | B41: I hvilken grad er kompleksiteten/uforutsigbarheten i behandlingen høy og tilsvarende vanskelig for den registrerte å forstå, og hvilke konsekvenser kan det få for den registrertes personvern om kompleksiteten av behandlingen ikke er gitt eller forstått? | D41: Risiko | G41: Foreslåtte tekniske eller organisatoriske tiltak som vil kunne redusere risikoen for uønskede hendelser | H41: Risiko etter tiltak
A42: Risikomomenter | B42: Risikomomenter | C42: Eksisterende tiltak | D42: S | E42: K | F42: R | G42: Nye tiltak | H42: S | I42: K | J42: R
B43: Den registrerte kjenner ikke til hvordan løsningen fungerer | C43: Kommuentilbyr brosjyre for brukere og pårørende med informasjon om hvordan løsningen fungerer. Informasjon, samtykkevurdering og innhente samtykke. | F43: =(D43*E43) -> 0 | J43: =(H43*I43) -> 0
F44: =(D44*E44) -> 0 | J44: =(H44*I44) -> 0
F45: =(D45*E45) -> 0 | J45: =(H45*I45) -> 0
F46: =(D46*E46) -> 0 | J46: =(H46*I46) -> 0
F47: =(D47*E47) -> 0 | J47: =(H47*I47) -> 0
A49: Medbestemmelse | B49: Hvordan ivaretar behandlingen den registrertes muligheter for medbestemmelse/påvirkining, og hvilke konsekvenser kan det få for den registrertes personvern om den ikke har dette? | D49: Risiko | G49: Foreslåtte tekniske eller organisatoriske tiltak som vil kunne redusere risikoen for uønskede hendelser | H49: Risiko etter tiltak
A50: Risikomomenter | B50: Risikomomenter | C50: Eksisterende tiltak | D50: S | E50: K | F50: R | G50: Nye tiltak | H50: S | I50: K | J50: R
B51: Det måles mer enn ønskelig i forhold til samtykke eller vedtak | C51: Admin må aktivt velge alle målinger og varslinger i systemet. Dette kan enkelt justeres etter behov og ønske. Informasjon, samtykkevurdering og innhente samtykke. | F51: =(D51*E51) -> 0 | J51: =(H51*I51) -> 0
F52: =(D52*E52) -> 0 | J52: =(H52*I52) -> 0
F53: =(D53*E53) -> 0 | J53: =(H53*I53) -> 0
F54: =(D54*E54) -> 0 | J54: =(H54*I54) -> 0
F55: =(D55*E55) -> 0 | J55: =(H55*I55) -> 0
A57: Friheter | B57: Vurder hvordan de registrertes friheter i forhold til Den europeiske menneskerettskonvensjonen (EMK) er tatt hensyn til. Retten til privatliv og kommunikasjonsvern, retten til ikke å bli diskriminert, tanke-, tros- og religionsfrihet, ytrings- og informasjonsfrihet | D57: Risiko | G57: Foreslåtte tekniske eller organisatoriske tiltak som vil kunne redusere risikoen for uønskede hendelser | H57: Risiko etter tiltak
A58: Risikomomenter | B58: Risikomomenter | C58: Eksisterende tiltak | D58: S | E58: K | F58: R | G58: Nye tiltak | H58: S | I58: K | J58: R
B59: Den registrerte diskrimineres mot | C59: Tjenesten har minimalt med personlige opplysninger og på den måten forhindrer den mulighet for diskriminering. | F59: =(D59*E59) -> 0 | J59: =(H59*I59) -> 0
F60: =(D60*E60) -> 0 | J60: =(H60*I60) -> 0
F61: =(D61*E61) -> 0 | J61: =(H61*I61) -> 0
F62: =(D62*E62) -> 0 | J62: =(H62*I62) -> 0
F63: =(D63*E63) -> 0 | J63: =(H63*I63) -> 0
A65: Behandlingen - Etter gjennoførte tiltak
A66: Ny beskrivelse av behandlingen | B66: Dersom tiltak bestemmes iverksatt og behandlingen endres, tegn nytt flytskjema og legg inn i samme fil som det opprinnelige flytskjemaet. Lagre flytskjemaet som: "ÅÅÅÅ-MM-DD DPIA for behandlingsnavn - Vedlegg A"

Sheet Risikotabell

Sheet Rapport
A1: KUNDE Rapport - Data Protection Impact Assessment (Skal, med få unntak, være offentlig tilgjengelig)
A3: (1) Innledende informasjon
A4: Navn på tjeneste | B4: =+Initialvurdering!B5 -> Digitalt tilsyn fra xxxxx
A5: Behandling | B5: =+Initialvurdering!B6 -> For eksempel: Digitalt tilsyn-hvilke? Fallsensor, Dørsensorikk, Kameratilsyn, Radar, Mattesensor som registrer paramerter?
A6: Formål | B6: =+Initialvurdering!B7 -> For eksempel: Få oversikt over brukerer og deres tilstedeværelse i seng/stol på en eller flere avdelinger. Forebygge fall ved å gjennomføre passivt tilsyn for tilstedeværelse i seng. Forbedre søvnkvalitet og redusere uro ved å unngå unødige fysiske tilsyn. Få innsikt gjennom målinger over tid (tilstedeværelse, søvn, bevegelse, døgnmønster, hjertefrekvens, respirasjonsfrekvens) og tidlig oppdage endringer fra normalen.
A7: Behandlingsgrunnlag | B7: =+Initialvurdering!B8 -> Oppfylle rettslig forpliktelse (lov)
A8: Hjemmel | B8: =+Initialvurdering!B9 -> For eksempel: bruker- og brukerrettighetsloven §4-6 bruker- og brukerrettighetsloven kap. 4a Helse- og omsorgstjenesteloven kap. 3 Helse- og omsorgstjenesteloven kap.9
A9: Kommentarer | B9: =+Initialvurdering!B10 -> 0
A11: Konklusjon initiell vurdering: | I11: Full DPIA Ja/Nei
A12: =+Initialvurdering!A32 -> Det er færre enn to "Ja" og full DPIA er derfor ikke nødvendig
A14: (2) Vurdering av Systematisk beskrivelse
A15: Behandlingens formål | B15: =+'Systematisk beskrivelse'!A12 -> Vurdering av om behandlingens formål er godt nok beskrevet:
A16: Behandlingens grunnlag | B16: =+'Systematisk beskrivelse'!A22 -> Vurdering av om behandlingsgrunnlaget er godt nok beskrevet:
A17: Behandlingens art | B17: =+'Systematisk beskrivelse'!A58 -> Vurdering av om behandlingens art er godt nok beskrevet:
A18: Behandlingens omfang | B18: =+'Systematisk beskrivelse'!A108 -> Vurdering av om behandlingens omfang er godt nok beskrevet:
A19: Konteksten behandlingen utføres i | B19: =+'Systematisk beskrivelse'!A122 -> Vurdering av om behandlingens kontekst er godt nok beskrevet:
A20: Innebygd personvern | B20: =+'Systematisk beskrivelse'!A128 -> Vurdering av om innebygd personvern for behandlingen er godt nok beskrevet:
A21: Bruk av databehandler | B21: =+'Systematisk beskrivelse'!A136 -> Vurdering av om bruk av databehandler er godt nok beskrevet:
A22: Tekniske og organisatoriske sikkerhetstiltak | B22: =+'Systematisk beskrivelse'!A150 -> Vurdering av om tekniske og organisatoriske sikkerhetstiltak er godt nok beskrevet:
A24: (3) Vurdering av Nødvendighet og proporsjonalitet
A25: Personvernprinsippene | B25: =+'Nødvendighet og proposjonalitet'!A34 -> Vurdering av om personvernprinsippene er godt nok beskrevet:
A26: Den registrertes rettigheter | B26: =+'Nødvendighet og proposjonalitet'!A65 -> Vurdering av om den registrertes rettigheter er godt nok beskrevet:
A27: Den registrertes friheter | B27: =+'Nødvendighet og proposjonalitet'!A78 -> Vurdering av om den registrertes friheter er godt nok beskrevet:
A29: (4) Risikoer og (5) tiltak som må/bør vurderes
A30: Område | B30: Risikomomenter | C30: Risiko | F30: Anbefalte tiltak | G30: Ansvarlig for oppfølgning | H30: Frist | I30: Risiko etter tiltak
C31: S | D31: K | E31: R | I31: S | J31: K | K31: R
A32: Konfidensialitet | B32: =+Konsekvensutredning!B6 -> Innloggingsdetaljer kommer på avveie | C32: =+Konsekvensutredning!D6 -> 0 | D32: =+Konsekvensutredning!E6 -> 0 | E32: =(C32*D32) -> 0 | F32: =+Konsekvensutredning!G6 -> 0 | K32: =(I32*J32) -> 0
A33: Konfidensialitet | B33: =+Konsekvensutredning!B7 -> Telefoner kommer på avveie | C33: =+Konsekvensutredning!D7 -> 0 | D33: =+Konsekvensutredning!E7 -> 0 | E33: =(C33*D33) -> 0 | F33: =+Konsekvensutredning!G7 -> 0 | I33: =+Konsekvensutredning!H7 -> 0 | J33: =+Konsekvensutredning!I7 -> 0 | K33: =(I33*J33) -> 0
A34: Konfidensialitet | B34: =+Konsekvensutredning!B8 -> Gitt feil tilganger til ansatte | C34: =+Konsekvensutredning!D8 -> 0 | D34: =+Konsekvensutredning!E8 -> 0 | E34: =(C34*D34) -> 0 | F34: =+Konsekvensutredning!G8 -> 0 | K34: =(I34*J34) -> 0
A35: Konfidensialitet | B35: =+Konsekvensutredning!B9 -> Tidligere ansatte utfører tilsyn | C35: =+Konsekvensutredning!D9 -> 0 | D35: =+Konsekvensutredning!E9 -> 0 | E35: =(C35*D35) -> 0 | F35: =+Konsekvensutredning!G9 -> 0 | K35: =(I35*J35) -> 0
A36: Konfidensialitet | B36: =+Konsekvensutredning!B10 -> Systemet blir hacket | C36: =+Konsekvensutredning!D10 -> 0 | D36: =+Konsekvensutredning!E10 -> 0 | E36: =(C36*D36) -> 0 | F36: =+Konsekvensutredning!G10 -> 0 | K36: =(I36*J36) -> 0
A37: Konfidensialitet | B37: =+Konsekvensutredning!B11 -> Uautorisert tilsyn utenfor tilsynstid | C37: =+Konsekvensutredning!D11 -> 0 | D37: =+Konsekvensutredning!E11 -> 0 | E37: =(C37*D37) -> 0 | K37: =(I37*J37) -> 0
A38: Konfidensialitet | B38: =+Konsekvensutredning!B12 -> Uautorisert tilsyn utenfor arbeidstid | C38: =+Konsekvensutredning!D12 -> 0 | D38: =+Konsekvensutredning!E12 -> 0 | E38: =(C38*D38) -> 0 | K38: =(I38*J38) -> 0
A39: Konfidensialitet | B39: =+Konsekvensutredning!B13 -> 0 | C39: =+Konsekvensutredning!D13 -> 0 | D39: =+Konsekvensutredning!E13 -> 0 | E39: =(C39*D39) -> 0 | F39: =+Konsekvensutredning!G13 -> 0 | K39: =(I39*J39) -> 0
A40: Integritet | B40: =+Konsekvensutredning!$B$19 -> Der sensor er plassert i stol vil man kunne få målinger av andre enn tjenestemottaker | C40: =+Konsekvensutredning!D19 -> 0 | D40: =+Konsekvensutredning!E19 -> 0 | E40: =(C40*D40) -> 0 | K40: =(I40*J40) -> 0
A41: Integritet | B41: =+Konsekvensutredning!$B$20 -> Sensor plasseres på feil rom | C41: =+Konsekvensutredning!D15 -> 0 | D41: =+Konsekvensutredning!E15 -> 0 | E41: =(C41*D41) -> 0 | K41: =(I41*J41) -> 0
A42: Tilgjengelighet | B42: =+Konsekvensutredning!$B$27 -> Stikkontakt trekkes ut | C42: =+Konsekvensutredning!D27 -> 0 | D42: =+Konsekvensutredning!E27 -> 0 | E42: =(C42*D42) -> 0 | K42: =(I42*J42) -> 0
A43: Tilgjengelighet | B43: =+Konsekvensutredning!$B$28 -> Strømbrudd | C43: =+Konsekvensutredning!D28 -> 0 | D43: =+Konsekvensutredning!E28 -> 0 | E43: =(C43*D43) -> 0 | K43: =(I43*J43) -> 0
A44: Åpenhet | B44: =+Konsekvensutredning!$B$35 -> Den registrerte kjenner ikke til hva som blir målt med løsningen | C44: =+Konsekvensutredning!D35 -> 0 | D44: =+Konsekvensutredning!E35 -> 0 | E44: =(C44*D44) -> 0 | F44: =+Konsekvensutredning!G35 -> 0 | K44: =(I44*J44) -> 0
G46: Mørk rødt: Strakstiltak. (Meget kritisk = fare for liv og helse) Rødt: Tiltak må iverksettes – utarbeid tiltaksplan Gult Det må vurderes om tiltak skal iverksettes Grønt: Ikke nødvendig å iverksette tiltak
A48: (6) Vurdering og synspunkter til behandlingen og dens risikoer (restrisiko):
A49: Behandlingsansvarliges vurdering:
A50: Den registrertes vurdering:
A51: Personvernombudets vurdering:
A52: Andre representanters vurdering:
A54: Konklusjon fra deltakere (velg fra nedtrekkslisten): | I54: Ja/Nei
N55: Velg fra nedtrekkslisten
A57: (7) Ledelsens validering av DPIA
A58: Ledelsens vurdering av risikobildet
A59: Ledelsen vurderer anbefalte tiltak, restrisiko og beslutter handlingsplan
A60: Beskriv: Ledelsens vurdering av risiko
A62: Konklusjon fra ledelsen
A63: Ledelsen beslutter og begrunner om DPIA er (velg fra nedtrekkslisten) : | I63: Ja/Nei
N64: =+N55 -> Velg fra nedtrekkslisten
A66: Behandlingsansvarliges signatur/dato (benyttes ved full DPIA):
A67: Signatur/dato:

Sheet Vedlegg A

Sheet Endringslogg
A1: DPIA - Møte/endringslogg
A2: Versjon | B2: Dato | C2: Endringsbeskrivelse | D2: Endret av | E2: Deltakere
A16: Lenker til omtalte referanser
A17: Datatilsynets MÅ -liste | C17: https://www.datatilsynet.no/regelverk-og-verktoy/veiledere/vurdering-av-personvernkonsekvenser/nar-ma-man-gjennomfore-en-vurdering-av-personvernkonsekvenser/
A18: Personopplysningsloven, artikkel 35 | C18: https://lovdata.no/dokument/NL/lov/2018-06-15-38/gdpr/ARTIKKEL_35#gdpr/ARTIKKEL_35
A19: Personopplysningsloven, artikkel 5 | C19: https://lovdata.no/dokument/NL/lov/2018-06-15-38/gdpr/ARTIKKEL_5#gdpr/ARTIKKEL_5
A20: Personopplysningsloven, artikkel 9 | C20: https://lovdata.no/dokument/NL/lov/2018-06-15-38/gdpr/ARTIKKEL_9#gdpr/ARTIKKEL_9
A21: Personopplysningsloven, artikkel 10 | C21: https://lovdata.no/dokument/NL/lov/2018-06-15-38/gdpr/ARTIKKEL_10#gdpr/ARTIKKEL_10
A22: Personopplysningsloven, artikkel 6 | C22: https://lovdata.no/dokument/NL/lov/2018-06-15-38/gdpr/ARTIKKEL_6#gdpr/ARTIKKEL_6
A23: Innebygd personvern | C23: https://www.datatilsynet.no/rettigheter-og-plikter/virksomhetenes-plikter/innebygd-personvern/programvareutvikling-med-innebygd-personvern/
A28: Vedlegg til DPIA

Sheet Ark 6
A2: Kolonne1
A3: Samtykke
A4: Nødvendig for å oppfylle avtale
A5: Oppfylle rettslig forpliktelse (lov)
A6: Verne den registrertes vitale interesser
A7: Utøve offentlig myndighet (lov)
A8: Interesseavveining
A9: Flere rettslige grunnlag, se kommentarfelt
A10: Vet ikke
A12: Ja | C12: Ja
A13: Ja, med forbehold | C13: Nei
A14: Nei
B17: Kolonne1
B19: Ok | C19: Ikke behov for ytterligere informasjon eller tiltak | G19: Ok
B20: Mangler | C20: Mulig behov for mer informasjon og/eller tiltak | G20: Ufullstendig
B21: Vesentlige mangler | C21: Ubesvart og/eller behov for tiltak | G21: Kritiske mangler
B22: Kritiske mangler | C22: DPIA kan ikke godkjennes før tiltak er på plass
A25: Kolonne1
A26: X
A29: Konklusjon initialvurdering
A30: Kolonne1
A31: Det er færre enn to "Ja" og full DPIA er derfor ikke nødvendig
A32: Der er færre enn to "Ja", men det vurderes at full DPIA allikevel er nødvendig
A33: Det er to "Ja" eller flere, det vurderes derfor at det er sannsynlig at behandlingen vil innbære en høy risiko for fysiske personers personvern, deres rettigheter og friheter - full DPIA skal gjennomføres
A36: svært personlige opplysninger - (effektivitet, ferdigheter, kunnskap, mental helse, geolokasjon)
A39: Kolonne1
A40: Eventuell risiko/restrisiko er akseptert, behandling kan starte opp
A41: Betinget av forbedringer: revidert DPIA legges frem på nytt
A42: Avvist: Virksomheten beslutter å ikke gjennomføre behandlingen.
... A57: Ikke aktuelt
