Workbook
Name _Hlk523383465: Hjelpefil!$A$43
Name _Hlk523821884: Hjelpefil!#REF!
Name _Hlk527995710: Hjelpefil!$A$80
Name _Hlk528048213: Hjelpefil!$A$212
Name _Hlk528060147: Hjelpefil!$A$173
Name _Hlk528060724: Hjelpefil!$A$178
Name _Ref523725712: Hjelpefil!$A$137
Name _Ref523905640: Hjelpefil!$A$104
Name _Ref527029968: Hjelpefil!$A$53
Name _Ref528084612: Hjelpefil!#REF!
Name _Toc528100731: Hjelpefil!$A$8
Name _Toc528100732: Hjelpefil!#REF!
Name _Toc528100733: Hjelpefil!#REF!
Name _Toc528100734: Hjelpefil!#REF!
Name _Toc528100736: Hjelpefil!$A$61
Name _Toc528100738: Hjelpefil!$A$99
Name _Toc528100739: Hjelpefil!$A$124
Name _Toc528100740: Hjelpefil!$A$125
Name _Toc528100742: Hjelpefil!$A$152
Name _Toc528100743: Hjelpefil!$A$163
Name _Toc528100744: Hjelpefil!$A$175
Name _Toc528100745: Hjelpefil!$A$176
Name _Toc528100746: Hjelpefil!$A$185
Name _Toc528100748: Hjelpefil!$A$192
Name _Toc528100749: Hjelpefil!$A$193
Name _Toc528100750: Hjelpefil!$A$209
Name _Toc528100751: Hjelpefil!$A$219
Name _Toc528100752: Hjelpefil!#REF!
Name _Toc528100753: Hjelpefil!#REF!
Name _Toc528100754: Hjelpefil!#REF!
Name _Toc528100755: Hjelpefil!#REF!
Name _Toc528100756: Hjelpefil!#REF!
Name _Toc528100757: Hjelpefil!#REF!
Name _Toc528100758: Hjelpefil!#REF!
Name _Toc528100759: Hjelpefil!#REF!
Name _Toc528100760: Hjelpefil!#REF!
Name _Toc528100761: Hjelpefil!#REF!
Name _Toc528100762: Hjelpefil!#REF!
Name _Toc528100763: Hjelpefil!#REF!

Sheet BRUKERFLATE
A1: Velg her | J1: FNs delmål
A2: Kommune/Fylke | B2: Gevinstområde | C2: I dette arket velges indikatorer etter kommune/fylke og gevinstområde | F2: Indikator | G2: Underkategori | H2: Kilde | I2: Indikator-nivå | J2: FN1 | K2: FN2 | L2: FN3 | M2: FN4 | N2: FN5 | O2: FN6 | P2: FN7 | Q2: FN8 | R2: FN9 | S2: FN10 | T2: FN11 | U2: FN12 | V2: FN13 | W2: FN14 | X2: FN15 | Y2: FN16 | Z2: FN17 | AC2: Indikator_hjelpe | AD2: Kilde_hjelpe | AE2: Indikator-nivå_hjelpe | AG2: Hjelpeceller | AH2: Henteindikator_kom/f | AI2: Henteindikator | AJ2: Tjenester | AK2: Demokrati og medvirkning | AL2: Samfunnsutvikling | AM2: Økonomi | AN2: Arbeidsgiver | AO2: Innovasjon og digitalisering | AP2: K/F | AQ2: KOM_under | AR2: FYL_under | AW2: Henteindikator_fra fylker | AX2: Tjenester | AY2: Demokrati og medvirkning | AZ2: Samfunnsutvikling | BA2: Økonomi | BB2: Arbeidsgiver | BC2: Innovasjon og digitalisering | BF2: FYL
A3: KOM | B3: Tjenester | F3: =IFERROR(INDEX($AC$3:$AC$301,MATCH(ROW()-ROW($D$2),$AB$3:$AB$301,0)),"") -> Produksjonsindeksen fra Teknisk beregningsutvalg, KMD/TBU | G3: =IF(F3="","",IF($A$3="FYL",INDEX($AR$3:$AR$269,MATCH(F3,$AC$3:$AC$269,0)),INDEX($AQ$3:$AQ$269,MATCH(F3,$AC$3:$AC$269,0)))) -> Administrasjon, tekniske tjenester, samferdsel | H3: {=IFERROR(INDEX($AD$3:$AD$301,MATCH(ROW()-ROW($D$2),$AB$3:$AB$301,0)),"")} -> https://www.regjeringen.no/no/tema/kommuner-og-regioner/kommunedata/produksjonsindeks2/id2507960/ | I3: {=IFERROR(INDEX($AE$3:$AE$301,MATCH(ROW()-ROW($D$2),$AB$3:$AB$301,0)),"")} -> 4_samfunnseffekt | J3: =IFERROR(IF(INDEX(Hjelpefil!T$5:T$268,MATCH(BRUKERFLATE!$F3,Hjelpefil!$B$5:$B$268,0))=0,"",INDEX(Hjelpefil!T$5:T$268,MATCH(BRUKERFLATE!$F3,Hjelpefil!$B$5:$B$268,0))),"") | K3: =IFERROR(IF(INDEX(Hjelpefil!U$5:U$268,MATCH(BRUKERFLATE!$F3,Hjelpefil!$B$5:$B$268,0))=0,"",INDEX(Hjelpefil!U$5:U$268,MATCH(BRUKERFLATE!$F3,Hjelpefil!$B$5:$B$268,0))),"") | L3: =IFERROR(IF(INDEX(Hjelpefil!V$5:V$268,MATCH(BRUKERFLATE!$F3,Hjelpefil!$B$5:$B$268,0))=0,"",INDEX(Hjelpefil!V$5:V$268,MATCH(BRUKERFLATE!$F3,Hjelpefil!$B$5:$B$268,0))),"") | M3: =IFERROR(IF(INDEX(Hjelpefil!W$5:W$268,MATCH(BRUKERFLATE!$F3,Hjelpefil!$B$5:$B$268,0))=0,"",INDEX(Hjelpefil!W$5:W$268,MATCH(BRUKERFLATE!$F3,Hjelpefil!$B$5:$B$268,0))),"") | N3: =IFERROR(IF(INDEX(Hjelpefil!X$5:X$268,MATCH(BRUKERFLATE!$F3,Hjelpefil!$B$5:$B$268,0))=0,"",INDEX(Hjelpefil!X$5:X$268,MATCH(BRUKERFLATE!$F3,Hjelpefil!$B$5:$B$268,0))),"") | O3: =IFERROR(IF(INDEX(Hjelpefil!Y$5:Y$268,MATCH(BRUKERFLATE!$F3,Hjelpefil!$B$5:$B$268,0))=0,"",INDEX(Hjelpefil!Y$5:Y$268,MATCH(BRUKERFLATE!$F3,Hjelpefil!$B$5:$B$268,0))),"") | P3: =IFERROR(IF(INDEX(Hjelpefil!Z$5:Z$268,MATCH(BRUKERFLATE!$F3,Hjelpefil!$B$5:$B$268,0))=0,"",INDEX(Hjelpefil!Z$5:Z$268,MATCH(BRUKERFLATE!$F3,Hjelpefil!$B$5:$B$268,0))),"") | Q3: =IFERROR(IF(INDEX(Hjelpefil!AA$5:AA$268,MATCH(BRUKERFLATE!$F3,Hjelpefil!$B$5:$B$268,0))=0,"",INDEX(Hjelpefil!AA$5:AA$268,MATCH(BRUKERFLATE!$F3,Hjelpefil!$B$5:$B$268,0))),"") | ... Z3: =IFERROR(IF(INDEX(Hjelpefil!AJ$5:AJ$268,MATCH(BRUKERFLATE!$F3,Hjelpefil!$B$5:$B$268,0))=0,"",INDEX(Hjelpefil!AJ$5:AJ$268,MATCH(BRUKERFLATE!$F3,Hjelpefil!$B$5:$B$268,0))),"") | AB3: =IF(AC3="","",MAX($AB$2:AB2)+1) -> 1 | AC3: =IF($A$3="KOM",IF(AND($AI3=1,$AH3=1),Hjelpefil!B5,""),IF($A$3="FYL",IF(AND($AW3=1,$AH3=1),Hjelpefil!B5,""),"")) -> Produksjonsindeksen fra Teknisk beregningsutvalg, KMD/TBU | AD3: =IF($A$3="KOM",IF(AND($AI3=1,$AH3=1),Hjelpefil!C5,""),IF($A$3="FYL",IF(AND($AW3=1,$AH3=1),Hjelpefil!C5,""),"")) -> https://www.regjeringen.no/no/tema/kommuner-og-regioner/kommunedata/produksjonsindeks2/id2507960/ | AE3: =IF($A$3="KOM",IF(AND($AI3=1,$AH3=1),Hjelpefil!F5,""),IF($A$3="FYL",IF(AND($AW3=1,$AH3=1),Hjelpefil!F5,""),"")) -> 4_samfunnseffekt | AF3: =IF(AND($AI3=1,$AH3=1),IF(AQ3="",AR3,AQ3),"") -> Administrasjon, tekniske tjenester, samferdsel | AH3: =IF(OR(AP3=$A$3,AP3="BEGGE"),1,0) -> 1 | AI3: =IF($B$3=$AJ$2,AJ3,IF($B$3=$AK$2,AK3,IF($B$3=$AL$2,AL3,IF($B$3=$AM$2,AM3,IF($B$3=$AN$2,AN3,IF($B$3=$AO$2,AO3)))))) -> 1 | AJ3: 1 | AK3: 0 | AL3: 0 | AM3: 0 | AN3: 0 | AO3: 0 | AP3: KOM | AQ3: =INDEX(Hjelpefil!H5:M5,MATCH(BRUKERFLATE!$B$3,BRUKERFLATE!$AV$4:$AV$9,0)) -> Administrasjon, tekniske tjenester, samferdsel | AR3: =INDEX(Hjelpefil!N5:S5,MATCH(BRUKERFLATE!$B$3,BRUKERFLATE!$AV$4:$AV$9,0)) -> 0 | AW3: =IF($B$3=$AJ$2,AX3,IF($B$3=$AK$2,AY3,IF($B$3=$AL$2,AZ3,IF($B$3=$AM$2,BA3,IF($B$3=$AN$2,BB3,IF($B$3=$AO$2,BC3)))))) -> 0 | AX3: 0 | AY3: 0 | AZ3: 0 | BA3: 0 | BB3: 0 | BC3: 0 | BF3: KOM
F4: =IFERROR(INDEX($AC$3:$AC$301,MATCH(ROW()-ROW($D$2),$AB$3:$AB$301,0)),"") -> Responstid ved henvendelser til kommunen på ulike tjenesteområder | G4: =IF(F4="","",IF($A$3="FYL",INDEX($AR$3:$AR$269,MATCH(F4,$AC$3:$AC$269,0)),INDEX($AQ$3:$AQ$269,MATCH(F4,$AC$3:$AC$269,0)))) -> Administrasjon, tekniske tjenester, samferdsel | H4: {=IFERROR(INDEX($AD$3:$AD$301,MATCH(ROW()-ROW($D$2),$AB$3:$AB$301,0)),"")} -> Egen innhenting i kommunen | I4: {=IFERROR(INDEX($AE$3:$AE$301,MATCH(ROW()-ROW($D$2),$AB$3:$AB$301,0)),"")} -> 3_brukereffekt | J4: =IFERROR(IF(INDEX(Hjelpefil!T$5:T$268,MATCH(BRUKERFLATE!$F4,Hjelpefil!$B$5:$B$268,0))=0,"",INDEX(Hjelpefil!T$5:T$268,MATCH(BRUKERFLATE!$F4,Hjelpefil!$B$5:$B$268,0))),"") | K4: =IFERROR(IF(INDEX(Hjelpefil!U$5:U$268,MATCH(BRUKERFLATE!$F4,Hjelpefil!$B$5:$B$268,0))=0,"",INDEX(Hjelpefil!U$5:U$268,MATCH(BRUKERFLATE!$F4,Hjelpefil!$B$5:$B$268,0))),"") | L4: =IFERROR(IF(INDEX(Hjelpefil!V$5:V$268,MATCH(BRUKERFLATE!$F4,Hjelpefil!$B$5:$B$268,0))=0,"",INDEX(Hjelpefil!V$5:V$268,MATCH(BRUKERFLATE!$F4,Hjelpefil!$B$5:$B$268,0))),"") | M4: =IFERROR(IF(INDEX(Hjelpefil!W$5:W$268,MATCH(BRUKERFLATE!$F4,Hjelpefil!$B$5:$B$268,0))=0,"",INDEX(Hjelpefil!W$5:W$268,MATCH(BRUKERFLATE!$F4,Hjelpefil!$B$5:$B$268,0))),"") | N4: =IFERROR(IF(INDEX(Hjelpefil!X$5:X$268,MATCH(BRUKERFLATE!$F4,Hjelpefil!$B$5:$B$268,0))=0,"",INDEX(Hjelpefil!X$5:X$268,MATCH(BRUKERFLATE!$F4,Hjelpefil!$B$5:$B$268,0))),"") | O4: =IFERROR(IF(INDEX(Hjelpefil!Y$5:Y$268,MATCH(BRUKERFLATE!$F4,Hjelpefil!$B$5:$B$268,0))=0,"",INDEX(Hjelpefil!Y$5:Y$268,MATCH(BRUKERFLATE!$F4,Hjelpefil!$B$5:$B$268,0))),"") | P4: =IFERROR(IF(INDEX(Hjelpefil!Z$5:Z$268,MATCH(BRUKERFLATE!$F4,Hjelpefil!$B$5:$B$268,0))=0,"",INDEX(Hjelpefil!Z$5:Z$268,MATCH(BRUKERFLATE!$F4,Hjelpefil!$B$5:$B$268,0))),"") | Q4: =IFERROR(IF(INDEX(Hjelpefil!AA$5:AA$268,MATCH(BRUKERFLATE!$F4,Hjelpefil!$B$5:$B$268,0))=0,"",INDEX(Hjelpefil!AA$5:AA$268,MATCH(BRUKERFLATE!$F4,Hjelpefil!$B$5:$B$268,0))),"") | ... Z4: =IFERROR(IF(INDEX(Hjelpefil!AJ$5:AJ$268,MATCH(BRUKERFLATE!$F4,Hjelpefil!$B$5:$B$268,0))=0,"",INDEX(Hjelpefil!AJ$5:AJ$268,MATCH(BRUKERFLATE!$F4,Hjelpefil!$B$5:$B$268,0))),"") | AB4: =IF(AC4="","",MAX($AB$2:AB3)+1) -> 2 | AC4: =IF($A$3="KOM",IF(AND($AI4=1,$AH4=1),Hjelpefil!B6,""),IF($A$3="FYL",IF(AND($AW4=1,$AH4=1),Hjelpefil!B6,""),"")) -> Responstid ved henvendelser til kommunen på ulike tjenesteområder | AD4: =IF($A$3="KOM",IF(AND($AI4=1,$AH4=1),Hjelpefil!C6,""),IF($A$3="FYL",IF(AND($AW4=1,$AH4=1),Hjelpefil!C6,""),"")) -> Egen innhenting i kommunen | AE4: =IF($A$3="KOM",IF(AND($AI4=1,$AH4=1),Hjelpefil!F6,""),IF($A$3="FYL",IF(AND($AW4=1,$AH4=1),Hjelpefil!F6,""),"")) -> 3_brukereffekt | AF4: =IF(AND($AI4=1,$AH4=1),IF(AQ4="",AR4,AQ4),"") -> Administrasjon, tekniske tjenester, samferdsel | AH4: =IF(OR(AP4=$A$3,AP4="BEGGE"),1,0) -> 1 | AI4: =IF($B$3=$AJ$2,AJ4,IF($B$3=$AK$2,AK4,IF($B$3=$AL$2,AL4,IF($B$3=$AM$2,AM4,IF($B$3=$AN$2,AN4,IF($B$3=$AO$2,AO4)))))) -> 1 | AJ4: 1 | AK4: 0 | AL4: 0 | AM4: 0 | AN4: 0 | AO4: 0 | AP4: KOM | AQ4: =INDEX(Hjelpefil!H6:M6,MATCH(BRUKERFLATE!$B$3,BRUKERFLATE!$AV$4:$AV$9,0)) -> Administrasjon, tekniske tjenester, samferdsel | AR4: =INDEX(Hjelpefil!N6:S6,MATCH(BRUKERFLATE!$B$3,BRUKERFLATE!$AV$4:$AV$9,0)) -> 0 | AV4: Tjenester | AW4: =IF($B$3=$AJ$2,AX4,IF($B$3=$AK$2,AY4,IF($B$3=$AL$2,AZ4,IF($B$3=$AM$2,BA4,IF($B$3=$AN$2,BB4,IF($B$3=$AO$2,BC4)))))) -> 0 | AX4: 0 | AY4: 0 | AZ4: 0 | BA4: 0 | BB4: 0 | BC4: 0
F5: =IFERROR(INDEX($AC$3:$AC$301,MATCH(ROW()-ROW($D$2),$AB$3:$AB$301,0)),"") -> Andel barnehagelærere i forhold til grunnbemanning, prosent | G5: =IF(F5="","",IF($A$3="FYL",INDEX($AR$3:$AR$269,MATCH(F5,$AC$3:$AC$269,0)),INDEX($AQ$3:$AQ$269,MATCH(F5,$AC$3:$AC$269,0)))) -> Barnehage | H5: {=IFERROR(INDEX($AD$3:$AD$301,MATCH(ROW()-ROW($D$2),$AB$3:$AB$301,0)),"")} -> SSB, tabell 12562 | I5: {=IFERROR(INDEX($AE$3:$AE$301,MATCH(ROW()-ROW($D$2),$AB$3:$AB$301,0)),"")} -> 2_prod/teneste | J5: =IFERROR(IF(INDEX(Hjelpefil!T$5:T$268,MATCH(BRUKERFLATE!$F5,Hjelpefil!$B$5:$B$268,0))=0,"",INDEX(Hjelpefil!T$5:T$268,MATCH(BRUKERFLATE!$F5,Hjelpefil!$B$5:$B$268,0))),"") | K5: =IFERROR(IF(INDEX(Hjelpefil!U$5:U$268,MATCH(BRUKERFLATE!$F5,Hjelpefil!$B$5:$B$268,0))=0,"",INDEX(Hjelpefil!U$5:U$268,MATCH(BRUKERFLATE!$F5,Hjelpefil!$B$5:$B$268,0))),"") | L5: =IFERROR(IF(INDEX(Hjelpefil!V$5:V$268,MATCH(BRUKERFLATE!$F5,Hjelpefil!$B$5:$B$268,0))=0,"",INDEX(Hjelpefil!V$5:V$268,MATCH(BRUKERFLATE!$F5,Hjelpefil!$B$5:$B$268,0))),"") | M5: =IFERROR(IF(INDEX(Hjelpefil!W$5:W$268,MATCH(BRUKERFLATE!$F5,Hjelpefil!$B$5:$B$268,0))=0,"",INDEX(Hjelpefil!W$5:W$268,MATCH(BRUKERFLATE!$F5,Hjelpefil!$B$5:$B$268,0))),"") -> 4.c | N5: =IFERROR(IF(INDEX(Hjelpefil!X$5:X$268,MATCH(BRUKERFLATE!$F5,Hjelpefil!$B$5:$B$268,0))=0,"",INDEX(Hjelpefil!X$5:X$268,MATCH(BRUKERFLATE!$F5,Hjelpefil!$B$5:$B$268,0))),"") | O5: =IFERROR(IF(INDEX(Hjelpefil!Y$5:Y$268,MATCH(BRUKERFLATE!$F5,Hjelpefil!$B$5:$B$268,0))=0,"",INDEX(Hjelpefil!Y$5:Y$268,MATCH(BRUKERFLATE!$F5,Hjelpefil!$B$5:$B$268,0))),"") | P5: =IFERROR(IF(INDEX(Hjelpefil!Z$5:Z$268,MATCH(BRUKERFLATE!$F5,Hjelpefil!$B$5:$B$268,0))=0,"",INDEX(Hjelpefil!Z$5:Z$268,MATCH(BRUKERFLATE!$F5,Hjelpefil!$B$5:$B$268,0))),"") | Q5: =IFERROR(IF(INDEX(Hjelpefil!AA$5:AA$268,MATCH(BRUKERFLATE!$F5,Hjelpefil!$B$5:$B$268,0))=0,"",INDEX(Hjelpefil!AA$5:AA$268,MATCH(BRUKERFLATE!$F5,Hjelpefil!$B$5:$B$268,0))),"") | ... Z5: =IFERROR(IF(INDEX(Hjelpefil!AJ$5:AJ$268,MATCH(BRUKERFLATE!$F5,Hjelpefil!$B$5:$B$268,0))=0,"",INDEX(Hjelpefil!AJ$5:AJ$268,MATCH(BRUKERFLATE!$F5,Hjelpefil!$B$5:$B$268,0))),"") | AB5: =IF(AC5="","",MAX($AB$2:AB4)+1) -> 3 | AC5: =IF($A$3="KOM",IF(AND($AI5=1,$AH5=1),Hjelpefil!B7,""),IF($A$3="FYL",IF(AND($AW5=1,$AH5=1),Hjelpefil!B7,""),"")) -> Andel barnehagelærere i forhold til grunnbemanning, prosent | AD5: =IF($A$3="KOM",IF(AND($AI5=1,$AH5=1),Hjelpefil!C7,""),IF($A$3="FYL",IF(AND($AW5=1,$AH5=1),Hjelpefil!C7,""),"")) -> SSB, tabell 12562 | AE5: =IF($A$3="KOM",IF(AND($AI5=1,$AH5=1),Hjelpefil!F7,""),IF($A$3="FYL",IF(AND($AW5=1,$AH5=1),Hjelpefil!F7,""),"")) -> 2_prod/teneste | AF5: =IF(AND($AI5=1,$AH5=1),IF(AQ5="",AR5,AQ5),"") -> Barnehage | AH5: =IF(OR(AP5=$A$3,AP5="BEGGE"),1,0) -> 1 | AI5: =IF($B$3=$AJ$2,AJ5,IF($B$3=$AK$2,AK5,IF($B$3=$AL$2,AL5,IF($B$3=$AM$2,AM5,IF($B$3=$AN$2,AN5,IF($B$3=$AO$2,AO5)))))) -> 1 | AJ5: 1 | AK5: 0 | AL5: 0 | AM5: 0 | AN5: 0 | AO5: 0 | AP5: KOM | AQ5: =INDEX(Hjelpefil!H7:M7,MATCH(BRUKERFLATE!$B$3,BRUKERFLATE!$AV$4:$AV$9,0)) -> Barnehage | AR5: =INDEX(Hjelpefil!N7:S7,MATCH(BRUKERFLATE!$B$3,BRUKERFLATE!$AV$4:$AV$9,0)) -> 0 | AV5: Demokrati og medvirkning | AW5: =IF($B$3=$AJ$2,AX5,IF($B$3=$AK$2,AY5,IF($B$3=$AL$2,AZ5,IF($B$3=$AM$2,BA5,IF($B$3=$AN$2,BB5,IF($B$3=$AO$2,BC5)))))) -> 0 | AX5: 0 | AY5: 0 | AZ5: 0 | BA5: 0 | BB5: 0 | BC5: 0
F6: =IFERROR(INDEX($AC$3:$AC$301,MATCH(ROW()-ROW($D$2),$AB$3:$AB$301,0)),"") -> Korrigerte brutto driftsutgifter per korrigerte oppholdstime i kommunal barnehage, kroner | G6: =IF(F6="","",IF($A$3="FYL",INDEX($AR$3:$AR$269,MATCH(F6,$AC$3:$AC$269,0)),INDEX($AQ$3:$AQ$269,MATCH(F6,$AC$3:$AC$269,0)))) -> Barnehage | H6: {=IFERROR(INDEX($AD$3:$AD$301,MATCH(ROW()-ROW($D$2),$AB$3:$AB$301,0)),"")} -> SSB, tabell 12562 | I6: {=IFERROR(INDEX($AE$3:$AE$301,MATCH(ROW()-ROW($D$2),$AB$3:$AB$301,0)),"")} -> 1_innsatsfaktor | J6: =IFERROR(IF(INDEX(Hjelpefil!T$5:T$268,MATCH(BRUKERFLATE!$F6,Hjelpefil!$B$5:$B$268,0))=0,"",INDEX(Hjelpefil!T$5:T$268,MATCH(BRUKERFLATE!$F6,Hjelpefil!$B$5:$B$268,0))),"") | K6: =IFERROR(IF(INDEX(Hjelpefil!U$5:U$268,MATCH(BRUKERFLATE!$F6,Hjelpefil!$B$5:$B$268,0))=0,"",INDEX(Hjelpefil!U$5:U$268,MATCH(BRUKERFLATE!$F6,Hjelpefil!$B$5:$B$268,0))),"") | L6: =IFERROR(IF(INDEX(Hjelpefil!V$5:V$268,MATCH(BRUKERFLATE!$F6,Hjelpefil!$B$5:$B$268,0))=0,"",INDEX(Hjelpefil!V$5:V$268,MATCH(BRUKERFLATE!$F6,Hjelpefil!$B$5:$B$268,0))),"") | M6: =IFERROR(IF(INDEX(Hjelpefil!W$5:W$268,MATCH(BRUKERFLATE!$F6,Hjelpefil!$B$5:$B$268,0))=0,"",INDEX(Hjelpefil!W$5:W$268,MATCH(BRUKERFLATE!$F6,Hjelpefil!$B$5:$B$268,0))),"") -> 4.2 | N6: =IFERROR(IF(INDEX(Hjelpefil!X$5:X$268,MATCH(BRUKERFLATE!$F6,Hjelpefil!$B$5:$B$268,0))=0,"",INDEX(Hjelpefil!X$5:X$268,MATCH(BRUKERFLATE!$F6,Hjelpefil!$B$5:$B$268,0))),"") | O6: =IFERROR(IF(INDEX(Hjelpefil!Y$5:Y$268,MATCH(BRUKERFLATE!$F6,Hjelpefil!$B$5:$B$268,0))=0,"",INDEX(Hjelpefil!Y$5:Y$268,MATCH(BRUKERFLATE!$F6,Hjelpefil!$B$5:$B$268,0))),"") | P6: =IFERROR(IF(INDEX(Hjelpefil!Z$5:Z$268,MATCH(BRUKERFLATE!$F6,Hjelpefil!$B$5:$B$268,0))=0,"",INDEX(Hjelpefil!Z$5:Z$268,MATCH(BRUKERFLATE!$F6,Hjelpefil!$B$5:$B$268,0))),"") | Q6: =IFERROR(IF(INDEX(Hjelpefil!AA$5:AA$268,MATCH(BRUKERFLATE!$F6,Hjelpefil!$B$5:$B$268,0))=0,"",INDEX(Hjelpefil!AA$5:AA$268,MATCH(BRUKERFLATE!$F6,Hjelpefil!$B$5:$B$268,0))),"") | ... Z6: =IFERROR(IF(INDEX(Hjelpefil!AJ$5:AJ$268,MATCH(BRUKERFLATE!$F6,Hjelpefil!$B$5:$B$268,0))=0,"",INDEX(Hjelpefil!AJ$5:AJ$268,MATCH(BRUKERFLATE!$F6,Hjelpefil!$B$5:$B$268,0))),"") | AB6: =IF(AC6="","",MAX($AB$2:AB5)+1) -> 4 | AC6: =IF($A$3="KOM",IF(AND($AI6=1,$AH6=1),Hjelpefil!B8,""),IF($A$3="FYL",IF(AND($AW6=1,$AH6=1),Hjelpefil!B8,""),"")) -> Korrigerte brutto driftsutgifter per korrigerte oppholdstime i kommunal barnehage, kroner | AD6: =IF($A$3="KOM",IF(AND($AI6=1,$AH6=1),Hjelpefil!C8,""),IF($A$3="FYL",IF(AND($AW6=1,$AH6=1),Hjelpefil!C8,""),"")) -> SSB, tabell 12562 | AE6: =IF($A$3="KOM",IF(AND($AI6=1,$AH6=1),Hjelpefil!F8,""),IF($A$3="FYL",IF(AND($AW6=1,$AH6=1),Hjelpefil!F8,""),"")) -> 1_innsatsfaktor | AF6: =IF(AND($AI6=1,$AH6=1),IF(AQ6="",AR6,AQ6),"") -> Barnehage | AH6: =IF(OR(AP6=$A$3,AP6="BEGGE"),1,0) -> 1 | AI6: =IF($B$3=$AJ$2,AJ6,IF($B$3=$AK$2,AK6,IF($B$3=$AL$2,AL6,IF($B$3=$AM$2,AM6,IF($B$3=$AN$2,AN6,IF($B$3=$AO$2,AO6)))))) -> 1 | AJ6: 1 | AK6: 0 | AL6: 0 | AM6: 0 | AN6: 0 | AO6: 0 | AP6: KOM | AQ6: =INDEX(Hjelpefil!H8:M8,MATCH(BRUKERFLATE!$B$3,BRUKERFLATE!$AV$4:$AV$9,0)) -> Barnehage | AR6: =INDEX(Hjelpefil!N8:S8,MATCH(BRUKERFLATE!$B$3,BRUKERFLATE!$AV$4:$AV$9,0)) -> 0 | AV6: Samfunnsutvikling | AW6: =IF($B$3=$AJ$2,AX6,IF($B$3=$AK$2,AY6,IF($B$3=$AL$2,AZ6,IF($B$3=$AM$2,BA6,IF($B$3=$AN$2,BB6,IF($B$3=$AO$2,BC6)))))) -> 0 | AX6: 0 | AY6: 0 | AZ6: 0 | BA6: 0 | BB6: 0 | BC6: 0
F7: =IFERROR(INDEX($AC$3:$AC$301,MATCH(ROW()-ROW($D$2),$AB$3:$AB$301,0)),"") -> Gjennomsnittleg månadleg foreldrebetaling | G7: =IF(F7="","",IF($A$3="FYL",INDEX($AR$3:$AR$269,MATCH(F7,$AC$3:$AC$269,0)),INDEX($AQ$3:$AQ$269,MATCH(F7,$AC$3:$AC$269,0)))) -> Barnehage | H7: {=IFERROR(INDEX($AD$3:$AD$301,MATCH(ROW()-ROW($D$2),$AB$3:$AB$301,0)),"")} -> SSB, tabell 11573 | I7: {=IFERROR(INDEX($AE$3:$AE$301,MATCH(ROW()-ROW($D$2),$AB$3:$AB$301,0)),"")} -> 3_brukereffekt | J7: =IFERROR(IF(INDEX(Hjelpefil!T$5:T$268,MATCH(BRUKERFLATE!$F7,Hjelpefil!$B$5:$B$268,0))=0,"",INDEX(Hjelpefil!T$5:T$268,MATCH(BRUKERFLATE!$F7,Hjelpefil!$B$5:$B$268,0))),"") | K7: =IFERROR(IF(INDEX(Hjelpefil!U$5:U$268,MATCH(BRUKERFLATE!$F7,Hjelpefil!$B$5:$B$268,0))=0,"",INDEX(Hjelpefil!U$5:U$268,MATCH(BRUKERFLATE!$F7,Hjelpefil!$B$5:$B$268,0))),"") | L7: =IFERROR(IF(INDEX(Hjelpefil!V$5:V$268,MATCH(BRUKERFLATE!$F7,Hjelpefil!$B$5:$B$268,0))=0,"",INDEX(Hjelpefil!V$5:V$268,MATCH(BRUKERFLATE!$F7,Hjelpefil!$B$5:$B$268,0))),"") | M7: =IFERROR(IF(INDEX(Hjelpefil!W$5:W$268,MATCH(BRUKERFLATE!$F7,Hjelpefil!$B$5:$B$268,0))=0,"",INDEX(Hjelpefil!W$5:W$268,MATCH(BRUKERFLATE!$F7,Hjelpefil!$B$5:$B$268,0))),"") -> 4 | N7: =IFERROR(IF(INDEX(Hjelpefil!X$5:X$268,MATCH(BRUKERFLATE!$F7,Hjelpefil!$B$5:$B$268,0))=0,"",INDEX(Hjelpefil!X$5:X$268,MATCH(BRUKERFLATE!$F7,Hjelpefil!$B$5:$B$268,0))),"") | O7: =IFERROR(IF(INDEX(Hjelpefil!Y$5:Y$268,MATCH(BRUKERFLATE!$F7,Hjelpefil!$B$5:$B$268,0))=0,"",INDEX(Hjelpefil!Y$5:Y$268,MATCH(BRUKERFLATE!$F7,Hjelpefil!$B$5:$B$268,0))),"") | P7: =IFERROR(IF(INDEX(Hjelpefil!Z$5:Z$268,MATCH(BRUKERFLATE!$F7,Hjelpefil!$B$5:$B$268,0))=0,"",INDEX(Hjelpefil!Z$5:Z$268,MATCH(BRUKERFLATE!$F7,Hjelpefil!$B$5:$B$268,0))),"") | Q7: =IFERROR(IF(INDEX(Hjelpefil!AA$5:AA$268,MATCH(BRUKERFLATE!$F7,Hjelpefil!$B$5:$B$268,0))=0,"",INDEX(Hjelpefil!AA$5:AA$268,MATCH(BRUKERFLATE!$F7,Hjelpefil!$B$5:$B$268,0))),"") | ... Z7: =IFERROR(IF(INDEX(Hjelpefil!AJ$5:AJ$268,MATCH(BRUKERFLATE!$F7,Hjelpefil!$B$5:$B$268,0))=0,"",INDEX(Hjelpefil!AJ$5:AJ$268,MATCH(BRUKERFLATE!$F7,Hjelpefil!$B$5:$B$268,0))),"") | AB7: =IF(AC7="","",MAX($AB$2:AB6)+1) -> 5 | AC7: =IF($A$3="KOM",IF(AND($AI7=1,$AH7=1),Hjelpefil!B9,""),IF($A$3="FYL",IF(AND($AW7=1,$AH7=1),Hjelpefil!B9,""),"")) -> Gjennomsnittleg månadleg foreldrebetaling | AD7: =IF($A$3="KOM",IF(AND($AI7=1,$AH7=1),Hjelpefil!C9,""),IF($A$3="FYL",IF(AND($AW7=1,$AH7=1),Hjelpefil!C9,""),"")) -> SSB, tabell 11573 | AE7: =IF($A$3="KOM",IF(AND($AI7=1,$AH7=1),Hjelpefil!F9,""),IF($A$3="FYL",IF(AND($AW7=1,$AH7=1),Hjelpefil!F9,""),"")) -> 3_brukereffekt | AF7: =IF(AND($AI7=1,$AH7=1),IF(AQ7="",AR7,AQ7),"") -> Barnehage | AH7: =IF(OR(AP7=$A$3,AP7="BEGGE"),1,0) -> 1 | AI7: =IF($B$3=$AJ$2,AJ7,IF($B$3=$AK$2,AK7,IF($B$3=$AL$2,AL7,IF($B$3=$AM$2,AM7,IF($B$3=$AN$2,AN7,IF($B$3=$AO$2,AO7)))))) -> 1 | AJ7: 1 | AK7: 0 | AL7: 0 | AM7: 0 | AN7: 0 | AO7: 0 | AP7: KOM | AQ7: =INDEX(Hjelpefil!H9:M9,MATCH(BRUKERFLATE!$B$3,BRUKERFLATE!$AV$4:$AV$9,0)) -> Barnehage | AR7: =INDEX(Hjelpefil!N9:S9,MATCH(BRUKERFLATE!$B$3,BRUKERFLATE!$AV$4:$AV$9,0)) -> 0 | AV7: Økonomi | AW7: =IF($B$3=$AJ$2,AX7,IF($B$3=$AK$2,AY7,IF($B$3=$AL$2,AZ7,IF($B$3=$AM$2,BA7,IF($B$3=$AN$2,BB7,IF($B$3=$AO$2,BC7)))))) -> 0 | AX7: 0 | AY7: 0 | AZ7: 0 | BA7: 0 | BB7: 0 | BC7: 0
F8: =IFERROR(INDEX($AC$3:$AC$301,MATCH(ROW()-ROW($D$2),$AB$3:$AB$301,0)),"") -> Andel barn 1-2 år i barnehage i forhold til innbyggere 1-2 år, prosent | G8: =IF(F8="","",IF($A$3="FYL",INDEX($AR$3:$AR$269,MATCH(F8,$AC$3:$AC$269,0)),INDEX($AQ$3:$AQ$269,MATCH(F8,$AC$3:$AC$269,0)))) -> Barnehage | H8: {=IFERROR(INDEX($AD$3:$AD$301,MATCH(ROW()-ROW($D$2),$AB$3:$AB$301,0)),"")} -> SSB, tabell 12562 | I8: {=IFERROR(INDEX($AE$3:$AE$301,MATCH(ROW()-ROW($D$2),$AB$3:$AB$301,0)),"")} -> 3_brukereffekt | J8: =IFERROR(IF(INDEX(Hjelpefil!T$5:T$268,MATCH(BRUKERFLATE!$F8,Hjelpefil!$B$5:$B$268,0))=0,"",INDEX(Hjelpefil!T$5:T$268,MATCH(BRUKERFLATE!$F8,Hjelpefil!$B$5:$B$268,0))),"") | K8: =IFERROR(IF(INDEX(Hjelpefil!U$5:U$268,MATCH(BRUKERFLATE!$F8,Hjelpefil!$B$5:$B$268,0))=0,"",INDEX(Hjelpefil!U$5:U$268,MATCH(BRUKERFLATE!$F8,Hjelpefil!$B$5:$B$268,0))),"") | L8: =IFERROR(IF(INDEX(Hjelpefil!V$5:V$268,MATCH(BRUKERFLATE!$F8,Hjelpefil!$B$5:$B$268,0))=0,"",INDEX(Hjelpefil!V$5:V$268,MATCH(BRUKERFLATE!$F8,Hjelpefil!$B$5:$B$268,0))),"") | M8: =IFERROR(IF(INDEX(Hjelpefil!W$5:W$268,MATCH(BRUKERFLATE!$F8,Hjelpefil!$B$5:$B$268,0))=0,"",INDEX(Hjelpefil!W$5:W$268,MATCH(BRUKERFLATE!$F8,Hjelpefil!$B$5:$B$268,0))),"") -> 4.2 | N8: =IFERROR(IF(INDEX(Hjelpefil!X$5:X$268,MATCH(BRUKERFLATE!$F8,Hjelpefil!$B$5:$B$268,0))=0,"",INDEX(Hjelpefil!X$5:X$268,MATCH(BRUKERFLATE!$F8,Hjelpefil!$B$5:$B$268,0))),"") | O8: =IFERROR(IF(INDEX(Hjelpefil!Y$5:Y$268,MATCH(BRUKERFLATE!$F8,Hjelpefil!$B$5:$B$268,0))=0,"",INDEX(Hjelpefil!Y$5:Y$268,MATCH(BRUKERFLATE!$F8,Hjelpefil!$B$5:$B$268,0))),"") | P8: =IFERROR(IF(INDEX(Hjelpefil!Z$5:Z$268,MATCH(BRUKERFLATE!$F8,Hjelpefil!$B$5:$B$268,0))=0,"",INDEX(Hjelpefil!Z$5:Z$268,MATCH(BRUKERFLATE!$F8,Hjelpefil!$B$5:$B$268,0))),"") | Q8: =IFERROR(IF(INDEX(Hjelpefil!AA$5:AA$268,MATCH(BRUKERFLATE!$F8,Hjelpefil!$B$5:$B$268,0))=0,"",INDEX(Hjelpefil!AA$5:AA$268,MATCH(BRUKERFLATE!$F8,Hjelpefil!$B$5:$B$268,0))),"") | ... Z8: =IFERROR(IF(INDEX(Hjelpefil!AJ$5:AJ$268,MATCH(BRUKERFLATE!$F8,Hjelpefil!$B$5:$B$268,0))=0,"",INDEX(Hjelpefil!AJ$5:AJ$268,MATCH(BRUKERFLATE!$F8,Hjelpefil!$B$5:$B$268,0))),"") | AB8: =IF(AC8="","",MAX($AB$2:AB7)+1) -> 6 | AC8: =IF($A$3="KOM",IF(AND($AI8=1,$AH8=1),Hjelpefil!B10,""),IF($A$3="FYL",IF(AND($AW8=1,$AH8=1),Hjelpefil!B10,""),"")) -> Andel barn 1-2 år i barnehage i forhold til innbyggere 1-2 år, prosent | AD8: =IF($A$3="KOM",IF(AND($AI8=1,$AH8=1),Hjelpefil!C10,""),IF($A$3="FYL",IF(AND($AW8=1,$AH8=1),Hjelpefil!C10,""),"")) -> SSB, tabell 12562 | AE8: =IF($A$3="KOM",IF(AND($AI8=1,$AH8=1),Hjelpefil!F10,""),IF($A$3="FYL",IF(AND($AW8=1,$AH8=1),Hjelpefil!F10,""),"")) -> 3_brukereffekt | AF8: =IF(AND($AI8=1,$AH8=1),IF(AQ8="",AR8,AQ8),"") -> Barnehage | AH8: =IF(OR(AP8=$A$3,AP8="BEGGE"),1,0) -> 1 | AI8: =IF($B$3=$AJ$2,AJ8,IF($B$3=$AK$2,AK8,IF($B$3=$AL$2,AL8,IF($B$3=$AM$2,AM8,IF($B$3=$AN$2,AN8,IF($B$3=$AO$2,AO8)))))) -> 1 | AJ8: 1 | AK8: 0 | AL8: 0 | AM8: 0 | AN8: 0 | AO8: 0 | AP8: KOM | AQ8: =INDEX(Hjelpefil!H10:M10,MATCH(BRUKERFLATE!$B$3,BRUKERFLATE!$AV$4:$AV$9,0)) -> Barnehage | AR8: =INDEX(Hjelpefil!N10:S10,MATCH(BRUKERFLATE!$B$3,BRUKERFLATE!$AV$4:$AV$9,0)) -> 0 | AV8: Arbeidsgiver | AW8: =IF($B$3=$AJ$2,AX8,IF($B$3=$AK$2,AY8,IF($B$3=$AL$2,AZ8,IF($B$3=$AM$2,BA8,IF($B$3=$AN$2,BB8,IF($B$3=$AO$2,BC8)))))) -> 0 | AX8: 0 | AY8: 0 | AZ8: 0 | BA8: 0 | BB8: 0 | BC8: 0
F9: =IFERROR(INDEX($AC$3:$AC$301,MATCH(ROW()-ROW($D$2),$AB$3:$AB$301,0)),"") -> Andel barn korrigert for alder per årsverk til basisvirksomhet i barnehage | G9: =IF(F9="","",IF($A$3="FYL",INDEX($AR$3:$AR$269,MATCH(F9,$AC$3:$AC$269,0)),INDEX($AQ$3:$AQ$269,MATCH(F9,$AC$3:$AC$269,0)))) -> Barnehage | H9: {=IFERROR(INDEX($AD$3:$AD$301,MATCH(ROW()-ROW($D$2),$AB$3:$AB$301,0)),"")} -> SSB, tabell 12562 | I9: {=IFERROR(INDEX($AE$3:$AE$301,MATCH(ROW()-ROW($D$2),$AB$3:$AB$301,0)),"")} -> 3_brukereffekt | J9: =IFERROR(IF(INDEX(Hjelpefil!T$5:T$268,MATCH(BRUKERFLATE!$F9,Hjelpefil!$B$5:$B$268,0))=0,"",INDEX(Hjelpefil!T$5:T$268,MATCH(BRUKERFLATE!$F9,Hjelpefil!$B$5:$B$268,0))),"") | K9: =IFERROR(IF(INDEX(Hjelpefil!U$5:U$268,MATCH(BRUKERFLATE!$F9,Hjelpefil!$B$5:$B$268,0))=0,"",INDEX(Hjelpefil!U$5:U$268,MATCH(BRUKERFLATE!$F9,Hjelpefil!$B$5:$B$268,0))),"") | L9: =IFERROR(IF(INDEX(Hjelpefil!V$5:V$268,MATCH(BRUKERFLATE!$F9,Hjelpefil!$B$5:$B$268,0))=0,"",INDEX(Hjelpefil!V$5:V$268,MATCH(BRUKERFLATE!$F9,Hjelpefil!$B$5:$B$268,0))),"") | M9: =IFERROR(IF(INDEX(Hjelpefil!W$5:W$268,MATCH(BRUKERFLATE!$F9,Hjelpefil!$B$5:$B$268,0))=0,"",INDEX(Hjelpefil!W$5:W$268,MATCH(BRUKERFLATE!$F9,Hjelpefil!$B$5:$B$268,0))),"") -> 4 | N9: =IFERROR(IF(INDEX(Hjelpefil!X$5:X$268,MATCH(BRUKERFLATE!$F9,Hjelpefil!$B$5:$B$268,0))=0,"",INDEX(Hjelpefil!X$5:X$268,MATCH(BRUKERFLATE!$F9,Hjelpefil!$B$5:$B$268,0))),"") | O9: =IFERROR(IF(INDEX(Hjelpefil!Y$5:Y$268,MATCH(BRUKERFLATE!$F9,Hjelpefil!$B$5:$B$268,0))=0,"",INDEX(Hjelpefil!Y$5:Y$268,MATCH(BRUKERFLATE!$F9,Hjelpefil!$B$5:$B$268,0))),"") | P9: =IFERROR(IF(INDEX(Hjelpefil!Z$5:Z$268,MATCH(BRUKERFLATE!$F9,Hjelpefil!$B$5:$B$268,0))=0,"",INDEX(Hjelpefil!Z$5:Z$268,MATCH(BRUKERFLATE!$F9,Hjelpefil!$B$5:$B$268,0))),"") | Q9: =IFERROR(IF(INDEX(Hjelpefil!AA$5:AA$268,MATCH(BRUKERFLATE!$F9,Hjelpefil!$B$5:$B$268,0))=0,"",INDEX(Hjelpefil!AA$5:AA$268,MATCH(BRUKERFLATE!$F9,Hjelpefil!$B$5:$B$268,0))),"") | ... Z9: =IFERROR(IF(INDEX(Hjelpefil!AJ$5:AJ$268,MATCH(BRUKERFLATE!$F9,Hjelpefil!$B$5:$B$268,0))=0,"",INDEX(Hjelpefil!AJ$5:AJ$268,MATCH(BRUKERFLATE!$F9,Hjelpefil!$B$5:$B$268,0))),"") | AB9: =IF(AC9="","",MAX($AB$2:AB8)+1) -> 7 | AC9: =IF($A$3="KOM",IF(AND($AI9=1,$AH9=1),Hjelpefil!B11,""),IF($A$3="FYL",IF(AND($AW9=1,$AH9=1),Hjelpefil!B11,""),"")) -> Andel barn korrigert for alder per årsverk til basisvirksomhet i barnehage | AD9: =IF($A$3="KOM",IF(AND($AI9=1,$AH9=1),Hjelpefil!C11,""),IF($A$3="FYL",IF(AND($AW9=1,$AH9=1),Hjelpefil!C11,""),"")) -> SSB, tabell 12562 | AE9: =IF($A$3="KOM",IF(AND($AI9=1,$AH9=1),Hjelpefil!F11,""),IF($A$3="FYL",IF(AND($AW9=1,$AH9=1),Hjelpefil!F11,""),"")) -> 3_brukereffekt | AF9: =IF(AND($AI9=1,$AH9=1),IF(AQ9="",AR9,AQ9),"") -> Barnehage | AH9: =IF(OR(AP9=$A$3,AP9="BEGGE"),1,0) -> 1 | AI9: =IF($B$3=$AJ$2,AJ9,IF($B$3=$AK$2,AK9,IF($B$3=$AL$2,AL9,IF($B$3=$AM$2,AM9,IF($B$3=$AN$2,AN9,IF($B$3=$AO$2,AO9)))))) -> 1 | AJ9: 1 | AK9: 0 | AL9: 0 | AM9: 0 | AN9: 0 | AO9: 0 | AP9: KOM | AQ9: =INDEX(Hjelpefil!H11:M11,MATCH(BRUKERFLATE!$B$3,BRUKERFLATE!$AV$4:$AV$9,0)) -> Barnehage | AR9: =INDEX(Hjelpefil!N11:S11,MATCH(BRUKERFLATE!$B$3,BRUKERFLATE!$AV$4:$AV$9,0)) -> 0 | AV9: Innovasjon og digitalisering | AW9: =IF($B$3=$AJ$2,AX9,IF($B$3=$AK$2,AY9,IF($B$3=$AL$2,AZ9,IF($B$3=$AM$2,BA9,IF($B$3=$AN$2,BB9,IF($B$3=$AO$2,BC9)))))) -> 0 | AX9: 0 | AY9: 0 | AZ9: 0 | BA9: 0 | BB9: 0 | BC9: 0
F10: =IFERROR(INDEX($AC$3:$AC$301,MATCH(ROW()-ROW($D$2),$AB$3:$AB$301,0)),"") -> Andel minoritetsspråklige barn i barnehage i forhold til innvandrerbarn 1-5 år | G10: =IF(F10="","",IF($A$3="FYL",INDEX($AR$3:$AR$269,MATCH(F10,$AC$3:$AC$269,0)),INDEX($AQ$3:$AQ$269,MATCH(F10,$AC$3:$AC$269,0)))) -> Barnehage | H10: {=IFERROR(INDEX($AD$3:$AD$301,MATCH(ROW()-ROW($D$2),$AB$3:$AB$301,0)),"")} -> SSB, tabell 12562 | I10: {=IFERROR(INDEX($AE$3:$AE$301,MATCH(ROW()-ROW($D$2),$AB$3:$AB$301,0)),"")} -> 3_brukereffekt | J10: =IFERROR(IF(INDEX(Hjelpefil!T$5:T$268,MATCH(BRUKERFLATE!$F10,Hjelpefil!$B$5:$B$268,0))=0,"",INDEX(Hjelpefil!T$5:T$268,MATCH(BRUKERFLATE!$F10,Hjelpefil!$B$5:$B$268,0))),"") | K10: =IFERROR(IF(INDEX(Hjelpefil!U$5:U$268,MATCH(BRUKERFLATE!$F10,Hjelpefil!$B$5:$B$268,0))=0,"",INDEX(Hjelpefil!U$5:U$268,MATCH(BRUKERFLATE!$F10,Hjelpefil!$B$5:$B$268,0))),"") | L10: =IFERROR(IF(INDEX(Hjelpefil!V$5:V$268,MATCH(BRUKERFLATE!$F10,Hjelpefil!$B$5:$B$268,0))=0,"",INDEX(Hjelpefil!V$5:V$268,MATCH(BRUKERFLATE!$F10,Hjelpefil!$B$5:$B$268,0))),"") | M10: =IFERROR(IF(INDEX(Hjelpefil!W$5:W$268,MATCH(BRUKERFLATE!$F10,Hjelpefil!$B$5:$B$268,0))=0,"",INDEX(Hjelpefil!W$5:W$268,MATCH(BRUKERFLATE!$F10,Hjelpefil!$B$5:$B$268,0))),"") -> 4.2 | N10: =IFERROR(IF(INDEX(Hjelpefil!X$5:X$268,MATCH(BRUKERFLATE!$F10,Hjelpefil!$B$5:$B$268,0))=0,"",INDEX(Hjelpefil!X$5:X$268,MATCH(BRUKERFLATE!$F10,Hjelpefil!$B$5:$B$268,0))),"") | O10: =IFERROR(IF(INDEX(Hjelpefil!Y$5:Y$268,MATCH(BRUKERFLATE!$F10,Hjelpefil!$B$5:$B$268,0))=0,"",INDEX(Hjelpefil!Y$5:Y$268,MATCH(BRUKERFLATE!$F10,Hjelpefil!$B$5:$B$268,0))),"") | P10: =IFERROR(IF(INDEX(Hjelpefil!Z$5:Z$268,MATCH(BRUKERFLATE!$F10,Hjelpefil!$B$5:$B$268,0))=0,"",INDEX(Hjelpefil!Z$5:Z$268,MATCH(BRUKERFLATE!$F10,Hjelpefil!$B$5:$B$268,0))),"") | Q10: =IFERROR(IF(INDEX(Hjelpefil!AA$5:AA$268,MATCH(BRUKERFLATE!$F10,Hjelpefil!$B$5:$B$268,0))=0,"",INDEX(Hjelpefil!AA$5:AA$268,MATCH(BRUKERFLATE!$F10,Hjelpefil!$B$5:$B$268,0))),"") | ... Z10: =IFERROR(IF(INDEX(Hjelpefil!AJ$5:AJ$268,MATCH(BRUKERFLATE!$F10,Hjelpefil!$B$5:$B$268,0))=0,"",INDEX(Hjelpefil!AJ$5:AJ$268,MATCH(BRUKERFLATE!$F10,Hjelpefil!$B$5:$B$268,0))),"") | AB10: =IF(AC10="","",MAX($AB$2:AB9)+1) -> 8 | AC10: =IF($A$3="KOM",IF(AND($AI10=1,$AH10=1),Hjelpefil!B12,""),IF($A$3="FYL",IF(AND($AW10=1,$AH10=1),Hjelpefil!B12,""),"")) -> Andel minoritetsspråklige barn i barnehage i forhold til innvandrerbarn 1-5 år | AD10: =IF($A$3="KOM",IF(AND($AI10=1,$AH10=1),Hjelpefil!C12,""),IF($A$3="FYL",IF(AND($AW10=1,$AH10=1),Hjelpefil!C12,""),"")) -> SSB, tabell 12562 | AE10: =IF($A$3="KOM",IF(AND($AI10=1,$AH10=1),Hjelpefil!F12,""),IF($A$3="FYL",IF(AND($AW10=1,$AH10=1),Hjelpefil!F12,""),"")) -> 3_brukereffekt | AF10: =IF(AND($AI10=1,$AH10=1),IF(AQ10="",AR10,AQ10),"") -> Barnehage | AH10: =IF(OR(AP10=$A$3,AP10="BEGGE"),1,0) -> 1 | AI10: =IF($B$3=$AJ$2,AJ10,IF($B$3=$AK$2,AK10,IF($B$3=$AL$2,AL10,IF($B$3=$AM$2,AM10,IF($B$3=$AN$2,AN10,IF($B$3=$AO$2,AO10)))))) -> 1 | AJ10: 1 | AK10: 0 | AL10: 0 | AM10: 0 | AN10: 0 | AO10: 0 | AP10: KOM | AQ10: =INDEX(Hjelpefil!H12:M12,MATCH(BRUKERFLATE!$B$3,BRUKERFLATE!$AV$4:$AV$9,0)) -> Barnehage | AR10: =INDEX(Hjelpefil!N12:S12,MATCH(BRUKERFLATE!$B$3,BRUKERFLATE!$AV$4:$AV$9,0)) -> 0 | AW10: =IF($B$3=$AJ$2,AX10,IF($B$3=$AK$2,AY10,IF($B$3=$AL$2,AZ10,IF($B$3=$AM$2,BA10,IF($B$3=$AN$2,BB10,IF($B$3=$AO$2,BC10)))))) -> 0 | AX10: 0 | AY10: 0 | AZ10: 0 | BA10: 0 | BB10: 0 | BC10: 0
F11: =IFERROR(INDEX($AC$3:$AC$301,MATCH(ROW()-ROW($D$2),$AB$3:$AB$301,0)),"") -> Lærertimer / elevtimer | G11: =IF(F11="","",IF($A$3="FYL",INDEX($AR$3:$AR$269,MATCH(F11,$AC$3:$AC$269,0)),INDEX($AQ$3:$AQ$269,MATCH(F11,$AC$3:$AC$269,0)))) -> Skole | H11: {=IFERROR(INDEX($AD$3:$AD$301,MATCH(ROW()-ROW($D$2),$AB$3:$AB$301,0)),"")} -> SSB, tabell 12285 | I11: {=IFERROR(INDEX($AE$3:$AE$301,MATCH(ROW()-ROW($D$2),$AB$3:$AB$301,0)),"")} -> 2_prod/teneste | J11: =IFERROR(IF(INDEX(Hjelpefil!T$5:T$268,MATCH(BRUKERFLATE!$F11,Hjelpefil!$B$5:$B$268,0))=0,"",INDEX(Hjelpefil!T$5:T$268,MATCH(BRUKERFLATE!$F11,Hjelpefil!$B$5:$B$268,0))),"") | K11: =IFERROR(IF(INDEX(Hjelpefil!U$5:U$268,MATCH(BRUKERFLATE!$F11,Hjelpefil!$B$5:$B$268,0))=0,"",INDEX(Hjelpefil!U$5:U$268,MATCH(BRUKERFLATE!$F11,Hjelpefil!$B$5:$B$268,0))),"") | L11: =IFERROR(IF(INDEX(Hjelpefil!V$5:V$268,MATCH(BRUKERFLATE!$F11,Hjelpefil!$B$5:$B$268,0))=0,"",INDEX(Hjelpefil!V$5:V$268,MATCH(BRUKERFLATE!$F11,Hjelpefil!$B$5:$B$268,0))),"") | M11: =IFERROR(IF(INDEX(Hjelpefil!W$5:W$268,MATCH(BRUKERFLATE!$F11,Hjelpefil!$B$5:$B$268,0))=0,"",INDEX(Hjelpefil!W$5:W$268,MATCH(BRUKERFLATE!$F11,Hjelpefil!$B$5:$B$268,0))),"") -> 4 | N11: =IFERROR(IF(INDEX(Hjelpefil!X$5:X$268,MATCH(BRUKERFLATE!$F11,Hjelpefil!$B$5:$B$268,0))=0,"",INDEX(Hjelpefil!X$5:X$268,MATCH(BRUKERFLATE!$F11,Hjelpefil!$B$5:$B$268,0))),"") | O11: =IFERROR(IF(INDEX(Hjelpefil!Y$5:Y$268,MATCH(BRUKERFLATE!$F11,Hjelpefil!$B$5:$B$268,0))=0,"",INDEX(Hjelpefil!Y$5:Y$268,MATCH(BRUKERFLATE!$F11,Hjelpefil!$B$5:$B$268,0))),"") | P11: =IFERROR(IF(INDEX(Hjelpefil!Z$5:Z$268,MATCH(BRUKERFLATE!$F11,Hjelpefil!$B$5:$B$268,0))=0,"",INDEX(Hjelpefil!Z$5:Z$268,MATCH(BRUKERFLATE!$F11,Hjelpefil!$B$5:$B$268,0))),"") | Q11: =IFERROR(IF(INDEX(Hjelpefil!AA$5:AA$268,MATCH(BRUKERFLATE!$F11,Hjelpefil!$B$5:$B$268,0))=0,"",INDEX(Hjelpefil!AA$5:AA$268,MATCH(BRUKERFLATE!$F11,Hjelpefil!$B$5:$B$268,0))),"") | ... Z11: =IFERROR(IF(INDEX(Hjelpefil!AJ$5:AJ$268,MATCH(BRUKERFLATE!$F11,Hjelpefil!$B$5:$B$268,0))=0,"",INDEX(Hjelpefil!AJ$5:AJ$268,MATCH(BRUKERFLATE!$F11,Hjelpefil!$B$5:$B$268,0))),"") | AB11: =IF(AC11="","",MAX($AB$2:AB10)+1) -> 9 | AC11: =IF($A$3="KOM",IF(AND($AI11=1,$AH11=1),Hjelpefil!B13,""),IF($A$3="FYL",IF(AND($AW11=1,$AH11=1),Hjelpefil!B13,""),"")) -> Lærertimer / elevtimer | AD11: =IF($A$3="KOM",IF(AND($AI11=1,$AH11=1),Hjelpefil!C13,""),IF($A$3="FYL",IF(AND($AW11=1,$AH11=1),Hjelpefil!C13,""),"")) -> SSB, tabell 12285 | AE11: =IF($A$3="KOM",IF(AND($AI11=1,$AH11=1),Hjelpefil!F13,""),IF($A$3="FYL",IF(AND($AW11=1,$AH11=1),Hjelpefil!F13,""),"")) -> 2_prod/teneste | AF11: =IF(AND($AI11=1,$AH11=1),IF(AQ11="",AR11,AQ11),"") -> Skole | AH11: =IF(OR(AP11=$A$3,AP11="BEGGE"),1,0) -> 1 | AI11: =IF($B$3=$AJ$2,AJ11,IF($B$3=$AK$2,AK11,IF($B$3=$AL$2,AL11,IF($B$3=$AM$2,AM11,IF($B$3=$AN$2,AN11,IF($B$3=$AO$2,AO11)))))) -> 1 | AJ11: 1 | AK11: 0 | AL11: 0 | AM11: 0 | AN11: 0 | AO11: 0 | AP11: KOM | AQ11: =INDEX(Hjelpefil!H13:M13,MATCH(BRUKERFLATE!$B$3,BRUKERFLATE!$AV$4:$AV$9,0)) -> Skole | AR11: =INDEX(Hjelpefil!N13:S13,MATCH(BRUKERFLATE!$B$3,BRUKERFLATE!$AV$4:$AV$9,0)) -> 0 | AW11: =IF($B$3=$AJ$2,AX11,IF($B$3=$AK$2,AY11,IF($B$3=$AL$2,AZ11,IF($B$3=$AM$2,BA11,IF($B$3=$AN$2,BB11,IF($B$3=$AO$2,BC11)))))) -> 0 | AX11: 0 | AY11: 0 | AZ11: 0 | BA11: 0 | BB11: 0 | BC11: 0
F12: =IFERROR(INDEX($AC$3:$AC$301,MATCH(ROW()-ROW($D$2),$AB$3:$AB$301,0)),"") -> Lærere med universitets-/høgskoleutdanning, med pedagogisk utdanning, prosent | G12: =IF(F12="","",IF($A$3="FYL",INDEX($AR$3:$AR$269,MATCH(F12,$AC$3:$AC$269,0)),INDEX($AQ$3:$AQ$269,MATCH(F12,$AC$3:$AC$269,0)))) -> Skole | H12: {=IFERROR(INDEX($AD$3:$AD$301,MATCH(ROW()-ROW($D$2),$AB$3:$AB$301,0)),"")} -> SSB, tabell 12247 | I12: {=IFERROR(INDEX($AE$3:$AE$301,MATCH(ROW()-ROW($D$2),$AB$3:$AB$301,0)),"")} -> 2_prod/teneste | J12: =IFERROR(IF(INDEX(Hjelpefil!T$5:T$268,MATCH(BRUKERFLATE!$F12,Hjelpefil!$B$5:$B$268,0))=0,"",INDEX(Hjelpefil!T$5:T$268,MATCH(BRUKERFLATE!$F12,Hjelpefil!$B$5:$B$268,0))),"") | K12: =IFERROR(IF(INDEX(Hjelpefil!U$5:U$268,MATCH(BRUKERFLATE!$F12,Hjelpefil!$B$5:$B$268,0))=0,"",INDEX(Hjelpefil!U$5:U$268,MATCH(BRUKERFLATE!$F12,Hjelpefil!$B$5:$B$268,0))),"") | L12: =IFERROR(IF(INDEX(Hjelpefil!V$5:V$268,MATCH(BRUKERFLATE!$F12,Hjelpefil!$B$5:$B$268,0))=0,"",INDEX(Hjelpefil!V$5:V$268,MATCH(BRUKERFLATE!$F12,Hjelpefil!$B$5:$B$268,0))),"") | M12: =IFERROR(IF(INDEX(Hjelpefil!W$5:W$268,MATCH(BRUKERFLATE!$F12,Hjelpefil!$B$5:$B$268,0))=0,"",INDEX(Hjelpefil!W$5:W$268,MATCH(BRUKERFLATE!$F12,Hjelpefil!$B$5:$B$268,0))),"") -> 4.c | N12: =IFERROR(IF(INDEX(Hjelpefil!X$5:X$268,MATCH(BRUKERFLATE!$F12,Hjelpefil!$B$5:$B$268,0))=0,"",INDEX(Hjelpefil!X$5:X$268,MATCH(BRUKERFLATE!$F12,Hjelpefil!$B$5:$B$268,0))),"") | O12: =IFERROR(IF(INDEX(Hjelpefil!Y$5:Y$268,MATCH(BRUKERFLATE!$F12,Hjelpefil!$B$5:$B$268,0))=0,"",INDEX(Hjelpefil!Y$5:Y$268,MATCH(BRUKERFLATE!$F12,Hjelpefil!$B$5:$B$268,0))),"") | P12: =IFERROR(IF(INDEX(Hjelpefil!Z$5:Z$268,MATCH(BRUKERFLATE!$F12,Hjelpefil!$B$5:$B$268,0))=0,"",INDEX(Hjelpefil!Z$5:Z$268,MATCH(BRUKERFLATE!$F12,Hjelpefil!$B$5:$B$268,0))),"") | Q12: =IFERROR(IF(INDEX(Hjelpefil!AA$5:AA$268,MATCH(BRUKERFLATE!$F12,Hjelpefil!$B$5:$B$268,0))=0,"",INDEX(Hjelpefil!AA$5:AA$268,MATCH(BRUKERFLATE!$F12,Hjelpefil!$B$5:$B$268,0))),"") | ... Z12: =IFERROR(IF(INDEX(Hjelpefil!AJ$5:AJ$268,MATCH(BRUKERFLATE!$F12,Hjelpefil!$B$5:$B$268,0))=0,"",INDEX(Hjelpefil!AJ$5:AJ$268,MATCH(BRUKERFLATE!$F12,Hjelpefil!$B$5:$B$268,0))),"") | AB12: =IF(AC12="","",MAX($AB$2:AB11)+1) -> 10 | AC12: =IF($A$3="KOM",IF(AND($AI12=1,$AH12=1),Hjelpefil!B14,""),IF($A$3="FYL",IF(AND($AW12=1,$AH12=1),Hjelpefil!B14,""),"")) -> Lærere med universitets-/høgskoleutdanning, med pedagogisk utdanning, prosent | AD12: =IF($A$3="KOM",IF(AND($AI12=1,$AH12=1),Hjelpefil!C14,""),IF($A$3="FYL",IF(AND($AW12=1,$AH12=1),Hjelpefil!C14,""),"")) -> SSB, tabell 12247 | AE12: =IF($A$3="KOM",IF(AND($AI12=1,$AH12=1),Hjelpefil!F14,""),IF($A$3="FYL",IF(AND($AW12=1,$AH12=1),Hjelpefil!F14,""),"")) -> 2_prod/teneste | AF12: =IF(AND($AI12=1,$AH12=1),IF(AQ12="",AR12,AQ12),"") -> Skole | AH12: =IF(OR(AP12=$A$3,AP12="BEGGE"),1,0) -> 1 | AI12: =IF($B$3=$AJ$2,AJ12,IF($B$3=$AK$2,AK12,IF($B$3=$AL$2,AL12,IF($B$3=$AM$2,AM12,IF($B$3=$AN$2,AN12,IF($B$3=$AO$2,AO12)))))) -> 1 | AJ12: 1 | AK12: 0 | AL12: 0 | AM12: 0 | AN12: 0 | AO12: 0 | AP12: KOM | AQ12: =INDEX(Hjelpefil!H14:M14,MATCH(BRUKERFLATE!$B$3,BRUKERFLATE!$AV$4:$AV$9,0)) -> Skole | AR12: =INDEX(Hjelpefil!N14:S14,MATCH(BRUKERFLATE!$B$3,BRUKERFLATE!$AV$4:$AV$9,0)) -> 0 | AW12: =IF($B$3=$AJ$2,AX12,IF($B$3=$AK$2,AY12,IF($B$3=$AL$2,AZ12,IF($B$3=$AM$2,BA12,IF($B$3=$AN$2,BB12,IF($B$3=$AO$2,BC12)))))) -> 0 | AX12: 0 | AY12: 0 | AZ12: 0 | BA12: 0 | BB12: 0 | BC12: 0
F13: =IFERROR(INDEX($AC$3:$AC$301,MATCH(ROW()-ROW($D$2),$AB$3:$AB$301,0)),"") -> Korrigerte brutto driftsutgifter til grunnskolesektor. Kroner per elev i kommunale grunnskoler. | G13: =IF(F13="","",IF($A$3="FYL",INDEX($AR$3:$AR$269,MATCH(F13,$AC$3:$AC$269,0)),INDEX($AQ$3:$AQ$269,MATCH(F13,$AC$3:$AC$269,0)))) -> Skole | H13: {=IFERROR(INDEX($AD$3:$AD$301,MATCH(ROW()-ROW($D$2),$AB$3:$AB$301,0)),"")} -> SSB, tabell 12235 | I13: {=IFERROR(INDEX($AE$3:$AE$301,MATCH(ROW()-ROW($D$2),$AB$3:$AB$301,0)),"")} -> 1_innsatsfaktor | J13: =IFERROR(IF(INDEX(Hjelpefil!T$5:T$268,MATCH(BRUKERFLATE!$F13,Hjelpefil!$B$5:$B$268,0))=0,"",INDEX(Hjelpefil!T$5:T$268,MATCH(BRUKERFLATE!$F13,Hjelpefil!$B$5:$B$268,0))),"") | K13: =IFERROR(IF(INDEX(Hjelpefil!U$5:U$268,MATCH(BRUKERFLATE!$F13,Hjelpefil!$B$5:$B$268,0))=0,"",INDEX(Hjelpefil!U$5:U$268,MATCH(BRUKERFLATE!$F13,Hjelpefil!$B$5:$B$268,0))),"") | L13: =IFERROR(IF(INDEX(Hjelpefil!V$5:V$268,MATCH(BRUKERFLATE!$F13,Hjelpefil!$B$5:$B$268,0))=0,"",INDEX(Hjelpefil!V$5:V$268,MATCH(BRUKERFLATE!$F13,Hjelpefil!$B$5:$B$268,0))),"") | M13: =IFERROR(IF(INDEX(Hjelpefil!W$5:W$268,MATCH(BRUKERFLATE!$F13,Hjelpefil!$B$5:$B$268,0))=0,"",INDEX(Hjelpefil!W$5:W$268,MATCH(BRUKERFLATE!$F13,Hjelpefil!$B$5:$B$268,0))),"") -> 4 | N13: =IFERROR(IF(INDEX(Hjelpefil!X$5:X$268,MATCH(BRUKERFLATE!$F13,Hjelpefil!$B$5:$B$268,0))=0,"",INDEX(Hjelpefil!X$5:X$268,MATCH(BRUKERFLATE!$F13,Hjelpefil!$B$5:$B$268,0))),"") | O13: =IFERROR(IF(INDEX(Hjelpefil!Y$5:Y$268,MATCH(BRUKERFLATE!$F13,Hjelpefil!$B$5:$B$268,0))=0,"",INDEX(Hjelpefil!Y$5:Y$268,MATCH(BRUKERFLATE!$F13,Hjelpefil!$B$5:$B$268,0))),"") | P13: =IFERROR(IF(INDEX(Hjelpefil!Z$5:Z$268,MATCH(BRUKERFLATE!$F13,Hjelpefil!$B$5:$B$268,0))=0,"",INDEX(Hjelpefil!Z$5:Z$268,MATCH(BRUKERFLATE!$F13,Hjelpefil!$B$5:$B$268,0))),"") | Q13: =IFERROR(IF(INDEX(Hjelpefil!AA$5:AA$268,MATCH(BRUKERFLATE!$F13,Hjelpefil!$B$5:$B$268,0))=0,"",INDEX(Hjelpefil!AA$5:AA$268,MATCH(BRUKERFLATE!$F13,Hjelpefil!$B$5:$B$268,0))),"") | ... Z13: =IFERROR(IF(INDEX(Hjelpefil!AJ$5:AJ$268,MATCH(BRUKERFLATE!$F13,Hjelpefil!$B$5:$B$268,0))=0,"",INDEX(Hjelpefil!AJ$5:AJ$268,MATCH(BRUKERFLATE!$F13,Hjelpefil!$B$5:$B$268,0))),"") | AB13: =IF(AC13="","",MAX($AB$2:AB12)+1) -> 11 | AC13: =IF($A$3="KOM",IF(AND($AI13=1,$AH13=1),Hjelpefil!B15,""),IF($A$3="FYL",IF(AND($AW13=1,$AH13=1),Hjelpefil!B15,""),"")) -> Korrigerte brutto driftsutgifter til grunnskolesektor. Kroner per elev i kommunale grunnskoler. | AD13: =IF($A$3="KOM",IF(AND($AI13=1,$AH13=1),Hjelpefil!C15,""),IF($A$3="FYL",IF(AND($AW13=1,$AH13=1),Hjelpefil!C15,""),"")) -> SSB, tabell 12235 | AE13: =IF($A$3="KOM",IF(AND($AI13=1,$AH13=1),Hjelpefil!F15,""),IF($A$3="FYL",IF(AND($AW13=1,$AH13=1),Hjelpefil!F15,""),"")) -> 1_innsatsfaktor | AF13: =IF(AND($AI13=1,$AH13=1),IF(AQ13="",AR13,AQ13),"") -> Skole | AH13: =IF(OR(AP13=$A$3,AP13="BEGGE"),1,0) -> 1 | AI13: =IF($B$3=$AJ$2,AJ13,IF($B$3=$AK$2,AK13,IF($B$3=$AL$2,AL13,IF($B$3=$AM$2,AM13,IF($B$3=$AN$2,AN13,IF($B$3=$AO$2,AO13)))))) -> 1 | AJ13: 1 | AK13: 0 | AL13: 0 | AM13: 0 | AN13: 0 | AO13: 0 | AP13: KOM | AQ13: =INDEX(Hjelpefil!H15:M15,MATCH(BRUKERFLATE!$B$3,BRUKERFLATE!$AV$4:$AV$9,0)) -> Skole | AR13: =INDEX(Hjelpefil!N15:S15,MATCH(BRUKERFLATE!$B$3,BRUKERFLATE!$AV$4:$AV$9,0)) -> 0 | AW13: =IF($B$3=$AJ$2,AX13,IF($B$3=$AK$2,AY13,IF($B$3=$AL$2,AZ13,IF($B$3=$AM$2,BA13,IF($B$3=$AN$2,BB13,IF($B$3=$AO$2,BC13)))))) -> 0 | AX13: 0 | AY13: 0 | AZ13: 0 | BA13: 0 | BB13: 0 | BC13: 0
F14: =IFERROR(INDEX($AC$3:$AC$301,MATCH(ROW()-ROW($D$2),$AB$3:$AB$301,0)),"") -> Andel årstimer til undervisning gitt av lærere med godkjent utdanning, prosent 2008-2015 | G14: =IF(F14="","",IF($A$3="FYL",INDEX($AR$3:$AR$269,MATCH(F14,$AC$3:$AC$269,0)),INDEX($AQ$3:$AQ$269,MATCH(F14,$AC$3:$AC$269,0)))) -> Skole | H14: {=IFERROR(INDEX($AD$3:$AD$301,MATCH(ROW()-ROW($D$2),$AB$3:$AB$301,0)),"")} -> UDIR, GSI | I14: {=IFERROR(INDEX($AE$3:$AE$301,MATCH(ROW()-ROW($D$2),$AB$3:$AB$301,0)),"")} -> 2_prod/teneste | J14: =IFERROR(IF(INDEX(Hjelpefil!T$5:T$268,MATCH(BRUKERFLATE!$F14,Hjelpefil!$B$5:$B$268,0))=0,"",INDEX(Hjelpefil!T$5:T$268,MATCH(BRUKERFLATE!$F14,Hjelpefil!$B$5:$B$268,0))),"") | K14: =IFERROR(IF(INDEX(Hjelpefil!U$5:U$268,MATCH(BRUKERFLATE!$F14,Hjelpefil!$B$5:$B$268,0))=0,"",INDEX(Hjelpefil!U$5:U$268,MATCH(BRUKERFLATE!$F14,Hjelpefil!$B$5:$B$268,0))),"") | L14: =IFERROR(IF(INDEX(Hjelpefil!V$5:V$268,MATCH(BRUKERFLATE!$F14,Hjelpefil!$B$5:$B$268,0))=0,"",INDEX(Hjelpefil!V$5:V$268,MATCH(BRUKERFLATE!$F14,Hjelpefil!$B$5:$B$268,0))),"") | M14: =IFERROR(IF(INDEX(Hjelpefil!W$5:W$268,MATCH(BRUKERFLATE!$F14,Hjelpefil!$B$5:$B$268,0))=0,"",INDEX(Hjelpefil!W$5:W$268,MATCH(BRUKERFLATE!$F14,Hjelpefil!$B$5:$B$268,0))),"") -> 4.c | N14: =IFERROR(IF(INDEX(Hjelpefil!X$5:X$268,MATCH(BRUKERFLATE!$F14,Hjelpefil!$B$5:$B$268,0))=0,"",INDEX(Hjelpefil!X$5:X$268,MATCH(BRUKERFLATE!$F14,Hjelpefil!$B$5:$B$268,0))),"") | O14: =IFERROR(IF(INDEX(Hjelpefil!Y$5:Y$268,MATCH(BRUKERFLATE!$F14,Hjelpefil!$B$5:$B$268,0))=0,"",INDEX(Hjelpefil!Y$5:Y$268,MATCH(BRUKERFLATE!$F14,Hjelpefil!$B$5:$B$268,0))),"") | P14: =IFERROR(IF(INDEX(Hjelpefil!Z$5:Z$268,MATCH(BRUKERFLATE!$F14,Hjelpefil!$B$5:$B$268,0))=0,"",INDEX(Hjelpefil!Z$5:Z$268,MATCH(BRUKERFLATE!$F14,Hjelpefil!$B$5:$B$268,0))),"") | Q14: =IFERROR(IF(INDEX(Hjelpefil!AA$5:AA$268,MATCH(BRUKERFLATE!$F14,Hjelpefil!$B$5:$B$268,0))=0,"",INDEX(Hjelpefil!AA$5:AA$268,MATCH(BRUKERFLATE!$F14,Hjelpefil!$B$5:$B$268,0))),"") | ... Z14: =IFERROR(IF(INDEX(Hjelpefil!AJ$5:AJ$268,MATCH(BRUKERFLATE!$F14,Hjelpefil!$B$5:$B$268,0))=0,"",INDEX(Hjelpefil!AJ$5:AJ$268,MATCH(BRUKERFLATE!$F14,Hjelpefil!$B$5:$B$268,0))),"") | AB14: =IF(AC14="","",MAX($AB$2:AB13)+1) -> 12 | AC14: =IF($A$3="KOM",IF(AND($AI14=1,$AH14=1),Hjelpefil!B16,""),IF($A$3="FYL",IF(AND($AW14=1,$AH14=1),Hjelpefil!B16,""),"")) -> Andel årstimer til undervisning gitt av lærere med godkjent utdanning, prosent 2008-2015 | AD14: =IF($A$3="KOM",IF(AND($AI14=1,$AH14=1),Hjelpefil!C16,""),IF($A$3="FYL",IF(AND($AW14=1,$AH14=1),Hjelpefil!C16,""),"")) -> UDIR, GSI | AE14: =IF($A$3="KOM",IF(AND($AI14=1,$AH14=1),Hjelpefil!F16,""),IF($A$3="FYL",IF(AND($AW14=1,$AH14=1),Hjelpefil!F16,""),"")) -> 2_prod/teneste | AF14: =IF(AND($AI14=1,$AH14=1),IF(AQ14="",AR14,AQ14),"") -> Skole | AH14: =IF(OR(AP14=$A$3,AP14="BEGGE"),1,0) -> 1 | AI14: =IF($B$3=$AJ$2,AJ14,IF($B$3=$AK$2,AK14,IF($B$3=$AL$2,AL14,IF($B$3=$AM$2,AM14,IF($B$3=$AN$2,AN14,IF($B$3=$AO$2,AO14)))))) -> 1 | AJ14: 1 | AK14: 0 | AL14: 0 | AM14: 0 | AN14: 0 | AO14: 0 | AP14: KOM | AQ14: =INDEX(Hjelpefil!H16:M16,MATCH(BRUKERFLATE!$B$3,BRUKERFLATE!$AV$4:$AV$9,0)) -> Skole | AR14: =INDEX(Hjelpefil!N16:S16,MATCH(BRUKERFLATE!$B$3,BRUKERFLATE!$AV$4:$AV$9,0)) -> 0 | AW14: =IF($B$3=$AJ$2,AX14,IF($B$3=$AK$2,AY14,IF($B$3=$AL$2,AZ14,IF($B$3=$AM$2,BA14,IF($B$3=$AN$2,BB14,IF($B$3=$AO$2,BC14)))))) -> 0 | AX14: 0 | AY14: 0 | AZ14: 0 | BA14: 0 | BB14: 0 | BC14: 0
F15: =IFERROR(INDEX($AC$3:$AC$301,MATCH(ROW()-ROW($D$2),$AB$3:$AB$301,0)),"") -> Gjennomsnittlig gruppestørrelse | G15: =IF(F15="","",IF($A$3="FYL",INDEX($AR$3:$AR$269,MATCH(F15,$AC$3:$AC$269,0)),INDEX($AQ$3:$AQ$269,MATCH(F15,$AC$3:$AC$269,0)))) -> Skole | H15: {=IFERROR(INDEX($AD$3:$AD$301,MATCH(ROW()-ROW($D$2),$AB$3:$AB$301,0)),"")} -> SSB, tabell 12255 | I15: {=IFERROR(INDEX($AE$3:$AE$301,MATCH(ROW()-ROW($D$2),$AB$3:$AB$301,0)),"")} -> 2_prod/teneste | J15: =IFERROR(IF(INDEX(Hjelpefil!T$5:T$268,MATCH(BRUKERFLATE!$F15,Hjelpefil!$B$5:$B$268,0))=0,"",INDEX(Hjelpefil!T$5:T$268,MATCH(BRUKERFLATE!$F15,Hjelpefil!$B$5:$B$268,0))),"") | K15: =IFERROR(IF(INDEX(Hjelpefil!U$5:U$268,MATCH(BRUKERFLATE!$F15,Hjelpefil!$B$5:$B$268,0))=0,"",INDEX(Hjelpefil!U$5:U$268,MATCH(BRUKERFLATE!$F15,Hjelpefil!$B$5:$B$268,0))),"") | L15: =IFERROR(IF(INDEX(Hjelpefil!V$5:V$268,MATCH(BRUKERFLATE!$F15,Hjelpefil!$B$5:$B$268,0))=0,"",INDEX(Hjelpefil!V$5:V$268,MATCH(BRUKERFLATE!$F15,Hjelpefil!$B$5:$B$268,0))),"") | M15: =IFERROR(IF(INDEX(Hjelpefil!W$5:W$268,MATCH(BRUKERFLATE!$F15,Hjelpefil!$B$5:$B$268,0))=0,"",INDEX(Hjelpefil!W$5:W$268,MATCH(BRUKERFLATE!$F15,Hjelpefil!$B$5:$B$268,0))),"") -> 4 | N15: =IFERROR(IF(INDEX(Hjelpefil!X$5:X$268,MATCH(BRUKERFLATE!$F15,Hjelpefil!$B$5:$B$268,0))=0,"",INDEX(Hjelpefil!X$5:X$268,MATCH(BRUKERFLATE!$F15,Hjelpefil!$B$5:$B$268,0))),"") | O15: =IFERROR(IF(INDEX(Hjelpefil!Y$5:Y$268,MATCH(BRUKERFLATE!$F15,Hjelpefil!$B$5:$B$268,0))=0,"",INDEX(Hjelpefil!Y$5:Y$268,MATCH(BRUKERFLATE!$F15,Hjelpefil!$B$5:$B$268,0))),"") | P15: =IFERROR(IF(INDEX(Hjelpefil!Z$5:Z$268,MATCH(BRUKERFLATE!$F15,Hjelpefil!$B$5:$B$268,0))=0,"",INDEX(Hjelpefil!Z$5:Z$268,MATCH(BRUKERFLATE!$F15,Hjelpefil!$B$5:$B$268,0))),"") | Q15: =IFERROR(IF(INDEX(Hjelpefil!AA$5:AA$268,MATCH(BRUKERFLATE!$F15,Hjelpefil!$B$5:$B$268,0))=0,"",INDEX(Hjelpefil!AA$5:AA$268,MATCH(BRUKERFLATE!$F15,Hjelpefil!$B$5:$B$268,0))),"") | ... Z15: =IFERROR(IF(INDEX(Hjelpefil!AJ$5:AJ$268,MATCH(BRUKERFLATE!$F15,Hjelpefil!$B$5:$B$268,0))=0,"",INDEX(Hjelpefil!AJ$5:AJ$268,MATCH(BRUKERFLATE!$F15,Hjelpefil!$B$5:$B$268,0))),"") | AB15: =IF(AC15="","",MAX($AB$2:AB14)+1) -> 13 | AC15: =IF($A$3="KOM",IF(AND($AI15=1,$AH15=1),Hjelpefil!B17,""),IF($A$3="FYL",IF(AND($AW15=1,$AH15=1),Hjelpefil!B17,""),"")) -> Gjennomsnittlig gruppestørrelse | AD15: =IF($A$3="KOM",IF(AND($AI15=1,$AH15=1),Hjelpefil!C17,""),IF($A$3="FYL",IF(AND($AW15=1,$AH15=1),Hjelpefil!C17,""),"")) -> SSB, tabell 12255 | AE15: =IF($A$3="KOM",IF(AND($AI15=1,$AH15=1),Hjelpefil!F17,""),IF($A$3="FYL",IF(AND($AW15=1,$AH15=1),Hjelpefil!F17,""),"")) -> 2_prod/teneste | AF15: =IF(AND($AI15=1,$AH15=1),IF(AQ15="",AR15,AQ15),"") -> Skole | AH15: =IF(OR(AP15=$A$3,AP15="BEGGE"),1,0) -> 1 | AI15: =IF($B$3=$AJ$2,AJ15,IF($B$3=$AK$2,AK15,IF($B$3=$AL$2,AL15,IF($B$3=$AM$2,AM15,IF($B$3=$AN$2,AN15,IF($B$3=$AO$2,AO15)))))) -> 1 | AJ15: 1 | AK15: 0 | AL15: 0 | AM15: 0 | AN15: 0 | AO15: 0 | AP15: KOM | AQ15: =INDEX(Hjelpefil!H17:M17,MATCH(BRUKERFLATE!$B$3,BRUKERFLATE!$AV$4:$AV$9,0)) -> Skole | AR15: =INDEX(Hjelpefil!N17:S17,MATCH(BRUKERFLATE!$B$3,BRUKERFLATE!$AV$4:$AV$9,0)) -> 0 | AW15: =IF($B$3=$AJ$2,AX15,IF($B$3=$AK$2,AY15,IF($B$3=$AL$2,AZ15,IF($B$3=$AM$2,BA15,IF($B$3=$AN$2,BB15,IF($B$3=$AO$2,BC15)))))) -> 0 | AX15: 0 | AY15: 0 | AZ15: 0 | BA15: 0 | BB15: 0 | BC15: 0
F16: =IFERROR(INDEX($AC$3:$AC$301,MATCH(ROW()-ROW($D$2),$AB$3:$AB$301,0)),"") -> Nasjonale prøver, snittkarakter 8. trinn | G16: =IF(F16="","",IF($A$3="FYL",INDEX($AR$3:$AR$269,MATCH(F16,$AC$3:$AC$269,0)),INDEX($AQ$3:$AQ$269,MATCH(F16,$AC$3:$AC$269,0)))) -> Skole | H16: {=IFERROR(INDEX($AD$3:$AD$301,MATCH(ROW()-ROW($D$2),$AB$3:$AB$301,0)),"")} -> UDIR, Skoleporten, https://skoleporten.udir.no/# | I16: {=IFERROR(INDEX($AE$3:$AE$301,MATCH(ROW()-ROW($D$2),$AB$3:$AB$301,0)),"")} -> 3_brukereffekt | J16: =IFERROR(IF(INDEX(Hjelpefil!T$5:T$268,MATCH(BRUKERFLATE!$F16,Hjelpefil!$B$5:$B$268,0))=0,"",INDEX(Hjelpefil!T$5:T$268,MATCH(BRUKERFLATE!$F16,Hjelpefil!$B$5:$B$268,0))),"") | K16: =IFERROR(IF(INDEX(Hjelpefil!U$5:U$268,MATCH(BRUKERFLATE!$F16,Hjelpefil!$B$5:$B$268,0))=0,"",INDEX(Hjelpefil!U$5:U$268,MATCH(BRUKERFLATE!$F16,Hjelpefil!$B$5:$B$268,0))),"") | L16: =IFERROR(IF(INDEX(Hjelpefil!V$5:V$268,MATCH(BRUKERFLATE!$F16,Hjelpefil!$B$5:$B$268,0))=0,"",INDEX(Hjelpefil!V$5:V$268,MATCH(BRUKERFLATE!$F16,Hjelpefil!$B$5:$B$268,0))),"") | M16: =IFERROR(IF(INDEX(Hjelpefil!W$5:W$268,MATCH(BRUKERFLATE!$F16,Hjelpefil!$B$5:$B$268,0))=0,"",INDEX(Hjelpefil!W$5:W$268,MATCH(BRUKERFLATE!$F16,Hjelpefil!$B$5:$B$268,0))),"") -> 4 | N16: =IFERROR(IF(INDEX(Hjelpefil!X$5:X$268,MATCH(BRUKERFLATE!$F16,Hjelpefil!$B$5:$B$268,0))=0,"",INDEX(Hjelpefil!X$5:X$268,MATCH(BRUKERFLATE!$F16,Hjelpefil!$B$5:$B$268,0))),"") | O16: =IFERROR(IF(INDEX(Hjelpefil!Y$5:Y$268,MATCH(BRUKERFLATE!$F16,Hjelpefil!$B$5:$B$268,0))=0,"",INDEX(Hjelpefil!Y$5:Y$268,MATCH(BRUKERFLATE!$F16,Hjelpefil!$B$5:$B$268,0))),"") | P16: =IFERROR(IF(INDEX(Hjelpefil!Z$5:Z$268,MATCH(BRUKERFLATE!$F16,Hjelpefil!$B$5:$B$268,0))=0,"",INDEX(Hjelpefil!Z$5:Z$268,MATCH(BRUKERFLATE!$F16,Hjelpefil!$B$5:$B$268,0))),"") | Q16: =IFERROR(IF(INDEX(Hjelpefil!AA$5:AA$268,MATCH(BRUKERFLATE!$F16,Hjelpefil!$B$5:$B$268,0))=0,"",INDEX(Hjelpefil!AA$5:AA$268,MATCH(BRUKERFLATE!$F16,Hjelpefil!$B$5:$B$268,0))),"") | ... Z16: =IFERROR(IF(INDEX(Hjelpefil!AJ$5:AJ$268,MATCH(BRUKERFLATE!$F16,Hjelpefil!$B$5:$B$268,0))=0,"",INDEX(Hjelpefil!AJ$5:AJ$268,MATCH(BRUKERFLATE!$F16,Hjelpefil!$B$5:$B$268,0))),"") | AB16: =IF(AC16="","",MAX($AB$2:AB15)+1) -> 14 | AC16: =IF($A$3="KOM",IF(AND($AI16=1,$AH16=1),Hjelpefil!B18,""),IF($A$3="FYL",IF(AND($AW16=1,$AH16=1),Hjelpefil!B18,""),"")) -> Nasjonale prøver, snittkarakter 8. trinn | AD16: =IF($A$3="KOM",IF(AND($AI16=1,$AH16=1),Hjelpefil!C18,""),IF($A$3="FYL",IF(AND($AW16=1,$AH16=1),Hjelpefil!C18,""),"")) -> UDIR, Skoleporten, https://skoleporten.udir.no/# | AE16: =IF($A$3="KOM",IF(AND($AI16=1,$AH16=1),Hjelpefil!F18,""),IF($A$3="FYL",IF(AND($AW16=1,$AH16=1),Hjelpefil!F18,""),"")) -> 3_brukereffekt | AF16: =IF(AND($AI16=1,$AH16=1),IF(AQ16="",AR16,AQ16),"") -> Skole | AH16: =IF(OR(AP16=$A$3,AP16="BEGGE"),1,0) -> 1 | AI16: =IF($B$3=$AJ$2,AJ16,IF($B$3=$AK$2,AK16,IF($B$3=$AL$2,AL16,IF($B$3=$AM$2,AM16,IF($B$3=$AN$2,AN16,IF($B$3=$AO$2,AO16)))))) -> 1 | AJ16: 1 | AK16: 0 | AL16: 0 | AM16: 0 | AN16: 0 | AO16: 0 | AP16: KOM | AQ16: =INDEX(Hjelpefil!H18:M18,MATCH(BRUKERFLATE!$B$3,BRUKERFLATE!$AV$4:$AV$9,0)) -> Skole | AR16: =INDEX(Hjelpefil!N18:S18,MATCH(BRUKERFLATE!$B$3,BRUKERFLATE!$AV$4:$AV$9,0)) -> 0 | AW16: =IF($B$3=$AJ$2,AX16,IF($B$3=$AK$2,AY16,IF($B$3=$AL$2,AZ16,IF($B$3=$AM$2,BA16,IF($B$3=$AN$2,BB16,IF($B$3=$AO$2,BC16)))))) -> 0 | AX16: 0 | AY16: 0 | AZ16: 0 | BA16: 0 | BB16: 0 | BC16: 0
F17: =IFERROR(INDEX($AC$3:$AC$301,MATCH(ROW()-ROW($D$2),$AB$3:$AB$301,0)),"") -> Trivsel, 7. trinn, indeks (1-5) | G17: =IF(F17="","",IF($A$3="FYL",INDEX($AR$3:$AR$269,MATCH(F17,$AC$3:$AC$269,0)),INDEX($AQ$3:$AQ$269,MATCH(F17,$AC$3:$AC$269,0)))) -> Skole | H17: {=IFERROR(INDEX($AD$3:$AD$301,MATCH(ROW()-ROW($D$2),$AB$3:$AB$301,0)),"")} -> UDIR, Skoleporten, https://skoleporten.udir.no/# | I17: {=IFERROR(INDEX($AE$3:$AE$301,MATCH(ROW()-ROW($D$2),$AB$3:$AB$301,0)),"")} -> 3_brukereffekt | J17: =IFERROR(IF(INDEX(Hjelpefil!T$5:T$268,MATCH(BRUKERFLATE!$F17,Hjelpefil!$B$5:$B$268,0))=0,"",INDEX(Hjelpefil!T$5:T$268,MATCH(BRUKERFLATE!$F17,Hjelpefil!$B$5:$B$268,0))),"") | K17: =IFERROR(IF(INDEX(Hjelpefil!U$5:U$268,MATCH(BRUKERFLATE!$F17,Hjelpefil!$B$5:$B$268,0))=0,"",INDEX(Hjelpefil!U$5:U$268,MATCH(BRUKERFLATE!$F17,Hjelpefil!$B$5:$B$268,0))),"") | L17: =IFERROR(IF(INDEX(Hjelpefil!V$5:V$268,MATCH(BRUKERFLATE!$F17,Hjelpefil!$B$5:$B$268,0))=0,"",INDEX(Hjelpefil!V$5:V$268,MATCH(BRUKERFLATE!$F17,Hjelpefil!$B$5:$B$268,0))),"") | M17: =IFERROR(IF(INDEX(Hjelpefil!W$5:W$268,MATCH(BRUKERFLATE!$F17,Hjelpefil!$B$5:$B$268,0))=0,"",INDEX(Hjelpefil!W$5:W$268,MATCH(BRUKERFLATE!$F17,Hjelpefil!$B$5:$B$268,0))),"") -> 4 | N17: =IFERROR(IF(INDEX(Hjelpefil!X$5:X$268,MATCH(BRUKERFLATE!$F17,Hjelpefil!$B$5:$B$268,0))=0,"",INDEX(Hjelpefil!X$5:X$268,MATCH(BRUKERFLATE!$F17,Hjelpefil!$B$5:$B$268,0))),"") | O17: =IFERROR(IF(INDEX(Hjelpefil!Y$5:Y$268,MATCH(BRUKERFLATE!$F17,Hjelpefil!$B$5:$B$268,0))=0,"",INDEX(Hjelpefil!Y$5:Y$268,MATCH(BRUKERFLATE!$F17,Hjelpefil!$B$5:$B$268,0))),"") | P17: =IFERROR(IF(INDEX(Hjelpefil!Z$5:Z$268,MATCH(BRUKERFLATE!$F17,Hjelpefil!$B$5:$B$268,0))=0,"",INDEX(Hjelpefil!Z$5:Z$268,MATCH(BRUKERFLATE!$F17,Hjelpefil!$B$5:$B$268,0))),"") | Q17: =IFERROR(IF(INDEX(Hjelpefil!AA$5:AA$268,MATCH(BRUKERFLATE!$F17,Hjelpefil!$B$5:$B$268,0))=0,"",INDEX(Hjelpefil!AA$5:AA$268,MATCH(BRUKERFLATE!$F17,Hjelpefil!$B$5:$B$268,0))),"") | ... Z17: =IFERROR(IF(INDEX(Hjelpefil!AJ$5:AJ$268,MATCH(BRUKERFLATE!$F17,Hjelpefil!$B$5:$B$268,0))=0,"",INDEX(Hjelpefil!AJ$5:AJ$268,MATCH(BRUKERFLATE!$F17,Hjelpefil!$B$5:$B$268,0))),"") | AB17: =IF(AC17="","",MAX($AB$2:AB16)+1) -> 15 | AC17: =IF($A$3="KOM",IF(AND($AI17=1,$AH17=1),Hjelpefil!B19,""),IF($A$3="FYL",IF(AND($AW17=1,$AH17=1),Hjelpefil!B19,""),"")) -> Trivsel, 7. trinn, indeks (1-5) | AD17: =IF($A$3="KOM",IF(AND($AI17=1,$AH17=1),Hjelpefil!C19,""),IF($A$3="FYL",IF(AND($AW17=1,$AH17=1),Hjelpefil!C19,""),"")) -> UDIR, Skoleporten, https://skoleporten.udir.no/# | AE17: =IF($A$3="KOM",IF(AND($AI17=1,$AH17=1),Hjelpefil!F19,""),IF($A$3="FYL",IF(AND($AW17=1,$AH17=1),Hjelpefil!F19,""),"")) -> 3_brukereffekt | AF17: =IF(AND($AI17=1,$AH17=1),IF(AQ17="",AR17,AQ17),"") -> Skole | AH17: =IF(OR(AP17=$A$3,AP17="BEGGE"),1,0) -> 1 | AI17: =IF($B$3=$AJ$2,AJ17,IF($B$3=$AK$2,AK17,IF($B$3=$AL$2,AL17,IF($B$3=$AM$2,AM17,IF($B$3=$AN$2,AN17,IF($B$3=$AO$2,AO17)))))) -> 1 | AJ17: 1 | AK17: 0 | AL17: 0 | AM17: 0 | AN17: 0 | AO17: 0 | AP17: KOM | AQ17: =INDEX(Hjelpefil!H19:M19,MATCH(BRUKERFLATE!$B$3,BRUKERFLATE!$AV$4:$AV$9,0)) -> Skole | AR17: =INDEX(Hjelpefil!N19:S19,MATCH(BRUKERFLATE!$B$3,BRUKERFLATE!$AV$4:$AV$9,0)) -> 0 | AW17: =IF($B$3=$AJ$2,AX17,IF($B$3=$AK$2,AY17,IF($B$3=$AL$2,AZ17,IF($B$3=$AM$2,BA17,IF($B$3=$AN$2,BB17,IF($B$3=$AO$2,BC17)))))) -> 0 | AX17: 0 | AY17: 0 | AZ17: 0 | BA17: 0 | BB17: 0 | BC17: 0
F18: =IFERROR(INDEX($AC$3:$AC$301,MATCH(ROW()-ROW($D$2),$AB$3:$AB$301,0)),"") -> Mobbing på skolen, 7. trinn, indeks (1-5) | G18: =IF(F18="","",IF($A$3="FYL",INDEX($AR$3:$AR$269,MATCH(F18,$AC$3:$AC$269,0)),INDEX($AQ$3:$AQ$269,MATCH(F18,$AC$3:$AC$269,0)))) -> Skole | H18: {=IFERROR(INDEX($AD$3:$AD$301,MATCH(ROW()-ROW($D$2),$AB$3:$AB$301,0)),"")} -> UDIR, Skoleporten, https://skoleporten.udir.no/# | I18: {=IFERROR(INDEX($AE$3:$AE$301,MATCH(ROW()-ROW($D$2),$AB$3:$AB$301,0)),"")} -> 3_brukereffekt | J18: =IFERROR(IF(INDEX(Hjelpefil!T$5:T$268,MATCH(BRUKERFLATE!$F18,Hjelpefil!$B$5:$B$268,0))=0,"",INDEX(Hjelpefil!T$5:T$268,MATCH(BRUKERFLATE!$F18,Hjelpefil!$B$5:$B$268,0))),"") | K18: =IFERROR(IF(INDEX(Hjelpefil!U$5:U$268,MATCH(BRUKERFLATE!$F18,Hjelpefil!$B$5:$B$268,0))=0,"",INDEX(Hjelpefil!U$5:U$268,MATCH(BRUKERFLATE!$F18,Hjelpefil!$B$5:$B$268,0))),"") | L18: =IFERROR(IF(INDEX(Hjelpefil!V$5:V$268,MATCH(BRUKERFLATE!$F18,Hjelpefil!$B$5:$B$268,0))=0,"",INDEX(Hjelpefil!V$5:V$268,MATCH(BRUKERFLATE!$F18,Hjelpefil!$B$5:$B$268,0))),"") | M18: =IFERROR(IF(INDEX(Hjelpefil!W$5:W$268,MATCH(BRUKERFLATE!$F18,Hjelpefil!$B$5:$B$268,0))=0,"",INDEX(Hjelpefil!W$5:W$268,MATCH(BRUKERFLATE!$F18,Hjelpefil!$B$5:$B$268,0))),"") -> 4 | N18: =IFERROR(IF(INDEX(Hjelpefil!X$5:X$268,MATCH(BRUKERFLATE!$F18,Hjelpefil!$B$5:$B$268,0))=0,"",INDEX(Hjelpefil!X$5:X$268,MATCH(BRUKERFLATE!$F18,Hjelpefil!$B$5:$B$268,0))),"") | O18: =IFERROR(IF(INDEX(Hjelpefil!Y$5:Y$268,MATCH(BRUKERFLATE!$F18,Hjelpefil!$B$5:$B$268,0))=0,"",INDEX(Hjelpefil!Y$5:Y$268,MATCH(BRUKERFLATE!$F18,Hjelpefil!$B$5:$B$268,0))),"") | P18: =IFERROR(IF(INDEX(Hjelpefil!Z$5:Z$268,MATCH(BRUKERFLATE!$F18,Hjelpefil!$B$5:$B$268,0))=0,"",INDEX(Hjelpefil!Z$5:Z$268,MATCH(BRUKERFLATE!$F18,Hjelpefil!$B$5:$B$268,0))),"") | Q18: =IFERROR(IF(INDEX(Hjelpefil!AA$5:AA$268,MATCH(BRUKERFLATE!$F18,Hjelpefil!$B$5:$B$268,0))=0,"",INDEX(Hjelpefil!AA$5:AA$268,MATCH(BRUKERFLATE!$F18,Hjelpefil!$B$5:$B$268,0))),"") | ... Z18: =IFERROR(IF(INDEX(Hjelpefil!AJ$5:AJ$268,MATCH(BRUKERFLATE!$F18,Hjelpefil!$B$5:$B$268,0))=0,"",INDEX(Hjelpefil!AJ$5:AJ$268,MATCH(BRUKERFLATE!$F18,Hjelpefil!$B$5:$B$268,0))),"") | AB18: =IF(AC18="","",MAX($AB$2:AB17)+1) -> 16 | AC18: =IF($A$3="KOM",IF(AND($AI18=1,$AH18=1),Hjelpefil!B20,""),IF($A$3="FYL",IF(AND($AW18=1,$AH18=1),Hjelpefil!B20,""),"")) -> Mobbing på skolen, 7. trinn, indeks (1-5) | AD18: =IF($A$3="KOM",IF(AND($AI18=1,$AH18=1),Hjelpefil!C20,""),IF($A$3="FYL",IF(AND($AW18=1,$AH18=1),Hjelpefil!C20,""),"")) -> UDIR, Skoleporten, https://skoleporten.udir.no/# | AE18: =IF($A$3="KOM",IF(AND($AI18=1,$AH18=1),Hjelpefil!F20,""),IF($A$3="FYL",IF(AND($AW18=1,$AH18=1),Hjelpefil!F20,""),"")) -> 3_brukereffekt | AF18: =IF(AND($AI18=1,$AH18=1),IF(AQ18="",AR18,AQ18),"") -> Skole | AH18: =IF(OR(AP18=$A$3,AP18="BEGGE"),1,0) -> 1 | AI18: =IF($B$3=$AJ$2,AJ18,IF($B$3=$AK$2,AK18,IF($B$3=$AL$2,AL18,IF($B$3=$AM$2,AM18,IF($B$3=$AN$2,AN18,IF($B$3=$AO$2,AO18)))))) -> 1 | AJ18: 1 | AK18: 0 | AL18: 0 | AM18: 0 | AN18: 0 | AO18: 0 | AP18: KOM | AQ18: =INDEX(Hjelpefil!H20:M20,MATCH(BRUKERFLATE!$B$3,BRUKERFLATE!$AV$4:$AV$9,0)) -> Skole | AR18: =INDEX(Hjelpefil!N20:S20,MATCH(BRUKERFLATE!$B$3,BRUKERFLATE!$AV$4:$AV$9,0)) -> 0 | AW18: =IF($B$3=$AJ$2,AX18,IF($B$3=$AK$2,AY18,IF($B$3=$AL$2,AZ18,IF($B$3=$AM$2,BA18,IF($B$3=$AN$2,BB18,IF($B$3=$AO$2,BC18)))))) -> 0 | AX18: 0 | AY18: 0 | AZ18: 0 | BA18: 0 | BB18: 0 | BC18: 0
F19: =IFERROR(INDEX($AC$3:$AC$301,MATCH(ROW()-ROW($D$2),$AB$3:$AB$301,0)),"") -> Læringsmiljø: Elevdemokrati og medvirkning, 7. trinn, indeks (1-5) | G19: =IF(F19="","",IF($A$3="FYL",INDEX($AR$3:$AR$269,MATCH(F19,$AC$3:$AC$269,0)),INDEX($AQ$3:$AQ$269,MATCH(F19,$AC$3:$AC$269,0)))) -> Skole | H19: {=IFERROR(INDEX($AD$3:$AD$301,MATCH(ROW()-ROW($D$2),$AB$3:$AB$301,0)),"")} -> UDIR, Skoleporten, https://skoleporten.udir.no/# | I19: {=IFERROR(INDEX($AE$3:$AE$301,MATCH(ROW()-ROW($D$2),$AB$3:$AB$301,0)),"")} -> 3_brukereffekt | J19: =IFERROR(IF(INDEX(Hjelpefil!T$5:T$268,MATCH(BRUKERFLATE!$F19,Hjelpefil!$B$5:$B$268,0))=0,"",INDEX(Hjelpefil!T$5:T$268,MATCH(BRUKERFLATE!$F19,Hjelpefil!$B$5:$B$268,0))),"") | K19: =IFERROR(IF(INDEX(Hjelpefil!U$5:U$268,MATCH(BRUKERFLATE!$F19,Hjelpefil!$B$5:$B$268,0))=0,"",INDEX(Hjelpefil!U$5:U$268,MATCH(BRUKERFLATE!$F19,Hjelpefil!$B$5:$B$268,0))),"") | L19: =IFERROR(IF(INDEX(Hjelpefil!V$5:V$268,MATCH(BRUKERFLATE!$F19,Hjelpefil!$B$5:$B$268,0))=0,"",INDEX(Hjelpefil!V$5:V$268,MATCH(BRUKERFLATE!$F19,Hjelpefil!$B$5:$B$268,0))),"") | M19: =IFERROR(IF(INDEX(Hjelpefil!W$5:W$268,MATCH(BRUKERFLATE!$F19,Hjelpefil!$B$5:$B$268,0))=0,"",INDEX(Hjelpefil!W$5:W$268,MATCH(BRUKERFLATE!$F19,Hjelpefil!$B$5:$B$268,0))),"") -> 4 | N19: =IFERROR(IF(INDEX(Hjelpefil!X$5:X$268,MATCH(BRUKERFLATE!$F19,Hjelpefil!$B$5:$B$268,0))=0,"",INDEX(Hjelpefil!X$5:X$268,MATCH(BRUKERFLATE!$F19,Hjelpefil!$B$5:$B$268,0))),"") | O19: =IFERROR(IF(INDEX(Hjelpefil!Y$5:Y$268,MATCH(BRUKERFLATE!$F19,Hjelpefil!$B$5:$B$268,0))=0,"",INDEX(Hjelpefil!Y$5:Y$268,MATCH(BRUKERFLATE!$F19,Hjelpefil!$B$5:$B$268,0))),"") | P19: =IFERROR(IF(INDEX(Hjelpefil!Z$5:Z$268,MATCH(BRUKERFLATE!$F19,Hjelpefil!$B$5:$B$268,0))=0,"",INDEX(Hjelpefil!Z$5:Z$268,MATCH(BRUKERFLATE!$F19,Hjelpefil!$B$5:$B$268,0))),"") | Q19: =IFERROR(IF(INDEX(Hjelpefil!AA$5:AA$268,MATCH(BRUKERFLATE!$F19,Hjelpefil!$B$5:$B$268,0))=0,"",INDEX(Hjelpefil!AA$5:AA$268,MATCH(BRUKERFLATE!$F19,Hjelpefil!$B$5:$B$268,0))),"") | ... Z19: =IFERROR(IF(INDEX(Hjelpefil!AJ$5:AJ$268,MATCH(BRUKERFLATE!$F19,Hjelpefil!$B$5:$B$268,0))=0,"",INDEX(Hjelpefil!AJ$5:AJ$268,MATCH(BRUKERFLATE!$F19,Hjelpefil!$B$5:$B$268,0))),"") | AB19: =IF(AC19="","",MAX($AB$2:AB18)+1) -> 17 | AC19: =IF($A$3="KOM",IF(AND($AI19=1,$AH19=1),Hjelpefil!B21,""),IF($A$3="FYL",IF(AND($AW19=1,$AH19=1),Hjelpefil!B21,""),"")) -> Læringsmiljø: Elevdemokrati og medvirkning, 7. trinn, indeks (1-5) | AD19: =IF($A$3="KOM",IF(AND($AI19=1,$AH19=1),Hjelpefil!C21,""),IF($A$3="FYL",IF(AND($AW19=1,$AH19=1),Hjelpefil!C21,""),"")) -> UDIR, Skoleporten, https://skoleporten.udir.no/# | AE19: =IF($A$3="KOM",IF(AND($AI19=1,$AH19=1),Hjelpefil!F21,""),IF($A$3="FYL",IF(AND($AW19=1,$AH19=1),Hjelpefil!F21,""),"")) -> 3_brukereffekt | AF19: =IF(AND($AI19=1,$AH19=1),IF(AQ19="",AR19,AQ19),"") -> Skole | AH19: =IF(OR(AP19=$A$3,AP19="BEGGE"),1,0) -> 1 | AI19: =IF($B$3=$AJ$2,AJ19,IF($B$3=$AK$2,AK19,IF($B$3=$AL$2,AL19,IF($B$3=$AM$2,AM19,IF($B$3=$AN$2,AN19,IF($B$3=$AO$2,AO19)))))) -> 1 | AJ19: 1 | AK19: 0 | AL19: 0 | AM19: 0 | AN19: 0 | AO19: 0 | AP19: KOM | AQ19: =INDEX(Hjelpefil!H21:M21,MATCH(BRUKERFLATE!$B$3,BRUKERFLATE!$AV$4:$AV$9,0)) -> Skole | AR19: =INDEX(Hjelpefil!N21:S21,MATCH(BRUKERFLATE!$B$3,BRUKERFLATE!$AV$4:$AV$9,0)) -> 0 | AW19: =IF($B$3=$AJ$2,AX19,IF($B$3=$AK$2,AY19,IF($B$3=$AL$2,AZ19,IF($B$3=$AM$2,BA19,IF($B$3=$AN$2,BB19,IF($B$3=$AO$2,BC19)))))) -> 0 | AX19: 0 | AY19: 0 | AZ19: 0 | BA19: 0 | BB19: 0 | BC19: 0
