Workbook
Name _Hlk523383465: Hjelpefil!$A$43
Name _Hlk523821884: Hjelpefil!#REF!
Name _Hlk527995710: Hjelpefil!$A$80
Name _Hlk528048213: Hjelpefil!$A$212
Name _Hlk528060147: Hjelpefil!$A$173
Name _Hlk528060724: Hjelpefil!$A$178
Name _Ref523725712: Hjelpefil!$A$137
Name _Ref523905640: Hjelpefil!$A$104
Name _Ref527029968: Hjelpefil!$A$53
Name _Ref528084612: Hjelpefil!#REF!
Name _Toc528100731: Hjelpefil!$A$8
Name _Toc528100732: Hjelpefil!#REF!
Name _Toc528100733: Hjelpefil!#REF!
Name _Toc528100734: Hjelpefil!#REF!
Name _Toc528100736: Hjelpefil!$A$61
Name _Toc528100738: Hjelpefil!$A$99
Name _Toc528100739: Hjelpefil!$A$124
Name _Toc528100740: Hjelpefil!$A$125
Name _Toc528100742: Hjelpefil!$A$152
Name _Toc528100743: Hjelpefil!$A$163
Name _Toc528100744: Hjelpefil!$A$175
Name _Toc528100745: Hjelpefil!$A$176
Name _Toc528100746: Hjelpefil!$A$185
Name _Toc528100748: Hjelpefil!$A$192
Name _Toc528100749: Hjelpefil!$A$193
Name _Toc528100750: Hjelpefil!$A$209
Name _Toc528100751: Hjelpefil!$A$219
Name _Toc528100752: Hjelpefil!#REF!
Name _Toc528100753: Hjelpefil!#REF!
Name _Toc528100754: Hjelpefil!#REF!
Name _Toc528100755: Hjelpefil!#REF!
Name _Toc528100756: Hjelpefil!#REF!
Name _Toc528100757: Hjelpefil!#REF!
Name _Toc528100758: Hjelpefil!#REF!
Name _Toc528100759: Hjelpefil!#REF!
Name _Toc528100760: Hjelpefil!#REF!
Name _Toc528100761: Hjelpefil!#REF!
Name _Toc528100762: Hjelpefil!#REF!
Name _Toc528100763: Hjelpefil!#REF!

Sheet BRUKERFLATE
A1: Velg her | J1: FNs delmål
A2: Kommune/Fylke | B2: Gevinstområde | C2: I dette arket velges indikatorer etter kommune/fylke og gevinstområde | F2: Indikator | G2: Underkategori | H2: Kilde | I2: Indikator-nivå | J2: FN1 | K2: FN2 | L2: FN3 | M2: FN4 | N2: FN5 | O2: FN6 | P2: FN7 | Q2: FN8 | R2: FN9 | S2: FN10 | T2: FN11 | U2: FN12 | V2: FN13 | W2: FN14 | X2: FN15 | Y2: FN16 | Z2: FN17 | AC2: Indikator_hjelpe | AD2: Kilde_hjelpe | AE2: Indikator-nivå_hjelpe | AG2: Hjelpeceller | AH2: Henteindikator_kom/f | AI2: Henteindikator | AJ2: Tjenester | AK2: Demokrati og medvirkning | AL2: Samfunnsutvikling | AM2: Økonomi | AN2: Arbeidsgiver | AO2: Innovasjon og digitalisering | AP2: K/F | AQ2: KOM_under | AR2: FYL_under | AW2: Henteindikator_fra fylker | AX2: Tjenester | AY2: Demokrati og medvirkning | AZ2: Samfunnsutvikling | BA2: Økonomi | BB2: Arbeidsgiver | BC2: Innovasjon og digitalisering | BF2: FYL
A3: KOM | B3: Tjenester | F3: =IFERROR(INDEX($AC$3:$AC$301,MATCH(ROW()-ROW($D$2),$AB$3:$AB$301,0)),"") -> Produksjonsindeksen fra Teknisk beregningsutvalg, KMD/TBU | G3: =IF(F3="","",IF($A$3="FYL",INDEX($AR$3:$AR$269,MATCH(F3,$AC$3:$AC$269,0)),INDEX($AQ$3:$AQ$269,MATCH(F3,$AC$3:$AC$269,0)))) -> Administrasjon, tekniske tjenester, samferdsel | H3: {=IFERROR(INDEX($AD$3:$AD$301,MATCH(ROW()-ROW($D$2),$AB$3:$AB$301,0)),"")} -> https://www.regjeringen.no/no/tema/kommuner-og-regioner/kommunedata/produksjonsindeks2/id2507960/ | I3: {=IFERROR(INDEX($AE$3:$AE$301,MATCH(ROW()-ROW($D$2),$AB$3:$AB$301,0)),"")} -> 4_samfunnseffekt | J3: =IFERROR(IF(INDEX(Hjelpefil!T$5:T$268,MATCH(BRUKERFLATE!$F3,Hjelpefil!$B$5:$B$268,0))=0,"",INDEX(Hjelpefil!T$5:T$268,MATCH(BRUKERFLATE!$F3,Hjelpefil!$B$5:$B$268,0))),"") | K3: =IFERROR(IF(INDEX(Hjelpefil!U$5:U$268,MATCH(BRUKERFLATE!$F3,Hjelpefil!$B$5:$B$268,0))=0,"",INDEX(Hjelpefil!U$5:U$268,MATCH(BRUKERFLATE!$F3,Hjelpefil!$B$5:$B$268,0))),"") | L3: =IFERROR(IF(INDEX(Hjelpefil!V$5:V$268,MATCH(BRUKERFLATE!$F3,Hjelpefil!$B$5:$B$268,0))=0,"",INDEX(Hjelpefil!V$5:V$268,MATCH(BRUKERFLATE!$F3,Hjelpefil!$B$5:$B$268,0))),"") | M3: =IFERROR(IF(INDEX(Hjelpefil!W$5:W$268,MATCH(BRUKERFLATE!$F3,Hjelpefil!$B$5:$B$268,0))=0,"",INDEX(Hjelpefil!W$5:W$268,MATCH(BRUKERFLATE!$F3,Hjelpefil!$B$5:$B$268,0))),"") | N3: =IFERROR(IF(INDEX(Hjelpefil!X$5:X$268,MATCH(BRUKERFLATE!$F3,Hjelpefil!$B$5:$B$268,0))=0,"",INDEX(Hjelpefil!X$5:X$268,MATCH(BRUKERFLATE!$F3,Hjelpefil!$B$5:$B$268,0))),"") | O3: =IFERROR(IF(INDEX(Hjelpefil!Y$5:Y$268,MATCH(BRUKERFLATE!$F3,Hjelpefil!$B$5:$B$268,0))=0,"",INDEX(Hjelpefil!Y$5:Y$268,MATCH(BRUKERFLATE!$F3,Hjelpefil!$B$5:$B$268,0))),"") | P3: =IFERROR(IF(INDEX(Hjelpefil!Z$5:Z$268,MATCH(BRUKERFLATE!$F3,Hjelpefil!$B$5:$B$268,0))=0,"",INDEX(Hjelpefil!Z$5:Z$268,MATCH(BRUKERFLATE!$F3,Hjelpefil!$B$5:$B$268,0))),"") | Q3: =IFERROR(IF(INDEX(Hjelpefil!AA$5:AA$268,MATCH(BRUKERFLATE!$F3,Hjelpefil!$B$5:$B$268,0))=0,"",INDEX(Hjelpefil!AA$5:AA$268,MATCH(BRUKERFLATE!$F3,Hjelpefil!$B$5:$B$268,0))),"") | ... Z3: =IFERROR(IF(INDEX(Hjelpefil!AJ$5:AJ$268,MATCH(BRUKERFLATE!$F3,Hjelpefil!$B$5:$B$268,0))=0,"",INDEX(Hjelpefil!AJ$5:AJ$268,MATCH(BRUKERFLATE!$F3,Hjelpefil!$B$5:$B$268,0))),"") | AB3: =IF(AC3="","",MAX($AB$2:AB2)+1) -> 1 | AC3: =IF($A$3="KOM",IF(AND($AI3=1,$AH3=1),Hjelpefil!B5,""),IF($A$3="FYL",IF(AND($AW3=1,$AH3=1),Hjelpefil!B5,""),"")) -> Produksjonsindeksen fra Teknisk beregningsutvalg, KMD/TBU | AD3: =IF($A$3="KOM",IF(AND($AI3=1,$AH3=1),Hjelpefil!C5,""),IF($A$3="FYL",IF(AND($AW3=1,$AH3=1),Hjelpefil!C5,""),"")) -> https://www.regjeringen.no/no/tema/kommuner-og-regioner/kommunedata/produksjonsindeks2/id2507960/ | AE3: =IF($A$3="KOM",IF(AND($AI3=1,$AH3=1),Hjelpefil!F5,""),IF($A$3="FYL",IF(AND($AW3=1,$AH3=1),Hjelpefil!F5,""),"")) -> 4_samfunnseffekt | AF3: =IF(AND($AI3=1,$AH3=1),IF(AQ3="",AR3,AQ3),"") -> Administrasjon, tekniske tjenester, samferdsel | AH3: =IF(OR(AP3=$A$3,AP3="BEGGE"),1,0) -> 1 | AI3: =IF($B$3=$AJ$2,AJ3,IF($B$3=$AK$2,AK3,IF($B$3=$AL$2,AL3,IF($B$3=$AM$2,AM3,IF($B$3=$AN$2,AN3,IF($B$3=$AO$2,AO3)))))) -> 1 | AJ3: 1 | AK3: 0 | AL3: 0 | AM3: 0 | AN3: 0 | AO3: 0 | AP3: KOM | AQ3: =INDEX(Hjelpefil!H5:M5,MATCH(BRUKERFLATE!$B$3,BRUKERFLATE!$AV$4:$AV$9,0)) -> Administrasjon, tekniske tjenester, samferdsel | AR3: =INDEX(Hjelpefil!N5:S5,MATCH(BRUKERFLATE!$B$3,BRUKERFLATE!$AV$4:$AV$9,0)) -> 0 | AW3: =IF($B$3=$AJ$2,AX3,IF($B$3=$AK$2,AY3,IF($B$3=$AL$2,AZ3,IF($B$3=$AM$2,BA3,IF($B$3=$AN$2,BB3,IF($B$3=$AO$2,BC3)))))) -> 0 | AX3: 0 | AY3: 0 | AZ3: 0 | BA3: 0 | BB3: 0 | BC3: 0 | BF3: KOM
F4: =IFERROR(INDEX($AC$3:$AC$301,MATCH(ROW()-ROW($D$2),$AB$3:$AB$301,0)),"") -> Responstid ved henvendelser til kommunen på ulike tjenesteområder | G4: =IF(F4="","",IF($A$3="FYL",INDEX($AR$3:$AR$269,MATCH(F4,$AC$3:$AC$269,0)),INDEX($AQ$3:$AQ$269,MATCH(F4,$AC$3:$AC$269,0)))) -> Administrasjon, tekniske tjenester, samferdsel | H4: {=IFERROR(INDEX($AD$3:$AD$301,MATCH(ROW()-ROW($D$2),$AB$3:$AB$301,0)),"")} -> Egen innhenting i kommunen | I4: {=IFERROR(INDEX($AE$3:$AE$301,MATCH(ROW()-ROW($D$2),$AB$3:$AB$301,0)),"")} -> 3_brukereffekt | J4: =IFERROR(IF(INDEX(Hjelpefil!T$5:T$268,MATCH(BRUKERFLATE!$F4,Hjelpefil!$B$5:$B$268,0))=0,"",INDEX(Hjelpefil!T$5:T$268,MATCH(BRUKERFLATE!$F4,Hjelpefil!$B$5:$B$268,0))),"") | K4: =IFERROR(IF(INDEX(Hjelpefil!U$5:U$268,MATCH(BRUKERFLATE!$F4,Hjelpefil!$B$5:$B$268,0))=0,"",INDEX(Hjelpefil!U$5:U$268,MATCH(BRUKERFLATE!$F4,Hjelpefil!$B$5:$B$268,0))),"") | L4: =IFERROR(IF(INDEX(Hjelpefil!V$5:V$268,MATCH(BRUKERFLATE!$F4,Hjelpefil!$B$5:$B$268,0))=0,"",INDEX(Hjelpefil!V$5:V$268,MATCH(BRUKERFLATE!$F4,Hjelpefil!$B$5:$B$268,0))),"") | M4: =IFERROR(IF(INDEX(Hjelpefil!W$5:W$268,MATCH(BRUKERFLATE!$F4,Hjelpefil!$B$5:$B$268,0))=0,"",INDEX(Hjelpefil!W$5:W$268,MATCH(BRUKERFLATE!$F4,Hjelpefil!$B$5:$B$268,0))),"") | N4: =IFERROR(IF(INDEX(Hjelpefil!X$5:X$268,MATCH(BRUKERFLATE!$F4,Hjelpefil!$B$5:$B$268,0))=0,"",INDEX(Hjelpefil!X$5:X$268,MATCH(BRUKERFLATE!$F4,Hjelpefil!$B$5:$B$268,0))),"") | O4: =IFERROR(IF(INDEX(Hjelpefil!Y$5:Y$268,MATCH(BRUKERFLATE!$F4,Hjelpefil!$B$5:$B$268,0))=0,"",INDEX(Hjelpefil!Y$5:Y$268,MATCH(BRUKERFLATE!$F4,Hjelpefil!$B$5:$B$268,0))),"") | P4: =IFERROR(IF(INDEX(Hjelpefil!Z$5:Z$268,MATCH(BRUKERFLATE!$F4,Hjelpefil!$B$5:$B$268,0))=0,"",INDEX(Hjelpefil!Z$5:Z$268,MATCH(BRUKERFLATE!$F4,Hjelpefil!$B$5:$B$268,0))),"") | Q4: =IFERROR(IF(INDEX(Hjelpefil!AA$5:AA$268,MATCH(BRUKERFLATE!$F4,Hjelpefil!$B$5:$B$268,0))=0,"",INDEX(Hjelpefil!AA$5:AA$268,MATCH(BRUKERFLATE!$F4,Hjelpefil!$B$5:$B$268,0))),"") | ... Z4: =IFERROR(IF(INDEX(Hjelpefil!AJ$5:AJ$268,MATCH(BRUKERFLATE!$F4,Hjelpefil!$B$5:$B$268,0))=0,"",INDEX(Hjelpefil!AJ$5:AJ$268,MATCH(BRUKERFLATE!$F4,Hjelpefil!$B$5:$B$268,0))),"") | AB4: =IF(AC4="","",MAX($AB$2:AB3)+1) -> 2 | AC4: =IF($A$3="KOM",IF(AND($AI4=1,$AH4=1),Hjelpefil!B6,""),IF($A$3="FYL",IF(AND($AW4=1,$AH4=1),Hjelpefil!B6,""),"")) -> Responstid ved henvendelser til kommunen på ulike tjenesteområder | AD4: =IF($A$3="KOM",IF(AND($AI4=1,$AH4=1),Hjelpefil!C6,""),IF($A$3="FYL",IF(AND($AW4=1,$AH4=1),Hjelpefil!C6,""),"")) -> Egen innhenting i kommunen | AE4: =IF($A$3="KOM",IF(AND($AI4=1,$AH4=1),Hjelpefil!F6,""),IF($A$3="FYL",IF(AND($AW4=1,$AH4=1),Hjelpefil!F6,""),"")) -> 3_brukereffekt | AF4: =IF(AND($AI4=1,$AH4=1),IF(AQ4="",AR4,AQ4),"") -> Administrasjon, tekniske tjenester, samferdsel | AH4: =IF(OR(AP4=$A$3,AP4="BEGGE"),1,0) -> 1 | AI4: =IF($B$3=$AJ$2,AJ4,IF($B$3=$AK$2,AK4,IF($B$3=$AL$2,AL4,IF($B$3=$AM$2,AM4,IF($B$3=$AN$2,AN4,IF($B$3=$AO$2,AO4)))))) -> 1 | AJ4: 1 | AK4: 0 | AL4: 0 | AM4: 0 | AN4: 0 | AO4: 0 | AP4: KOM | AQ4: =INDEX(Hjelpefil!H6:M6,MATCH(BRUKERFLATE!$B$3,BRUKERFLATE!$AV$4:$AV$9,0)) -> Administrasjon, tekniske tjenester, samferdsel | AR4: =INDEX(Hjelpefil!N6:S6,MATCH(BRUKERFLATE!$B$3,BRUKERFLATE!$AV$4:$AV$9,0)) -> 0 | AV4: Tjenester | AW4: =IF($B$3=$AJ$2,AX4,IF($B$3=$AK$2,AY4,IF($B$3=$AL$2,AZ4,IF($B$3=$AM$2,BA4,IF($B$3=$AN$2,BB4,IF($B$3=$AO$2,BC4)))))) -> 0 | AX4: 0 | AY4: 0 | AZ4: 0 | BA4: 0 | BB4: 0 | BC4: 0
F5: =IFERROR(INDEX($AC$3:$AC$301,MATCH(ROW()-ROW($D$2),$AB$3:$AB$301,0)),"") -> Andel barnehagelærere i forhold til grunnbemanning, prosent | G5: =IF(F5="","",IF($A$3="FYL",INDEX($AR$3:$AR$269,MATCH(F5,$AC$3:$AC$269,0)),INDEX($AQ$3:$AQ$269,MATCH(F5,$AC$3:$AC$269,0)))) -> Barnehage | H5: {=IFERROR(INDEX($AD$3:$AD$301,MATCH(ROW()-ROW($D$2),$AB$3:$AB$301,0)),"")} -> SSB, tabell 12562 | I5: {=IFERROR(INDEX($AE$3:$AE$301,MATCH(ROW()-ROW($D$2),$AB$3:$AB$301,0)),"")} -> 2_prod/teneste | J5: =IFERROR(IF(INDEX(Hjelpefil!T$5:T$268,MATCH(BRUKERFLATE!$F5,Hjelpefil!$B$5:$B$268,0))=0,"",INDEX(Hjelpefil!T$5:T$268,MATCH(BRUKERFLATE!$F5,Hjelpefil!$B$5:$B$268,0))),"") | K5: =IFERROR(IF(INDEX(Hjelpefil!U$5:U$268,MATCH(BRUKERFLATE!$F5,Hjelpefil!$B$5:$B$268,0))=0,"",INDEX(Hjelpefil!U$5:U$268,MATCH(BRUKERFLATE!$F5,Hjelpefil!$B$5:$B$268,0))),"") | L5: =IFERROR(IF(INDEX(Hjelpefil!V$5:V$268,MATCH(BRUKERFLATE!$F5,Hjelpefil!$B$5:$B$268,0))=0,"",INDEX(Hjelpefil!V$5:V$268,MATCH(BRUKERFLATE!$F5,Hjelpefil!$B$5:$B$268,0))),"") | M5: =IFERROR(IF(INDEX(Hjelpefil!W$5:W$268,MATCH(BRUKERFLATE!$F5,Hjelpefil!$B$5:$B$268,0))=0,"",INDEX(Hjelpefil!W$5:W$268,MATCH(BRUKERFLATE!$F5,Hjelpefil!$B$5:$B$268,0))),"") -> 4.c | N5: =IFERROR(IF(INDEX(Hjelpefil!X$5:X$268,MATCH(BRUKERFLATE!$F5,Hjelpefil!$B$5:$B$268,0))=0,"",INDEX(Hjelpefil!X$5:X$268,MATCH(BRUKERFLATE!$F5,Hjelpefil!$B$5:$B$268,0))),"") | O5: =IFERROR(IF(INDEX(Hjelpefil!Y$5:Y$268,MATCH(BRUKERFLATE!$F5,Hjelpefil!$B$5:$B$268,0))=0,"",INDEX(Hjelpefil!Y$5:Y$268,MATCH(BRUKERFLATE!$F5,Hjelpefil!$B$5:$B$268,0))),"") | P5: =IFERROR(IF(INDEX(Hjelpefil!Z$5:Z$268,MATCH(BRUKERFLATE!$F5,Hjelpefil!$B$5:$B$268,0))=0,"",INDEX(Hjelpefil!Z$5:Z$268,MATCH(BRUKERFLATE!$F5,Hjelpefil!$B$5:$B$268,0))),"") | Q5: =IFERROR(IF(INDEX(Hjelpefil!AA$5:AA$268,MATCH(BRUKERFLATE!$F5,Hjelpefil!$B$5:$B$268,0))=0,"",INDEX(Hjelpefil!AA$5:AA$268,MATCH(BRUKERFLATE!$F5,Hjelpefil!$B$5:$B$268,0))),"") | ... Z5: =IFERROR(IF(INDEX(Hjelpefil!AJ$5:AJ$268,MATCH(BRUKERFLATE!$F5,Hjelpefil!$B$5:$B$268,0))=0,"",INDEX(Hjelpefil!AJ$5:AJ$268,MATCH(BRUKERFLATE!$F5,Hjelpefil!$B$5:$B$268,0))),"") | AB5: =IF(AC5="","",MAX($AB$2:AB4)+1) -> 3 | AC5: =IF($A$3="KOM",IF(AND($AI5=1,$AH5=1),Hjelpefil!B7,""),IF($A$3="FYL",IF(AND($AW5=1,$AH5=1),Hjelpefil!B7,""),"")) -> Andel barnehagelærere i forhold til grunnbemanning, prosent | AD5: =IF($A$3="KOM",IF(AND($AI5=1,$AH5=1),Hjelpefil!C7,""),IF($A$3="FYL",IF(AND($AW5=1,$AH5=1),Hjelpefil!C7,""),"")) -> SSB, tabell 12562 | AE5: =IF($A$3="KOM",IF(AND($AI5=1,$AH5=1),Hjelpefil!F7,""),IF($A$3="FYL",IF(AND($AW5=1,$AH5=1),Hjelpefil!F7,""),"")) -> 2_prod/teneste | AF5: =IF(AND($AI5=1,$AH5=1),IF(AQ5="",AR5,AQ5),"") -> Barnehage | AH5: =IF(OR(AP5=$A$3,AP5="BEGGE"),1,0) -> 1 | AI5: =IF($B$3=$AJ$2,AJ5,IF($B$3=$AK$2,AK5,IF($B$3=$AL$2,AL5,IF($B$3=$AM$2,AM5,IF($B$3=$AN$2,AN5,IF($B$3=$AO$2,AO5)))))) -> 1 | AJ5: 1 | AK5: 0 | AL5: 0 | AM5: 0 | AN5: 0 | AO5: 0 | AP5: KOM | AQ5: =INDEX(Hjelpefil!H7:M7,MATCH(BRUKERFLATE!$B$3,BRUKERFLATE!$AV$4:$AV$9,0)) -> Barnehage | AR5: =INDEX(Hjelpefil!N7:S7,MATCH(BRUKERFLATE!$B$3,BRUKERFLATE!$AV$4:$AV$9,0)) -> 0 | AV5: Demokrati og medvirkning | AW5: =IF($B$3=$AJ$2,AX5,IF($B$3=$AK$2,AY5,IF($B$3=$AL$2,AZ5,IF($B$3=$AM$2,BA5,IF($B$3=$AN$2,BB5,IF($B$3=$AO$2,BC5)))))) -> 0 | AX5: 0 | AY5: 0 | AZ5: 0 | BA5: 0 | BB5: 0 | BC5: 0
F6: =IFERROR(INDEX($AC$3:$AC$301,MATCH(ROW()-ROW($D$2),$AB$3:$AB$301,0)),"") -> Korrigerte brutto driftsutgifter per korrigerte oppholdstime i kommunal barnehage, kroner | G6: =IF(F6="","",IF($A$3="FYL",INDEX($AR$3:$AR$269,MATCH(F6,$AC$3:$AC$269,0)),INDEX($AQ$3:$AQ$269,MATCH(F6,$AC$3:$AC$269,0)))) -> Barnehage | H6: {=IFERROR(INDEX($AD$3:$AD$301,MATCH(ROW()-ROW($D$2),$AB$3:$AB$301,0)),"")} -> SSB, tabell 12562 | I6: {=IFERROR(INDEX($AE$3:$AE$301,MATCH(ROW()-ROW($D$2),$AB$3:$AB$301,0)),"")} -> 1_innsatsfaktor | J6: =IFERROR(IF(INDEX(Hjelpefil!T$5:T$268,MATCH(BRUKERFLATE!$F6,Hjelpefil!$B$5:$B$268,0))=0,"",INDEX(Hjelpefil!T$5:T$268,MATCH(BRUKERFLATE!$F6,Hjelpefil!$B$5:$B$268,0))),"") | K6: =IFERROR(IF(INDEX(Hjelpefil!U$5:U$268,MATCH(BRUKERFLATE!$F6,Hjelpefil!$B$5:$B$268,0))=0,"",INDEX(Hjelpefil!U$5:U$268,MATCH(BRUKERFLATE!$F6,Hjelpefil!$B$5:$B$268,0))),"") | L6: =IFERROR(IF(INDEX(Hjelpefil!V$5:V$268,MATCH(BRUKERFLATE!$F6,Hjelpefil!$B$5:$B$268,0))=0,"",INDEX(Hjelpefil!V$5:V$268,MATCH(BRUKERFLATE!$F6,Hjelpefil!$B$5:$B$268,0))),"") | M6: =IFERROR(IF(INDEX(Hjelpefil!W$5:W$268,MATCH(BRUKERFLATE!$F6,Hjelpefil!$B$5:$B$268,0))=0,"",INDEX(Hjelpefil!W$5:W$268,MATCH(BRUKERFLATE!$F6,Hjelpefil!$B$5:$B$268,0))),"") -> 4.2 | N6: =IFERROR(IF(INDEX(Hjelpefil!X$5:X$268,MATCH(BRUKERFLATE!$F6,Hjelpefil!$B$5:$B$268,0))=0,"",INDEX(Hjelpefil!X$5:X$268,MATCH(BRUKERFLATE!$F6,Hjelpefil!$B$5:$B$268,0))),"") | O6: =IFERROR(IF(INDEX(Hjelpefil!Y$5:Y$268,MATCH(BRUKERFLATE!$F6,Hjelpefil!$B$5:$B$268,0))=0,"",INDEX(Hjelpefil!Y$5:Y$268,MATCH(BRUKERFLATE!$F6,Hjelpefil!$B$5:$B$268,0))),"") | P6: =IFERROR(IF(INDEX(Hjelpefil!Z$5:Z$268,MATCH(BRUKERFLATE!$F6,Hjelpefil!$B$5:$B$268,0))=0,"",INDEX(Hjelpefil!Z$5:Z$268,MATCH(BRUKERFLATE!$F6,Hjelpefil!$B$5:$B$268,0))),"") | Q6: =IFERROR(IF(INDEX(Hjelpefil!AA$5:AA$268,MATCH(BRUKERFLATE!$F6,Hjelpefil!$B$5:$B$268,0))=0,"",INDEX(Hjelpefil!AA$5:AA$268,MATCH(BRUKERFLATE!$F6,Hjelpefil!$B$5:$B$268,0))),"") | ... Z6: =IFERROR(IF(INDEX(Hjelpefil!AJ$5:AJ$268,MATCH(BRUKERFLATE!$F6,Hjelpefil!$B$5:$B$268,0))=0,"",INDEX(Hjelpefil!AJ$5:AJ$268,MATCH(BRUKERFLATE!$F6,Hjelpefil!$B$5:$B$268,0))),"") | AB6: =IF(AC6="","",MAX($AB$2:AB5)+1) -> 4 | AC6: =IF($A$3="KOM",IF(AND($AI6=1,$AH6=1),Hjelpefil!B8,""),IF($A$3="FYL",IF(AND($AW6=1,$AH6=1),Hjelpefil!B8,""),"")) -> Korrigerte brutto driftsutgifter per korrigerte oppholdstime i kommunal barnehage, kroner | AD6: =IF($A$3="KOM",IF(AND($AI6=1,$AH6=1),Hjelpefil!C8,""),IF($A$3="FYL",IF(AND($AW6=1,$AH6=1),Hjelpefil!C8,""),"")) -> SSB, tabell 12562 | AE6: =IF($A$3="KOM",IF(AND($AI6=1,$AH6=1),Hjelpefil!F8,""),IF($A$3="FYL",IF(AND($AW6=1,$AH6=1),Hjelpefil!F8,""),"")) -> 1_innsatsfaktor | AF6: =IF(AND($AI6=1,$AH6=1),IF(AQ6="",AR6,AQ6),"") -> Barnehage | AH6: =IF(OR(AP6=$A$3,AP6="BEGGE"),1,0) -> 1 | AI6: =IF($B$3=$AJ$2,AJ6,IF($B$3=$AK$2,AK6,IF($B$3=$AL$2,AL6,IF($B$3=$AM$2,AM6,IF($B$3=$AN$2,AN6,IF($B$3=$AO$2,AO6)))))) -> 1 | AJ6: 1 | AK6: 0 | AL6: 0 | AM6: 0 | AN6: 0 | AO6: 0 | AP6: KOM | AQ6: =INDEX(Hjelpefil!H8:M8,MATCH(BRUKERFLATE!$B$3,BRUKERFLATE!$AV$4:$AV$9,0)) -> Barnehage | AR6: =INDEX(Hjelpefil!N8:S8,MATCH(BRUKERFLATE!$B$3,BRUKERFLATE!$AV$4:$AV$9,0)) -> 0 | AV6: Samfunnsutvikling | AW6: =IF($B$3=$AJ$2,AX6,IF($B$3=$AK$2,AY6,IF($B$3=$AL$2,AZ6,IF($B$3=$AM$2,BA6,IF($B$3=$AN$2,BB6,IF($B$3=$AO$2,BC6)))))) -> 0 | AX6: 0 | AY6: 0 | AZ6: 0 | BA6: 0 | BB6: 0 | BC6: 0
F7: =IFERROR(INDEX($AC$3:$AC$301,MATCH(ROW()-ROW($D$2),$AB$3:$AB$301,0)),"") -> Gjennomsnittleg månadleg foreldrebetaling | G7: =IF(F7="","",IF($A$3="FYL",INDEX($AR$3:$AR$269,MATCH(F7,$AC$3:$AC$269,0)),INDEX($AQ$3:$AQ$269,MATCH(F7,$AC$3:$AC$269,0)))) -> Barnehage | H7: {=IFERROR(INDEX($AD$3:$AD$301,MATCH(ROW()-ROW($D$2),$AB$3:$AB$301,0)),"")} -> SSB, tabell 11573 | I7: {=IFERROR(INDEX($AE$3:$AE$301,MATCH(ROW()-ROW($D$2),$AB$3:$AB$301,0)),"")} -> 3_brukereffekt | J7: =IFERROR(IF(INDEX(Hjelpefil!T$5:T$268,MATCH(BRUKERFLATE!$F7,Hjelpefil!$B$5:$B$268,0))=0,"",INDEX(Hjelpefil!T$5:T$268,MATCH(BRUKERFLATE!$F7,Hjelpefil!$B$5:$B$268,0))),"") | K7: =IFERROR(IF(INDEX(Hjelpefil!U$5:U$268,MATCH(BRUKERFLATE!$F7,Hjelpefil!$B$5:$B$268,0))=0,"",INDEX(Hjelpefil!U$5:U$268,MATCH(BRUKERFLATE!$F7,Hjelpefil!$B$5:$B$268,0))),"") | L7: =IFERROR(IF(INDEX(Hjelpefil!V$5:V$268,MATCH(BRUKERFLATE!$F7,Hjelpefil!$B$5:$B$268,0))=0,"",INDEX(Hjelpefil!V$5:V$268,MATCH(BRUKERFLATE!$F7,Hjelpefil!$B$5:$B$268,0))),"") | M7: =IFERROR(IF(INDEX(Hjelpefil!W$5:W$268,MATCH(BRUKERFLATE!$F7,Hjelpefil!$B$5:$B$268,0))=0,"",INDEX(Hjelpefil!W$5:W$268,MATCH(BRUKERFLATE!$F7,Hjelpefil!$B$5:$B$268,0))),"") -> 4 | N7: =IFERROR(IF(INDEX(Hjelpefil!X$5:X$268,MATCH(BRUKERFLATE!$F7,Hjelpefil!$B$5:$B$268,0))=0,"",INDEX(Hjelpefil!X$5:X$268,MATCH(BRUKERFLATE!$F7,Hjelpefil!$B$5:$B$268,0))),"") | O7: =IFERROR(IF(INDEX(Hjelpefil!Y$5:Y$268,MATCH(BRUKERFLATE!$F7,Hjelpefil!$B$5:$B$268,0))=0,"",INDEX(Hjelpefil!Y$5:Y$268,MATCH(BRUKERFLATE!$F7,Hjelpefil!$B$5:$B$268,0))),"") | P7: =IFERROR(IF(INDEX(Hjelpefil!Z$5:Z$268,MATCH(BRUKERFLATE!$F7,Hjelpefil!$B$5:$B$268,0))=0,"",INDEX(Hjelpefil!Z$5:Z$268,MATCH(BRUKERFLATE!$F7,Hjelpefil!$B$5:$B$268,0))),"") | Q7: =IFERROR(IF(INDEX(Hjelpefil!AA$5:AA$268,MATCH(BRUKERFLATE!$F7,Hjelpefil!$B$5:$B$268,0))=0,"",INDEX(Hjelpefil!AA$5:AA$268,MATCH(BRUKERFLATE!$F7,Hjelpefil!$B$5:$B$268,0))),"") | ... Z7: =IFERROR(IF(INDEX(Hjelpefil!AJ$5:AJ$268,MATCH(BRUKERFLATE!$F7,Hjelpefil!$B$5:$B$268,0))=0,"",INDEX(Hjelpefil!AJ$5:AJ$268,MATCH(BRUKERFLATE!$F7,Hjelpefil!$B$5:$B$268,0))),"") | AB7: =IF(AC7="","",MAX($AB$2:AB6)+1) -> 5 | AC7: =IF($A$3="KOM",IF(AND($AI7=1,$AH7=1),Hjelpefil!B9,""),IF($A$3="FYL",IF(AND($AW7=1,$AH7=1),Hjelpefil!B9,""),"")) -> Gjennomsnittleg månadleg foreldrebetaling | AD7: =IF($A$3="KOM",IF(AND($AI7=1,$AH7=1),Hjelpefil!C9,""),IF($A$3="FYL",IF(AND($AW7=1,$AH7=1),Hjelpefil!C9,""),"")) -> SSB, tabell 11573 | AE7: =IF($A$3="KOM",IF(AND($AI7=1,$AH7=1),Hjelpefil!F9,""),IF($A$3="FYL",IF(AND($AW7=1,$AH7=1),Hjelpefil!F9,""),"")) -> 3_brukereffekt | AF7: =IF(AND($AI7=1,$AH7=1),IF(AQ7="",AR7,AQ7),"") -> Barnehage | AH7: =IF(OR(AP7=$A$3,AP7="BEGGE"),1,0) -> 1 | AI7: =IF($B$3=$AJ$2,AJ7,IF($B$3=$AK$2,AK7,IF($B$3=$AL$2,AL7,IF($B$3=$AM$2,AM7,IF($B$3=$AN$2,AN7,IF($B$3=$AO$2,AO7)))))) -> 1 | AJ7: 1 | AK7: 0 | AL7: 0 | AM7: 0 | AN7: 0 | AO7: 0 | AP7: KOM | AQ7: =INDEX(Hjelpefil!H9:M9,MATCH(BRUKERFLATE!$B$3,BRUKERFLATE!$AV$4:$AV$9,0)) -> Barnehage | AR7: =INDEX(Hjelpefil!N9:S9,MATCH(BRUKERFLATE!$B$3,BRUKERFLATE!$AV$4:$AV$9,0)) -> 0 | AV7: Økonomi | AW7: =IF($B$3=$AJ$2,AX7,IF($B$3=$AK$2,AY7,IF($B$3=$AL$2,AZ7,IF($B$3=$AM$2,BA7,IF($B$3=$AN$2,BB7,IF($B$3=$AO$2,BC7)))))) -> 0 | AX7: 0 | AY7: 0 | AZ7: 0 | BA7: 0 | BB7: 0 | BC7: 0
F8: =IFERROR(INDEX($AC$3:$AC$301,MATCH(ROW()-ROW($D$2),$AB$3:$AB$301,0)),"") -> Andel barn 1-2 år i barnehage i forhold til innbyggere 1-2 år, prosent | G8: =IF(F8="","",IF($A$3="FYL",INDEX($AR$3:$AR$269,MATCH(F8,$AC$3:$AC$269,0)),INDEX($AQ$3:$AQ$269,MATCH(F8,$AC$3:$AC$269,0)))) -> Barnehage | H8: {=IFERROR(INDEX($AD$3:$AD$301,MATCH(ROW()-ROW($D$2),$AB$3:$AB$301,0)),"")} -> SSB, tabell 12562 | I8: {=IFERROR(INDEX($AE$3:$AE$301,MATCH(ROW()-ROW($D$2),$AB$3:$AB$301,0)),"")} -> 3_brukereffekt | J8: =IFERROR(IF(INDEX(Hjelpefil!T$5:T$268,MATCH(BRUKERFLATE!$F8,Hjelpefil!$B$5:$B$268,0))=0,"",INDEX(Hjelpefil!T$5:T$268,MATCH(BRUKERFLATE!$F8,Hjelpefil!$B$5:$B$268,0))),"") | K8: =IFERROR(IF(INDEX(Hjelpefil!U$5:U$268,MATCH(BRUKERFLATE!$F8,Hjelpefil!$B$5:$B$268,0))=0,"",INDEX(Hjelpefil!U$5:U$268,MATCH(BRUKERFLATE!$F8,Hjelpefil!$B$5:$B$268,0))),"") | L8: =IFERROR(IF(INDEX(Hjelpefil!V$5:V$268,MATCH(BRUKERFLATE!$F8,Hjelpefil!$B$5:$B$268,0))=0,"",INDEX(Hjelpefil!V$5:V$268,MATCH(BRUKERFLATE!$F8,Hjelpefil!$B$5:$B$268,0))),"") | M8: =IFERROR(IF(INDEX(Hjelpefil!W$5:W$268,MATCH(BRUKERFLATE!$F8,Hjelpefil!$B$5:$B$268,0))=0,"",INDEX(Hjelpefil!W$5:W$268,MATCH(BRUKERFLATE!$F8,Hjelpefil!$B$5:$B$268,0))),"") -> 4.2 | N8: =IFERROR(IF(INDEX(Hjelpefil!X$5:X$268,MATCH(BRUKERFLATE!$F8,Hjelpefil!$B$5:$B$268,0))=0,"",INDEX(Hjelpefil!X$5:X$268,MATCH(BRUKERFLATE!$F8,Hjelpefil!$B$5:$B$268,0))),"") | O8: =IFERROR(IF(INDEX(Hjelpefil!Y$5:Y$268,MATCH(BRUKERFLATE!$F8,Hjelpefil!$B$5:$B$268,0))=0,"",INDEX(Hjelpefil!Y$5:Y$268,MATCH(BRUKERFLATE!$F8,Hjelpefil!$B$5:$B$268,0))),"") | P8: =IFERROR(IF(INDEX(Hjelpefil!Z$5:Z$268,MATCH(BRUKERFLATE!$F8,Hjelpefil!$B$5:$B$268,0))=0,"",INDEX(Hjelpefil!Z$5:Z$268,MATCH(BRUKERFLATE!$F8,Hjelpefil!$B$5:$B$268,0))),"") | Q8: =IFERROR(IF(INDEX(Hjelpefil!AA$5:AA$268,MATCH(BRUKERFLATE!$F8,Hjelpefil!$B$5:$B$268,0))=0,"",INDEX(Hjelpefil!AA$5:AA$268,MATCH(BRUKERFLATE!$F8,Hjelpefil!$B$5:$B$268,0))),"") | ... Z8: =IFERROR(IF(INDEX(Hjelpefil!AJ$5:AJ$268,MATCH(BRUKERFLATE!$F8,Hjelpefil!$B$5:$B$268,0))=0,"",INDEX(Hjelpefil!AJ$5:AJ$268,MATCH(BRUKERFLATE!$F8,Hjelpefil!$B$5:$B$268,0))),"") | AB8: =IF(AC8="","",MAX($AB$2:AB7)+1) -> 6 | AC8: =IF($A$3="KOM",IF(AND($AI8=1,$AH8=1),Hjelpefil!B10,""),IF($A$3="FYL",IF(AND($AW8=1,$AH8=1),Hjelpefil!B10,""),"")) -> Andel barn 1-2 år i barnehage i forhold til innbyggere 1-2 år, prosent | AD8: =IF($A$3="KOM",IF(AND($AI8=1,$AH8=1),Hjelpefil!C10,""),IF($A$3="FYL",IF(AND($AW8=1,$AH8=1),Hjelpefil!C10,""),"")) -> SSB, tabell 12562 | AE8: =IF($A$3="KOM",IF(AND($AI8=1,$AH8=1),Hjelpefil!F10,""),IF($A$3="FYL",IF(AND($AW8=1,$AH8=1),Hjelpefil!F10,""),"")) -> 3_brukereffekt | AF8: =IF(AND($AI8=1,$AH8=1),IF(AQ8="",AR8,AQ8),"") -> Barnehage | AH8: =IF(OR(AP8=$A$3,AP8="BEGGE"),1,0) -> 1 | AI8: =IF($B$3=$AJ$2,AJ8,IF($B$3=$AK$2,AK8,IF($B$3=$AL$2,AL8,IF($B$3=$AM$2,AM8,IF($B$3=$AN$2,AN8,IF($B$3=$AO$2,AO8)))))) -> 1 | AJ8: 1 | AK8: 0 | AL8: 0 | AM8: 0 | AN8: 0 | AO8: 0 | AP8: KOM | AQ8: =INDEX(Hjelpefil!H10:M10,MATCH(BRUKERFLATE!$B$3,BRUKERFLATE!$AV$4:$AV$9,0)) -> Barnehage | AR8: =INDEX(Hjelpefil!N10:S10,MATCH(BRUKERFLATE!$B$3,BRUKERFLATE!$AV$4:$AV$9,0)) -> 0 | AV8: Arbeidsgiver | AW8: =IF($B$3=$AJ$2,AX8,IF($B$3=$AK$2,AY8,IF($B$3=$AL$2,AZ8,IF($B$3=$AM$2,BA8,IF($B$3=$AN$2,BB8,IF($B$3=$AO$2,BC8)))))) -> 0 | AX8: 0 | AY8: 0 | AZ8: 0 | BA8: 0 | BB8: 0 | BC8: 0
F9: =IFERROR(INDEX($AC$3:$AC$301,MATCH(ROW()-ROW($D$2),$AB$3:$AB$301,0)),"") -> Andel barn korrigert for alder per årsverk til basisvirksomhet i barnehage | G9: =IF(F9="","",IF($A$3="FYL",INDEX($AR$3:$AR$269,MATCH(F9,$AC$3:$AC$269,0)),INDEX($AQ$3:$AQ$269,MATCH(F9,$AC$3:$AC$269,0)))) -> Barnehage | H9: {=IFERROR(INDEX($AD$3:$AD$301,MATCH(ROW()-ROW($D$2),$AB$3:$AB$301,0)),"")} -> SSB, tabell 12562 | I9: {=IFERROR(INDEX($AE$3:$AE$301,MATCH(ROW()-ROW($D$2),$AB$3:$AB$301,0)),"")} -> 3_brukereffekt | J9: =IFERROR(IF(INDEX(Hjelpefil!T$5:T$268,MATCH(BRUKERFLATE!$F9,Hjelpefil!$B$5:$B$268,0))=0,"",INDEX(Hjelpefil!T$5:T$268,MATCH(BRUKERFLATE!$F9,Hjelpefil!$B$5:$B$268,0))),"") | K9: =IFERROR(IF(INDEX(Hjelpefil!U$5:U$268,MATCH(BRUKERFLATE!$F9,Hjelpefil!$B$5:$B$268,0))=0,"",INDEX(Hjelpefil!U$5:U$268,MATCH(BRUKERFLATE!$F9,Hjelpefil!$B$5:$B$268,0))),"") | L9: =IFERROR(IF(INDEX(Hjelpefil!V$5:V$268,MATCH(BRUKERFLATE!$F9,Hjelpefil!$B$5:$B$268,0))=0,"",INDEX(Hjelpefil!V$5:V$268,MATCH(BRUKERFLATE!$F9,Hjelpefil!$B$5:$B$268,0))),"") | M9: =IFERROR(IF(INDEX(Hjelpefil!W$5:W$268,MATCH(BRUKERFLATE!$F9,Hjelpefil!$B$5:$B$268,0))=0,"",INDEX(Hjelpefil!W$5:W$268,MATCH(BRUKERFLATE!$F9,Hjelpefil!$B$5:$B$268,0))),"") -> 4 | N9: =IFERROR(IF(INDEX(Hjelpefil!X$5:X$268,MATCH(BRUKERFLATE!$F9,Hjelpefil!$B$5:$B$268,0))=0,"",INDEX(Hjelpefil!X$5:X$268,MATCH(BRUKERFLATE!$F9,Hjelpefil!$B$5:$B$268,0))),"") | O9: =IFERROR(IF(INDEX(Hjelpefil!Y$5:Y$268,MATCH(BRUKERFLATE!$F9,Hjelpefil!$B$5:$B$268,0))=0,"",INDEX(Hjelpefil!Y$5:Y$268,MATCH(BRUKERFLATE!$F9,Hjelpefil!$B$5:$B$268,0))),"") | P9: =IFERROR(IF(INDEX(Hjelpefil!Z$5:Z$268,MATCH(BRUKERFLATE!$F9,Hjelpefil!$B$5:$B$268,0))=0,"",INDEX(Hjelpefil!Z$5:Z$268,MATCH(BRUKERFLATE!$F9,Hjelpefil!$B$5:$B$268,0))),"") | Q9: =IFERROR(IF(INDEX(Hjelpefil!AA$5:AA$268,MATCH(BRUKERFLATE!$F9,Hjelpefil!$B$5:$B$268,0))=0,"",INDEX(Hjelpefil!AA$5:AA$268,MATCH(BRUKERFLATE!$F9,Hjelpefil!$B$5:$B$268,0))),"") | ... Z9: =IFERROR(IF(INDEX(Hjelpefil!AJ$5:AJ$268,MATCH(BRUKERFLATE!$F9,Hjelpefil!$B$5:$B$268,0))=0,"",INDEX(Hjelpefil!AJ$5:AJ$268,MATCH(BRUKERFLATE!$F9,Hjelpefil!$B$5:$B$268,0))),"") | AB9: =IF(AC9="","",MAX($AB$2:AB8)+1) -> 7 | AC9: =IF($A$3="KOM",IF(AND($AI9=1,$AH9=1),Hjelpefil!B11,""),IF($A$3="FYL",IF(AND($AW9=1,$AH9=1),Hjelpefil!B11,""),"")) -> Andel barn korrigert for alder per årsverk til basisvirksomhet i barnehage | AD9: =IF($A$3="KOM",IF(AND($AI9=1,$AH9=1),Hjelpefil!C11,""),IF($A$3="FYL",IF(AND($AW9=1,$AH9=1),Hjelpefil!C11,""),"")) -> SSB, tabell 12562 | AE9: =IF($A$3="KOM",IF(AND($AI9=1,$AH9=1),Hjelpefil!F11,""),IF($A$3="FYL",IF(AND($AW9=1,$AH9=1),Hjelpefil!F11,""),"")) -> 3_brukereffekt | AF9: =IF(AND($AI9=1,$AH9=1),IF(AQ9="",AR9,AQ9),"") -> Barnehage | AH9: =IF(OR(AP9=$A$3,AP9="BEGGE"),1,0) -> 1 | AI9: =IF($B$3=$AJ$2,AJ9,IF($B$3=$AK$2,AK9,IF($B$3=$AL$2,AL9,IF($B$3=$AM$2,AM9,IF($B$3=$AN$2,AN9,IF($B$3=$AO$2,AO9)))))) -> 1 | AJ9: 1 | AK9: 0 | AL9: 0 | AM9: 0 | AN9: 0 | AO9: 0 | AP9: KOM | AQ9: =INDEX(Hjelpefil!H11:M11,MATCH(BRUKERFLATE!$B$3,BRUKERFLATE!$AV$4:$AV$9,0)) -> Barnehage | AR9: =INDEX(Hjelpefil!N11:S11,MATCH(BRUKERFLATE!$B$3,BRUKERFLATE!$AV$4:$AV$9,0)) -> 0 | AV9: Innovasjon og digitalisering | AW9: =IF($B$3=$AJ$2,AX9,IF($B$3=$AK$2,AY9,IF($B$3=$AL$2,AZ9,IF($B$3=$AM$2,BA9,IF($B$3=$AN$2,BB9,IF($B$3=$AO$2,BC9)))))) -> 0 | AX9: 0 | AY9: 0 | AZ9: 0 | BA9: 0 | BB9: 0 | BC9: 0
F10: =IFERROR(INDEX($AC$3:$AC$301,MATCH(ROW()-ROW($D$2),$AB$3:$AB$301,0)),"") -> Andel minoritetsspråklige barn i barnehage i forhold til innvandrerbarn 1-5 år | G10: =IF(F10="","",IF($A$3="FYL",INDEX($AR$3:$AR$269,MATCH(F10,$AC$3:$AC$269,0)),INDEX($AQ$3:$AQ$269,MATCH(F10,$AC$3:$AC$269,0)))) -> Barnehage | H10: {=IFERROR(INDEX($AD$3:$AD$301,MATCH(ROW()-ROW($D$2),$AB$3:$AB$301,0)),"")} -> SSB, tabell 12562 | I10: {=IFERROR(INDEX($AE$3:$AE$301,MATCH(ROW()-ROW($D$2),$AB$3:$AB$301,0)),"")} -> 3_brukereffekt | J10: =IFERROR(IF(INDEX(Hjelpefil!T$5:T$268,MATCH(BRUKERFLATE!$F10,Hjelpefil!$B$5:$B$268,0))=0,"",INDEX(Hjelpefil!T$5:T$268,MATCH(BRUKERFLATE!$F10,Hjelpefil!$B$5:$B$268,0))),"") | K10: =IFERROR(IF(INDEX(Hjelpefil!U$5:U$268,MATCH(BRUKERFLATE!$F10,Hjelpefil!$B$5:$B$268,0))=0,"",INDEX(Hjelpefil!U$5:U$268,MATCH(BRUKERFLATE!$F10,Hjelpefil!$B$5:$B$268,0))),"") | L10: =IFERROR(IF(INDEX(Hjelpefil!V$5:V$268,MATCH(BRUKERFLATE!$F10,Hjelpefil!$B$5:$B$268,0))=0,"",INDEX(Hjelpefil!V$5:V$268,MATCH(BRUKERFLATE!$F10,Hjelpefil!$B$5:$B$268,0))),"") | M10: =IFERROR(IF(INDEX(Hjelpefil!W$5:W$268,MATCH(BRUKERFLATE!$F10,Hjelpefil!$B$5:$B$268,0))=0,"",INDEX(Hjelpefil!W$5:W$268,MATCH(BRUKERFLATE!$F10,Hjelpefil!$B$5:$B$268,0))),"") -> 4.2 | N10: =IFERROR(IF(INDEX(Hjelpefil!X$5:X$268,MATCH(BRUKERFLATE!$F10,Hjelpefil!$B$5:$B$268,0))=0,"",INDEX(Hjelpefil!X$5:X$268,MATCH(BRUKERFLATE!$F10,Hjelpefil!$B$5:$B$268,0))),"") | O10: =IFERROR(IF(INDEX(Hjelpefil!Y$5:Y$268,MATCH(BRUKERFLATE!$F10,Hjelpefil!$B$5:$B$268,0))=0,"",INDEX(Hjelpefil!Y$5:Y$268,MATCH(BRUKERFLATE!$F10,Hjelpefil!$B$5:$B$268,0))),"") | P10: =IFERROR(IF(INDEX(Hjelpefil!Z$5:Z$268,MATCH(BRUKERFLATE!$F10,Hjelpefil!$B$5:$B$268,0))=0,"",INDEX(Hjelpefil!Z$5:Z$268,MATCH(BRUKERFLATE!$F10,Hjelpefil!$B$5:$B$268,0))),"") | Q10: =IFERROR(IF(INDEX(Hjelpefil!AA$5:AA$268,MATCH(BRUKERFLATE!$F10,Hjelpefil!$B$5:$B$268,0))=0,"",INDEX(Hjelpefil!AA$5:AA$268,MATCH(BRUKERFLATE!$F10,Hjelpefil!$B$5:$B$268,0))),"") | ... Z10: =IFERROR(IF(INDEX(Hjelpefil!AJ$5:AJ$268,MATCH(BRUKERFLATE!$F10,Hjelpefil!$B$5:$B$268,0))=0,"",INDEX(Hjelpefil!AJ$5:AJ$268,MATCH(BRUKERFLATE!$F10,Hjelpefil!$B$5:$B$268,0))),"") | AB10: =IF(AC10="","",MAX($AB$2:AB9)+1) -> 8 | AC10: =IF($A$3="KOM",IF(AND($AI10=1,$AH10=1),Hjelpefil!B12,""),IF($A$3="FYL",IF(AND($AW10=1,$AH10=1),Hjelpefil!B12,""),"")) -> Andel minoritetsspråklige barn i barnehage i forhold til innvandrerbarn 1-5 år | AD10: =IF($A$3="KOM",IF(AND($AI10=1,$AH10=1),Hjelpefil!C12,""),IF($A$3="FYL",IF(AND($AW10=1,$AH10=1),Hjelpefil!C12,""),"")) -> SSB, tabell 12562 | AE10: =IF($A$3="KOM",IF(AND($AI10=1,$AH10=1),Hjelpefil!F12,""),IF($A$3="FYL",IF(AND($AW10=1,$AH10=1),Hjelpefil!F12,""),"")) -> 3_brukereffekt | AF10: =IF(AND($AI10=1,$AH10=1),IF(AQ10="",AR10,AQ10),"") -> Barnehage | AH10: =IF(OR(AP10=$A$3,AP10="BEGGE"),1,0) -> 1 | AI10: =IF($B$3=$AJ$2,AJ10,IF($B$3=$AK$2,AK10,IF($B$3=$AL$2,AL10,IF($B$3=$AM$2,AM10,IF($B$3=$AN$2,AN10,IF($B$3=$AO$2,AO10)))))) -> 1 | AJ10: 1 | AK10: 0 | AL10: 0 | AM10: 0 | AN10: 0 | AO10: 0 | AP10: KOM | AQ10: =INDEX(Hjelpefil!H12:M12,MATCH(BRUKERFLATE!$B$3,BRUKERFLATE!$AV$4:$AV$9,0)) -> Barnehage | AR10: =INDEX(Hjelpefil!N12:S12,MATCH(BRUKERFLATE!$B$3,BRUKERFLATE!$AV$4:$AV$9,0)) -> 0 | AW10: =IF($B$3=$AJ$2,AX10,IF($B$3=$AK$2,AY10,IF($B$3=$AL$2,AZ10,IF($B$3=$AM$2,BA10,IF($B$3=$AN$2,BB10,IF($B$3=$AO$2,BC10)))))) -> 0 | AX10: 0 | AY10: 0 | AZ10: 0 | BA10: 0 | BB10: 0 | BC10: 0
F11: =IFERROR(INDEX($AC$3:$AC$301,MATCH(ROW()-ROW($D$2),$AB$3:$AB$301,0)),"") -> Lærertimer / elevtimer | G11: =IF(F11="","",IF($A$3="FYL",INDEX($AR$3:$AR$269,MATCH(F11,$AC$3:$AC$269,0)),INDEX($AQ$3:$AQ$269,MATCH(F11,$AC$3:$AC$269,0)))) -> Skole | H11: {=IFERROR(INDEX($AD$3:$AD$301,MATCH(ROW()-ROW($D$2),$AB$3:$AB$301,0)),"")} -> SSB, tabell 12285 | I11: {=IFERROR(INDEX($AE$3:$AE$301,MATCH(ROW()-ROW($D$2),$AB$3:$AB$301,0)),"")} -> 2_prod/teneste | J11: =IFERROR(IF(INDEX(Hjelpefil!T$5:T$268,MATCH(BRUKERFLATE!$F11,Hjelpefil!$B$5:$B$268,0))=0,"",INDEX(Hjelpefil!T$5:T$268,MATCH(BRUKERFLATE!$F11,Hjelpefil!$B$5:$B$268,0))),"") | K11: =IFERROR(IF(INDEX(Hjelpefil!U$5:U$268,MATCH(BRUKERFLATE!$F11,Hjelpefil!$B$5:$B$268,0))=0,"",INDEX(Hjelpefil!U$5:U$268,MATCH(BRUKERFLATE!$F11,Hjelpefil!$B$5:$B$268,0))),"") | L11: =IFERROR(IF(INDEX(Hjelpefil!V$5:V$268,MATCH(BRUKERFLATE!$F11,Hjelpefil!$B$5:$B$268,0))=0,"",INDEX(Hjelpefil!V$5:V$268,MATCH(BRUKERFLATE!$F11,Hjelpefil!$B$5:$B$268,0))),"") | M11: =IFERROR(IF(INDEX(Hjelpefil!W$5:W$268,MATCH(BRUKERFLATE!$F11,Hjelpefil!$B$5:$B$268,0))=0,"",INDEX(Hjelpefil!W$5:W$268,MATCH(BRUKERFLATE!$F11,Hjelpefil!$B$5:$B$268,0))),"") -> 4 | N11: =IFERROR(IF(INDEX(Hjelpefil!X$5:X$268,MATCH(BRUKERFLATE!$F11,Hjelpefil!$B$5:$B$268,0))=0,"",INDEX(Hjelpefil!X$5:X$268,MATCH(BRUKERFLATE!$F11,Hjelpefil!$B$5:$B$268,0))),"") | O11: =IFERROR(IF(INDEX(Hjelpefil!Y$5:Y$268,MATCH(BRUKERFLATE!$F11,Hjelpefil!$B$5:$B$268,0))=0,"",INDEX(Hjelpefil!Y$5:Y$268,MATCH(BRUKERFLATE!$F11,Hjelpefil!$B$5:$B$268,0))),"") | P11: =IFERROR(IF(INDEX(Hjelpefil!Z$5:Z$268,MATCH(BRUKERFLATE!$F11,Hjelpefil!$B$5:$B$268,0))=0,"",INDEX(Hjelpefil!Z$5:Z$268,MATCH(BRUKERFLATE!$F11,Hjelpefil!$B$5:$B$268,0))),"") | Q11: =IFERROR(IF(INDEX(Hjelpefil!AA$5:AA$268,MATCH(BRUKERFLATE!$F11,Hjelpefil!$B$5:$B$268,0))=0,"",INDEX(Hjelpefil!AA$5:AA$268,MATCH(BRUKERFLATE!$F11,Hjelpefil!$B$5:$B$268,0))),"") | ... Z11: =IFERROR(IF(INDEX(Hjelpefil!AJ$5:AJ$268,MATCH(BRUKERFLATE!$F11,Hjelpefil!$B$5:$B$268,0))=0,"",INDEX(Hjelpefil!AJ$5:AJ$268,MATCH(BRUKERFLATE!$F11,Hjelpefil!$B$5:$B$268,0))),"") | AB11: =IF(AC11="","",MAX($AB$2:AB10)+1) -> 9 | AC11: =IF($A$3="KOM",IF(AND($AI11=1,$AH11=1),Hjelpefil!B13,""),IF($A$3="FYL",IF(AND($AW11=1,$AH11=1),Hjelpefil!B13,""),"")) -> Lærertimer / elevtimer | AD11: =IF($A$3="KOM",IF(AND($AI11=1,$AH11=1),Hjelpefil!C13,""),IF($A$3="FYL",IF(AND($AW11=1,$AH11=1),Hjelpefil!C13,""),"")) -> SSB, tabell 12285 | AE11: =IF($A$3="KOM",IF(AND($AI11=1,$AH11=1),Hjelpefil!F13,""),IF($A$3="FYL",IF(AND($AW11=1,$AH11=1),Hjelpefil!F13,""),"")) -> 2_prod/teneste | AF11: =IF(AND($AI11=1,$AH11=1),IF(AQ11="",AR11,AQ11),"") -> Skole | AH11: =IF(OR(AP11=$A$3,AP11="BEGGE"),1,0) -> 1 | AI11: =IF($B$3=$AJ$2,AJ11,IF($B$3=$AK$2,AK11,IF($B$3=$AL$2,AL11,IF($B$3=$AM$2,AM11,IF($B$3=$AN$2,AN11,IF($B$3=$AO$2,AO11)))))) -> 1 | AJ11: 1 | AK11: 0 | AL11: 0 | AM11: 0 | AN11: 0 | AO11: 0 | AP11: KOM | AQ11: =INDEX(Hjelpefil!H13:M13,MATCH(BRUKERFLATE!$B$3,BRUKERFLATE!$AV$4:$AV$9,0)) -> Skole | AR11: =INDEX(Hjelpefil!N13:S13,MATCH(BRUKERFLATE!$B$3,BRUKERFLATE!$AV$4:$AV$9,0)) -> 0 | AW11: =IF($B$3=$AJ$2,AX11,IF($B$3=$AK$2,AY11,IF($B$3=$AL$2,AZ11,IF($B$3=$AM$2,BA11,IF($B$3=$AN$2,BB11,IF($B$3=$AO$2,BC11)))))) -> 0 | AX11: 0 | AY11: 0 | AZ11: 0 | BA11: 0 | BB11: 0 | BC11: 0
F12: =IFERROR(INDEX($AC$3:$AC$301,MATCH(ROW()-ROW($D$2),$AB$3:$AB$301,0)),"") -> Lærere med universitets-/høgskoleutdanning, med pedagogisk utdanning, prosent | G12: =IF(F12="","",IF($A$3="FYL",INDEX($AR$3:$AR$269,MATCH(F12,$AC$3:$AC$269,0)),INDEX($AQ$3:$AQ$269,MATCH(F12,$AC$3:$AC$269,0)))) -> Skole | H12: {=IFERROR(INDEX($AD$3:$AD$301,MATCH(ROW()-ROW($D$2),$AB$3:$AB$301,0)),"")} -> SSB, tabell 12247 | I12: {=IFERROR(INDEX($AE$3:$AE$301,MATCH(ROW()-ROW($D$2),$AB$3:$AB$301,0)),"")} -> 2_prod/teneste | J12: =IFERROR(IF(INDEX(Hjelpefil!T$5:T$268,MATCH(BRUKERFLATE!$F12,Hjelpefil!$B$5:$B$268,0))=0,"",INDEX(Hjelpefil!T$5:T$268,MATCH(BRUKERFLATE!$F12,Hjelpefil!$B$5:$B$268,0))),"") | K12: =IFERROR(IF(INDEX(Hjelpefil!U$5:U$268,MATCH(BRUKERFLATE!$F12,Hjelpefil!$B$5:$B$268,0))=0,"",INDEX(Hjelpefil!U$5:U$268,MATCH(BRUKERFLATE!$F12,Hjelpefil!$B$5:$B$268,0))),"") | L12: =IFERROR(IF(INDEX(Hjelpefil!V$5:V$268,MATCH(BRUKERFLATE!$F12,Hjelpefil!$B$5:$B$268,0))=0,"",INDEX(Hjelpefil!V$5:V$268,MATCH(BRUKERFLATE!$F12,Hjelpefil!$B$5:$B$268,0))),"") | M12: =IFERROR(IF(INDEX(Hjelpefil!W$5:W$268,MATCH(BRUKERFLATE!$F12,Hjelpefil!$B$5:$B$268,0))=0,"",INDEX(Hjelpefil!W$5:W$268,MATCH(BRUKERFLATE!$F12,Hjelpefil!$B$5:$B$268,0))),"") -> 4.c | N12: =IFERROR(IF(INDEX(Hjelpefil!X$5:X$268,MATCH(BRUKERFLATE!$F12,Hjelpefil!$B$5:$B$268,0))=0,"",INDEX(Hjelpefil!X$5:X$268,MATCH(BRUKERFLATE!$F12,Hjelpefil!$B$5:$B$268,0))),"") | O12: =IFERROR(IF(INDEX(Hjelpefil!Y$5:Y$268,MATCH(BRUKERFLATE!$F12,Hjelpefil!$B$5:$B$268,0))=0,"",INDEX(Hjelpefil!Y$5:Y$268,MATCH(BRUKERFLATE!$F12,Hjelpefil!$B$5:$B$268,0))),"") | P12: =IFERROR(IF(INDEX(Hjelpefil!Z$5:Z$268,MATCH(BRUKERFLATE!$F12,Hjelpefil!$B$5:$B$268,0))=0,"",INDEX(Hjelpefil!Z$5:Z$268,MATCH(BRUKERFLATE!$F12,Hjelpefil!$B$5:$B$268,0))),"") | Q12: =IFERROR(IF(INDEX(Hjelpefil!AA$5:AA$268,MATCH(BRUKERFLATE!$F12,Hjelpefil!$B$5:$B$268,0))=0,"",INDEX(Hjelpefil!AA$5:AA$268,MATCH(BRUKERFLATE!$F12,Hjelpefil!$B$5:$B$268,0))),"") | ... Z12: =IFERROR(IF(INDEX(Hjelpefil!AJ$5:AJ$268,MATCH(BRUKERFLATE!$F12,Hjelpefil!$B$5:$B$268,0))=0,"",INDEX(Hjelpefil!AJ$5:AJ$268,MATCH(BRUKERFLATE!$F12,Hjelpefil!$B$5:$B$268,0))),"") | AB12: =IF(AC12="","",MAX($AB$2:AB11)+1) -> 10 | AC12: =IF($A$3="KOM",IF(AND($AI12=1,$AH12=1),Hjelpefil!B14,""),IF($A$3="FYL",IF(AND($AW12=1,$AH12=1),Hjelpefil!B14,""),"")) -> Lærere med universitets-/høgskoleutdanning, med pedagogisk utdanning, prosent | AD12: =IF($A$3="KOM",IF(AND($AI12=1,$AH12=1),Hjelpefil!C14,""),IF($A$3="FYL",IF(AND($AW12=1,$AH12=1),Hjelpefil!C14,""),"")) -> SSB, tabell 12247 | AE12: =IF($A$3="KOM",IF(AND($AI12=1,$AH12=1),Hjelpefil!F14,""),IF($A$3="FYL",IF(AND($AW12=1,$AH12=1),Hjelpefil!F14,""),"")) -> 2_prod/teneste | AF12: =IF(AND($AI12=1,$AH12=1),IF(AQ12="",AR12,AQ12),"") -> Skole | AH12: =IF(OR(AP12=$A$3,AP12="BEGGE"),1,0) -> 1 | AI12: =IF($B$3=$AJ$2,AJ12,IF($B$3=$AK$2,AK12,IF($B$3=$AL$2,AL12,IF($B$3=$AM$2,AM12,IF($B$3=$AN$2,AN12,IF($B$3=$AO$2,AO12)))))) -> 1 | AJ12: 1 | AK12: 0 | AL12: 0 | AM12: 0 | AN12: 0 | AO12: 0 | AP12: KOM | AQ12: =INDEX(Hjelpefil!H14:M14,MATCH(BRUKERFLATE!$B$3,BRUKERFLATE!$AV$4:$AV$9,0)) -> Skole | AR12: =INDEX(Hjelpefil!N14:S14,MATCH(BRUKERFLATE!$B$3,BRUKERFLATE!$AV$4:$AV$9,0)) -> 0 | AW12: =IF($B$3=$AJ$2,AX12,IF($B$3=$AK$2,AY12,IF($B$3=$AL$2,AZ12,IF($B$3=$AM$2,BA12,IF($B$3=$AN$2,BB12,IF($B$3=$AO$2,BC12)))))) -> 0 | AX12: 0 | AY12: 0 | AZ12: 0 | BA12: 0 | BB12: 0 | BC12: 0
F13: =IFERROR(INDEX($AC$3:$AC$301,MATCH(ROW()-ROW($D$2),$AB$3:$AB$301,0)),"") -> Korrigerte brutto driftsutgifter til grunnskolesektor. Kroner per elev i kommunale grunnskoler. | G13: =IF(F13="","",IF($A$3="FYL",INDEX($AR$3:$AR$269,MATCH(F13,$AC$3:$AC$269,0)),INDEX($AQ$3:$AQ$269,MATCH(F13,$AC$3:$AC$269,0)))) -> Skole | H13: {=IFERROR(INDEX($AD$3:$AD$301,MATCH(ROW()-ROW($D$2),$AB$3:$AB$301,0)),"")} -> SSB, tabell 12235 | I13: {=IFERROR(INDEX($AE$3:$AE$301,MATCH(ROW()-ROW($D$2),$AB$3:$AB$301,0)),"")} -> 1_innsatsfaktor | J13: =IFERROR(IF(INDEX(Hjelpefil!T$5:T$268,MATCH(BRUKERFLATE!$F13,Hjelpefil!$B$5:$B$268,0))=0,"",INDEX(Hjelpefil!T$5:T$268,MATCH(BRUKERFLATE!$F13,Hjelpefil!$B$5:$B$268,0))),"") | K13: =IFERROR(IF(INDEX(Hjelpefil!U$5:U$268,MATCH(BRUKERFLATE!$F13,Hjelpefil!$B$5:$B$268,0))=0,"",INDEX(Hjelpefil!U$5:U$268,MATCH(BRUKERFLATE!$F13,Hjelpefil!$B$5:$B$268,0))),"") | L13: =IFERROR(IF(INDEX(Hjelpefil!V$5:V$268,MATCH(BRUKERFLATE!$F13,Hjelpefil!$B$5:$B$268,0))=0,"",INDEX(Hjelpefil!V$5:V$268,MATCH(BRUKERFLATE!$F13,Hjelpefil!$B$5:$B$268,0))),"") | M13: =IFERROR(IF(INDEX(Hjelpefil!W$5:W$268,MATCH(BRUKERFLATE!$F13,Hjelpefil!$B$5:$B$268,0))=0,"",INDEX(Hjelpefil!W$5:W$268,MATCH(BRUKERFLATE!$F13,Hjelpefil!$B$5:$B$268,0))),"") -> 4 | N13: =IFERROR(IF(INDEX(Hjelpefil!X$5:X$268,MATCH(BRUKERFLATE!$F13,Hjelpefil!$B$5:$B$268,0))=0,"",INDEX(Hjelpefil!X$5:X$268,MATCH(BRUKERFLATE!$F13,Hjelpefil!$B$5:$B$268,0))),"") | O13: =IFERROR(IF(INDEX(Hjelpefil!Y$5:Y$268,MATCH(BRUKERFLATE!$F13,Hjelpefil!$B$5:$B$268,0))=0,"",INDEX(Hjelpefil!Y$5:Y$268,MATCH(BRUKERFLATE!$F13,Hjelpefil!$B$5:$B$268,0))),"") | P13: =IFERROR(IF(INDEX(Hjelpefil!Z$5:Z$268,MATCH(BRUKERFLATE!$F13,Hjelpefil!$B$5:$B$268,0))=0,"",INDEX(Hjelpefil!Z$5:Z$268,MATCH(BRUKERFLATE!$F13,Hjelpefil!$B$5:$B$268,0))),"") | Q13: =IFERROR(IF(INDEX(Hjelpefil!AA$5:AA$268,MATCH(BRUKERFLATE!$F13,Hjelpefil!$B$5:$B$268,0))=0,"",INDEX(Hjelpefil!AA$5:AA$268,MATCH(BRUKERFLATE!$F13,Hjelpefil!$B$5:$B$268,0))),"") | ... Z13: =IFERROR(IF(INDEX(Hjelpefil!AJ$5:AJ$268,MATCH(BRUKERFLATE!$F13,Hjelpefil!$B$5:$B$268,0))=0,"",INDEX(Hjelpefil!AJ$5:AJ$268,MATCH(BRUKERFLATE!$F13,Hjelpefil!$B$5:$B$268,0))),"") | AB13: =IF(AC13="","",MAX($AB$2:AB12)+1) -> 11 | AC13: =IF($A$3="KOM",IF(AND($AI13=1,$AH13=1),Hjelpefil!B15,""),IF($A$3="FYL",IF(AND($AW13=1,$AH13=1),Hjelpefil!B15,""),"")) -> Korrigerte brutto driftsutgifter til grunnskolesektor. Kroner per elev i kommunale grunnskoler. | AD13: =IF($A$3="KOM",IF(AND($AI13=1,$AH13=1),Hjelpefil!C15,""),IF($A$3="FYL",IF(AND($AW13=1,$AH13=1),Hjelpefil!C15,""),"")) -> SSB, tabell 12235 | AE13: =IF($A$3="KOM",IF(AND($AI13=1,$AH13=1),Hjelpefil!F15,""),IF($A$3="FYL",IF(AND($AW13=1,$AH13=1),Hjelpefil!F15,""),"")) -> 1_innsatsfaktor | AF13: =IF(AND($AI13=1,$AH13=1),IF(AQ13="",AR13,AQ13),"") -> Skole | AH13: =IF(OR(AP13=$A$3,AP13="BEGGE"),1,0) -> 1 | AI13: =IF($B$3=$AJ$2,AJ13,IF($B$3=$AK$2,AK13,IF($B$3=$AL$2,AL13,IF($B$3=$AM$2,AM13,IF($B$3=$AN$2,AN13,IF($B$3=$AO$2,AO13)))))) -> 1 | AJ13: 1 | AK13: 0 | AL13: 0 | AM13: 0 | AN13: 0 | AO13: 0 | AP13: KOM | AQ13: =INDEX(Hjelpefil!H15:M15,MATCH(BRUKERFLATE!$B$3,BRUKERFLATE!$AV$4:$AV$9,0)) -> Skole | AR13: =INDEX(Hjelpefil!N15:S15,MATCH(BRUKERFLATE!$B$3,BRUKERFLATE!$AV$4:$AV$9,0)) -> 0 | AW13: =IF($B$3=$AJ$2,AX13,IF($B$3=$AK$2,AY13,IF($B$3=$AL$2,AZ13,IF($B$3=$AM$2,BA13,IF($B$3=$AN$2,BB13,IF($B$3=$AO$2,BC13)))))) -> 0 | AX13: 0 | AY13: 0 | AZ13: 0 | BA13: 0 | BB13: 0 | BC13: 0
F14: =IFERROR(INDEX($AC$3:$AC$301,MATCH(ROW()-ROW($D$2),$AB$3:$AB$301,0)),"") -> Andel årstimer til undervisning gitt av lærere med godkjent utdanning, prosent 2008-2015 | G14: =IF(F14="","",IF($A$3="FYL",INDEX($AR$3:$AR$269,MATCH(F14,$AC$3:$AC$269,0)),INDEX($AQ$3:$AQ$269,MATCH(F14,$AC$3:$AC$269,0)))) -> Skole | H14: {=IFERROR(INDEX($AD$3:$AD$301,MATCH(ROW()-ROW($D$2),$AB$3:$AB$301,0)),"")} -> UDIR, GSI | I14: {=IFERROR(INDEX($AE$3:$AE$301,MATCH(ROW()-ROW($D$2),$AB$3:$AB$301,0)),"")} -> 2_prod/teneste | J14: =IFERROR(IF(INDEX(Hjelpefil!T$5:T$268,MATCH(BRUKERFLATE!$F14,Hjelpefil!$B$5:$B$268,0))=0,"",INDEX(Hjelpefil!T$5:T$268,MATCH(BRUKERFLATE!$F14,Hjelpefil!$B$5:$B$268,0))),"") | K14: =IFERROR(IF(INDEX(Hjelpefil!U$5:U$268,MATCH(BRUKERFLATE!$F14,Hjelpefil!$B$5:$B$268,0))=0,"",INDEX(Hjelpefil!U$5:U$268,MATCH(BRUKERFLATE!$F14,Hjelpefil!$B$5:$B$268,0))),"") | L14: =IFERROR(IF(INDEX(Hjelpefil!V$5:V$268,MATCH(BRUKERFLATE!$F14,Hjelpefil!$B$5:$B$268,0))=0,"",INDEX(Hjelpefil!V$5:V$268,MATCH(BRUKERFLATE!$F14,Hjelpefil!$B$5:$B$268,0))),"") | M14: =IFERROR(IF(INDEX(Hjelpefil!W$5:W$268,MATCH(BRUKERFLATE!$F14,Hjelpefil!$B$5:$B$268,0))=0,"",INDEX(Hjelpefil!W$5:W$268,MATCH(BRUKERFLATE!$F14,Hjelpefil!$B$5:$B$268,0))),"") -> 4.c | N14: =IFERROR(IF(INDEX(Hjelpefil!X$5:X$268,MATCH(BRUKERFLATE!$F14,Hjelpefil!$B$5:$B$268,0))=0,"",INDEX(Hjelpefil!X$5:X$268,MATCH(BRUKERFLATE!$F14,Hjelpefil!$B$5:$B$268,0))),"") | O14: =IFERROR(IF(INDEX(Hjelpefil!Y$5:Y$268,MATCH(BRUKERFLATE!$F14,Hjelpefil!$B$5:$B$268,0))=0,"",INDEX(Hjelpefil!Y$5:Y$268,MATCH(BRUKERFLATE!$F14,Hjelpefil!$B$5:$B$268,0))),"") | P14: =IFERROR(IF(INDEX(Hjelpefil!Z$5:Z$268,MATCH(BRUKERFLATE!$F14,Hjelpefil!$B$5:$B$268,0))=0,"",INDEX(Hjelpefil!Z$5:Z$268,MATCH(BRUKERFLATE!$F14,Hjelpefil!$B$5:$B$268,0))),"") | Q14: =IFERROR(IF(INDEX(Hjelpefil!AA$5:AA$268,MATCH(BRUKERFLATE!$F14,Hjelpefil!$B$5:$B$268,0))=0,"",INDEX(Hjelpefil!AA$5:AA$268,MATCH(BRUKERFLATE!$F14,Hjelpefil!$B$5:$B$268,0))),"") | ... Z14: =IFERROR(IF(INDEX(Hjelpefil!AJ$5:AJ$268,MATCH(BRUKERFLATE!$F14,Hjelpefil!$B$5:$B$268,0))=0,"",INDEX(Hjelpefil!AJ$5:AJ$268,MATCH(BRUKERFLATE!$F14,Hjelpefil!$B$5:$B$268,0))),"") | AB14: =IF(AC14="","",MAX($AB$2:AB13)+1) -> 12 | AC14: =IF($A$3="KOM",IF(AND($AI14=1,$AH14=1),Hjelpefil!B16,""),IF($A$3="FYL",IF(AND($AW14=1,$AH14=1),Hjelpefil!B16,""),"")) -> Andel årstimer til undervisning gitt av lærere med godkjent utdanning, prosent 2008-2015 | AD14: =IF($A$3="KOM",IF(AND($AI14=1,$AH14=1),Hjelpefil!C16,""),IF($A$3="FYL",IF(AND($AW14=1,$AH14=1),Hjelpefil!C16,""),"")) -> UDIR, GSI | AE14: =IF($A$3="KOM",IF(AND($AI14=1,$AH14=1),Hjelpefil!F16,""),IF($A$3="FYL",IF(AND($AW14=1,$AH14=1),Hjelpefil!F16,""),"")) -> 2_prod/teneste | AF14: =IF(AND($AI14=1,$AH14=1),IF(AQ14="",AR14,AQ14),"") -> Skole | AH14: =IF(OR(AP14=$A$3,AP14="BEGGE"),1,0) -> 1 | AI14: =IF($B$3=$AJ$2,AJ14,IF($B$3=$AK$2,AK14,IF($B$3=$AL$2,AL14,IF($B$3=$AM$2,AM14,IF($B$3=$AN$2,AN14,IF($B$3=$AO$2,AO14)))))) -> 1 | AJ14: 1 | AK14: 0 | AL14: 0 | AM14: 0 | AN14: 0 | AO14: 0 | AP14: KOM | AQ14: =INDEX(Hjelpefil!H16:M16,MATCH(BRUKERFLATE!$B$3,BRUKERFLATE!$AV$4:$AV$9,0)) -> Skole | AR14: =INDEX(Hjelpefil!N16:S16,MATCH(BRUKERFLATE!$B$3,BRUKERFLATE!$AV$4:$AV$9,0)) -> 0 | AW14: =IF($B$3=$AJ$2,AX14,IF($B$3=$AK$2,AY14,IF($B$3=$AL$2,AZ14,IF($B$3=$AM$2,BA14,IF($B$3=$AN$2,BB14,IF($B$3=$AO$2,BC14)))))) -> 0 | AX14: 0 | AY14: 0 | AZ14: 0 | BA14: 0 | BB14: 0 | BC14: 0
F15: =IFERROR(INDEX($AC$3:$AC$301,MATCH(ROW()-ROW($D$2),$AB$3:$AB$301,0)),"") -> Gjennomsnittlig gruppestørrelse | G15: =IF(F15="","",IF($A$3="FYL",INDEX($AR$3:$AR$269,MATCH(F15,$AC$3:$AC$269,0)),INDEX($AQ$3:$AQ$269,MATCH(F15,$AC$3:$AC$269,0)))) -> Skole | H15: {=IFERROR(INDEX($AD$3:$AD$301,MATCH(ROW()-ROW($D$2),$AB$3:$AB$301,0)),"")} -> SSB, tabell 12255 | I15: {=IFERROR(INDEX($AE$3:$AE$301,MATCH(ROW()-ROW($D$2),$AB$3:$AB$301,0)),"")} -> 2_prod/teneste | J15: =IFERROR(IF(INDEX(Hjelpefil!T$5:T$268,MATCH(BRUKERFLATE!$F15,Hjelpefil!$B$5:$B$268,0))=0,"",INDEX(Hjelpefil!T$5:T$268,MATCH(BRUKERFLATE!$F15,Hjelpefil!$B$5:$B$268,0))),"") | K15: =IFERROR(IF(INDEX(Hjelpefil!U$5:U$268,MATCH(BRUKERFLATE!$F15,Hjelpefil!$B$5:$B$268,0))=0,"",INDEX(Hjelpefil!U$5:U$268,MATCH(BRUKERFLATE!$F15,Hjelpefil!$B$5:$B$268,0))),"") | L15: =IFERROR(IF(INDEX(Hjelpefil!V$5:V$268,MATCH(BRUKERFLATE!$F15,Hjelpefil!$B$5:$B$268,0))=0,"",INDEX(Hjelpefil!V$5:V$268,MATCH(BRUKERFLATE!$F15,Hjelpefil!$B$5:$B$268,0))),"") | M15: =IFERROR(IF(INDEX(Hjelpefil!W$5:W$268,MATCH(BRUKERFLATE!$F15,Hjelpefil!$B$5:$B$268,0))=0,"",INDEX(Hjelpefil!W$5:W$268,MATCH(BRUKERFLATE!$F15,Hjelpefil!$B$5:$B$268,0))),"") -> 4 | N15: =IFERROR(IF(INDEX(Hjelpefil!X$5:X$268,MATCH(BRUKERFLATE!$F15,Hjelpefil!$B$5:$B$268,0))=0,"",INDEX(Hjelpefil!X$5:X$268,MATCH(BRUKERFLATE!$F15,Hjelpefil!$B$5:$B$268,0))),"") | O15: =IFERROR(IF(INDEX(Hjelpefil!Y$5:Y$268,MATCH(BRUKERFLATE!$F15,Hjelpefil!$B$5:$B$268,0))=0,"",INDEX(Hjelpefil!Y$5:Y$268,MATCH(BRUKERFLATE!$F15,Hjelpefil!$B$5:$B$268,0))),"") | P15: =IFERROR(IF(INDEX(Hjelpefil!Z$5:Z$268,MATCH(BRUKERFLATE!$F15,Hjelpefil!$B$5:$B$268,0))=0,"",INDEX(Hjelpefil!Z$5:Z$268,MATCH(BRUKERFLATE!$F15,Hjelpefil!$B$5:$B$268,0))),"") | Q15: =IFERROR(IF(INDEX(Hjelpefil!AA$5:AA$268,MATCH(BRUKERFLATE!$F15,Hjelpefil!$B$5:$B$268,0))=0,"",INDEX(Hjelpefil!AA$5:AA$268,MATCH(BRUKERFLATE!$F15,Hjelpefil!$B$5:$B$268,0))),"") | ... Z15: =IFERROR(IF(INDEX(Hjelpefil!AJ$5:AJ$268,MATCH(BRUKERFLATE!$F15,Hjelpefil!$B$5:$B$268,0))=0,"",INDEX(Hjelpefil!AJ$5:AJ$268,MATCH(BRUKERFLATE!$F15,Hjelpefil!$B$5:$B$268,0))),"") | AB15: =IF(AC15="","",MAX($AB$2:AB14)+1) -> 13 | AC15: =IF($A$3="KOM",IF(AND($AI15=1,$AH15=1),Hjelpefil!B17,""),IF($A$3="FYL",IF(AND($AW15=1,$AH15=1),Hjelpefil!B17,""),"")) -> Gjennomsnittlig gruppestørrelse | AD15: =IF($A$3="KOM",IF(AND($AI15=1,$AH15=1),Hjelpefil!C17,""),IF($A$3="FYL",IF(AND($AW15=1,$AH15=1),Hjelpefil!C17,""),"")) -> SSB, tabell 12255 | AE15: =IF($A$3="KOM",IF(AND($AI15=1,$AH15=1),Hjelpefil!F17,""),IF($A$3="FYL",IF(AND($AW15=1,$AH15=1),Hjelpefil!F17,""),"")) -> 2_prod/teneste | AF15: =IF(AND($AI15=1,$AH15=1),IF(AQ15="",AR15,AQ15),"") -> Skole | AH15: =IF(OR(AP15=$A$3,AP15="BEGGE"),1,0) -> 1 | AI15: =IF($B$3=$AJ$2,AJ15,IF($B$3=$AK$2,AK15,IF($B$3=$AL$2,AL15,IF($B$3=$AM$2,AM15,IF($B$3=$AN$2,AN15,IF($B$3=$AO$2,AO15)))))) -> 1 | AJ15: 1 | AK15: 0 | AL15: 0 | AM15: 0 | AN15: 0 | AO15: 0 | AP15: KOM | AQ15: =INDEX(Hjelpefil!H17:M17,MATCH(BRUKERFLATE!$B$3,BRUKERFLATE!$AV$4:$AV$9,0)) -> Skole | AR15: =INDEX(Hjelpefil!N17:S17,MATCH(BRUKERFLATE!$B$3,BRUKERFLATE!$AV$4:$AV$9,0)) -> 0 | AW15: =IF($B$3=$AJ$2,AX15,IF($B$3=$AK$2,AY15,IF($B$3=$AL$2,AZ15,IF($B$3=$AM$2,BA15,IF($B$3=$AN$2,BB15,IF($B$3=$AO$2,BC15)))))) -> 0 | AX15: 0 | AY15: 0 | AZ15: 0 | BA15: 0 | BB15: 0 | BC15: 0
F16: =IFERROR(INDEX($AC$3:$AC$301,MATCH(ROW()-ROW($D$2),$AB$3:$AB$301,0)),"") -> Nasjonale prøver, snittkarakter 8. trinn | G16: =IF(F16="","",IF($A$3="FYL",INDEX($AR$3:$AR$269,MATCH(F16,$AC$3:$AC$269,0)),INDEX($AQ$3:$AQ$269,MATCH(F16,$AC$3:$AC$269,0)))) -> Skole | H16: {=IFERROR(INDEX($AD$3:$AD$301,MATCH(ROW()-ROW($D$2),$AB$3:$AB$301,0)),"")} -> UDIR, Skoleporten, https://skoleporten.udir.no/# | I16: {=IFERROR(INDEX($AE$3:$AE$301,MATCH(ROW()-ROW($D$2),$AB$3:$AB$301,0)),"")} -> 3_brukereffekt | J16: =IFERROR(IF(INDEX(Hjelpefil!T$5:T$268,MATCH(BRUKERFLATE!$F16,Hjelpefil!$B$5:$B$268,0))=0,"",INDEX(Hjelpefil!T$5:T$268,MATCH(BRUKERFLATE!$F16,Hjelpefil!$B$5:$B$268,0))),"") | K16: =IFERROR(IF(INDEX(Hjelpefil!U$5:U$268,MATCH(BRUKERFLATE!$F16,Hjelpefil!$B$5:$B$268,0))=0,"",INDEX(Hjelpefil!U$5:U$268,MATCH(BRUKERFLATE!$F16,Hjelpefil!$B$5:$B$268,0))),"") | L16: =IFERROR(IF(INDEX(Hjelpefil!V$5:V$268,MATCH(BRUKERFLATE!$F16,Hjelpefil!$B$5:$B$268,0))=0,"",INDEX(Hjelpefil!V$5:V$268,MATCH(BRUKERFLATE!$F16,Hjelpefil!$B$5:$B$268,0))),"") | M16: =IFERROR(IF(INDEX(Hjelpefil!W$5:W$268,MATCH(BRUKERFLATE!$F16,Hjelpefil!$B$5:$B$268,0))=0,"",INDEX(Hjelpefil!W$5:W$268,MATCH(BRUKERFLATE!$F16,Hjelpefil!$B$5:$B$268,0))),"") -> 4 | N16: =IFERROR(IF(INDEX(Hjelpefil!X$5:X$268,MATCH(BRUKERFLATE!$F16,Hjelpefil!$B$5:$B$268,0))=0,"",INDEX(Hjelpefil!X$5:X$268,MATCH(BRUKERFLATE!$F16,Hjelpefil!$B$5:$B$268,0))),"") | O16: =IFERROR(IF(INDEX(Hjelpefil!Y$5:Y$268,MATCH(BRUKERFLATE!$F16,Hjelpefil!$B$5:$B$268,0))=0,"",INDEX(Hjelpefil!Y$5:Y$268,MATCH(BRUKERFLATE!$F16,Hjelpefil!$B$5:$B$268,0))),"") | P16: =IFERROR(IF(INDEX(Hjelpefil!Z$5:Z$268,MATCH(BRUKERFLATE!$F16,Hjelpefil!$B$5:$B$268,0))=0,"",INDEX(Hjelpefil!Z$5:Z$268,MATCH(BRUKERFLATE!$F16,Hjelpefil!$B$5:$B$268,0))),"") | Q16: =IFERROR(IF(INDEX(Hjelpefil!AA$5:AA$268,MATCH(BRUKERFLATE!$F16,Hjelpefil!$B$5:$B$268,0))=0,"",INDEX(Hjelpefil!AA$5:AA$268,MATCH(BRUKERFLATE!$F16,Hjelpefil!$B$5:$B$268,0))),"") | ... Z16: =IFERROR(IF(INDEX(Hjelpefil!AJ$5:AJ$268,MATCH(BRUKERFLATE!$F16,Hjelpefil!$B$5:$B$268,0))=0,"",INDEX(Hjelpefil!AJ$5:AJ$268,MATCH(BRUKERFLATE!$F16,Hjelpefil!$B$5:$B$268,0))),"") | AB16: =IF(AC16="","",MAX($AB$2:AB15)+1) -> 14 | AC16: =IF($A$3="KOM",IF(AND($AI16=1,$AH16=1),Hjelpefil!B18,""),IF($A$3="FYL",IF(AND($AW16=1,$AH16=1),Hjelpefil!B18,""),"")) -> Nasjonale prøver, snittkarakter 8. trinn | AD16: =IF($A$3="KOM",IF(AND($AI16=1,$AH16=1),Hjelpefil!C18,""),IF($A$3="FYL",IF(AND($AW16=1,$AH16=1),Hjelpefil!C18,""),"")) -> UDIR, Skoleporten, https://skoleporten.udir.no/# | AE16: =IF($A$3="KOM",IF(AND($AI16=1,$AH16=1),Hjelpefil!F18,""),IF($A$3="FYL",IF(AND($AW16=1,$AH16=1),Hjelpefil!F18,""),"")) -> 3_brukereffekt | AF16: =IF(AND($AI16=1,$AH16=1),IF(AQ16="",AR16,AQ16),"") -> Skole | AH16: =IF(OR(AP16=$A$3,AP16="BEGGE"),1,0) -> 1 | AI16: =IF($B$3=$AJ$2,AJ16,IF($B$3=$AK$2,AK16,IF($B$3=$AL$2,AL16,IF($B$3=$AM$2,AM16,IF($B$3=$AN$2,AN16,IF($B$3=$AO$2,AO16)))))) -> 1 | AJ16: 1 | AK16: 0 | AL16: 0 | AM16: 0 | AN16: 0 | AO16: 0 | AP16: KOM | AQ16: =INDEX(Hjelpefil!H18:M18,MATCH(BRUKERFLATE!$B$3,BRUKERFLATE!$AV$4:$AV$9,0)) -> Skole | AR16: =INDEX(Hjelpefil!N18:S18,MATCH(BRUKERFLATE!$B$3,BRUKERFLATE!$AV$4:$AV$9,0)) -> 0 | AW16: =IF($B$3=$AJ$2,AX16,IF($B$3=$AK$2,AY16,IF($B$3=$AL$2,AZ16,IF($B$3=$AM$2,BA16,IF($B$3=$AN$2,BB16,IF($B$3=$AO$2,BC16)))))) -> 0 | AX16: 0 | AY16: 0 | AZ16: 0 | BA16: 0 | BB16: 0 | BC16: 0
F17: =IFERROR(INDEX($AC$3:$AC$301,MATCH(ROW()-ROW($D$2),$AB$3:$AB$301,0)),"") -> Trivsel, 7. trinn, indeks (1-5) | G17: =IF(F17="","",IF($A$3="FYL",INDEX($AR$3:$AR$269,MATCH(F17,$AC$3:$AC$269,0)),INDEX($AQ$3:$AQ$269,MATCH(F17,$AC$3:$AC$269,0)))) -> Skole | H17: {=IFERROR(INDEX($AD$3:$AD$301,MATCH(ROW()-ROW($D$2),$AB$3:$AB$301,0)),"")} -> UDIR, Skoleporten, https://skoleporten.udir.no/# | I17: {=IFERROR(INDEX($AE$3:$AE$301,MATCH(ROW()-ROW($D$2),$AB$3:$AB$301,0)),"")} -> 3_brukereffekt | J17: =IFERROR(IF(INDEX(Hjelpefil!T$5:T$268,MATCH(BRUKERFLATE!$F17,Hjelpefil!$B$5:$B$268,0))=0,"",INDEX(Hjelpefil!T$5:T$268,MATCH(BRUKERFLATE!$F17,Hjelpefil!$B$5:$B$268,0))),"") | K17: =IFERROR(IF(INDEX(Hjelpefil!U$5:U$268,MATCH(BRUKERFLATE!$F17,Hjelpefil!$B$5:$B$268,0))=0,"",INDEX(Hjelpefil!U$5:U$268,MATCH(BRUKERFLATE!$F17,Hjelpefil!$B$5:$B$268,0))),"") | L17: =IFERROR(IF(INDEX(Hjelpefil!V$5:V$268,MATCH(BRUKERFLATE!$F17,Hjelpefil!$B$5:$B$268,0))=0,"",INDEX(Hjelpefil!V$5:V$268,MATCH(BRUKERFLATE!$F17,Hjelpefil!$B$5:$B$268,0))),"") | M17: =IFERROR(IF(INDEX(Hjelpefil!W$5:W$268,MATCH(BRUKERFLATE!$F17,Hjelpefil!$B$5:$B$268,0))=0,"",INDEX(Hjelpefil!W$5:W$268,MATCH(BRUKERFLATE!$F17,Hjelpefil!$B$5:$B$268,0))),"") -> 4 | N17: =IFERROR(IF(INDEX(Hjelpefil!X$5:X$268,MATCH(BRUKERFLATE!$F17,Hjelpefil!$B$5:$B$268,0))=0,"",INDEX(Hjelpefil!X$5:X$268,MATCH(BRUKERFLATE!$F17,Hjelpefil!$B$5:$B$268,0))),"") | O17: =IFERROR(IF(INDEX(Hjelpefil!Y$5:Y$268,MATCH(BRUKERFLATE!$F17,Hjelpefil!$B$5:$B$268,0))=0,"",INDEX(Hjelpefil!Y$5:Y$268,MATCH(BRUKERFLATE!$F17,Hjelpefil!$B$5:$B$268,0))),"") | P17: =IFERROR(IF(INDEX(Hjelpefil!Z$5:Z$268,MATCH(BRUKERFLATE!$F17,Hjelpefil!$B$5:$B$268,0))=0,"",INDEX(Hjelpefil!Z$5:Z$268,MATCH(BRUKERFLATE!$F17,Hjelpefil!$B$5:$B$268,0))),"") | Q17: =IFERROR(IF(INDEX(Hjelpefil!AA$5:AA$268,MATCH(BRUKERFLATE!$F17,Hjelpefil!$B$5:$B$268,0))=0,"",INDEX(Hjelpefil!AA$5:AA$268,MATCH(BRUKERFLATE!$F17,Hjelpefil!$B$5:$B$268,0))),"") | ... Z17: =IFERROR(IF(INDEX(Hjelpefil!AJ$5:AJ$268,MATCH(BRUKERFLATE!$F17,Hjelpefil!$B$5:$B$268,0))=0,"",INDEX(Hjelpefil!AJ$5:AJ$268,MATCH(BRUKERFLATE!$F17,Hjelpefil!$B$5:$B$268,0))),"") | AB17: =IF(AC17="","",MAX($AB$2:AB16)+1) -> 15 | AC17: =IF($A$3="KOM",IF(AND($AI17=1,$AH17=1),Hjelpefil!B19,""),IF($A$3="FYL",IF(AND($AW17=1,$AH17=1),Hjelpefil!B19,""),"")) -> Trivsel, 7. trinn, indeks (1-5) | AD17: =IF($A$3="KOM",IF(AND($AI17=1,$AH17=1),Hjelpefil!C19,""),IF($A$3="FYL",IF(AND($AW17=1,$AH17=1),Hjelpefil!C19,""),"")) -> UDIR, Skoleporten, https://skoleporten.udir.no/# | AE17: =IF($A$3="KOM",IF(AND($AI17=1,$AH17=1),Hjelpefil!F19,""),IF($A$3="FYL",IF(AND($AW17=1,$AH17=1),Hjelpefil!F19,""),"")) -> 3_brukereffekt | AF17: =IF(AND($AI17=1,$AH17=1),IF(AQ17="",AR17,AQ17),"") -> Skole | AH17: =IF(OR(AP17=$A$3,AP17="BEGGE"),1,0) -> 1 | AI17: =IF($B$3=$AJ$2,AJ17,IF($B$3=$AK$2,AK17,IF($B$3=$AL$2,AL17,IF($B$3=$AM$2,AM17,IF($B$3=$AN$2,AN17,IF($B$3=$AO$2,AO17)))))) -> 1 | AJ17: 1 | AK17: 0 | AL17: 0 | AM17: 0 | AN17: 0 | AO17: 0 | AP17: KOM | AQ17: =INDEX(Hjelpefil!H19:M19,MATCH(BRUKERFLATE!$B$3,BRUKERFLATE!$AV$4:$AV$9,0)) -> Skole | AR17: =INDEX(Hjelpefil!N19:S19,MATCH(BRUKERFLATE!$B$3,BRUKERFLATE!$AV$4:$AV$9,0)) -> 0 | AW17: =IF($B$3=$AJ$2,AX17,IF($B$3=$AK$2,AY17,IF($B$3=$AL$2,AZ17,IF($B$3=$AM$2,BA17,IF($B$3=$AN$2,BB17,IF($B$3=$AO$2,BC17)))))) -> 0 | AX17: 0 | AY17: 0 | AZ17: 0 | BA17: 0 | BB17: 0 | BC17: 0
F18: =IFERROR(INDEX($AC$3:$AC$301,MATCH(ROW()-ROW($D$2),$AB$3:$AB$301,0)),"") -> Mobbing på skolen, 7. trinn, indeks (1-5) | G18: =IF(F18="","",IF($A$3="FYL",INDEX($AR$3:$AR$269,MATCH(F18,$AC$3:$AC$269,0)),INDEX($AQ$3:$AQ$269,MATCH(F18,$AC$3:$AC$269,0)))) -> Skole | H18: {=IFERROR(INDEX($AD$3:$AD$301,MATCH(ROW()-ROW($D$2),$AB$3:$AB$301,0)),"")} -> UDIR, Skoleporten, https://skoleporten.udir.no/# | I18: {=IFERROR(INDEX($AE$3:$AE$301,MATCH(ROW()-ROW($D$2),$AB$3:$AB$301,0)),"")} -> 3_brukereffekt | J18: =IFERROR(IF(INDEX(Hjelpefil!T$5:T$268,MATCH(BRUKERFLATE!$F18,Hjelpefil!$B$5:$B$268,0))=0,"",INDEX(Hjelpefil!T$5:T$268,MATCH(BRUKERFLATE!$F18,Hjelpefil!$B$5:$B$268,0))),"") | K18: =IFERROR(IF(INDEX(Hjelpefil!U$5:U$268,MATCH(BRUKERFLATE!$F18,Hjelpefil!$B$5:$B$268,0))=0,"",INDEX(Hjelpefil!U$5:U$268,MATCH(BRUKERFLATE!$F18,Hjelpefil!$B$5:$B$268,0))),"") | L18: =IFERROR(IF(INDEX(Hjelpefil!V$5:V$268,MATCH(BRUKERFLATE!$F18,Hjelpefil!$B$5:$B$268,0))=0,"",INDEX(Hjelpefil!V$5:V$268,MATCH(BRUKERFLATE!$F18,Hjelpefil!$B$5:$B$268,0))),"") | M18: =IFERROR(IF(INDEX(Hjelpefil!W$5:W$268,MATCH(BRUKERFLATE!$F18,Hjelpefil!$B$5:$B$268,0))=0,"",INDEX(Hjelpefil!W$5:W$268,MATCH(BRUKERFLATE!$F18,Hjelpefil!$B$5:$B$268,0))),"") -> 4 | N18: =IFERROR(IF(INDEX(Hjelpefil!X$5:X$268,MATCH(BRUKERFLATE!$F18,Hjelpefil!$B$5:$B$268,0))=0,"",INDEX(Hjelpefil!X$5:X$268,MATCH(BRUKERFLATE!$F18,Hjelpefil!$B$5:$B$268,0))),"") | O18: =IFERROR(IF(INDEX(Hjelpefil!Y$5:Y$268,MATCH(BRUKERFLATE!$F18,Hjelpefil!$B$5:$B$268,0))=0,"",INDEX(Hjelpefil!Y$5:Y$268,MATCH(BRUKERFLATE!$F18,Hjelpefil!$B$5:$B$268,0))),"") | P18: =IFERROR(IF(INDEX(Hjelpefil!Z$5:Z$268,MATCH(BRUKERFLATE!$F18,Hjelpefil!$B$5:$B$268,0))=0,"",INDEX(Hjelpefil!Z$5:Z$268,MATCH(BRUKERFLATE!$F18,Hjelpefil!$B$5:$B$268,0))),"") | Q18: =IFERROR(IF(INDEX(Hjelpefil!AA$5:AA$268,MATCH(BRUKERFLATE!$F18,Hjelpefil!$B$5:$B$268,0))=0,"",INDEX(Hjelpefil!AA$5:AA$268,MATCH(BRUKERFLATE!$F18,Hjelpefil!$B$5:$B$268,0))),"") | ... Z18: =IFERROR(IF(INDEX(Hjelpefil!AJ$5:AJ$268,MATCH(BRUKERFLATE!$F18,Hjelpefil!$B$5:$B$268,0))=0,"",INDEX(Hjelpefil!AJ$5:AJ$268,MATCH(BRUKERFLATE!$F18,Hjelpefil!$B$5:$B$268,0))),"") | AB18: =IF(AC18="","",MAX($AB$2:AB17)+1) -> 16 | AC18: =IF($A$3="KOM",IF(AND($AI18=1,$AH18=1),Hjelpefil!B20,""),IF($A$3="FYL",IF(AND($AW18=1,$AH18=1),Hjelpefil!B20,""),"")) -> Mobbing på skolen, 7. trinn, indeks (1-5) | AD18: =IF($A$3="KOM",IF(AND($AI18=1,$AH18=1),Hjelpefil!C20,""),IF($A$3="FYL",IF(AND($AW18=1,$AH18=1),Hjelpefil!C20,""),"")) -> UDIR, Skoleporten, https://skoleporten.udir.no/# | AE18: =IF($A$3="KOM",IF(AND($AI18=1,$AH18=1),Hjelpefil!F20,""),IF($A$3="FYL",IF(AND($AW18=1,$AH18=1),Hjelpefil!F20,""),"")) -> 3_brukereffekt | AF18: =IF(AND($AI18=1,$AH18=1),IF(AQ18="",AR18,AQ18),"") -> Skole | AH18: =IF(OR(AP18=$A$3,AP18="BEGGE"),1,0) -> 1 | AI18: =IF($B$3=$AJ$2,AJ18,IF($B$3=$AK$2,AK18,IF($B$3=$AL$2,AL18,IF($B$3=$AM$2,AM18,IF($B$3=$AN$2,AN18,IF($B$3=$AO$2,AO18)))))) -> 1 | AJ18: 1 | AK18: 0 | AL18: 0 | AM18: 0 | AN18: 0 | AO18: 0 | AP18: KOM | AQ18: =INDEX(Hjelpefil!H20:M20,MATCH(BRUKERFLATE!$B$3,BRUKERFLATE!$AV$4:$AV$9,0)) -> Skole | AR18: =INDEX(Hjelpefil!N20:S20,MATCH(BRUKERFLATE!$B$3,BRUKERFLATE!$AV$4:$AV$9,0)) -> 0 | AW18: =IF($B$3=$AJ$2,AX18,IF($B$3=$AK$2,AY18,IF($B$3=$AL$2,AZ18,IF($B$3=$AM$2,BA18,IF($B$3=$AN$2,BB18,IF($B$3=$AO$2,BC18)))))) -> 0 | AX18: 0 | AY18: 0 | AZ18: 0 | BA18: 0 | BB18: 0 | BC18: 0
F19: =IFERROR(INDEX($AC$3:$AC$301,MATCH(ROW()-ROW($D$2),$AB$3:$AB$301,0)),"") -> Læringsmiljø: Elevdemokrati og medvirkning, 7. trinn, indeks (1-5) | G19: =IF(F19="","",IF($A$3="FYL",INDEX($AR$3:$AR$269,MATCH(F19,$AC$3:$AC$269,0)),INDEX($AQ$3:$AQ$269,MATCH(F19,$AC$3:$AC$269,0)))) -> Skole | H19: {=IFERROR(INDEX($AD$3:$AD$301,MATCH(ROW()-ROW($D$2),$AB$3:$AB$301,0)),"")} -> UDIR, Skoleporten, https://skoleporten.udir.no/# | I19: {=IFERROR(INDEX($AE$3:$AE$301,MATCH(ROW()-ROW($D$2),$AB$3:$AB$301,0)),"")} -> 3_brukereffekt | J19: =IFERROR(IF(INDEX(Hjelpefil!T$5:T$268,MATCH(BRUKERFLATE!$F19,Hjelpefil!$B$5:$B$268,0))=0,"",INDEX(Hjelpefil!T$5:T$268,MATCH(BRUKERFLATE!$F19,Hjelpefil!$B$5:$B$268,0))),"") | K19: =IFERROR(IF(INDEX(Hjelpefil!U$5:U$268,MATCH(BRUKERFLATE!$F19,Hjelpefil!$B$5:$B$268,0))=0,"",INDEX(Hjelpefil!U$5:U$268,MATCH(BRUKERFLATE!$F19,Hjelpefil!$B$5:$B$268,0))),"") | L19: =IFERROR(IF(INDEX(Hjelpefil!V$5:V$268,MATCH(BRUKERFLATE!$F19,Hjelpefil!$B$5:$B$268,0))=0,"",INDEX(Hjelpefil!V$5:V$268,MATCH(BRUKERFLATE!$F19,Hjelpefil!$B$5:$B$268,0))),"") | M19: =IFERROR(IF(INDEX(Hjelpefil!W$5:W$268,MATCH(BRUKERFLATE!$F19,Hjelpefil!$B$5:$B$268,0))=0,"",INDEX(Hjelpefil!W$5:W$268,MATCH(BRUKERFLATE!$F19,Hjelpefil!$B$5:$B$268,0))),"") -> 4 | N19: =IFERROR(IF(INDEX(Hjelpefil!X$5:X$268,MATCH(BRUKERFLATE!$F19,Hjelpefil!$B$5:$B$268,0))=0,"",INDEX(Hjelpefil!X$5:X$268,MATCH(BRUKERFLATE!$F19,Hjelpefil!$B$5:$B$268,0))),"") | O19: =IFERROR(IF(INDEX(Hjelpefil!Y$5:Y$268,MATCH(BRUKERFLATE!$F19,Hjelpefil!$B$5:$B$268,0))=0,"",INDEX(Hjelpefil!Y$5:Y$268,MATCH(BRUKERFLATE!$F19,Hjelpefil!$B$5:$B$268,0))),"") | P19: =IFERROR(IF(INDEX(Hjelpefil!Z$5:Z$268,MATCH(BRUKERFLATE!$F19,Hjelpefil!$B$5:$B$268,0))=0,"",INDEX(Hjelpefil!Z$5:Z$268,MATCH(BRUKERFLATE!$F19,Hjelpefil!$B$5:$B$268,0))),"") | Q19: =IFERROR(IF(INDEX(Hjelpefil!AA$5:AA$268,MATCH(BRUKERFLATE!$F19,Hjelpefil!$B$5:$B$268,0))=0,"",INDEX(Hjelpefil!AA$5:AA$268,MATCH(BRUKERFLATE!$F19,Hjelpefil!$B$5:$B$268,0))),"") | ... Z19: =IFERROR(IF(INDEX(Hjelpefil!AJ$5:AJ$268,MATCH(BRUKERFLATE!$F19,Hjelpefil!$B$5:$B$268,0))=0,"",INDEX(Hjelpefil!AJ$5:AJ$268,MATCH(BRUKERFLATE!$F19,Hjelpefil!$B$5:$B$268,0))),"") | AB19: =IF(AC19="","",MAX($AB$2:AB18)+1) -> 17 | AC19: =IF($A$3="KOM",IF(AND($AI19=1,$AH19=1),Hjelpefil!B21,""),IF($A$3="FYL",IF(AND($AW19=1,$AH19=1),Hjelpefil!B21,""),"")) -> Læringsmiljø: Elevdemokrati og medvirkning, 7. trinn, indeks (1-5) | AD19: =IF($A$3="KOM",IF(AND($AI19=1,$AH19=1),Hjelpefil!C21,""),IF($A$3="FYL",IF(AND($AW19=1,$AH19=1),Hjelpefil!C21,""),"")) -> UDIR, Skoleporten, https://skoleporten.udir.no/# | AE19: =IF($A$3="KOM",IF(AND($AI19=1,$AH19=1),Hjelpefil!F21,""),IF($A$3="FYL",IF(AND($AW19=1,$AH19=1),Hjelpefil!F21,""),"")) -> 3_brukereffekt | AF19: =IF(AND($AI19=1,$AH19=1),IF(AQ19="",AR19,AQ19),"") -> Skole | AH19: =IF(OR(AP19=$A$3,AP19="BEGGE"),1,0) -> 1 | AI19: =IF($B$3=$AJ$2,AJ19,IF($B$3=$AK$2,AK19,IF($B$3=$AL$2,AL19,IF($B$3=$AM$2,AM19,IF($B$3=$AN$2,AN19,IF($B$3=$AO$2,AO19)))))) -> 1 | AJ19: 1 | AK19: 0 | AL19: 0 | AM19: 0 | AN19: 0 | AO19: 0 | AP19: KOM | AQ19: =INDEX(Hjelpefil!H21:M21,MATCH(BRUKERFLATE!$B$3,BRUKERFLATE!$AV$4:$AV$9,0)) -> Skole | AR19: =INDEX(Hjelpefil!N21:S21,MATCH(BRUKERFLATE!$B$3,BRUKERFLATE!$AV$4:$AV$9,0)) -> 0 | AW19: =IF($B$3=$AJ$2,AX19,IF($B$3=$AK$2,AY19,IF($B$3=$AL$2,AZ19,IF($B$3=$AM$2,BA19,IF($B$3=$AN$2,BB19,IF($B$3=$AO$2,BC19)))))) -> 0 | AX19: 0 | AY19: 0 | AZ19: 0 | BA19: 0 | BB19: 0 | BC19: 0
F20: =IFERROR(INDEX($AC$3:$AC$301,MATCH(ROW()-ROW($D$2),$AB$3:$AB$301,0)),"") -> Gjennomsnittlige grunnskolepoeng | G20: =IF(F20="","",IF($A$3="FYL",INDEX($AR$3:$AR$269,MATCH(F20,$AC$3:$AC$269,0)),INDEX($AQ$3:$AQ$269,MATCH(F20,$AC$3:$AC$269,0)))) -> Skole | H20: {=IFERROR(INDEX($AD$3:$AD$301,MATCH(ROW()-ROW($D$2),$AB$3:$AB$301,0)),"")} -> SSB, tabell 12255, 12232 | I20: {=IFERROR(INDEX($AE$3:$AE$301,MATCH(ROW()-ROW($D$2),$AB$3:$AB$301,0)),"")} -> 3_brukereffekt | J20: =IFERROR(IF(INDEX(Hjelpefil!T$5:T$268,MATCH(BRUKERFLATE!$F20,Hjelpefil!$B$5:$B$268,0))=0,"",INDEX(Hjelpefil!T$5:T$268,MATCH(BRUKERFLATE!$F20,Hjelpefil!$B$5:$B$268,0))),"") | K20: =IFERROR(IF(INDEX(Hjelpefil!U$5:U$268,MATCH(BRUKERFLATE!$F20,Hjelpefil!$B$5:$B$268,0))=0,"",INDEX(Hjelpefil!U$5:U$268,MATCH(BRUKERFLATE!$F20,Hjelpefil!$B$5:$B$268,0))),"") | L20: =IFERROR(IF(INDEX(Hjelpefil!V$5:V$268,MATCH(BRUKERFLATE!$F20,Hjelpefil!$B$5:$B$268,0))=0,"",INDEX(Hjelpefil!V$5:V$268,MATCH(BRUKERFLATE!$F20,Hjelpefil!$B$5:$B$268,0))),"") | M20: =IFERROR(IF(INDEX(Hjelpefil!W$5:W$268,MATCH(BRUKERFLATE!$F20,Hjelpefil!$B$5:$B$268,0))=0,"",INDEX(Hjelpefil!W$5:W$268,MATCH(BRUKERFLATE!$F20,Hjelpefil!$B$5:$B$268,0))),"") -> 4 | N20: =IFERROR(IF(INDEX(Hjelpefil!X$5:X$268,MATCH(BRUKERFLATE!$F20,Hjelpefil!$B$5:$B$268,0))=0,"",INDEX(Hjelpefil!X$5:X$268,MATCH(BRUKERFLATE!$F20,Hjelpefil!$B$5:$B$268,0))),"") | O20: =IFERROR(IF(INDEX(Hjelpefil!Y$5:Y$268,MATCH(BRUKERFLATE!$F20,Hjelpefil!$B$5:$B$268,0))=0,"",INDEX(Hjelpefil!Y$5:Y$268,MATCH(BRUKERFLATE!$F20,Hjelpefil!$B$5:$B$268,0))),"") | P20: =IFERROR(IF(INDEX(Hjelpefil!Z$5:Z$268,MATCH(BRUKERFLATE!$F20,Hjelpefil!$B$5:$B$268,0))=0,"",INDEX(Hjelpefil!Z$5:Z$268,MATCH(BRUKERFLATE!$F20,Hjelpefil!$B$5:$B$268,0))),"") | Q20: =IFERROR(IF(INDEX(Hjelpefil!AA$5:AA$268,MATCH(BRUKERFLATE!$F20,Hjelpefil!$B$5:$B$268,0))=0,"",INDEX(Hjelpefil!AA$5:AA$268,MATCH(BRUKERFLATE!$F20,Hjelpefil!$B$5:$B$268,0))),"") | ... Z20: =IFERROR(IF(INDEX(Hjelpefil!AJ$5:AJ$268,MATCH(BRUKERFLATE!$F20,Hjelpefil!$B$5:$B$268,0))=0,"",INDEX(Hjelpefil!AJ$5:AJ$268,MATCH(BRUKERFLATE!$F20,Hjelpefil!$B$5:$B$268,0))),"") | AB20: =IF(AC20="","",MAX($AB$2:AB19)+1) -> 18 | AC20: =IF($A$3="KOM",IF(AND($AI20=1,$AH20=1),Hjelpefil!B22,""),IF($A$3="FYL",IF(AND($AW20=1,$AH20=1),Hjelpefil!B22,""),"")) -> Gjennomsnittlige grunnskolepoeng | AD20: =IF($A$3="KOM",IF(AND($AI20=1,$AH20=1),Hjelpefil!C22,""),IF($A$3="FYL",IF(AND($AW20=1,$AH20=1),Hjelpefil!C22,""),"")) -> SSB, tabell 12255, 12232 | AE20: =IF($A$3="KOM",IF(AND($AI20=1,$AH20=1),Hjelpefil!F22,""),IF($A$3="FYL",IF(AND($AW20=1,$AH20=1),Hjelpefil!F22,""),"")) -> 3_brukereffekt | AF20: =IF(AND($AI20=1,$AH20=1),IF(AQ20="",AR20,AQ20),"") -> Skole | AH20: =IF(OR(AP20=$A$3,AP20="BEGGE"),1,0) -> 1 | AI20: =IF($B$3=$AJ$2,AJ20,IF($B$3=$AK$2,AK20,IF($B$3=$AL$2,AL20,IF($B$3=$AM$2,AM20,IF($B$3=$AN$2,AN20,IF($B$3=$AO$2,AO20)))))) -> 1 | AJ20: 1 | AK20: 0 | AL20: 0 | AM20: 0 | AN20: 0 | AO20: 0 | AP20: KOM | AQ20: =INDEX(Hjelpefil!H22:M22,MATCH(BRUKERFLATE!$B$3,BRUKERFLATE!$AV$4:$AV$9,0)) -> Skole | AR20: =INDEX(Hjelpefil!N22:S22,MATCH(BRUKERFLATE!$B$3,BRUKERFLATE!$AV$4:$AV$9,0)) -> 0 | AW20: =IF($B$3=$AJ$2,AX20,IF($B$3=$AK$2,AY20,IF($B$3=$AL$2,AZ20,IF($B$3=$AM$2,BA20,IF($B$3=$AN$2,BB20,IF($B$3=$AO$2,BC20)))))) -> 0 | AX20: 0 | AY20: 0 | AZ20: 0 | BA20: 0 | BB20: 0 | BC20: 0
F21: =IFERROR(INDEX($AC$3:$AC$301,MATCH(ROW()-ROW($D$2),$AB$3:$AB$301,0)),"") -> Nasjonale prøver, snittkarakter 5. trinn | G21: =IF(F21="","",IF($A$3="FYL",INDEX($AR$3:$AR$269,MATCH(F21,$AC$3:$AC$269,0)),INDEX($AQ$3:$AQ$269,MATCH(F21,$AC$3:$AC$269,0)))) -> Skole | H21: {=IFERROR(INDEX($AD$3:$AD$301,MATCH(ROW()-ROW($D$2),$AB$3:$AB$301,0)),"")} -> UDIR, Skoleporten, https://skoleporten.udir.no/# | I21: {=IFERROR(INDEX($AE$3:$AE$301,MATCH(ROW()-ROW($D$2),$AB$3:$AB$301,0)),"")} -> 3_brukereffekt | J21: =IFERROR(IF(INDEX(Hjelpefil!T$5:T$268,MATCH(BRUKERFLATE!$F21,Hjelpefil!$B$5:$B$268,0))=0,"",INDEX(Hjelpefil!T$5:T$268,MATCH(BRUKERFLATE!$F21,Hjelpefil!$B$5:$B$268,0))),"") | K21: =IFERROR(IF(INDEX(Hjelpefil!U$5:U$268,MATCH(BRUKERFLATE!$F21,Hjelpefil!$B$5:$B$268,0))=0,"",INDEX(Hjelpefil!U$5:U$268,MATCH(BRUKERFLATE!$F21,Hjelpefil!$B$5:$B$268,0))),"") | L21: =IFERROR(IF(INDEX(Hjelpefil!V$5:V$268,MATCH(BRUKERFLATE!$F21,Hjelpefil!$B$5:$B$268,0))=0,"",INDEX(Hjelpefil!V$5:V$268,MATCH(BRUKERFLATE!$F21,Hjelpefil!$B$5:$B$268,0))),"") | M21: =IFERROR(IF(INDEX(Hjelpefil!W$5:W$268,MATCH(BRUKERFLATE!$F21,Hjelpefil!$B$5:$B$268,0))=0,"",INDEX(Hjelpefil!W$5:W$268,MATCH(BRUKERFLATE!$F21,Hjelpefil!$B$5:$B$268,0))),"") -> 4 | N21: =IFERROR(IF(INDEX(Hjelpefil!X$5:X$268,MATCH(BRUKERFLATE!$F21,Hjelpefil!$B$5:$B$268,0))=0,"",INDEX(Hjelpefil!X$5:X$268,MATCH(BRUKERFLATE!$F21,Hjelpefil!$B$5:$B$268,0))),"") | O21: =IFERROR(IF(INDEX(Hjelpefil!Y$5:Y$268,MATCH(BRUKERFLATE!$F21,Hjelpefil!$B$5:$B$268,0))=0,"",INDEX(Hjelpefil!Y$5:Y$268,MATCH(BRUKERFLATE!$F21,Hjelpefil!$B$5:$B$268,0))),"") | P21: =IFERROR(IF(INDEX(Hjelpefil!Z$5:Z$268,MATCH(BRUKERFLATE!$F21,Hjelpefil!$B$5:$B$268,0))=0,"",INDEX(Hjelpefil!Z$5:Z$268,MATCH(BRUKERFLATE!$F21,Hjelpefil!$B$5:$B$268,0))),"") | Q21: =IFERROR(IF(INDEX(Hjelpefil!AA$5:AA$268,MATCH(BRUKERFLATE!$F21,Hjelpefil!$B$5:$B$268,0))=0,"",INDEX(Hjelpefil!AA$5:AA$268,MATCH(BRUKERFLATE!$F21,Hjelpefil!$B$5:$B$268,0))),"") | ... Z21: =IFERROR(IF(INDEX(Hjelpefil!AJ$5:AJ$268,MATCH(BRUKERFLATE!$F21,Hjelpefil!$B$5:$B$268,0))=0,"",INDEX(Hjelpefil!AJ$5:AJ$268,MATCH(BRUKERFLATE!$F21,Hjelpefil!$B$5:$B$268,0))),"") | AB21: =IF(AC21="","",MAX($AB$2:AB20)+1) -> 19 | AC21: =IF($A$3="KOM",IF(AND($AI21=1,$AH21=1),Hjelpefil!B23,""),IF($A$3="FYL",IF(AND($AW21=1,$AH21=1),Hjelpefil!B23,""),"")) -> Nasjonale prøver, snittkarakter 5. trinn | AD21: =IF($A$3="KOM",IF(AND($AI21=1,$AH21=1),Hjelpefil!C23,""),IF($A$3="FYL",IF(AND($AW21=1,$AH21=1),Hjelpefil!C23,""),"")) -> UDIR, Skoleporten, https://skoleporten.udir.no/# | AE21: =IF($A$3="KOM",IF(AND($AI21=1,$AH21=1),Hjelpefil!F23,""),IF($A$3="FYL",IF(AND($AW21=1,$AH21=1),Hjelpefil!F23,""),"")) -> 3_brukereffekt | AF21: =IF(AND($AI21=1,$AH21=1),IF(AQ21="",AR21,AQ21),"") -> Skole | AH21: =IF(OR(AP21=$A$3,AP21="BEGGE"),1,0) -> 1 | AI21: =IF($B$3=$AJ$2,AJ21,IF($B$3=$AK$2,AK21,IF($B$3=$AL$2,AL21,IF($B$3=$AM$2,AM21,IF($B$3=$AN$2,AN21,IF($B$3=$AO$2,AO21)))))) -> 1 | AJ21: 1 | AK21: 0 | AL21: 0 | AM21: 0 | AN21: 0 | AO21: 0 | AP21: KOM | AQ21: =INDEX(Hjelpefil!H23:M23,MATCH(BRUKERFLATE!$B$3,BRUKERFLATE!$AV$4:$AV$9,0)) -> Skole | AR21: =INDEX(Hjelpefil!N23:S23,MATCH(BRUKERFLATE!$B$3,BRUKERFLATE!$AV$4:$AV$9,0)) -> 0 | AW21: =IF($B$3=$AJ$2,AX21,IF($B$3=$AK$2,AY21,IF($B$3=$AL$2,AZ21,IF($B$3=$AM$2,BA21,IF($B$3=$AN$2,BB21,IF($B$3=$AO$2,BC21)))))) -> 0 | AX21: 0 | AY21: 0 | AZ21: 0 | BA21: 0 | BB21: 0 | BC21: 0
... F167: =IFERROR(INDEX($AC$3:$AC$301,MATCH(ROW()-ROW($D$2),$AB$3:$AB$301,0)),"") | G167: =IF(F167="","",IF($A$3="FYL",INDEX($AR$3:$AR$269,MATCH(F167,$AC$3:$AC$269,0)),INDEX($AQ$3:$AQ$269,MATCH(F167,$AC$3:$AC$269,0)))) | H167: {=IFERROR(INDEX($AD$3:$AD$301,MATCH(ROW()-ROW($D$2),$AB$3:$AB$301,0)),"")} | I167: {=IFERROR(INDEX($AE$3:$AE$301,MATCH(ROW()-ROW($D$2),$AB$3:$AB$301,0)),"")} | J167: =IFERROR(IF(INDEX(Hjelpefil!T$5:T$268,MATCH(BRUKERFLATE!$F167,Hjelpefil!$B$5:$B$268,0))=0,"",INDEX(Hjelpefil!T$5:T$268,MATCH(BRUKERFLATE!$F167,Hjelpefil!$B$5:$B$268,0))),"") | K167: =IFERROR(IF(INDEX(Hjelpefil!U$5:U$268,MATCH(BRUKERFLATE!$F167,Hjelpefil!$B$5:$B$268,0))=0,"",INDEX(Hjelpefil!U$5:U$268,MATCH(BRUKERFLATE!$F167,Hjelpefil!$B$5:$B$268,0))),"") | L167: =IFERROR(IF(INDEX(Hjelpefil!V$5:V$268,MATCH(BRUKERFLATE!$F167,Hjelpefil!$B$5:$B$268,0))=0,"",INDEX(Hjelpefil!V$5:V$268,MATCH(BRUKERFLATE!$F167,Hjelpefil!$B$5:$B$268,0))),"") | M167: =IFERROR(IF(INDEX(Hjelpefil!W$5:W$268,MATCH(BRUKERFLATE!$F167,Hjelpefil!$B$5:$B$268,0))=0,"",INDEX(Hjelpefil!W$5:W$268,MATCH(BRUKERFLATE!$F167,Hjelpefil!$B$5:$B$268,0))),"") | N167: =IFERROR(IF(INDEX(Hjelpefil!X$5:X$268,MATCH(BRUKERFLATE!$F167,Hjelpefil!$B$5:$B$268,0))=0,"",INDEX(Hjelpefil!X$5:X$268,MATCH(BRUKERFLATE!$F167,Hjelpefil!$B$5:$B$268,0))),"") | O167: =IFERROR(IF(INDEX(Hjelpefil!Y$5:Y$268,MATCH(BRUKERFLATE!$F167,Hjelpefil!$B$5:$B$268,0))=0,"",INDEX(Hjelpefil!Y$5:Y$268,MATCH(BRUKERFLATE!$F167,Hjelpefil!$B$5:$B$268,0))),"") | P167: =IFERROR(IF(INDEX(Hjelpefil!Z$5:Z$268,MATCH(BRUKERFLATE!$F167,Hjelpefil!$B$5:$B$268,0))=0,"",INDEX(Hjelpefil!Z$5:Z$268,MATCH(BRUKERFLATE!$F167,Hjelpefil!$B$5:$B$268,0))),"") | Q167: =IFERROR(IF(INDEX(Hjelpefil!AA$5:AA$268,MATCH(BRUKERFLATE!$F167,Hjelpefil!$B$5:$B$268,0))=0,"",INDEX(Hjelpefil!AA$5:AA$268,MATCH(BRUKERFLATE!$F167,Hjelpefil!$B$5:$B$268,0))),"") | ... Z167: =IFERROR(IF(INDEX(Hjelpefil!AJ$5:AJ$268,MATCH(BRUKERFLATE!$F167,Hjelpefil!$B$5:$B$268,0))=0,"",INDEX(Hjelpefil!AJ$5:AJ$268,MATCH(BRUKERFLATE!$F167,Hjelpefil!$B$5:$B$268,0))),"") | AB167: =IF(AC167="","",MAX($AB$2:AB166)+1) | AC167: =IF($A$3="KOM",IF(AND($AI167=1,$AH167=1),Hjelpefil!B169,""),IF($A$3="FYL",IF(AND($AW167=1,$AH167=1),Hjelpefil!B169,""),"")) | AD167: =IF($A$3="KOM",IF(AND($AI167=1,$AH167=1),Hjelpefil!C169,""),IF($A$3="FYL",IF(AND($AW167=1,$AH167=1),Hjelpefil!C169,""),"")) | AE167: =IF($A$3="KOM",IF(AND($AI167=1,$AH167=1),Hjelpefil!F169,""),IF($A$3="FYL",IF(AND($AW167=1,$AH167=1),Hjelpefil!F169,""),"")) | AF167: =IF(AND($AI167=1,$AH167=1),IF(AQ167="",AR167,AQ167),"") | AH167: =IF(OR(AP167=$A$3,AP167="BEGGE"),1,0) -> 0 | AI167: =IF($B$3=$AJ$2,AJ167,IF($B$3=$AK$2,AK167,IF($B$3=$AL$2,AL167,IF($B$3=$AM$2,AM167,IF($B$3=$AN$2,AN167,IF($B$3=$AO$2,AO167)))))) -> 0 | AJ167: 0 | AK167: 0 | AL167: 0 | AM167: 0 | AN167: 0 | AO167: 0 | AP167: FYL | AQ167: =INDEX(Hjelpefil!H169:M169,MATCH(BRUKERFLATE!$B$3,BRUKERFLATE!$AV$4:$AV$9,0)) -> 0 | AR167: =INDEX(Hjelpefil!N169:S169,MATCH(BRUKERFLATE!$B$3,BRUKERFLATE!$AV$4:$AV$9,0)) -> Tannhelsetjeneste | AW167: =IF($B$3=$AJ$2,AX167,IF($B$3=$AK$2,AY167,IF($B$3=$AL$2,AZ167,IF($B$3=$AM$2,BA167,IF($B$3=$AN$2,BB167,IF($B$3=$AO$2,BC167)))))) -> 1 | AX167: 1 | AY167: 0 | AZ167: 0 | BA167: 0 | BB167: 0 | BC167: 0
G168: =IF(F168="","",IF($A$3="FYL",INDEX($AR$3:$AR$269,MATCH(F168,$AC$3:$AC$269,0)),INDEX($AQ$3:$AQ$269,MATCH(F168,$AC$3:$AC$269,0)))) | J168: =IFERROR(IF(INDEX(Hjelpefil!T$5:T$268,MATCH(BRUKERFLATE!$F168,Hjelpefil!$B$5:$B$268,0))=0,"",INDEX(Hjelpefil!T$5:T$268,MATCH(BRUKERFLATE!$F168,Hjelpefil!$B$5:$B$268,0))),"") | K168: =IFERROR(IF(INDEX(Hjelpefil!U$5:U$268,MATCH(BRUKERFLATE!$F168,Hjelpefil!$B$5:$B$268,0))=0,"",INDEX(Hjelpefil!U$5:U$268,MATCH(BRUKERFLATE!$F168,Hjelpefil!$B$5:$B$268,0))),"") | L168: =IFERROR(IF(INDEX(Hjelpefil!V$5:V$268,MATCH(BRUKERFLATE!$F168,Hjelpefil!$B$5:$B$268,0))=0,"",INDEX(Hjelpefil!V$5:V$268,MATCH(BRUKERFLATE!$F168,Hjelpefil!$B$5:$B$268,0))),"") | M168: =IFERROR(IF(INDEX(Hjelpefil!W$5:W$268,MATCH(BRUKERFLATE!$F168,Hjelpefil!$B$5:$B$268,0))=0,"",INDEX(Hjelpefil!W$5:W$268,MATCH(BRUKERFLATE!$F168,Hjelpefil!$B$5:$B$268,0))),"") | N168: =IFERROR(IF(INDEX(Hjelpefil!X$5:X$268,MATCH(BRUKERFLATE!$F168,Hjelpefil!$B$5:$B$268,0))=0,"",INDEX(Hjelpefil!X$5:X$268,MATCH(BRUKERFLATE!$F168,Hjelpefil!$B$5:$B$268,0))),"") | O168: =IFERROR(IF(INDEX(Hjelpefil!Y$5:Y$268,MATCH(BRUKERFLATE!$F168,Hjelpefil!$B$5:$B$268,0))=0,"",INDEX(Hjelpefil!Y$5:Y$268,MATCH(BRUKERFLATE!$F168,Hjelpefil!$B$5:$B$268,0))),"") | P168: =IFERROR(IF(INDEX(Hjelpefil!Z$5:Z$268,MATCH(BRUKERFLATE!$F168,Hjelpefil!$B$5:$B$268,0))=0,"",INDEX(Hjelpefil!Z$5:Z$268,MATCH(BRUKERFLATE!$F168,Hjelpefil!$B$5:$B$268,0))),"") | Q168: =IFERROR(IF(INDEX(Hjelpefil!AA$5:AA$268,MATCH(BRUKERFLATE!$F168,Hjelpefil!$B$5:$B$268,0))=0,"",INDEX(Hjelpefil!AA$5:AA$268,MATCH(BRUKERFLATE!$F168,Hjelpefil!$B$5:$B$268,0))),"") | ... Z168: =IFERROR(IF(INDEX(Hjelpefil!AJ$5:AJ$268,MATCH(BRUKERFLATE!$F168,Hjelpefil!$B$5:$B$268,0))=0,"",INDEX(Hjelpefil!AJ$5:AJ$268,MATCH(BRUKERFLATE!$F168,Hjelpefil!$B$5:$B$268,0))),"") | AB168: =IF(AC168="","",MAX($AB$2:AB167)+1) | AC168: =IF($A$3="KOM",IF(AND($AI168=1,$AH168=1),Hjelpefil!B170,""),IF($A$3="FYL",IF(AND($AW168=1,$AH168=1),Hjelpefil!B170,""),"")) | AD168: =IF($A$3="KOM",IF(AND($AI168=1,$AH168=1),Hjelpefil!C170,""),IF($A$3="FYL",IF(AND($AW168=1,$AH168=1),Hjelpefil!C170,""),"")) | AE168: =IF($A$3="KOM",IF(AND($AI168=1,$AH168=1),Hjelpefil!F170,""),IF($A$3="FYL",IF(AND($AW168=1,$AH168=1),Hjelpefil!F170,""),"")) | AF168: =IF(AND($AI168=1,$AH168=1),IF(AQ168="",AR168,AQ168),"") | AH168: =IF(OR(AP168=$A$3,AP168="BEGGE"),1,0) -> 0 | AI168: =IF($B$3=$AJ$2,AJ168,IF($B$3=$AK$2,AK168,IF($B$3=$AL$2,AL168,IF($B$3=$AM$2,AM168,IF($B$3=$AN$2,AN168,IF($B$3=$AO$2,AO168)))))) -> 0 | AJ168: 0 | AK168: 0 | AL168: 0 | AM168: 0 | AN168: 0 | AO168: 0 | AP168: FYL | AQ168: =INDEX(Hjelpefil!H170:M170,MATCH(BRUKERFLATE!$B$3,BRUKERFLATE!$AV$4:$AV$9,0)) -> 0 | AR168: =INDEX(Hjelpefil!N170:S170,MATCH(BRUKERFLATE!$B$3,BRUKERFLATE!$AV$4:$AV$9,0)) -> Tannhelsetjeneste | AW168: =IF($B$3=$AJ$2,AX168,IF($B$3=$AK$2,AY168,IF($B$3=$AL$2,AZ168,IF($B$3=$AM$2,BA168,IF($B$3=$AN$2,BB168,IF($B$3=$AO$2,BC168)))))) -> 1 | AX168: 1 | AY168: 0 | AZ168: 0 | BA168: 0 | BB168: 0 | BC168: 0
G169: =IF(F169="","",IF($A$3="FYL",INDEX($AR$3:$AR$269,MATCH(F169,$AC$3:$AC$269,0)),INDEX($AQ$3:$AQ$269,MATCH(F169,$AC$3:$AC$269,0)))) | J169: =IFERROR(IF(INDEX(Hjelpefil!T$5:T$268,MATCH(BRUKERFLATE!$F169,Hjelpefil!$B$5:$B$268,0))=0,"",INDEX(Hjelpefil!T$5:T$268,MATCH(BRUKERFLATE!$F169,Hjelpefil!$B$5:$B$268,0))),"") | K169: =IFERROR(IF(INDEX(Hjelpefil!U$5:U$268,MATCH(BRUKERFLATE!$F169,Hjelpefil!$B$5:$B$268,0))=0,"",INDEX(Hjelpefil!U$5:U$268,MATCH(BRUKERFLATE!$F169,Hjelpefil!$B$5:$B$268,0))),"") | L169: =IFERROR(IF(INDEX(Hjelpefil!V$5:V$268,MATCH(BRUKERFLATE!$F169,Hjelpefil!$B$5:$B$268,0))=0,"",INDEX(Hjelpefil!V$5:V$268,MATCH(BRUKERFLATE!$F169,Hjelpefil!$B$5:$B$268,0))),"") | M169: =IFERROR(IF(INDEX(Hjelpefil!W$5:W$268,MATCH(BRUKERFLATE!$F169,Hjelpefil!$B$5:$B$268,0))=0,"",INDEX(Hjelpefil!W$5:W$268,MATCH(BRUKERFLATE!$F169,Hjelpefil!$B$5:$B$268,0))),"") | N169: =IFERROR(IF(INDEX(Hjelpefil!X$5:X$268,MATCH(BRUKERFLATE!$F169,Hjelpefil!$B$5:$B$268,0))=0,"",INDEX(Hjelpefil!X$5:X$268,MATCH(BRUKERFLATE!$F169,Hjelpefil!$B$5:$B$268,0))),"") | O169: =IFERROR(IF(INDEX(Hjelpefil!Y$5:Y$268,MATCH(BRUKERFLATE!$F169,Hjelpefil!$B$5:$B$268,0))=0,"",INDEX(Hjelpefil!Y$5:Y$268,MATCH(BRUKERFLATE!$F169,Hjelpefil!$B$5:$B$268,0))),"") | P169: =IFERROR(IF(INDEX(Hjelpefil!Z$5:Z$268,MATCH(BRUKERFLATE!$F169,Hjelpefil!$B$5:$B$268,0))=0,"",INDEX(Hjelpefil!Z$5:Z$268,MATCH(BRUKERFLATE!$F169,Hjelpefil!$B$5:$B$268,0))),"") | Q169: =IFERROR(IF(INDEX(Hjelpefil!AA$5:AA$268,MATCH(BRUKERFLATE!$F169,Hjelpefil!$B$5:$B$268,0))=0,"",INDEX(Hjelpefil!AA$5:AA$268,MATCH(BRUKERFLATE!$F169,Hjelpefil!$B$5:$B$268,0))),"") | ... Z169: =IFERROR(IF(INDEX(Hjelpefil!AJ$5:AJ$268,MATCH(BRUKERFLATE!$F169,Hjelpefil!$B$5:$B$268,0))=0,"",INDEX(Hjelpefil!AJ$5:AJ$268,MATCH(BRUKERFLATE!$F169,Hjelpefil!$B$5:$B$268,0))),"") | AB169: =IF(AC169="","",MAX($AB$2:AB168)+1) | AC169: =IF($A$3="KOM",IF(AND($AI169=1,$AH169=1),Hjelpefil!B171,""),IF($A$3="FYL",IF(AND($AW169=1,$AH169=1),Hjelpefil!B171,""),"")) | AD169: =IF($A$3="KOM",IF(AND($AI169=1,$AH169=1),Hjelpefil!C171,""),IF($A$3="FYL",IF(AND($AW169=1,$AH169=1),Hjelpefil!C171,""),"")) | AE169: =IF($A$3="KOM",IF(AND($AI169=1,$AH169=1),Hjelpefil!F171,""),IF($A$3="FYL",IF(AND($AW169=1,$AH169=1),Hjelpefil!F171,""),"")) | AF169: =IF(AND($AI169=1,$AH169=1),IF(AQ169="",AR169,AQ169),"") | AH169: =IF(OR(AP169=$A$3,AP169="BEGGE"),1,0) -> 0 | AI169: =IF($B$3=$AJ$2,AJ169,IF($B$3=$AK$2,AK169,IF($B$3=$AL$2,AL169,IF($B$3=$AM$2,AM169,IF($B$3=$AN$2,AN169,IF($B$3=$AO$2,AO169)))))) -> 0 | AJ169: 0 | AK169: 0 | AL169: 0 | AM169: 0 | AN169: 0 | AO169: 0 | AP169: FYL | AQ169: =INDEX(Hjelpefil!H171:M171,MATCH(BRUKERFLATE!$B$3,BRUKERFLATE!$AV$4:$AV$9,0)) -> 0 | AR169: =INDEX(Hjelpefil!N171:S171,MATCH(BRUKERFLATE!$B$3,BRUKERFLATE!$AV$4:$AV$9,0)) -> Tannhelsetjeneste | AW169: =IF($B$3=$AJ$2,AX169,IF($B$3=$AK$2,AY169,IF($B$3=$AL$2,AZ169,IF($B$3=$AM$2,BA169,IF($B$3=$AN$2,BB169,IF($B$3=$AO$2,BC169)))))) -> 1 | AX169: 1 | AY169: 0 | AZ169: 0 | BA169: 0 | BB169: 0 | BC169: 0
G170: =IF(F170="","",IF($A$3="FYL",INDEX($AR$3:$AR$269,MATCH(F170,$AC$3:$AC$269,0)),INDEX($AQ$3:$AQ$269,MATCH(F170,$AC$3:$AC$269,0)))) | J170: =IFERROR(IF(INDEX(Hjelpefil!T$5:T$268,MATCH(BRUKERFLATE!$F170,Hjelpefil!$B$5:$B$268,0))=0,"",INDEX(Hjelpefil!T$5:T$268,MATCH(BRUKERFLATE!$F170,Hjelpefil!$B$5:$B$268,0))),"") | K170: =IFERROR(IF(INDEX(Hjelpefil!U$5:U$268,MATCH(BRUKERFLATE!$F170,Hjelpefil!$B$5:$B$268,0))=0,"",INDEX(Hjelpefil!U$5:U$268,MATCH(BRUKERFLATE!$F170,Hjelpefil!$B$5:$B$268,0))),"") | L170: =IFERROR(IF(INDEX(Hjelpefil!V$5:V$268,MATCH(BRUKERFLATE!$F170,Hjelpefil!$B$5:$B$268,0))=0,"",INDEX(Hjelpefil!V$5:V$268,MATCH(BRUKERFLATE!$F170,Hjelpefil!$B$5:$B$268,0))),"") | M170: =IFERROR(IF(INDEX(Hjelpefil!W$5:W$268,MATCH(BRUKERFLATE!$F170,Hjelpefil!$B$5:$B$268,0))=0,"",INDEX(Hjelpefil!W$5:W$268,MATCH(BRUKERFLATE!$F170,Hjelpefil!$B$5:$B$268,0))),"") | N170: =IFERROR(IF(INDEX(Hjelpefil!X$5:X$268,MATCH(BRUKERFLATE!$F170,Hjelpefil!$B$5:$B$268,0))=0,"",INDEX(Hjelpefil!X$5:X$268,MATCH(BRUKERFLATE!$F170,Hjelpefil!$B$5:$B$268,0))),"") | O170: =IFERROR(IF(INDEX(Hjelpefil!Y$5:Y$268,MATCH(BRUKERFLATE!$F170,Hjelpefil!$B$5:$B$268,0))=0,"",INDEX(Hjelpefil!Y$5:Y$268,MATCH(BRUKERFLATE!$F170,Hjelpefil!$B$5:$B$268,0))),"") | P170: =IFERROR(IF(INDEX(Hjelpefil!Z$5:Z$268,MATCH(BRUKERFLATE!$F170,Hjelpefil!$B$5:$B$268,0))=0,"",INDEX(Hjelpefil!Z$5:Z$268,MATCH(BRUKERFLATE!$F170,Hjelpefil!$B$5:$B$268,0))),"") | Q170: =IFERROR(IF(INDEX(Hjelpefil!AA$5:AA$268,MATCH(BRUKERFLATE!$F170,Hjelpefil!$B$5:$B$268,0))=0,"",INDEX(Hjelpefil!AA$5:AA$268,MATCH(BRUKERFLATE!$F170,Hjelpefil!$B$5:$B$268,0))),"") | ... Z170: =IFERROR(IF(INDEX(Hjelpefil!AJ$5:AJ$268,MATCH(BRUKERFLATE!$F170,Hjelpefil!$B$5:$B$268,0))=0,"",INDEX(Hjelpefil!AJ$5:AJ$268,MATCH(BRUKERFLATE!$F170,Hjelpefil!$B$5:$B$268,0))),"") | AB170: =IF(AC170="","",MAX($AB$2:AB169)+1) | AC170: =IF($A$3="KOM",IF(AND($AI170=1,$AH170=1),Hjelpefil!B172,""),IF($A$3="FYL",IF(AND($AW170=1,$AH170=1),Hjelpefil!B172,""),"")) | AD170: =IF($A$3="KOM",IF(AND($AI170=1,$AH170=1),Hjelpefil!C172,""),IF($A$3="FYL",IF(AND($AW170=1,$AH170=1),Hjelpefil!C172,""),"")) | AE170: =IF($A$3="KOM",IF(AND($AI170=1,$AH170=1),Hjelpefil!F172,""),IF($A$3="FYL",IF(AND($AW170=1,$AH170=1),Hjelpefil!F172,""),"")) | AF170: =IF(AND($AI170=1,$AH170=1),IF(AQ170="",AR170,AQ170),"") | AH170: =IF(OR(AP170=$A$3,AP170="BEGGE"),1,0) -> 0 | AI170: =IF($B$3=$AJ$2,AJ170,IF($B$3=$AK$2,AK170,IF($B$3=$AL$2,AL170,IF($B$3=$AM$2,AM170,IF($B$3=$AN$2,AN170,IF($B$3=$AO$2,AO170)))))) -> 0 | AJ170: 0 | AK170: 0 | AL170: 0 | AM170: 0 | AN170: 0 | AO170: 0 | AP170: FYL | AQ170: =INDEX(Hjelpefil!H172:M172,MATCH(BRUKERFLATE!$B$3,BRUKERFLATE!$AV$4:$AV$9,0)) -> 0 | AR170: =INDEX(Hjelpefil!N172:S172,MATCH(BRUKERFLATE!$B$3,BRUKERFLATE!$AV$4:$AV$9,0)) -> Tannhelsetjeneste | AW170: =IF($B$3=$AJ$2,AX170,IF($B$3=$AK$2,AY170,IF($B$3=$AL$2,AZ170,IF($B$3=$AM$2,BA170,IF($B$3=$AN$2,BB170,IF($B$3=$AO$2,BC170)))))) -> 1 | AX170: 1 | AY170: 0 | AZ170: 0 | BA170: 0 | BB170: 0 | BC170: 0
F171: =IFERROR(INDEX($AC$3:$AC$301,MATCH(ROW()-ROW($D$2),$AB$3:$AB$301,0)),"") | G171: =IF(F171="","",IF($A$3="FYL",INDEX($AR$3:$AR$269,MATCH(F171,$AC$3:$AC$269,0)),INDEX($AQ$3:$AQ$269,MATCH(F171,$AC$3:$AC$269,0)))) | H171: {=IFERROR(INDEX($AD$3:$AD$301,MATCH(ROW()-ROW($D$2),$AB$3:$AB$301,0)),"")} | I171: {=IFERROR(INDEX($AE$3:$AE$301,MATCH(ROW()-ROW($D$2),$AB$3:$AB$301,0)),"")} | J171: =IFERROR(IF(INDEX(Hjelpefil!T$5:T$268,MATCH(BRUKERFLATE!$F171,Hjelpefil!$B$5:$B$268,0))=0,"",INDEX(Hjelpefil!T$5:T$268,MATCH(BRUKERFLATE!$F171,Hjelpefil!$B$5:$B$268,0))),"") | K171: =IFERROR(IF(INDEX(Hjelpefil!U$5:U$268,MATCH(BRUKERFLATE!$F171,Hjelpefil!$B$5:$B$268,0))=0,"",INDEX(Hjelpefil!U$5:U$268,MATCH(BRUKERFLATE!$F171,Hjelpefil!$B$5:$B$268,0))),"") | L171: =IFERROR(IF(INDEX(Hjelpefil!V$5:V$268,MATCH(BRUKERFLATE!$F171,Hjelpefil!$B$5:$B$268,0))=0,"",INDEX(Hjelpefil!V$5:V$268,MATCH(BRUKERFLATE!$F171,Hjelpefil!$B$5:$B$268,0))),"") | M171: =IFERROR(IF(INDEX(Hjelpefil!W$5:W$268,MATCH(BRUKERFLATE!$F171,Hjelpefil!$B$5:$B$268,0))=0,"",INDEX(Hjelpefil!W$5:W$268,MATCH(BRUKERFLATE!$F171,Hjelpefil!$B$5:$B$268,0))),"") | N171: =IFERROR(IF(INDEX(Hjelpefil!X$5:X$268,MATCH(BRUKERFLATE!$F171,Hjelpefil!$B$5:$B$268,0))=0,"",INDEX(Hjelpefil!X$5:X$268,MATCH(BRUKERFLATE!$F171,Hjelpefil!$B$5:$B$268,0))),"") | O171: =IFERROR(IF(INDEX(Hjelpefil!Y$5:Y$268,MATCH(BRUKERFLATE!$F171,Hjelpefil!$B$5:$B$268,0))=0,"",INDEX(Hjelpefil!Y$5:Y$268,MATCH(BRUKERFLATE!$F171,Hjelpefil!$B$5:$B$268,0))),"") | P171: =IFERROR(IF(INDEX(Hjelpefil!Z$5:Z$268,MATCH(BRUKERFLATE!$F171,Hjelpefil!$B$5:$B$268,0))=0,"",INDEX(Hjelpefil!Z$5:Z$268,MATCH(BRUKERFLATE!$F171,Hjelpefil!$B$5:$B$268,0))),"") | Q171: =IFERROR(IF(INDEX(Hjelpefil!AA$5:AA$268,MATCH(BRUKERFLATE!$F171,Hjelpefil!$B$5:$B$268,0))=0,"",INDEX(Hjelpefil!AA$5:AA$268,MATCH(BRUKERFLATE!$F171,Hjelpefil!$B$5:$B$268,0))),"") | ... Z171: =IFERROR(IF(INDEX(Hjelpefil!AJ$5:AJ$268,MATCH(BRUKERFLATE!$F171,Hjelpefil!$B$5:$B$268,0))=0,"",INDEX(Hjelpefil!AJ$5:AJ$268,MATCH(BRUKERFLATE!$F171,Hjelpefil!$B$5:$B$268,0))),"") | AB171: =IF(AC171="","",MAX($AB$2:AB170)+1) | AC171: =IF($A$3="KOM",IF(AND($AI171=1,$AH171=1),Hjelpefil!B173,""),IF($A$3="FYL",IF(AND($AW171=1,$AH171=1),Hjelpefil!B173,""),"")) | AD171: =IF($A$3="KOM",IF(AND($AI171=1,$AH171=1),Hjelpefil!C173,""),IF($A$3="FYL",IF(AND($AW171=1,$AH171=1),Hjelpefil!C173,""),"")) | AE171: =IF($A$3="KOM",IF(AND($AI171=1,$AH171=1),Hjelpefil!F173,""),IF($A$3="FYL",IF(AND($AW171=1,$AH171=1),Hjelpefil!F173,""),"")) | AF171: =IF(AND($AI171=1,$AH171=1),IF(AQ171="",AR171,AQ171),"") | AH171: =IF(OR(AP171=$A$3,AP171="BEGGE"),1,0) -> 0 | AI171: =IF($B$3=$AJ$2,AJ171,IF($B$3=$AK$2,AK171,IF($B$3=$AL$2,AL171,IF($B$3=$AM$2,AM171,IF($B$3=$AN$2,AN171,IF($B$3=$AO$2,AO171)))))) -> 0 | AJ171: 0 | AK171: 0 | AL171: 0 | AM171: 0 | AN171: 0 | AO171: 0 | AP171: FYL | AQ171: =INDEX(Hjelpefil!H173:M173,MATCH(BRUKERFLATE!$B$3,BRUKERFLATE!$AV$4:$AV$9,0)) -> 0 | AR171: =INDEX(Hjelpefil!N173:S173,MATCH(BRUKERFLATE!$B$3,BRUKERFLATE!$AV$4:$AV$9,0)) -> Samferdsel | AW171: =IF($B$3=$AJ$2,AX171,IF($B$3=$AK$2,AY171,IF($B$3=$AL$2,AZ171,IF($B$3=$AM$2,BA171,IF($B$3=$AN$2,BB171,IF($B$3=$AO$2,BC171)))))) -> 1 | AX171: 1 | AY171: 0 | AZ171: 1 | BA171: 0 | BB171: 0 | BC171: 0
F172: =IFERROR(INDEX($AC$3:$AC$301,MATCH(ROW()-ROW($D$2),$AB$3:$AB$301,0)),"") | G172: =IF(F172="","",IF($A$3="FYL",INDEX($AR$3:$AR$269,MATCH(F172,$AC$3:$AC$269,0)),INDEX($AQ$3:$AQ$269,MATCH(F172,$AC$3:$AC$269,0)))) | H172: {=IFERROR(INDEX($AD$3:$AD$301,MATCH(ROW()-ROW($D$2),$AB$3:$AB$301,0)),"")} | I172: {=IFERROR(INDEX($AE$3:$AE$301,MATCH(ROW()-ROW($D$2),$AB$3:$AB$301,0)),"")} | J172: =IFERROR(IF(INDEX(Hjelpefil!T$5:T$268,MATCH(BRUKERFLATE!$F172,Hjelpefil!$B$5:$B$268,0))=0,"",INDEX(Hjelpefil!T$5:T$268,MATCH(BRUKERFLATE!$F172,Hjelpefil!$B$5:$B$268,0))),"") | K172: =IFERROR(IF(INDEX(Hjelpefil!U$5:U$268,MATCH(BRUKERFLATE!$F172,Hjelpefil!$B$5:$B$268,0))=0,"",INDEX(Hjelpefil!U$5:U$268,MATCH(BRUKERFLATE!$F172,Hjelpefil!$B$5:$B$268,0))),"") | L172: =IFERROR(IF(INDEX(Hjelpefil!V$5:V$268,MATCH(BRUKERFLATE!$F172,Hjelpefil!$B$5:$B$268,0))=0,"",INDEX(Hjelpefil!V$5:V$268,MATCH(BRUKERFLATE!$F172,Hjelpefil!$B$5:$B$268,0))),"") | M172: =IFERROR(IF(INDEX(Hjelpefil!W$5:W$268,MATCH(BRUKERFLATE!$F172,Hjelpefil!$B$5:$B$268,0))=0,"",INDEX(Hjelpefil!W$5:W$268,MATCH(BRUKERFLATE!$F172,Hjelpefil!$B$5:$B$268,0))),"") | N172: =IFERROR(IF(INDEX(Hjelpefil!X$5:X$268,MATCH(BRUKERFLATE!$F172,Hjelpefil!$B$5:$B$268,0))=0,"",INDEX(Hjelpefil!X$5:X$268,MATCH(BRUKERFLATE!$F172,Hjelpefil!$B$5:$B$268,0))),"") | O172: =IFERROR(IF(INDEX(Hjelpefil!Y$5:Y$268,MATCH(BRUKERFLATE!$F172,Hjelpefil!$B$5:$B$268,0))=0,"",INDEX(Hjelpefil!Y$5:Y$268,MATCH(BRUKERFLATE!$F172,Hjelpefil!$B$5:$B$268,0))),"") | P172: =IFERROR(IF(INDEX(Hjelpefil!Z$5:Z$268,MATCH(BRUKERFLATE!$F172,Hjelpefil!$B$5:$B$268,0))=0,"",INDEX(Hjelpefil!Z$5:Z$268,MATCH(BRUKERFLATE!$F172,Hjelpefil!$B$5:$B$268,0))),"") | Q172: =IFERROR(IF(INDEX(Hjelpefil!AA$5:AA$268,MATCH(BRUKERFLATE!$F172,Hjelpefil!$B$5:$B$268,0))=0,"",INDEX(Hjelpefil!AA$5:AA$268,MATCH(BRUKERFLATE!$F172,Hjelpefil!$B$5:$B$268,0))),"") | ... Z172: =IFERROR(IF(INDEX(Hjelpefil!AJ$5:AJ$268,MATCH(BRUKERFLATE!$F172,Hjelpefil!$B$5:$B$268,0))=0,"",INDEX(Hjelpefil!AJ$5:AJ$268,MATCH(BRUKERFLATE!$F172,Hjelpefil!$B$5:$B$268,0))),"") | AB172: =IF(AC172="","",MAX($AB$2:AB171)+1) | AC172: =IF($A$3="KOM",IF(AND($AI172=1,$AH172=1),Hjelpefil!B174,""),IF($A$3="FYL",IF(AND($AW172=1,$AH172=1),Hjelpefil!B174,""),"")) | AD172: =IF($A$3="KOM",IF(AND($AI172=1,$AH172=1),Hjelpefil!C174,""),IF($A$3="FYL",IF(AND($AW172=1,$AH172=1),Hjelpefil!C174,""),"")) | AE172: =IF($A$3="KOM",IF(AND($AI172=1,$AH172=1),Hjelpefil!F174,""),IF($A$3="FYL",IF(AND($AW172=1,$AH172=1),Hjelpefil!F174,""),"")) | AF172: =IF(AND($AI172=1,$AH172=1),IF(AQ172="",AR172,AQ172),"") | AH172: =IF(OR(AP172=$A$3,AP172="BEGGE"),1,0) -> 0 | AI172: =IF($B$3=$AJ$2,AJ172,IF($B$3=$AK$2,AK172,IF($B$3=$AL$2,AL172,IF($B$3=$AM$2,AM172,IF($B$3=$AN$2,AN172,IF($B$3=$AO$2,AO172)))))) -> 0 | AJ172: 0 | AK172: 0 | AL172: 0 | AM172: 0 | AN172: 0 | AO172: 0 | AP172: FYL | AQ172: =INDEX(Hjelpefil!H174:M174,MATCH(BRUKERFLATE!$B$3,BRUKERFLATE!$AV$4:$AV$9,0)) -> 0 | AR172: =INDEX(Hjelpefil!N174:S174,MATCH(BRUKERFLATE!$B$3,BRUKERFLATE!$AV$4:$AV$9,0)) -> Samferdsel | AW172: =IF($B$3=$AJ$2,AX172,IF($B$3=$AK$2,AY172,IF($B$3=$AL$2,AZ172,IF($B$3=$AM$2,BA172,IF($B$3=$AN$2,BB172,IF($B$3=$AO$2,BC172)))))) -> 1 | AX172: 1 | AY172: 0 | AZ172: 0 | BA172: 0 | BB172: 0 | BC172: 0
F173: =IFERROR(INDEX($AC$3:$AC$301,MATCH(ROW()-ROW($D$2),$AB$3:$AB$301,0)),"") | G173: =IF(F173="","",IF($A$3="FYL",INDEX($AR$3:$AR$269,MATCH(F173,$AC$3:$AC$269,0)),INDEX($AQ$3:$AQ$269,MATCH(F173,$AC$3:$AC$269,0)))) | H173: {=IFERROR(INDEX($AD$3:$AD$301,MATCH(ROW()-ROW($D$2),$AB$3:$AB$301,0)),"")} | I173: {=IFERROR(INDEX($AE$3:$AE$301,MATCH(ROW()-ROW($D$2),$AB$3:$AB$301,0)),"")} | J173: =IFERROR(IF(INDEX(Hjelpefil!T$5:T$268,MATCH(BRUKERFLATE!$F173,Hjelpefil!$B$5:$B$268,0))=0,"",INDEX(Hjelpefil!T$5:T$268,MATCH(BRUKERFLATE!$F173,Hjelpefil!$B$5:$B$268,0))),"") | K173: =IFERROR(IF(INDEX(Hjelpefil!U$5:U$268,MATCH(BRUKERFLATE!$F173,Hjelpefil!$B$5:$B$268,0))=0,"",INDEX(Hjelpefil!U$5:U$268,MATCH(BRUKERFLATE!$F173,Hjelpefil!$B$5:$B$268,0))),"") | L173: =IFERROR(IF(INDEX(Hjelpefil!V$5:V$268,MATCH(BRUKERFLATE!$F173,Hjelpefil!$B$5:$B$268,0))=0,"",INDEX(Hjelpefil!V$5:V$268,MATCH(BRUKERFLATE!$F173,Hjelpefil!$B$5:$B$268,0))),"") | M173: =IFERROR(IF(INDEX(Hjelpefil!W$5:W$268,MATCH(BRUKERFLATE!$F173,Hjelpefil!$B$5:$B$268,0))=0,"",INDEX(Hjelpefil!W$5:W$268,MATCH(BRUKERFLATE!$F173,Hjelpefil!$B$5:$B$268,0))),"") | N173: =IFERROR(IF(INDEX(Hjelpefil!X$5:X$268,MATCH(BRUKERFLATE!$F173,Hjelpefil!$B$5:$B$268,0))=0,"",INDEX(Hjelpefil!X$5:X$268,MATCH(BRUKERFLATE!$F173,Hjelpefil!$B$5:$B$268,0))),"") | O173: =IFERROR(IF(INDEX(Hjelpefil!Y$5:Y$268,MATCH(BRUKERFLATE!$F173,Hjelpefil!$B$5:$B$268,0))=0,"",INDEX(Hjelpefil!Y$5:Y$268,MATCH(BRUKERFLATE!$F173,Hjelpefil!$B$5:$B$268,0))),"") | P173: =IFERROR(IF(INDEX(Hjelpefil!Z$5:Z$268,MATCH(BRUKERFLATE!$F173,Hjelpefil!$B$5:$B$268,0))=0,"",INDEX(Hjelpefil!Z$5:Z$268,MATCH(BRUKERFLATE!$F173,Hjelpefil!$B$5:$B$268,0))),"") | Q173: =IFERROR(IF(INDEX(Hjelpefil!AA$5:AA$268,MATCH(BRUKERFLATE!$F173,Hjelpefil!$B$5:$B$268,0))=0,"",INDEX(Hjelpefil!AA$5:AA$268,MATCH(BRUKERFLATE!$F173,Hjelpefil!$B$5:$B$268,0))),"") | ... Z173: =IFERROR(IF(INDEX(Hjelpefil!AJ$5:AJ$268,MATCH(BRUKERFLATE!$F173,Hjelpefil!$B$5:$B$268,0))=0,"",INDEX(Hjelpefil!AJ$5:AJ$268,MATCH(BRUKERFLATE!$F173,Hjelpefil!$B$5:$B$268,0))),"") | AB173: =IF(AC173="","",MAX($AB$2:AB172)+1) | AC173: =IF($A$3="KOM",IF(AND($AI173=1,$AH173=1),Hjelpefil!B175,""),IF($A$3="FYL",IF(AND($AW173=1,$AH173=1),Hjelpefil!B175,""),"")) | AD173: =IF($A$3="KOM",IF(AND($AI173=1,$AH173=1),Hjelpefil!C175,""),IF($A$3="FYL",IF(AND($AW173=1,$AH173=1),Hjelpefil!C175,""),"")) | AE173: =IF($A$3="KOM",IF(AND($AI173=1,$AH173=1),Hjelpefil!F175,""),IF($A$3="FYL",IF(AND($AW173=1,$AH173=1),Hjelpefil!F175,""),"")) | AF173: =IF(AND($AI173=1,$AH173=1),IF(AQ173="",AR173,AQ173),"") | AH173: =IF(OR(AP173=$A$3,AP173="BEGGE"),1,0) -> 0 | AI173: =IF($B$3=$AJ$2,AJ173,IF($B$3=$AK$2,AK173,IF($B$3=$AL$2,AL173,IF($B$3=$AM$2,AM173,IF($B$3=$AN$2,AN173,IF($B$3=$AO$2,AO173)))))) -> 0 | AJ173: 0 | AK173: 0 | AL173: 0 | AM173: 0 | AN173: 0 | AO173: 0 | AP173: FYL | AQ173: =INDEX(Hjelpefil!H175:M175,MATCH(BRUKERFLATE!$B$3,BRUKERFLATE!$AV$4:$AV$9,0)) -> 0 | AR173: =INDEX(Hjelpefil!N175:S175,MATCH(BRUKERFLATE!$B$3,BRUKERFLATE!$AV$4:$AV$9,0)) -> Samferdsel | AW173: =IF($B$3=$AJ$2,AX173,IF($B$3=$AK$2,AY173,IF($B$3=$AL$2,AZ173,IF($B$3=$AM$2,BA173,IF($B$3=$AN$2,BB173,IF($B$3=$AO$2,BC173)))))) -> 1 | AX173: 1 | AY173: 0 | AZ173: 0 | BA173: 0 | BB173: 0 | BC173: 0
F174: =IFERROR(INDEX($AC$3:$AC$301,MATCH(ROW()-ROW($D$2),$AB$3:$AB$301,0)),"") | G174: =IF(F174="","",IF($A$3="FYL",INDEX($AR$3:$AR$269,MATCH(F174,$AC$3:$AC$269,0)),INDEX($AQ$3:$AQ$269,MATCH(F174,$AC$3:$AC$269,0)))) | H174: {=IFERROR(INDEX($AD$3:$AD$301,MATCH(ROW()-ROW($D$2),$AB$3:$AB$301,0)),"")} | I174: {=IFERROR(INDEX($AE$3:$AE$301,MATCH(ROW()-ROW($D$2),$AB$3:$AB$301,0)),"")} | J174: =IFERROR(IF(INDEX(Hjelpefil!T$5:T$268,MATCH(BRUKERFLATE!$F174,Hjelpefil!$B$5:$B$268,0))=0,"",INDEX(Hjelpefil!T$5:T$268,MATCH(BRUKERFLATE!$F174,Hjelpefil!$B$5:$B$268,0))),"") | K174: =IFERROR(IF(INDEX(Hjelpefil!U$5:U$268,MATCH(BRUKERFLATE!$F174,Hjelpefil!$B$5:$B$268,0))=0,"",INDEX(Hjelpefil!U$5:U$268,MATCH(BRUKERFLATE!$F174,Hjelpefil!$B$5:$B$268,0))),"") | L174: =IFERROR(IF(INDEX(Hjelpefil!V$5:V$268,MATCH(BRUKERFLATE!$F174,Hjelpefil!$B$5:$B$268,0))=0,"",INDEX(Hjelpefil!V$5:V$268,MATCH(BRUKERFLATE!$F174,Hjelpefil!$B$5:$B$268,0))),"") | M174: =IFERROR(IF(INDEX(Hjelpefil!W$5:W$268,MATCH(BRUKERFLATE!$F174,Hjelpefil!$B$5:$B$268,0))=0,"",INDEX(Hjelpefil!W$5:W$268,MATCH(BRUKERFLATE!$F174,Hjelpefil!$B$5:$B$268,0))),"") | N174: =IFERROR(IF(INDEX(Hjelpefil!X$5:X$268,MATCH(BRUKERFLATE!$F174,Hjelpefil!$B$5:$B$268,0))=0,"",INDEX(Hjelpefil!X$5:X$268,MATCH(BRUKERFLATE!$F174,Hjelpefil!$B$5:$B$268,0))),"") | O174: =IFERROR(IF(INDEX(Hjelpefil!Y$5:Y$268,MATCH(BRUKERFLATE!$F174,Hjelpefil!$B$5:$B$268,0))=0,"",INDEX(Hjelpefil!Y$5:Y$268,MATCH(BRUKERFLATE!$F174,Hjelpefil!$B$5:$B$268,0))),"") | P174: =IFERROR(IF(INDEX(Hjelpefil!Z$5:Z$268,MATCH(BRUKERFLATE!$F174,Hjelpefil!$B$5:$B$268,0))=0,"",INDEX(Hjelpefil!Z$5:Z$268,MATCH(BRUKERFLATE!$F174,Hjelpefil!$B$5:$B$268,0))),"") | Q174: =IFERROR(IF(INDEX(Hjelpefil!AA$5:AA$268,MATCH(BRUKERFLATE!$F174,Hjelpefil!$B$5:$B$268,0))=0,"",INDEX(Hjelpefil!AA$5:AA$268,MATCH(BRUKERFLATE!$F174,Hjelpefil!$B$5:$B$268,0))),"") | ... Z174: =IFERROR(IF(INDEX(Hjelpefil!AJ$5:AJ$268,MATCH(BRUKERFLATE!$F174,Hjelpefil!$B$5:$B$268,0))=0,"",INDEX(Hjelpefil!AJ$5:AJ$268,MATCH(BRUKERFLATE!$F174,Hjelpefil!$B$5:$B$268,0))),"") | AB174: =IF(AC174="","",MAX($AB$2:AB173)+1) | AC174: =IF($A$3="KOM",IF(AND($AI174=1,$AH174=1),Hjelpefil!B176,""),IF($A$3="FYL",IF(AND($AW174=1,$AH174=1),Hjelpefil!B176,""),"")) | AD174: =IF($A$3="KOM",IF(AND($AI174=1,$AH174=1),Hjelpefil!C176,""),IF($A$3="FYL",IF(AND($AW174=1,$AH174=1),Hjelpefil!C176,""),"")) | AE174: =IF($A$3="KOM",IF(AND($AI174=1,$AH174=1),Hjelpefil!F176,""),IF($A$3="FYL",IF(AND($AW174=1,$AH174=1),Hjelpefil!F176,""),"")) | AF174: =IF(AND($AI174=1,$AH174=1),IF(AQ174="",AR174,AQ174),"") | AH174: =IF(OR(AP174=$A$3,AP174="BEGGE"),1,0) -> 0 | AI174: =IF($B$3=$AJ$2,AJ174,IF($B$3=$AK$2,AK174,IF($B$3=$AL$2,AL174,IF($B$3=$AM$2,AM174,IF($B$3=$AN$2,AN174,IF($B$3=$AO$2,AO174)))))) -> 0 | AJ174: 0 | AK174: 0 | AL174: 0 | AM174: 0 | AN174: 0 | AO174: 0 | AP174: FYL | AQ174: =INDEX(Hjelpefil!H176:M176,MATCH(BRUKERFLATE!$B$3,BRUKERFLATE!$AV$4:$AV$9,0)) -> 0 | AR174: =INDEX(Hjelpefil!N176:S176,MATCH(BRUKERFLATE!$B$3,BRUKERFLATE!$AV$4:$AV$9,0)) -> Samferdsel | AW174: =IF($B$3=$AJ$2,AX174,IF($B$3=$AK$2,AY174,IF($B$3=$AL$2,AZ174,IF($B$3=$AM$2,BA174,IF($B$3=$AN$2,BB174,IF($B$3=$AO$2,BC174)))))) -> 1 | AX174: 1 | AY174: 0 | AZ174: 0 | BA174: 0 | BB174: 0 | BC174: 0
F175: =IFERROR(INDEX($AC$3:$AC$301,MATCH(ROW()-ROW($D$2),$AB$3:$AB$301,0)),"") | G175: =IF(F175="","",IF($A$3="FYL",INDEX($AR$3:$AR$269,MATCH(F175,$AC$3:$AC$269,0)),INDEX($AQ$3:$AQ$269,MATCH(F175,$AC$3:$AC$269,0)))) | H175: {=IFERROR(INDEX($AD$3:$AD$301,MATCH(ROW()-ROW($D$2),$AB$3:$AB$301,0)),"")} | I175: {=IFERROR(INDEX($AE$3:$AE$301,MATCH(ROW()-ROW($D$2),$AB$3:$AB$301,0)),"")} | J175: =IFERROR(IF(INDEX(Hjelpefil!T$5:T$268,MATCH(BRUKERFLATE!$F175,Hjelpefil!$B$5:$B$268,0))=0,"",INDEX(Hjelpefil!T$5:T$268,MATCH(BRUKERFLATE!$F175,Hjelpefil!$B$5:$B$268,0))),"") | K175: =IFERROR(IF(INDEX(Hjelpefil!U$5:U$268,MATCH(BRUKERFLATE!$F175,Hjelpefil!$B$5:$B$268,0))=0,"",INDEX(Hjelpefil!U$5:U$268,MATCH(BRUKERFLATE!$F175,Hjelpefil!$B$5:$B$268,0))),"") | L175: =IFERROR(IF(INDEX(Hjelpefil!V$5:V$268,MATCH(BRUKERFLATE!$F175,Hjelpefil!$B$5:$B$268,0))=0,"",INDEX(Hjelpefil!V$5:V$268,MATCH(BRUKERFLATE!$F175,Hjelpefil!$B$5:$B$268,0))),"") | M175: =IFERROR(IF(INDEX(Hjelpefil!W$5:W$268,MATCH(BRUKERFLATE!$F175,Hjelpefil!$B$5:$B$268,0))=0,"",INDEX(Hjelpefil!W$5:W$268,MATCH(BRUKERFLATE!$F175,Hjelpefil!$B$5:$B$268,0))),"") | N175: =IFERROR(IF(INDEX(Hjelpefil!X$5:X$268,MATCH(BRUKERFLATE!$F175,Hjelpefil!$B$5:$B$268,0))=0,"",INDEX(Hjelpefil!X$5:X$268,MATCH(BRUKERFLATE!$F175,Hjelpefil!$B$5:$B$268,0))),"") | O175: =IFERROR(IF(INDEX(Hjelpefil!Y$5:Y$268,MATCH(BRUKERFLATE!$F175,Hjelpefil!$B$5:$B$268,0))=0,"",INDEX(Hjelpefil!Y$5:Y$268,MATCH(BRUKERFLATE!$F175,Hjelpefil!$B$5:$B$268,0))),"") | P175: =IFERROR(IF(INDEX(Hjelpefil!Z$5:Z$268,MATCH(BRUKERFLATE!$F175,Hjelpefil!$B$5:$B$268,0))=0,"",INDEX(Hjelpefil!Z$5:Z$268,MATCH(BRUKERFLATE!$F175,Hjelpefil!$B$5:$B$268,0))),"") | Q175: =IFERROR(IF(INDEX(Hjelpefil!AA$5:AA$268,MATCH(BRUKERFLATE!$F175,Hjelpefil!$B$5:$B$268,0))=0,"",INDEX(Hjelpefil!AA$5:AA$268,MATCH(BRUKERFLATE!$F175,Hjelpefil!$B$5:$B$268,0))),"") | ... Z175: =IFERROR(IF(INDEX(Hjelpefil!AJ$5:AJ$268,MATCH(BRUKERFLATE!$F175,Hjelpefil!$B$5:$B$268,0))=0,"",INDEX(Hjelpefil!AJ$5:AJ$268,MATCH(BRUKERFLATE!$F175,Hjelpefil!$B$5:$B$268,0))),"") | AB175: =IF(AC175="","",MAX($AB$2:AB174)+1) | AC175: =IF($A$3="KOM",IF(AND($AI175=1,$AH175=1),Hjelpefil!B177,""),IF($A$3="FYL",IF(AND($AW175=1,$AH175=1),Hjelpefil!B177,""),"")) | AD175: =IF($A$3="KOM",IF(AND($AI175=1,$AH175=1),Hjelpefil!C177,""),IF($A$3="FYL",IF(AND($AW175=1,$AH175=1),Hjelpefil!C177,""),"")) | AE175: =IF($A$3="KOM",IF(AND($AI175=1,$AH175=1),Hjelpefil!F177,""),IF($A$3="FYL",IF(AND($AW175=1,$AH175=1),Hjelpefil!F177,""),"")) | AF175: =IF(AND($AI175=1,$AH175=1),IF(AQ175="",AR175,AQ175),"") | AH175: =IF(OR(AP175=$A$3,AP175="BEGGE"),1,0) -> 0 | AI175: =IF($B$3=$AJ$2,AJ175,IF($B$3=$AK$2,AK175,IF($B$3=$AL$2,AL175,IF($B$3=$AM$2,AM175,IF($B$3=$AN$2,AN175,IF($B$3=$AO$2,AO175)))))) -> 0 | AJ175: 0 | AK175: 0 | AL175: 0 | AM175: 0 | AN175: 0 | AO175: 0 | AP175: FYL | AQ175: =INDEX(Hjelpefil!H177:M177,MATCH(BRUKERFLATE!$B$3,BRUKERFLATE!$AV$4:$AV$9,0)) -> 0 | AR175: =INDEX(Hjelpefil!N177:S177,MATCH(BRUKERFLATE!$B$3,BRUKERFLATE!$AV$4:$AV$9,0)) -> Samferdsel | AW175: =IF($B$3=$AJ$2,AX175,IF($B$3=$AK$2,AY175,IF($B$3=$AL$2,AZ175,IF($B$3=$AM$2,BA175,IF($B$3=$AN$2,BB175,IF($B$3=$AO$2,BC175)))))) -> 1 | AX175: 1 | AY175: 0 | AZ175: 0 | BA175: 0 | BB175: 0 | BC175: 0
F176: =IFERROR(INDEX($AC$3:$AC$301,MATCH(ROW()-ROW($D$2),$AB$3:$AB$301,0)),"") | G176: =IF(F176="","",IF($A$3="FYL",INDEX($AR$3:$AR$269,MATCH(F176,$AC$3:$AC$269,0)),INDEX($AQ$3:$AQ$269,MATCH(F176,$AC$3:$AC$269,0)))) | H176: {=IFERROR(INDEX($AD$3:$AD$301,MATCH(ROW()-ROW($D$2),$AB$3:$AB$301,0)),"")} | I176: {=IFERROR(INDEX($AE$3:$AE$301,MATCH(ROW()-ROW($D$2),$AB$3:$AB$301,0)),"")} | J176: =IFERROR(IF(INDEX(Hjelpefil!T$5:T$268,MATCH(BRUKERFLATE!$F176,Hjelpefil!$B$5:$B$268,0))=0,"",INDEX(Hjelpefil!T$5:T$268,MATCH(BRUKERFLATE!$F176,Hjelpefil!$B$5:$B$268,0))),"") | K176: =IFERROR(IF(INDEX(Hjelpefil!U$5:U$268,MATCH(BRUKERFLATE!$F176,Hjelpefil!$B$5:$B$268,0))=0,"",INDEX(Hjelpefil!U$5:U$268,MATCH(BRUKERFLATE!$F176,Hjelpefil!$B$5:$B$268,0))),"") | L176: =IFERROR(IF(INDEX(Hjelpefil!V$5:V$268,MATCH(BRUKERFLATE!$F176,Hjelpefil!$B$5:$B$268,0))=0,"",INDEX(Hjelpefil!V$5:V$268,MATCH(BRUKERFLATE!$F176,Hjelpefil!$B$5:$B$268,0))),"") | M176: =IFERROR(IF(INDEX(Hjelpefil!W$5:W$268,MATCH(BRUKERFLATE!$F176,Hjelpefil!$B$5:$B$268,0))=0,"",INDEX(Hjelpefil!W$5:W$268,MATCH(BRUKERFLATE!$F176,Hjelpefil!$B$5:$B$268,0))),"") | N176: =IFERROR(IF(INDEX(Hjelpefil!X$5:X$268,MATCH(BRUKERFLATE!$F176,Hjelpefil!$B$5:$B$268,0))=0,"",INDEX(Hjelpefil!X$5:X$268,MATCH(BRUKERFLATE!$F176,Hjelpefil!$B$5:$B$268,0))),"") | O176: =IFERROR(IF(INDEX(Hjelpefil!Y$5:Y$268,MATCH(BRUKERFLATE!$F176,Hjelpefil!$B$5:$B$268,0))=0,"",INDEX(Hjelpefil!Y$5:Y$268,MATCH(BRUKERFLATE!$F176,Hjelpefil!$B$5:$B$268,0))),"") | P176: =IFERROR(IF(INDEX(Hjelpefil!Z$5:Z$268,MATCH(BRUKERFLATE!$F176,Hjelpefil!$B$5:$B$268,0))=0,"",INDEX(Hjelpefil!Z$5:Z$268,MATCH(BRUKERFLATE!$F176,Hjelpefil!$B$5:$B$268,0))),"") | Q176: =IFERROR(IF(INDEX(Hjelpefil!AA$5:AA$268,MATCH(BRUKERFLATE!$F176,Hjelpefil!$B$5:$B$268,0))=0,"",INDEX(Hjelpefil!AA$5:AA$268,MATCH(BRUKERFLATE!$F176,Hjelpefil!$B$5:$B$268,0))),"") | ... Z176: =IFERROR(IF(INDEX(Hjelpefil!AJ$5:AJ$268,MATCH(BRUKERFLATE!$F176,Hjelpefil!$B$5:$B$268,0))=0,"",INDEX(Hjelpefil!AJ$5:AJ$268,MATCH(BRUKERFLATE!$F176,Hjelpefil!$B$5:$B$268,0))),"") | AB176: =IF(AC176="","",MAX($AB$2:AB175)+1) | AC176: =IF($A$3="KOM",IF(AND($AI176=1,$AH176=1),Hjelpefil!B178,""),IF($A$3="FYL",IF(AND($AW176=1,$AH176=1),Hjelpefil!B178,""),"")) | AD176: =IF($A$3="KOM",IF(AND($AI176=1,$AH176=1),Hjelpefil!C178,""),IF($A$3="FYL",IF(AND($AW176=1,$AH176=1),Hjelpefil!C178,""),"")) | AE176: =IF($A$3="KOM",IF(AND($AI176=1,$AH176=1),Hjelpefil!F178,""),IF($A$3="FYL",IF(AND($AW176=1,$AH176=1),Hjelpefil!F178,""),"")) | AF176: =IF(AND($AI176=1,$AH176=1),IF(AQ176="",AR176,AQ176),"") | AH176: =IF(OR(AP176=$A$3,AP176="BEGGE"),1,0) -> 0 | AI176: =IF($B$3=$AJ$2,AJ176,IF($B$3=$AK$2,AK176,IF($B$3=$AL$2,AL176,IF($B$3=$AM$2,AM176,IF($B$3=$AN$2,AN176,IF($B$3=$AO$2,AO176)))))) -> 0 | AJ176: 0 | AK176: 0 | AL176: 0 | AM176: 0 | AN176: 0 | AO176: 0 | AP176: FYL | AQ176: =INDEX(Hjelpefil!H178:M178,MATCH(BRUKERFLATE!$B$3,BRUKERFLATE!$AV$4:$AV$9,0)) -> 0 | AR176: =INDEX(Hjelpefil!N178:S178,MATCH(BRUKERFLATE!$B$3,BRUKERFLATE!$AV$4:$AV$9,0)) -> Samferdsel | AW176: =IF($B$3=$AJ$2,AX176,IF($B$3=$AK$2,AY176,IF($B$3=$AL$2,AZ176,IF($B$3=$AM$2,BA176,IF($B$3=$AN$2,BB176,IF($B$3=$AO$2,BC176)))))) -> 1 | AX176: 1 | AY176: 0 | AZ176: 0 | BA176: 0 | BB176: 0 | BC176: 0
F177: =IFERROR(INDEX($AC$3:$AC$301,MATCH(ROW()-ROW($D$2),$AB$3:$AB$301,0)),"") | G177: =IF(F177="","",IF($A$3="FYL",INDEX($AR$3:$AR$269,MATCH(F177,$AC$3:$AC$269,0)),INDEX($AQ$3:$AQ$269,MATCH(F177,$AC$3:$AC$269,0)))) | H177: {=IFERROR(INDEX($AD$3:$AD$301,MATCH(ROW()-ROW($D$2),$AB$3:$AB$301,0)),"")} | I177: {=IFERROR(INDEX($AE$3:$AE$301,MATCH(ROW()-ROW($D$2),$AB$3:$AB$301,0)),"")} | J177: =IFERROR(IF(INDEX(Hjelpefil!T$5:T$268,MATCH(BRUKERFLATE!$F177,Hjelpefil!$B$5:$B$268,0))=0,"",INDEX(Hjelpefil!T$5:T$268,MATCH(BRUKERFLATE!$F177,Hjelpefil!$B$5:$B$268,0))),"") | K177: =IFERROR(IF(INDEX(Hjelpefil!U$5:U$268,MATCH(BRUKERFLATE!$F177,Hjelpefil!$B$5:$B$268,0))=0,"",INDEX(Hjelpefil!U$5:U$268,MATCH(BRUKERFLATE!$F177,Hjelpefil!$B$5:$B$268,0))),"") | L177: =IFERROR(IF(INDEX(Hjelpefil!V$5:V$268,MATCH(BRUKERFLATE!$F177,Hjelpefil!$B$5:$B$268,0))=0,"",INDEX(Hjelpefil!V$5:V$268,MATCH(BRUKERFLATE!$F177,Hjelpefil!$B$5:$B$268,0))),"") | M177: =IFERROR(IF(INDEX(Hjelpefil!W$5:W$268,MATCH(BRUKERFLATE!$F177,Hjelpefil!$B$5:$B$268,0))=0,"",INDEX(Hjelpefil!W$5:W$268,MATCH(BRUKERFLATE!$F177,Hjelpefil!$B$5:$B$268,0))),"") | N177: =IFERROR(IF(INDEX(Hjelpefil!X$5:X$268,MATCH(BRUKERFLATE!$F177,Hjelpefil!$B$5:$B$268,0))=0,"",INDEX(Hjelpefil!X$5:X$268,MATCH(BRUKERFLATE!$F177,Hjelpefil!$B$5:$B$268,0))),"") | O177: =IFERROR(IF(INDEX(Hjelpefil!Y$5:Y$268,MATCH(BRUKERFLATE!$F177,Hjelpefil!$B$5:$B$268,0))=0,"",INDEX(Hjelpefil!Y$5:Y$268,MATCH(BRUKERFLATE!$F177,Hjelpefil!$B$5:$B$268,0))),"") | P177: =IFERROR(IF(INDEX(Hjelpefil!Z$5:Z$268,MATCH(BRUKERFLATE!$F177,Hjelpefil!$B$5:$B$268,0))=0,"",INDEX(Hjelpefil!Z$5:Z$268,MATCH(BRUKERFLATE!$F177,Hjelpefil!$B$5:$B$268,0))),"") | Q177: =IFERROR(IF(INDEX(Hjelpefil!AA$5:AA$268,MATCH(BRUKERFLATE!$F177,Hjelpefil!$B$5:$B$268,0))=0,"",INDEX(Hjelpefil!AA$5:AA$268,MATCH(BRUKERFLATE!$F177,Hjelpefil!$B$5:$B$268,0))),"") | ... Z177: =IFERROR(IF(INDEX(Hjelpefil!AJ$5:AJ$268,MATCH(BRUKERFLATE!$F177,Hjelpefil!$B$5:$B$268,0))=0,"",INDEX(Hjelpefil!AJ$5:AJ$268,MATCH(BRUKERFLATE!$F177,Hjelpefil!$B$5:$B$268,0))),"") | AB177: =IF(AC177="","",MAX($AB$2:AB176)+1) | AC177: =IF($A$3="KOM",IF(AND($AI177=1,$AH177=1),Hjelpefil!B179,""),IF($A$3="FYL",IF(AND($AW177=1,$AH177=1),Hjelpefil!B179,""),"")) | AD177: =IF($A$3="KOM",IF(AND($AI177=1,$AH177=1),Hjelpefil!C179,""),IF($A$3="FYL",IF(AND($AW177=1,$AH177=1),Hjelpefil!C179,""),"")) | AE177: =IF($A$3="KOM",IF(AND($AI177=1,$AH177=1),Hjelpefil!F179,""),IF($A$3="FYL",IF(AND($AW177=1,$AH177=1),Hjelpefil!F179,""),"")) | AF177: =IF(AND($AI177=1,$AH177=1),IF(AQ177="",AR177,AQ177),"") | AH177: =IF(OR(AP177=$A$3,AP177="BEGGE"),1,0) -> 0 | AI177: =IF($B$3=$AJ$2,AJ177,IF($B$3=$AK$2,AK177,IF($B$3=$AL$2,AL177,IF($B$3=$AM$2,AM177,IF($B$3=$AN$2,AN177,IF($B$3=$AO$2,AO177)))))) -> 0 | AJ177: 0 | AK177: 0 | AL177: 0 | AM177: 0 | AN177: 0 | AO177: 0 | AP177: FYL | AQ177: =INDEX(Hjelpefil!H179:M179,MATCH(BRUKERFLATE!$B$3,BRUKERFLATE!$AV$4:$AV$9,0)) -> 0 | AR177: =INDEX(Hjelpefil!N179:S179,MATCH(BRUKERFLATE!$B$3,BRUKERFLATE!$AV$4:$AV$9,0)) -> Samferdsel | AW177: =IF($B$3=$AJ$2,AX177,IF($B$3=$AK$2,AY177,IF($B$3=$AL$2,AZ177,IF($B$3=$AM$2,BA177,IF($B$3=$AN$2,BB177,IF($B$3=$AO$2,BC177)))))) -> 1 | AX177: 1 | AY177: 0 | AZ177: 0 | BA177: 0 | BB177: 0 | BC177: 0
F178: =IFERROR(INDEX($AC$3:$AC$301,MATCH(ROW()-ROW($D$2),$AB$3:$AB$301,0)),"") | G178: =IF(F178="","",IF($A$3="FYL",INDEX($AR$3:$AR$269,MATCH(F178,$AC$3:$AC$269,0)),INDEX($AQ$3:$AQ$269,MATCH(F178,$AC$3:$AC$269,0)))) | H178: {=IFERROR(INDEX($AD$3:$AD$301,MATCH(ROW()-ROW($D$2),$AB$3:$AB$301,0)),"")} | I178: {=IFERROR(INDEX($AE$3:$AE$301,MATCH(ROW()-ROW($D$2),$AB$3:$AB$301,0)),"")} | J178: =IFERROR(IF(INDEX(Hjelpefil!T$5:T$268,MATCH(BRUKERFLATE!$F178,Hjelpefil!$B$5:$B$268,0))=0,"",INDEX(Hjelpefil!T$5:T$268,MATCH(BRUKERFLATE!$F178,Hjelpefil!$B$5:$B$268,0))),"") | K178: =IFERROR(IF(INDEX(Hjelpefil!U$5:U$268,MATCH(BRUKERFLATE!$F178,Hjelpefil!$B$5:$B$268,0))=0,"",INDEX(Hjelpefil!U$5:U$268,MATCH(BRUKERFLATE!$F178,Hjelpefil!$B$5:$B$268,0))),"") | L178: =IFERROR(IF(INDEX(Hjelpefil!V$5:V$268,MATCH(BRUKERFLATE!$F178,Hjelpefil!$B$5:$B$268,0))=0,"",INDEX(Hjelpefil!V$5:V$268,MATCH(BRUKERFLATE!$F178,Hjelpefil!$B$5:$B$268,0))),"") | M178: =IFERROR(IF(INDEX(Hjelpefil!W$5:W$268,MATCH(BRUKERFLATE!$F178,Hjelpefil!$B$5:$B$268,0))=0,"",INDEX(Hjelpefil!W$5:W$268,MATCH(BRUKERFLATE!$F178,Hjelpefil!$B$5:$B$268,0))),"") | N178: =IFERROR(IF(INDEX(Hjelpefil!X$5:X$268,MATCH(BRUKERFLATE!$F178,Hjelpefil!$B$5:$B$268,0))=0,"",INDEX(Hjelpefil!X$5:X$268,MATCH(BRUKERFLATE!$F178,Hjelpefil!$B$5:$B$268,0))),"") | O178: =IFERROR(IF(INDEX(Hjelpefil!Y$5:Y$268,MATCH(BRUKERFLATE!$F178,Hjelpefil!$B$5:$B$268,0))=0,"",INDEX(Hjelpefil!Y$5:Y$268,MATCH(BRUKERFLATE!$F178,Hjelpefil!$B$5:$B$268,0))),"") | P178: =IFERROR(IF(INDEX(Hjelpefil!Z$5:Z$268,MATCH(BRUKERFLATE!$F178,Hjelpefil!$B$5:$B$268,0))=0,"",INDEX(Hjelpefil!Z$5:Z$268,MATCH(BRUKERFLATE!$F178,Hjelpefil!$B$5:$B$268,0))),"") | Q178: =IFERROR(IF(INDEX(Hjelpefil!AA$5:AA$268,MATCH(BRUKERFLATE!$F178,Hjelpefil!$B$5:$B$268,0))=0,"",INDEX(Hjelpefil!AA$5:AA$268,MATCH(BRUKERFLATE!$F178,Hjelpefil!$B$5:$B$268,0))),"") | ... Z178: =IFERROR(IF(INDEX(Hjelpefil!AJ$5:AJ$268,MATCH(BRUKERFLATE!$F178,Hjelpefil!$B$5:$B$268,0))=0,"",INDEX(Hjelpefil!AJ$5:AJ$268,MATCH(BRUKERFLATE!$F178,Hjelpefil!$B$5:$B$268,0))),"") | AB178: =IF(AC178="","",MAX($AB$2:AB177)+1) | AC178: =IF($A$3="KOM",IF(AND($AI178=1,$AH178=1),Hjelpefil!B180,""),IF($A$3="FYL",IF(AND($AW178=1,$AH178=1),Hjelpefil!B180,""),"")) | AD178: =IF($A$3="KOM",IF(AND($AI178=1,$AH178=1),Hjelpefil!C180,""),IF($A$3="FYL",IF(AND($AW178=1,$AH178=1),Hjelpefil!C180,""),"")) | AE178: =IF($A$3="KOM",IF(AND($AI178=1,$AH178=1),Hjelpefil!F180,""),IF($A$3="FYL",IF(AND($AW178=1,$AH178=1),Hjelpefil!F180,""),"")) | AF178: =IF(AND($AI178=1,$AH178=1),IF(AQ178="",AR178,AQ178),"") | AH178: =IF(OR(AP178=$A$3,AP178="BEGGE"),1,0) -> 0 | AI178: =IF($B$3=$AJ$2,AJ178,IF($B$3=$AK$2,AK178,IF($B$3=$AL$2,AL178,IF($B$3=$AM$2,AM178,IF($B$3=$AN$2,AN178,IF($B$3=$AO$2,AO178)))))) -> 0 | AJ178: 0 | AK178: 0 | AL178: 0 | AM178: 0 | AN178: 0 | AO178: 0 | AP178: FYL | AQ178: =INDEX(Hjelpefil!H180:M180,MATCH(BRUKERFLATE!$B$3,BRUKERFLATE!$AV$4:$AV$9,0)) -> 0 | AR178: =INDEX(Hjelpefil!N180:S180,MATCH(BRUKERFLATE!$B$3,BRUKERFLATE!$AV$4:$AV$9,0)) -> Samferdsel | AW178: =IF($B$3=$AJ$2,AX178,IF($B$3=$AK$2,AY178,IF($B$3=$AL$2,AZ178,IF($B$3=$AM$2,BA178,IF($B$3=$AN$2,BB178,IF($B$3=$AO$2,BC178)))))) -> 1 | AX178: 1 | AY178: 0 | AZ178: 0 | BA178: 0 | BB178: 0 | BC178: 0
F179: =IFERROR(INDEX($AC$3:$AC$301,MATCH(ROW()-ROW($D$2),$AB$3:$AB$301,0)),"") | G179: =IF(F179="","",IF($A$3="FYL",INDEX($AR$3:$AR$269,MATCH(F179,$AC$3:$AC$269,0)),INDEX($AQ$3:$AQ$269,MATCH(F179,$AC$3:$AC$269,0)))) | H179: {=IFERROR(INDEX($AD$3:$AD$301,MATCH(ROW()-ROW($D$2),$AB$3:$AB$301,0)),"")} | I179: {=IFERROR(INDEX($AE$3:$AE$301,MATCH(ROW()-ROW($D$2),$AB$3:$AB$301,0)),"")} | J179: =IFERROR(IF(INDEX(Hjelpefil!T$5:T$268,MATCH(BRUKERFLATE!$F179,Hjelpefil!$B$5:$B$268,0))=0,"",INDEX(Hjelpefil!T$5:T$268,MATCH(BRUKERFLATE!$F179,Hjelpefil!$B$5:$B$268,0))),"") | K179: =IFERROR(IF(INDEX(Hjelpefil!U$5:U$268,MATCH(BRUKERFLATE!$F179,Hjelpefil!$B$5:$B$268,0))=0,"",INDEX(Hjelpefil!U$5:U$268,MATCH(BRUKERFLATE!$F179,Hjelpefil!$B$5:$B$268,0))),"") | L179: =IFERROR(IF(INDEX(Hjelpefil!V$5:V$268,MATCH(BRUKERFLATE!$F179,Hjelpefil!$B$5:$B$268,0))=0,"",INDEX(Hjelpefil!V$5:V$268,MATCH(BRUKERFLATE!$F179,Hjelpefil!$B$5:$B$268,0))),"") | M179: =IFERROR(IF(INDEX(Hjelpefil!W$5:W$268,MATCH(BRUKERFLATE!$F179,Hjelpefil!$B$5:$B$268,0))=0,"",INDEX(Hjelpefil!W$5:W$268,MATCH(BRUKERFLATE!$F179,Hjelpefil!$B$5:$B$268,0))),"") | N179: =IFERROR(IF(INDEX(Hjelpefil!X$5:X$268,MATCH(BRUKERFLATE!$F179,Hjelpefil!$B$5:$B$268,0))=0,"",INDEX(Hjelpefil!X$5:X$268,MATCH(BRUKERFLATE!$F179,Hjelpefil!$B$5:$B$268,0))),"") | O179: =IFERROR(IF(INDEX(Hjelpefil!Y$5:Y$268,MATCH(BRUKERFLATE!$F179,Hjelpefil!$B$5:$B$268,0))=0,"",INDEX(Hjelpefil!Y$5:Y$268,MATCH(BRUKERFLATE!$F179,Hjelpefil!$B$5:$B$268,0))),"") | P179: =IFERROR(IF(INDEX(Hjelpefil!Z$5:Z$268,MATCH(BRUKERFLATE!$F179,Hjelpefil!$B$5:$B$268,0))=0,"",INDEX(Hjelpefil!Z$5:Z$268,MATCH(BRUKERFLATE!$F179,Hjelpefil!$B$5:$B$268,0))),"") | Q179: =IFERROR(IF(INDEX(Hjelpefil!AA$5:AA$268,MATCH(BRUKERFLATE!$F179,Hjelpefil!$B$5:$B$268,0))=0,"",INDEX(Hjelpefil!AA$5:AA$268,MATCH(BRUKERFLATE!$F179,Hjelpefil!$B$5:$B$268,0))),"") | ... Z179: =IFERROR(IF(INDEX(Hjelpefil!AJ$5:AJ$268,MATCH(BRUKERFLATE!$F179,Hjelpefil!$B$5:$B$268,0))=0,"",INDEX(Hjelpefil!AJ$5:AJ$268,MATCH(BRUKERFLATE!$F179,Hjelpefil!$B$5:$B$268,0))),"") | AB179: =IF(AC179="","",MAX($AB$2:AB178)+1) | AC179: =IF($A$3="KOM",IF(AND($AI179=1,$AH179=1),Hjelpefil!B181,""),IF($A$3="FYL",IF(AND($AW179=1,$AH179=1),Hjelpefil!B181,""),"")) | AD179: =IF($A$3="KOM",IF(AND($AI179=1,$AH179=1),Hjelpefil!C181,""),IF($A$3="FYL",IF(AND($AW179=1,$AH179=1),Hjelpefil!C181,""),"")) | AE179: =IF($A$3="KOM",IF(AND($AI179=1,$AH179=1),Hjelpefil!F181,""),IF($A$3="FYL",IF(AND($AW179=1,$AH179=1),Hjelpefil!F181,""),"")) | AF179: =IF(AND($AI179=1,$AH179=1),IF(AQ179="",AR179,AQ179),"") | AH179: =IF(OR(AP179=$A$3,AP179="BEGGE"),1,0) -> 0 | AI179: =IF($B$3=$AJ$2,AJ179,IF($B$3=$AK$2,AK179,IF($B$3=$AL$2,AL179,IF($B$3=$AM$2,AM179,IF($B$3=$AN$2,AN179,IF($B$3=$AO$2,AO179)))))) -> 0 | AJ179: 0 | AK179: 0 | AL179: 0 | AM179: 0 | AN179: 0 | AO179: 0 | AP179: FYL | AQ179: =INDEX(Hjelpefil!H181:M181,MATCH(BRUKERFLATE!$B$3,BRUKERFLATE!$AV$4:$AV$9,0)) -> 0 | AR179: =INDEX(Hjelpefil!N181:S181,MATCH(BRUKERFLATE!$B$3,BRUKERFLATE!$AV$4:$AV$9,0)) -> Samferdsel | AW179: =IF($B$3=$AJ$2,AX179,IF($B$3=$AK$2,AY179,IF($B$3=$AL$2,AZ179,IF($B$3=$AM$2,BA179,IF($B$3=$AN$2,BB179,IF($B$3=$AO$2,BC179)))))) -> 1 | AX179: 1 | AY179: 0 | AZ179: 0 | BA179: 0 | BB179: 0 | BC179: 0
F180: =IFERROR(INDEX($AC$3:$AC$301,MATCH(ROW()-ROW($D$2),$AB$3:$AB$301,0)),"") | G180: =IF(F180="","",IF($A$3="FYL",INDEX($AR$3:$AR$269,MATCH(F180,$AC$3:$AC$269,0)),INDEX($AQ$3:$AQ$269,MATCH(F180,$AC$3:$AC$269,0)))) | H180: {=IFERROR(INDEX($AD$3:$AD$301,MATCH(ROW()-ROW($D$2),$AB$3:$AB$301,0)),"")} | I180: {=IFERROR(INDEX($AE$3:$AE$301,MATCH(ROW()-ROW($D$2),$AB$3:$AB$301,0)),"")} | J180: =IFERROR(IF(INDEX(Hjelpefil!T$5:T$268,MATCH(BRUKERFLATE!$F180,Hjelpefil!$B$5:$B$268,0))=0,"",INDEX(Hjelpefil!T$5:T$268,MATCH(BRUKERFLATE!$F180,Hjelpefil!$B$5:$B$268,0))),"") | K180: =IFERROR(IF(INDEX(Hjelpefil!U$5:U$268,MATCH(BRUKERFLATE!$F180,Hjelpefil!$B$5:$B$268,0))=0,"",INDEX(Hjelpefil!U$5:U$268,MATCH(BRUKERFLATE!$F180,Hjelpefil!$B$5:$B$268,0))),"") | L180: =IFERROR(IF(INDEX(Hjelpefil!V$5:V$268,MATCH(BRUKERFLATE!$F180,Hjelpefil!$B$5:$B$268,0))=0,"",INDEX(Hjelpefil!V$5:V$268,MATCH(BRUKERFLATE!$F180,Hjelpefil!$B$5:$B$268,0))),"") | M180: =IFERROR(IF(INDEX(Hjelpefil!W$5:W$268,MATCH(BRUKERFLATE!$F180,Hjelpefil!$B$5:$B$268,0))=0,"",INDEX(Hjelpefil!W$5:W$268,MATCH(BRUKERFLATE!$F180,Hjelpefil!$B$5:$B$268,0))),"") | N180: =IFERROR(IF(INDEX(Hjelpefil!X$5:X$268,MATCH(BRUKERFLATE!$F180,Hjelpefil!$B$5:$B$268,0))=0,"",INDEX(Hjelpefil!X$5:X$268,MATCH(BRUKERFLATE!$F180,Hjelpefil!$B$5:$B$268,0))),"") | O180: =IFERROR(IF(INDEX(Hjelpefil!Y$5:Y$268,MATCH(BRUKERFLATE!$F180,Hjelpefil!$B$5:$B$268,0))=0,"",INDEX(Hjelpefil!Y$5:Y$268,MATCH(BRUKERFLATE!$F180,Hjelpefil!$B$5:$B$268,0))),"") | P180: =IFERROR(IF(INDEX(Hjelpefil!Z$5:Z$268,MATCH(BRUKERFLATE!$F180,Hjelpefil!$B$5:$B$268,0))=0,"",INDEX(Hjelpefil!Z$5:Z$268,MATCH(BRUKERFLATE!$F180,Hjelpefil!$B$5:$B$268,0))),"") | Q180: =IFERROR(IF(INDEX(Hjelpefil!AA$5:AA$268,MATCH(BRUKERFLATE!$F180,Hjelpefil!$B$5:$B$268,0))=0,"",INDEX(Hjelpefil!AA$5:AA$268,MATCH(BRUKERFLATE!$F180,Hjelpefil!$B$5:$B$268,0))),"") | ... Z180: =IFERROR(IF(INDEX(Hjelpefil!AJ$5:AJ$268,MATCH(BRUKERFLATE!$F180,Hjelpefil!$B$5:$B$268,0))=0,"",INDEX(Hjelpefil!AJ$5:AJ$268,MATCH(BRUKERFLATE!$F180,Hjelpefil!$B$5:$B$268,0))),"") | AB180: =IF(AC180="","",MAX($AB$2:AB179)+1) | AC180: =IF($A$3="KOM",IF(AND($AI180=1,$AH180=1),Hjelpefil!B182,""),IF($A$3="FYL",IF(AND($AW180=1,$AH180=1),Hjelpefil!B182,""),"")) | AD180: =IF($A$3="KOM",IF(AND($AI180=1,$AH180=1),Hjelpefil!C182,""),IF($A$3="FYL",IF(AND($AW180=1,$AH180=1),Hjelpefil!C182,""),"")) | AE180: =IF($A$3="KOM",IF(AND($AI180=1,$AH180=1),Hjelpefil!F182,""),IF($A$3="FYL",IF(AND($AW180=1,$AH180=1),Hjelpefil!F182,""),"")) | AF180: =IF(AND($AI180=1,$AH180=1),IF(AQ180="",AR180,AQ180),"") | AH180: =IF(OR(AP180=$A$3,AP180="BEGGE"),1,0) -> 0 | AI180: =IF($B$3=$AJ$2,AJ180,IF($B$3=$AK$2,AK180,IF($B$3=$AL$2,AL180,IF($B$3=$AM$2,AM180,IF($B$3=$AN$2,AN180,IF($B$3=$AO$2,AO180)))))) -> 0 | AJ180: 0 | AK180: 0 | AL180: 0 | AM180: 0 | AN180: 0 | AO180: 0 | AP180: FYL | AQ180: =INDEX(Hjelpefil!H182:M182,MATCH(BRUKERFLATE!$B$3,BRUKERFLATE!$AV$4:$AV$9,0)) -> 0 | AR180: =INDEX(Hjelpefil!N182:S182,MATCH(BRUKERFLATE!$B$3,BRUKERFLATE!$AV$4:$AV$9,0)) -> Samferdsel | AW180: =IF($B$3=$AJ$2,AX180,IF($B$3=$AK$2,AY180,IF($B$3=$AL$2,AZ180,IF($B$3=$AM$2,BA180,IF($B$3=$AN$2,BB180,IF($B$3=$AO$2,BC180)))))) -> 1 | AX180: 1 | AY180: 0 | AZ180: 0 | BA180: 0 | BB180: 0 | BC180: 0
F181: =IFERROR(INDEX($AC$3:$AC$301,MATCH(ROW()-ROW($D$2),$AB$3:$AB$301,0)),"") | G181: =IF(F181="","",IF($A$3="FYL",INDEX($AR$3:$AR$269,MATCH(F181,$AC$3:$AC$269,0)),INDEX($AQ$3:$AQ$269,MATCH(F181,$AC$3:$AC$269,0)))) | H181: {=IFERROR(INDEX($AD$3:$AD$301,MATCH(ROW()-ROW($D$2),$AB$3:$AB$301,0)),"")} | I181: {=IFERROR(INDEX($AE$3:$AE$301,MATCH(ROW()-ROW($D$2),$AB$3:$AB$301,0)),"")} | J181: =IFERROR(IF(INDEX(Hjelpefil!T$5:T$268,MATCH(BRUKERFLATE!$F181,Hjelpefil!$B$5:$B$268,0))=0,"",INDEX(Hjelpefil!T$5:T$268,MATCH(BRUKERFLATE!$F181,Hjelpefil!$B$5:$B$268,0))),"") | K181: =IFERROR(IF(INDEX(Hjelpefil!U$5:U$268,MATCH(BRUKERFLATE!$F181,Hjelpefil!$B$5:$B$268,0))=0,"",INDEX(Hjelpefil!U$5:U$268,MATCH(BRUKERFLATE!$F181,Hjelpefil!$B$5:$B$268,0))),"") | L181: =IFERROR(IF(INDEX(Hjelpefil!V$5:V$268,MATCH(BRUKERFLATE!$F181,Hjelpefil!$B$5:$B$268,0))=0,"",INDEX(Hjelpefil!V$5:V$268,MATCH(BRUKERFLATE!$F181,Hjelpefil!$B$5:$B$268,0))),"") | M181: =IFERROR(IF(INDEX(Hjelpefil!W$5:W$268,MATCH(BRUKERFLATE!$F181,Hjelpefil!$B$5:$B$268,0))=0,"",INDEX(Hjelpefil!W$5:W$268,MATCH(BRUKERFLATE!$F181,Hjelpefil!$B$5:$B$268,0))),"") | N181: =IFERROR(IF(INDEX(Hjelpefil!X$5:X$268,MATCH(BRUKERFLATE!$F181,Hjelpefil!$B$5:$B$268,0))=0,"",INDEX(Hjelpefil!X$5:X$268,MATCH(BRUKERFLATE!$F181,Hjelpefil!$B$5:$B$268,0))),"") | O181: =IFERROR(IF(INDEX(Hjelpefil!Y$5:Y$268,MATCH(BRUKERFLATE!$F181,Hjelpefil!$B$5:$B$268,0))=0,"",INDEX(Hjelpefil!Y$5:Y$268,MATCH(BRUKERFLATE!$F181,Hjelpefil!$B$5:$B$268,0))),"") | P181: =IFERROR(IF(INDEX(Hjelpefil!Z$5:Z$268,MATCH(BRUKERFLATE!$F181,Hjelpefil!$B$5:$B$268,0))=0,"",INDEX(Hjelpefil!Z$5:Z$268,MATCH(BRUKERFLATE!$F181,Hjelpefil!$B$5:$B$268,0))),"") | Q181: =IFERROR(IF(INDEX(Hjelpefil!AA$5:AA$268,MATCH(BRUKERFLATE!$F181,Hjelpefil!$B$5:$B$268,0))=0,"",INDEX(Hjelpefil!AA$5:AA$268,MATCH(BRUKERFLATE!$F181,Hjelpefil!$B$5:$B$268,0))),"") | ... Z181: =IFERROR(IF(INDEX(Hjelpefil!AJ$5:AJ$268,MATCH(BRUKERFLATE!$F181,Hjelpefil!$B$5:$B$268,0))=0,"",INDEX(Hjelpefil!AJ$5:AJ$268,MATCH(BRUKERFLATE!$F181,Hjelpefil!$B$5:$B$268,0))),"") | AB181: =IF(AC181="","",MAX($AB$2:AB180)+1) | AC181: =IF($A$3="KOM",IF(AND($AI181=1,$AH181=1),Hjelpefil!B183,""),IF($A$3="FYL",IF(AND($AW181=1,$AH181=1),Hjelpefil!B183,""),"")) | AD181: =IF($A$3="KOM",IF(AND($AI181=1,$AH181=1),Hjelpefil!C183,""),IF($A$3="FYL",IF(AND($AW181=1,$AH181=1),Hjelpefil!C183,""),"")) | AE181: =IF($A$3="KOM",IF(AND($AI181=1,$AH181=1),Hjelpefil!F183,""),IF($A$3="FYL",IF(AND($AW181=1,$AH181=1),Hjelpefil!F183,""),"")) | AF181: =IF(AND($AI181=1,$AH181=1),IF(AQ181="",AR181,AQ181),"") | AH181: =IF(OR(AP181=$A$3,AP181="BEGGE"),1,0) -> 0 | AI181: =IF($B$3=$AJ$2,AJ181,IF($B$3=$AK$2,AK181,IF($B$3=$AL$2,AL181,IF($B$3=$AM$2,AM181,IF($B$3=$AN$2,AN181,IF($B$3=$AO$2,AO181)))))) -> 0 | AJ181: 0 | AK181: 0 | AL181: 0 | AM181: 0 | AN181: 0 | AO181: 0 | AP181: FYL | AQ181: =INDEX(Hjelpefil!H183:M183,MATCH(BRUKERFLATE!$B$3,BRUKERFLATE!$AV$4:$AV$9,0)) -> 0 | AR181: =INDEX(Hjelpefil!N183:S183,MATCH(BRUKERFLATE!$B$3,BRUKERFLATE!$AV$4:$AV$9,0)) -> Samferdsel | AW181: =IF($B$3=$AJ$2,AX181,IF($B$3=$AK$2,AY181,IF($B$3=$AL$2,AZ181,IF($B$3=$AM$2,BA181,IF($B$3=$AN$2,BB181,IF($B$3=$AO$2,BC181)))))) -> 1 | AX181: 1 | AY181: 0 | AZ181: 0 | BA181: 0 | BB181: 0 | BC181: 0
F182: =IFERROR(INDEX($AC$3:$AC$301,MATCH(ROW()-ROW($D$2),$AB$3:$AB$301,0)),"") | G182: =IF(F182="","",IF($A$3="FYL",INDEX($AR$3:$AR$269,MATCH(F182,$AC$3:$AC$269,0)),INDEX($AQ$3:$AQ$269,MATCH(F182,$AC$3:$AC$269,0)))) | H182: {=IFERROR(INDEX($AD$3:$AD$301,MATCH(ROW()-ROW($D$2),$AB$3:$AB$301,0)),"")} | I182: {=IFERROR(INDEX($AE$3:$AE$301,MATCH(ROW()-ROW($D$2),$AB$3:$AB$301,0)),"")} | J182: =IFERROR(IF(INDEX(Hjelpefil!T$5:T$268,MATCH(BRUKERFLATE!$F182,Hjelpefil!$B$5:$B$268,0))=0,"",INDEX(Hjelpefil!T$5:T$268,MATCH(BRUKERFLATE!$F182,Hjelpefil!$B$5:$B$268,0))),"") | K182: =IFERROR(IF(INDEX(Hjelpefil!U$5:U$268,MATCH(BRUKERFLATE!$F182,Hjelpefil!$B$5:$B$268,0))=0,"",INDEX(Hjelpefil!U$5:U$268,MATCH(BRUKERFLATE!$F182,Hjelpefil!$B$5:$B$268,0))),"") | L182: =IFERROR(IF(INDEX(Hjelpefil!V$5:V$268,MATCH(BRUKERFLATE!$F182,Hjelpefil!$B$5:$B$268,0))=0,"",INDEX(Hjelpefil!V$5:V$268,MATCH(BRUKERFLATE!$F182,Hjelpefil!$B$5:$B$268,0))),"") | M182: =IFERROR(IF(INDEX(Hjelpefil!W$5:W$268,MATCH(BRUKERFLATE!$F182,Hjelpefil!$B$5:$B$268,0))=0,"",INDEX(Hjelpefil!W$5:W$268,MATCH(BRUKERFLATE!$F182,Hjelpefil!$B$5:$B$268,0))),"") | N182: =IFERROR(IF(INDEX(Hjelpefil!X$5:X$268,MATCH(BRUKERFLATE!$F182,Hjelpefil!$B$5:$B$268,0))=0,"",INDEX(Hjelpefil!X$5:X$268,MATCH(BRUKERFLATE!$F182,Hjelpefil!$B$5:$B$268,0))),"") | O182: =IFERROR(IF(INDEX(Hjelpefil!Y$5:Y$268,MATCH(BRUKERFLATE!$F182,Hjelpefil!$B$5:$B$268,0))=0,"",INDEX(Hjelpefil!Y$5:Y$268,MATCH(BRUKERFLATE!$F182,Hjelpefil!$B$5:$B$268,0))),"") | P182: =IFERROR(IF(INDEX(Hjelpefil!Z$5:Z$268,MATCH(BRUKERFLATE!$F182,Hjelpefil!$B$5:$B$268,0))=0,"",INDEX(Hjelpefil!Z$5:Z$268,MATCH(BRUKERFLATE!$F182,Hjelpefil!$B$5:$B$268,0))),"") | Q182: =IFERROR(IF(INDEX(Hjelpefil!AA$5:AA$268,MATCH(BRUKERFLATE!$F182,Hjelpefil!$B$5:$B$268,0))=0,"",INDEX(Hjelpefil!AA$5:AA$268,MATCH(BRUKERFLATE!$F182,Hjelpefil!$B$5:$B$268,0))),"") | ... Z182: =IFERROR(IF(INDEX(Hjelpefil!AJ$5:AJ$268,MATCH(BRUKERFLATE!$F182,Hjelpefil!$B$5:$B$268,0))=0,"",INDEX(Hjelpefil!AJ$5:AJ$268,MATCH(BRUKERFLATE!$F182,Hjelpefil!$B$5:$B$268,0))),"") | AB182: =IF(AC182="","",MAX($AB$2:AB181)+1) | AC182: =IF($A$3="KOM",IF(AND($AI182=1,$AH182=1),Hjelpefil!B184,""),IF($A$3="FYL",IF(AND($AW182=1,$AH182=1),Hjelpefil!B184,""),"")) | AD182: =IF($A$3="KOM",IF(AND($AI182=1,$AH182=1),Hjelpefil!C184,""),IF($A$3="FYL",IF(AND($AW182=1,$AH182=1),Hjelpefil!C184,""),"")) | AE182: =IF($A$3="KOM",IF(AND($AI182=1,$AH182=1),Hjelpefil!F184,""),IF($A$3="FYL",IF(AND($AW182=1,$AH182=1),Hjelpefil!F184,""),"")) | AF182: =IF(AND($AI182=1,$AH182=1),IF(AQ182="",AR182,AQ182),"") | AH182: =IF(OR(AP182=$A$3,AP182="BEGGE"),1,0) -> 0 | AI182: =IF($B$3=$AJ$2,AJ182,IF($B$3=$AK$2,AK182,IF($B$3=$AL$2,AL182,IF($B$3=$AM$2,AM182,IF($B$3=$AN$2,AN182,IF($B$3=$AO$2,AO182)))))) -> 0 | AJ182: 0 | AK182: 0 | AL182: 0 | AM182: 0 | AN182: 0 | AO182: 0 | AP182: FYL | AQ182: =INDEX(Hjelpefil!H184:M184,MATCH(BRUKERFLATE!$B$3,BRUKERFLATE!$AV$4:$AV$9,0)) -> 0 | AR182: =INDEX(Hjelpefil!N184:S184,MATCH(BRUKERFLATE!$B$3,BRUKERFLATE!$AV$4:$AV$9,0)) -> Samferdsel | AW182: =IF($B$3=$AJ$2,AX182,IF($B$3=$AK$2,AY182,IF($B$3=$AL$2,AZ182,IF($B$3=$AM$2,BA182,IF($B$3=$AN$2,BB182,IF($B$3=$AO$2,BC182)))))) -> 1 | AX182: 1 | AY182: 0 | AZ182: 0 | BA182: 0 | BB182: 0 | BC182: 0
... F269: =IFERROR(INDEX($AC$3:$AC$301,MATCH(ROW()-ROW($D$2),$AB$3:$AB$301,0)),"") | G269: =IF(F269="","",IF($A$3="FYL",INDEX($AR$3:$AR$269,MATCH(F269,$AC$3:$AC$269,0)),INDEX($AQ$3:$AQ$269,MATCH(F269,$AC$3:$AC$269,0)))) | H269: {=IFERROR(INDEX($AD$3:$AD$301,MATCH(ROW()-ROW($D$2),$AB$3:$AB$301,0)),"")} | I269: {=IFERROR(INDEX($AE$3:$AE$301,MATCH(ROW()-ROW($D$2),$AB$3:$AB$301,0)),"")} | J269: =IFERROR(IF(INDEX(Hjelpefil!T$5:T$268,MATCH(BRUKERFLATE!$F269,Hjelpefil!$B$5:$B$268,0))=0,"",INDEX(Hjelpefil!T$5:T$268,MATCH(BRUKERFLATE!$F269,Hjelpefil!$B$5:$B$268,0))),"") | K269: =IFERROR(IF(INDEX(Hjelpefil!U$5:U$268,MATCH(BRUKERFLATE!$F269,Hjelpefil!$B$5:$B$268,0))=0,"",INDEX(Hjelpefil!U$5:U$268,MATCH(BRUKERFLATE!$F269,Hjelpefil!$B$5:$B$268,0))),"") | L269: =IFERROR(IF(INDEX(Hjelpefil!V$5:V$268,MATCH(BRUKERFLATE!$F269,Hjelpefil!$B$5:$B$268,0))=0,"",INDEX(Hjelpefil!V$5:V$268,MATCH(BRUKERFLATE!$F269,Hjelpefil!$B$5:$B$268,0))),"") | M269: =IFERROR(IF(INDEX(Hjelpefil!W$5:W$268,MATCH(BRUKERFLATE!$F269,Hjelpefil!$B$5:$B$268,0))=0,"",INDEX(Hjelpefil!W$5:W$268,MATCH(BRUKERFLATE!$F269,Hjelpefil!$B$5:$B$268,0))),"") | N269: =IFERROR(IF(INDEX(Hjelpefil!X$5:X$268,MATCH(BRUKERFLATE!$F269,Hjelpefil!$B$5:$B$268,0))=0,"",INDEX(Hjelpefil!X$5:X$268,MATCH(BRUKERFLATE!$F269,Hjelpefil!$B$5:$B$268,0))),"") | O269: =IFERROR(IF(INDEX(Hjelpefil!Y$5:Y$268,MATCH(BRUKERFLATE!$F269,Hjelpefil!$B$5:$B$268,0))=0,"",INDEX(Hjelpefil!Y$5:Y$268,MATCH(BRUKERFLATE!$F269,Hjelpefil!$B$5:$B$268,0))),"") | P269: =IFERROR(IF(INDEX(Hjelpefil!Z$5:Z$268,MATCH(BRUKERFLATE!$F269,Hjelpefil!$B$5:$B$268,0))=0,"",INDEX(Hjelpefil!Z$5:Z$268,MATCH(BRUKERFLATE!$F269,Hjelpefil!$B$5:$B$268,0))),"") | Q269: =IFERROR(IF(INDEX(Hjelpefil!AA$5:AA$268,MATCH(BRUKERFLATE!$F269,Hjelpefil!$B$5:$B$268,0))=0,"",INDEX(Hjelpefil!AA$5:AA$268,MATCH(BRUKERFLATE!$F269,Hjelpefil!$B$5:$B$268,0))),"") | ... Z269: =IFERROR(IF(INDEX(Hjelpefil!AJ$5:AJ$268,MATCH(BRUKERFLATE!$F269,Hjelpefil!$B$5:$B$268,0))=0,"",INDEX(Hjelpefil!AJ$5:AJ$268,MATCH(BRUKERFLATE!$F269,Hjelpefil!$B$5:$B$268,0))),"") | AB269: =IF(AC269="","",MAX($AB$2:AB268)+1) | AC269: =IF($A$3="KOM",IF(AND($AI269=1,$AH269=1),Hjelpefil!B271,""),IF($A$3="FYL",IF(AND($AW269=1,$AH269=1),Hjelpefil!B271,""),"")) | AD269: =IF($A$3="KOM",IF(AND($AI269=1,$AH269=1),Hjelpefil!C271,""),IF($A$3="FYL",IF(AND($AW269=1,$AH269=1),Hjelpefil!C271,""),"")) | AE269: =IF($A$3="KOM",IF(AND($AI269=1,$AH269=1),Hjelpefil!F271,""),IF($A$3="FYL",IF(AND($AW269=1,$AH269=1),Hjelpefil!F271,""),"")) | AF269: =IF(AND($AI269=1,$AH269=1),IF(AQ269="",AR269,AQ269),"") | AH269: =IF(OR(AP269=$A$3,AP269="BEGGE"),1,0) -> 0 | AI269: =IF($B$3=$AJ$2,AJ269,IF($B$3=$AK$2,AK269,IF($B$3=$AL$2,AL269,IF($B$3=$AM$2,AM269,IF($B$3=$AN$2,AN269,IF($B$3=$AO$2,AO269)))))) -> 0 | AJ269: 0 | AK269: 0 | AL269: 0 | AM269: 0 | AN269: 0 | AO269: 0 | AP269: FYL | AQ269: =INDEX(Hjelpefil!H271:M271,MATCH(BRUKERFLATE!$B$3,BRUKERFLATE!$AV$4:$AV$9,0)) -> 0 | AR269: =INDEX(Hjelpefil!N271:S271,MATCH(BRUKERFLATE!$B$3,BRUKERFLATE!$AV$4:$AV$9,0)) -> 0 | AW269: =IF($B$3=$AJ$2,AX269,IF($B$3=$AK$2,AY269,IF($B$3=$AL$2,AZ269,IF($B$3=$AM$2,BA269,IF($B$3=$AN$2,BB269,IF($B$3=$AO$2,BC269)))))) -> 0 | AX269: 0 | AY269: 0 | AZ269: 0 | BA269: 0 | BB269: 0 | BC269: 0
F270: =IFERROR(INDEX($AC$3:$AC$301,MATCH(ROW()-ROW($D$2),$AB$3:$AB$301,0)),"") | G270: =IF(F270="","",IF($A$3="FYL",INDEX($AR$3:$AR$269,MATCH(F270,$AC$3:$AC$269,0)),INDEX($AQ$3:$AQ$269,MATCH(F270,$AC$3:$AC$269,0)))) | H270: {=IFERROR(INDEX($AD$3:$AD$301,MATCH(ROW()-ROW($D$2),$AB$3:$AB$301,0)),"")} | I270: {=IFERROR(INDEX($AE$3:$AE$301,MATCH(ROW()-ROW($D$2),$AB$3:$AB$301,0)),"")} | J270: =IFERROR(IF(INDEX(Hjelpefil!T$5:T$268,MATCH(BRUKERFLATE!$F270,Hjelpefil!$B$5:$B$268,0))=0,"",INDEX(Hjelpefil!T$5:T$268,MATCH(BRUKERFLATE!$F270,Hjelpefil!$B$5:$B$268,0))),"") | K270: =IFERROR(IF(INDEX(Hjelpefil!U$5:U$268,MATCH(BRUKERFLATE!$F270,Hjelpefil!$B$5:$B$268,0))=0,"",INDEX(Hjelpefil!U$5:U$268,MATCH(BRUKERFLATE!$F270,Hjelpefil!$B$5:$B$268,0))),"") | L270: =IFERROR(IF(INDEX(Hjelpefil!V$5:V$268,MATCH(BRUKERFLATE!$F270,Hjelpefil!$B$5:$B$268,0))=0,"",INDEX(Hjelpefil!V$5:V$268,MATCH(BRUKERFLATE!$F270,Hjelpefil!$B$5:$B$268,0))),"") | M270: =IFERROR(IF(INDEX(Hjelpefil!W$5:W$268,MATCH(BRUKERFLATE!$F270,Hjelpefil!$B$5:$B$268,0))=0,"",INDEX(Hjelpefil!W$5:W$268,MATCH(BRUKERFLATE!$F270,Hjelpefil!$B$5:$B$268,0))),"") | N270: =IFERROR(IF(INDEX(Hjelpefil!X$5:X$268,MATCH(BRUKERFLATE!$F270,Hjelpefil!$B$5:$B$268,0))=0,"",INDEX(Hjelpefil!X$5:X$268,MATCH(BRUKERFLATE!$F270,Hjelpefil!$B$5:$B$268,0))),"") | O270: =IFERROR(IF(INDEX(Hjelpefil!Y$5:Y$268,MATCH(BRUKERFLATE!$F270,Hjelpefil!$B$5:$B$268,0))=0,"",INDEX(Hjelpefil!Y$5:Y$268,MATCH(BRUKERFLATE!$F270,Hjelpefil!$B$5:$B$268,0))),"") | P270: =IFERROR(IF(INDEX(Hjelpefil!Z$5:Z$268,MATCH(BRUKERFLATE!$F270,Hjelpefil!$B$5:$B$268,0))=0,"",INDEX(Hjelpefil!Z$5:Z$268,MATCH(BRUKERFLATE!$F270,Hjelpefil!$B$5:$B$268,0))),"") | Q270: =IFERROR(IF(INDEX(Hjelpefil!AA$5:AA$268,MATCH(BRUKERFLATE!$F270,Hjelpefil!$B$5:$B$268,0))=0,"",INDEX(Hjelpefil!AA$5:AA$268,MATCH(BRUKERFLATE!$F270,Hjelpefil!$B$5:$B$268,0))),"") | ... Z270: =IFERROR(IF(INDEX(Hjelpefil!AJ$5:AJ$268,MATCH(BRUKERFLATE!$F270,Hjelpefil!$B$5:$B$268,0))=0,"",INDEX(Hjelpefil!AJ$5:AJ$268,MATCH(BRUKERFLATE!$F270,Hjelpefil!$B$5:$B$268,0))),"") | AF270: =IF(AND($AI270=1,$AH270=1),IF(AQ270="",AR270,AQ270),"") | AH270: =IF(OR(AP270=$A$3,AP270="BEGGE"),1,0) -> 0 | AI270: =IF($B$3=$AJ$2,AJ270,IF($B$3=$AK$2,AK270,IF($B$3=$AL$2,AL270,IF($B$3=$AM$2,AM270,IF($B$3=$AN$2,AN270,IF($B$3=$AO$2,AO270)))))) -> 0 | AJ270: 0 | AK270: 0 | AL270: 0 | AM270: 0 | AN270: 0 | AO270: 0 | AP270: FYL | AQ270: =INDEX(Hjelpefil!H272:M272,MATCH(BRUKERFLATE!$B$3,BRUKERFLATE!$AV$4:$AV$9,0)) -> 0 | AR270: =INDEX(Hjelpefil!N272:S272,MATCH(BRUKERFLATE!$B$3,BRUKERFLATE!$AV$4:$AV$9,0)) -> 0 | AW270: =IF($B$3=$AJ$2,AX270,IF($B$3=$AK$2,AY270,IF($B$3=$AL$2,AZ270,IF($B$3=$AM$2,BA270,IF($B$3=$AN$2,BB270,IF($B$3=$AO$2,BC270)))))) -> 0 | AX270: 0 | AY270: 0 | AZ270: 0 | BA270: 0 | BB270: 0 | BC270: 0
F271: =IFERROR(INDEX($AC$3:$AC$301,MATCH(ROW()-ROW($D$2),$AB$3:$AB$301,0)),"") | G271: =IF(F271="","",IF($A$3="FYL",INDEX($AR$3:$AR$269,MATCH(F271,$AC$3:$AC$269,0)),INDEX($AQ$3:$AQ$269,MATCH(F271,$AC$3:$AC$269,0)))) | H271: {=IFERROR(INDEX($AD$3:$AD$301,MATCH(ROW()-ROW($D$2),$AB$3:$AB$301,0)),"")} | I271: {=IFERROR(INDEX($AE$3:$AE$301,MATCH(ROW()-ROW($D$2),$AB$3:$AB$301,0)),"")} | J271: =IFERROR(IF(INDEX(Hjelpefil!T$5:T$268,MATCH(BRUKERFLATE!$F271,Hjelpefil!$B$5:$B$268,0))=0,"",INDEX(Hjelpefil!T$5:T$268,MATCH(BRUKERFLATE!$F271,Hjelpefil!$B$5:$B$268,0))),"") | K271: =IFERROR(IF(INDEX(Hjelpefil!U$5:U$268,MATCH(BRUKERFLATE!$F271,Hjelpefil!$B$5:$B$268,0))=0,"",INDEX(Hjelpefil!U$5:U$268,MATCH(BRUKERFLATE!$F271,Hjelpefil!$B$5:$B$268,0))),"") | L271: =IFERROR(IF(INDEX(Hjelpefil!V$5:V$268,MATCH(BRUKERFLATE!$F271,Hjelpefil!$B$5:$B$268,0))=0,"",INDEX(Hjelpefil!V$5:V$268,MATCH(BRUKERFLATE!$F271,Hjelpefil!$B$5:$B$268,0))),"") | M271: =IFERROR(IF(INDEX(Hjelpefil!W$5:W$268,MATCH(BRUKERFLATE!$F271,Hjelpefil!$B$5:$B$268,0))=0,"",INDEX(Hjelpefil!W$5:W$268,MATCH(BRUKERFLATE!$F271,Hjelpefil!$B$5:$B$268,0))),"") | N271: =IFERROR(IF(INDEX(Hjelpefil!X$5:X$268,MATCH(BRUKERFLATE!$F271,Hjelpefil!$B$5:$B$268,0))=0,"",INDEX(Hjelpefil!X$5:X$268,MATCH(BRUKERFLATE!$F271,Hjelpefil!$B$5:$B$268,0))),"") | O271: =IFERROR(IF(INDEX(Hjelpefil!Y$5:Y$268,MATCH(BRUKERFLATE!$F271,Hjelpefil!$B$5:$B$268,0))=0,"",INDEX(Hjelpefil!Y$5:Y$268,MATCH(BRUKERFLATE!$F271,Hjelpefil!$B$5:$B$268,0))),"") | P271: =IFERROR(IF(INDEX(Hjelpefil!Z$5:Z$268,MATCH(BRUKERFLATE!$F271,Hjelpefil!$B$5:$B$268,0))=0,"",INDEX(Hjelpefil!Z$5:Z$268,MATCH(BRUKERFLATE!$F271,Hjelpefil!$B$5:$B$268,0))),"") | Q271: =IFERROR(IF(INDEX(Hjelpefil!AA$5:AA$268,MATCH(BRUKERFLATE!$F271,Hjelpefil!$B$5:$B$268,0))=0,"",INDEX(Hjelpefil!AA$5:AA$268,MATCH(BRUKERFLATE!$F271,Hjelpefil!$B$5:$B$268,0))),"") | ... Z271: =IFERROR(IF(INDEX(Hjelpefil!AJ$5:AJ$268,MATCH(BRUKERFLATE!$F271,Hjelpefil!$B$5:$B$268,0))=0,"",INDEX(Hjelpefil!AJ$5:AJ$268,MATCH(BRUKERFLATE!$F271,Hjelpefil!$B$5:$B$268,0))),"") | AF271: =IF(AND($AI271=1,$AH271=1),IF(AQ271="",AR271,AQ271),"") | AH271: =IF(OR(AP271=$A$3,AP271="BEGGE"),1,0) -> 0 | AI271: =IF($B$3=$AJ$2,AJ271,IF($B$3=$AK$2,AK271,IF($B$3=$AL$2,AL271,IF($B$3=$AM$2,AM271,IF($B$3=$AN$2,AN271,IF($B$3=$AO$2,AO271)))))) -> 0 | AJ271: 0 | AK271: 0 | AL271: 0 | AM271: 0 | AN271: 0 | AO271: 0 | AP271: FYL | AQ271: =INDEX(Hjelpefil!H273:M273,MATCH(BRUKERFLATE!$B$3,BRUKERFLATE!$AV$4:$AV$9,0)) -> 0 | AR271: =INDEX(Hjelpefil!N273:S273,MATCH(BRUKERFLATE!$B$3,BRUKERFLATE!$AV$4:$AV$9,0)) -> 0 | AW271: =IF($B$3=$AJ$2,AX271,IF($B$3=$AK$2,AY271,IF($B$3=$AL$2,AZ271,IF($B$3=$AM$2,BA271,IF($B$3=$AN$2,BB271,IF($B$3=$AO$2,BC271)))))) -> 0 | AX271: 0 | AY271: 0 | AZ271: 0 | BA271: 0 | BB271: 0 | BC271: 0
F272: =IFERROR(INDEX($AC$3:$AC$301,MATCH(ROW()-ROW($D$2),$AB$3:$AB$301,0)),"") | G272: =IF(F272="","",IF($A$3="FYL",INDEX($AR$3:$AR$269,MATCH(F272,$AC$3:$AC$269,0)),INDEX($AQ$3:$AQ$269,MATCH(F272,$AC$3:$AC$269,0)))) | H272: {=IFERROR(INDEX($AD$3:$AD$301,MATCH(ROW()-ROW($D$2),$AB$3:$AB$301,0)),"")} | I272: {=IFERROR(INDEX($AE$3:$AE$301,MATCH(ROW()-ROW($D$2),$AB$3:$AB$301,0)),"")} | J272: =IFERROR(IF(INDEX(Hjelpefil!T$5:T$268,MATCH(BRUKERFLATE!$F272,Hjelpefil!$B$5:$B$268,0))=0,"",INDEX(Hjelpefil!T$5:T$268,MATCH(BRUKERFLATE!$F272,Hjelpefil!$B$5:$B$268,0))),"") | K272: =IFERROR(IF(INDEX(Hjelpefil!U$5:U$268,MATCH(BRUKERFLATE!$F272,Hjelpefil!$B$5:$B$268,0))=0,"",INDEX(Hjelpefil!U$5:U$268,MATCH(BRUKERFLATE!$F272,Hjelpefil!$B$5:$B$268,0))),"") | L272: =IFERROR(IF(INDEX(Hjelpefil!V$5:V$268,MATCH(BRUKERFLATE!$F272,Hjelpefil!$B$5:$B$268,0))=0,"",INDEX(Hjelpefil!V$5:V$268,MATCH(BRUKERFLATE!$F272,Hjelpefil!$B$5:$B$268,0))),"") | M272: =IFERROR(IF(INDEX(Hjelpefil!W$5:W$268,MATCH(BRUKERFLATE!$F272,Hjelpefil!$B$5:$B$268,0))=0,"",INDEX(Hjelpefil!W$5:W$268,MATCH(BRUKERFLATE!$F272,Hjelpefil!$B$5:$B$268,0))),"") | N272: =IFERROR(IF(INDEX(Hjelpefil!X$5:X$268,MATCH(BRUKERFLATE!$F272,Hjelpefil!$B$5:$B$268,0))=0,"",INDEX(Hjelpefil!X$5:X$268,MATCH(BRUKERFLATE!$F272,Hjelpefil!$B$5:$B$268,0))),"") | O272: =IFERROR(IF(INDEX(Hjelpefil!Y$5:Y$268,MATCH(BRUKERFLATE!$F272,Hjelpefil!$B$5:$B$268,0))=0,"",INDEX(Hjelpefil!Y$5:Y$268,MATCH(BRUKERFLATE!$F272,Hjelpefil!$B$5:$B$268,0))),"") | P272: =IFERROR(IF(INDEX(Hjelpefil!Z$5:Z$268,MATCH(BRUKERFLATE!$F272,Hjelpefil!$B$5:$B$268,0))=0,"",INDEX(Hjelpefil!Z$5:Z$268,MATCH(BRUKERFLATE!$F272,Hjelpefil!$B$5:$B$268,0))),"") | Q272: =IFERROR(IF(INDEX(Hjelpefil!AA$5:AA$268,MATCH(BRUKERFLATE!$F272,Hjelpefil!$B$5:$B$268,0))=0,"",INDEX(Hjelpefil!AA$5:AA$268,MATCH(BRUKERFLATE!$F272,Hjelpefil!$B$5:$B$268,0))),"") | ... Z272: =IFERROR(IF(INDEX(Hjelpefil!AJ$5:AJ$268,MATCH(BRUKERFLATE!$F272,Hjelpefil!$B$5:$B$268,0))=0,"",INDEX(Hjelpefil!AJ$5:AJ$268,MATCH(BRUKERFLATE!$F272,Hjelpefil!$B$5:$B$268,0))),"") | AF272: =IF(AND($AI272=1,$AH272=1),IF(AQ272="",AR272,AQ272),"") | AH272: =IF(OR(AP272=$A$3,AP272="BEGGE"),1,0) -> 0 | AI272: =IF($B$3=$AJ$2,AJ272,IF($B$3=$AK$2,AK272,IF($B$3=$AL$2,AL272,IF($B$3=$AM$2,AM272,IF($B$3=$AN$2,AN272,IF($B$3=$AO$2,AO272)))))) -> 0 | AJ272: 0 | AK272: 0 | AL272: 0 | AM272: 0 | AN272: 0 | AO272: 0 | AP272: FYL | AQ272: =INDEX(Hjelpefil!H274:M274,MATCH(BRUKERFLATE!$B$3,BRUKERFLATE!$AV$4:$AV$9,0)) -> 0 | AR272: =INDEX(Hjelpefil!N274:S274,MATCH(BRUKERFLATE!$B$3,BRUKERFLATE!$AV$4:$AV$9,0)) -> 0 | AW272: =IF($B$3=$AJ$2,AX272,IF($B$3=$AK$2,AY272,IF($B$3=$AL$2,AZ272,IF($B$3=$AM$2,BA272,IF($B$3=$AN$2,BB272,IF($B$3=$AO$2,BC272)))))) -> 0 | AX272: 0 | AY272: 0 | AZ272: 0 | BA272: 0 | BB272: 0 | BC272: 0
AF273: =IF(AND($AI273=1,$AH273=1),IF(AQ273="",AR273,AQ273),"") | AH273: =IF(OR(AP273=$A$3,AP273="BEGGE"),1,0) -> 0 | AI273: =IF($B$3=$AJ$2,AJ273,IF($B$3=$AK$2,AK273,IF($B$3=$AL$2,AL273,IF($B$3=$AM$2,AM273,IF($B$3=$AN$2,AN273,IF($B$3=$AO$2,AO273)))))) -> 0 | AJ273: 0 | AK273: 0 | AL273: 0 | AM273: 0 | AN273: 0 | AO273: 0 | AP273: FYL | AQ273: =INDEX(Hjelpefil!H275:M275,MATCH(BRUKERFLATE!$B$3,BRUKERFLATE!$AV$4:$AV$9,0)) -> 0 | AR273: =INDEX(Hjelpefil!N275:S275,MATCH(BRUKERFLATE!$B$3,BRUKERFLATE!$AV$4:$AV$9,0)) -> 0 | AW273: =IF($B$3=$AJ$2,AX273,IF($B$3=$AK$2,AY273,IF($B$3=$AL$2,AZ273,IF($B$3=$AM$2,BA273,IF($B$3=$AN$2,BB273,IF($B$3=$AO$2,BC273)))))) -> 0 | AX273: 0 | AY273: 0 | AZ273: 0 | BA273: 0 | BB273: 0 | BC273: 0
AF274: =IF(AND($AI274=1,$AH274=1),IF(AQ274="",AR274,AQ274),"") | AH274: =IF(OR(AP274=$A$3,AP274="BEGGE"),1,0) -> 0 | AI274: =IF($B$3=$AJ$2,AJ274,IF($B$3=$AK$2,AK274,IF($B$3=$AL$2,AL274,IF($B$3=$AM$2,AM274,IF($B$3=$AN$2,AN274,IF($B$3=$AO$2,AO274)))))) -> 0 | AJ274: 0 | AK274: 0 | AL274: 0 | AM274: 0 | AN274: 0 | AO274: 0 | AP274: FYL | AQ274: =INDEX(Hjelpefil!H276:M276,MATCH(BRUKERFLATE!$B$3,BRUKERFLATE!$AV$4:$AV$9,0)) -> 0 | AR274: =INDEX(Hjelpefil!N276:S276,MATCH(BRUKERFLATE!$B$3,BRUKERFLATE!$AV$4:$AV$9,0)) -> 0 | AW274: =IF($B$3=$AJ$2,AX274,IF($B$3=$AK$2,AY274,IF($B$3=$AL$2,AZ274,IF($B$3=$AM$2,BA274,IF($B$3=$AN$2,BB274,IF($B$3=$AO$2,BC274)))))) -> 0 | AX274: 0 | AY274: 0 | AZ274: 0 | BA274: 0 | BB274: 0 | BC274: 0
AF275: =IF(AND($AI275=1,$AH275=1),IF(AQ275="",AR275,AQ275),"") | AH275: =IF(OR(AP275=$A$3,AP275="BEGGE"),1,0) -> 0 | AI275: =IF($B$3=$AJ$2,AJ275,IF($B$3=$AK$2,AK275,IF($B$3=$AL$2,AL275,IF($B$3=$AM$2,AM275,IF($B$3=$AN$2,AN275,IF($B$3=$AO$2,AO275)))))) -> 0 | AJ275: 0 | AK275: 0 | AL275: 0 | AM275: 0 | AN275: 0 | AO275: 0 | AP275: FYL | AQ275: =INDEX(Hjelpefil!H277:M277,MATCH(BRUKERFLATE!$B$3,BRUKERFLATE!$AV$4:$AV$9,0)) -> 0 | AR275: =INDEX(Hjelpefil!N277:S277,MATCH(BRUKERFLATE!$B$3,BRUKERFLATE!$AV$4:$AV$9,0)) -> 0 | AW275: =IF($B$3=$AJ$2,AX275,IF($B$3=$AK$2,AY275,IF($B$3=$AL$2,AZ275,IF($B$3=$AM$2,BA275,IF($B$3=$AN$2,BB275,IF($B$3=$AO$2,BC275)))))) -> 0 | AX275: 0 | AY275: 0 | AZ275: 0 | BA275: 0 | BB275: 0 | BC275: 0
AF276: =IF(AND($AI276=1,$AH276=1),IF(AQ276="",AR276,AQ276),"") | AH276: =IF(OR(AP276=$A$3,AP276="BEGGE"),1,0) -> 0 | AI276: =IF($B$3=$AJ$2,AJ276,IF($B$3=$AK$2,AK276,IF($B$3=$AL$2,AL276,IF($B$3=$AM$2,AM276,IF($B$3=$AN$2,AN276,IF($B$3=$AO$2,AO276)))))) -> 0 | AJ276: 0 | AK276: 0 | AL276: 0 | AM276: 0 | AN276: 0 | AO276: 0 | AP276: FYL | AQ276: =INDEX(Hjelpefil!H278:M278,MATCH(BRUKERFLATE!$B$3,BRUKERFLATE!$AV$4:$AV$9,0)) -> 0 | AR276: =INDEX(Hjelpefil!N278:S278,MATCH(BRUKERFLATE!$B$3,BRUKERFLATE!$AV$4:$AV$9,0)) -> 0 | AW276: =IF($B$3=$AJ$2,AX276,IF($B$3=$AK$2,AY276,IF($B$3=$AL$2,AZ276,IF($B$3=$AM$2,BA276,IF($B$3=$AN$2,BB276,IF($B$3=$AO$2,BC276)))))) -> 0 | AX276: 0 | AY276: 0 | AZ276: 0 | BA276: 0 | BB276: 0 | BC276: 0
AF277: =IF(AND($AI277=1,$AH277=1),IF(AQ277="",AR277,AQ277),"") | AH277: =IF(OR(AP277=$A$3,AP277="BEGGE"),1,0) -> 0 | AI277: =IF($B$3=$AJ$2,AJ277,IF($B$3=$AK$2,AK277,IF($B$3=$AL$2,AL277,IF($B$3=$AM$2,AM277,IF($B$3=$AN$2,AN277,IF($B$3=$AO$2,AO277)))))) -> 0 | AJ277: 0 | AK277: 0 | AL277: 0 | AM277: 0 | AN277: 0 | AO277: 0 | AP277: FYL | AQ277: =INDEX(Hjelpefil!H279:M279,MATCH(BRUKERFLATE!$B$3,BRUKERFLATE!$AV$4:$AV$9,0)) -> 0 | AR277: =INDEX(Hjelpefil!N279:S279,MATCH(BRUKERFLATE!$B$3,BRUKERFLATE!$AV$4:$AV$9,0)) -> 0 | AW277: =IF($B$3=$AJ$2,AX277,IF($B$3=$AK$2,AY277,IF($B$3=$AL$2,AZ277,IF($B$3=$AM$2,BA277,IF($B$3=$AN$2,BB277,IF($B$3=$AO$2,BC277)))))) -> 0 | AX277: 0 | AY277: 0 | AZ277: 0 | BA277: 0 | BB277: 0 | BC277: 0
AF278: =IF(AND($AI278=1,$AH278=1),IF(AQ278="",AR278,AQ278),"") | AH278: =IF(OR(AP278=$A$3,AP278="BEGGE"),1,0) -> 0 | AI278: =IF($B$3=$AJ$2,AJ278,IF($B$3=$AK$2,AK278,IF($B$3=$AL$2,AL278,IF($B$3=$AM$2,AM278,IF($B$3=$AN$2,AN278,IF($B$3=$AO$2,AO278)))))) -> 0 | AJ278: 0 | AK278: 0 | AL278: 0 | AM278: 0 | AN278: 0 | AO278: 0 | AP278: FYL | AQ278: =INDEX(Hjelpefil!H280:M280,MATCH(BRUKERFLATE!$B$3,BRUKERFLATE!$AV$4:$AV$9,0)) -> 0 | AR278: =INDEX(Hjelpefil!N280:S280,MATCH(BRUKERFLATE!$B$3,BRUKERFLATE!$AV$4:$AV$9,0)) -> 0 | AW278: =IF($B$3=$AJ$2,AX278,IF($B$3=$AK$2,AY278,IF($B$3=$AL$2,AZ278,IF($B$3=$AM$2,BA278,IF($B$3=$AN$2,BB278,IF($B$3=$AO$2,BC278)))))) -> 0 | AX278: 0 | AY278: 0 | AZ278: 0 | BA278: 0 | BB278: 0 | BC278: 0
AF279: =IF(AND($AI279=1,$AH279=1),IF(AQ279="",AR279,AQ279),"") | AH279: =IF(OR(AP279=$A$3,AP279="BEGGE"),1,0) -> 0 | AI279: =IF($B$3=$AJ$2,AJ279,IF($B$3=$AK$2,AK279,IF($B$3=$AL$2,AL279,IF($B$3=$AM$2,AM279,IF($B$3=$AN$2,AN279,IF($B$3=$AO$2,AO279)))))) -> 0 | AJ279: 0 | AK279: 0 | AL279: 0 | AM279: 0 | AN279: 0 | AO279: 0 | AP279: FYL | AQ279: =INDEX(Hjelpefil!H281:M281,MATCH(BRUKERFLATE!$B$3,BRUKERFLATE!$AV$4:$AV$9,0)) -> 0 | AR279: =INDEX(Hjelpefil!N281:S281,MATCH(BRUKERFLATE!$B$3,BRUKERFLATE!$AV$4:$AV$9,0)) -> 0 | AW279: =IF($B$3=$AJ$2,AX279,IF($B$3=$AK$2,AY279,IF($B$3=$AL$2,AZ279,IF($B$3=$AM$2,BA279,IF($B$3=$AN$2,BB279,IF($B$3=$AO$2,BC279)))))) -> 0 | AX279: 0 | AY279: 0 | AZ279: 0 | BA279: 0 | BB279: 0 | BC279: 0
AF280: =IF(AND($AI280=1,$AH280=1),IF(AQ280="",AR280,AQ280),"") | AH280: =IF(OR(AP280=$A$3,AP280="BEGGE"),1,0) -> 0 | AI280: =IF($B$3=$AJ$2,AJ280,IF($B$3=$AK$2,AK280,IF($B$3=$AL$2,AL280,IF($B$3=$AM$2,AM280,IF($B$3=$AN$2,AN280,IF($B$3=$AO$2,AO280)))))) -> 0 | AJ280: 0 | AK280: 0 | AL280: 0 | AM280: 0 | AN280: 0 | AO280: 0 | AP280: FYL | AQ280: =INDEX(Hjelpefil!H282:M282,MATCH(BRUKERFLATE!$B$3,BRUKERFLATE!$AV$4:$AV$9,0)) -> 0 | AR280: =INDEX(Hjelpefil!N282:S282,MATCH(BRUKERFLATE!$B$3,BRUKERFLATE!$AV$4:$AV$9,0)) -> 0 | AW280: =IF($B$3=$AJ$2,AX280,IF($B$3=$AK$2,AY280,IF($B$3=$AL$2,AZ280,IF($B$3=$AM$2,BA280,IF($B$3=$AN$2,BB280,IF($B$3=$AO$2,BC280)))))) -> 0 | AX280: 0 | AY280: 0 | AZ280: 0 | BA280: 0 | BB280: 0 | BC280: 0
AF281: =IF(AND($AI281=1,$AH281=1),IF(AQ281="",AR281,AQ281),"") | AH281: =IF(OR(AP281=$A$3,AP281="BEGGE"),1,0) -> 0 | AI281: =IF($B$3=$AJ$2,AJ281,IF($B$3=$AK$2,AK281,IF($B$3=$AL$2,AL281,IF($B$3=$AM$2,AM281,IF($B$3=$AN$2,AN281,IF($B$3=$AO$2,AO281)))))) -> 0 | AJ281: 0 | AK281: 0 | AL281: 0 | AM281: 0 | AN281: 0 | AO281: 0 | AP281: FYL | AQ281: =INDEX(Hjelpefil!H283:M283,MATCH(BRUKERFLATE!$B$3,BRUKERFLATE!$AV$4:$AV$9,0)) -> 0 | AR281: =INDEX(Hjelpefil!N283:S283,MATCH(BRUKERFLATE!$B$3,BRUKERFLATE!$AV$4:$AV$9,0)) -> 0 | AW281: =IF($B$3=$AJ$2,AX281,IF($B$3=$AK$2,AY281,IF($B$3=$AL$2,AZ281,IF($B$3=$AM$2,BA281,IF($B$3=$AN$2,BB281,IF($B$3=$AO$2,BC281)))))) -> 0 | AX281: 0 | AY281: 0 | AZ281: 0 | BA281: 0 | BB281: 0 | BC281: 0
AF282: =IF(AND($AI282=1,$AH282=1),IF(AQ282="",AR282,AQ282),"") | AH282: =IF(OR(AP282=$A$3,AP282="BEGGE"),1,0) -> 0 | AI282: =IF($B$3=$AJ$2,AJ282,IF($B$3=$AK$2,AK282,IF($B$3=$AL$2,AL282,IF($B$3=$AM$2,AM282,IF($B$3=$AN$2,AN282,IF($B$3=$AO$2,AO282)))))) -> 0 | AJ282: 0 | AK282: 0 | AL282: 0 | AM282: 0 | AN282: 0 | AO282: 0 | AP282: FYL | AQ282: =INDEX(Hjelpefil!H284:M284,MATCH(BRUKERFLATE!$B$3,BRUKERFLATE!$AV$4:$AV$9,0)) -> 0 | AR282: =INDEX(Hjelpefil!N284:S284,MATCH(BRUKERFLATE!$B$3,BRUKERFLATE!$AV$4:$AV$9,0)) -> 0 | AW282: =IF($B$3=$AJ$2,AX282,IF($B$3=$AK$2,AY282,IF($B$3=$AL$2,AZ282,IF($B$3=$AM$2,BA282,IF($B$3=$AN$2,BB282,IF($B$3=$AO$2,BC282)))))) -> 0 | AX282: 0 | AY282: 0 | AZ282: 0 | BA282: 0 | BB282: 0 | BC282: 0
AF283: =IF(AND($AI283=1,$AH283=1),IF(AQ283="",AR283,AQ283),"") | AH283: =IF(OR(AP283=$A$3,AP283="BEGGE"),1,0) -> 0 | AI283: =IF($B$3=$AJ$2,AJ283,IF($B$3=$AK$2,AK283,IF($B$3=$AL$2,AL283,IF($B$3=$AM$2,AM283,IF($B$3=$AN$2,AN283,IF($B$3=$AO$2,AO283)))))) -> 0 | AJ283: 0 | AK283: 0 | AL283: 0 | AM283: 0 | AN283: 0 | AO283: 0 | AP283: FYL | AQ283: =INDEX(Hjelpefil!H285:M285,MATCH(BRUKERFLATE!$B$3,BRUKERFLATE!$AV$4:$AV$9,0)) -> 0 | AR283: =INDEX(Hjelpefil!N285:S285,MATCH(BRUKERFLATE!$B$3,BRUKERFLATE!$AV$4:$AV$9,0)) -> 0 | AW283: =IF($B$3=$AJ$2,AX283,IF($B$3=$AK$2,AY283,IF($B$3=$AL$2,AZ283,IF($B$3=$AM$2,BA283,IF($B$3=$AN$2,BB283,IF($B$3=$AO$2,BC283)))))) -> 0 | AX283: 0 | AY283: 0 | AZ283: 0 | BA283: 0 | BB283: 0 | BC283: 0
AF284: =IF(AND($AI284=1,$AH284=1),IF(AQ284="",AR284,AQ284),"") | AH284: =IF(OR(AP284=$A$3,AP284="BEGGE"),1,0) -> 0 | AI284: =IF($B$3=$AJ$2,AJ284,IF($B$3=$AK$2,AK284,IF($B$3=$AL$2,AL284,IF($B$3=$AM$2,AM284,IF($B$3=$AN$2,AN284,IF($B$3=$AO$2,AO284)))))) -> 0 | AJ284: 0 | AK284: 0 | AL284: 0 | AM284: 0 | AN284: 0 | AO284: 0 | AP284: FYL | AQ284: =INDEX(Hjelpefil!H286:M286,MATCH(BRUKERFLATE!$B$3,BRUKERFLATE!$AV$4:$AV$9,0)) -> 0 | AR284: =INDEX(Hjelpefil!N286:S286,MATCH(BRUKERFLATE!$B$3,BRUKERFLATE!$AV$4:$AV$9,0)) -> 0 | AW284: =IF($B$3=$AJ$2,AX284,IF($B$3=$AK$2,AY284,IF($B$3=$AL$2,AZ284,IF($B$3=$AM$2,BA284,IF($B$3=$AN$2,BB284,IF($B$3=$AO$2,BC284)))))) -> 0 | AX284: 0 | AY284: 0 | AZ284: 0 | BA284: 0 | BB284: 0 | BC284: 0
... AF324: =IF(AND($AI324=1,$AH324=1),IF(AQ324="",AR324,AQ324),"") | AH324: =IF(OR(AP324=$A$3,AP324="BEGGE"),1,0) -> 0 | AI324: =IF($B$3=$AJ$2,AJ324,IF($B$3=$AK$2,AK324,IF($B$3=$AL$2,AL324,IF($B$3=$AM$2,AM324,IF($B$3=$AN$2,AN324,IF($B$3=$AO$2,AO324)))))) -> 0 | AJ324: 0 | AK324: 0 | AL324: 0 | AM324: 0 | AN324: 0 | AO324: 0 | AP324: FYL | AQ324: =INDEX(Hjelpefil!H326:M326,MATCH(BRUKERFLATE!$B$3,BRUKERFLATE!$AV$4:$AV$9,0)) -> 0 | AR324: =INDEX(Hjelpefil!N326:S326,MATCH(BRUKERFLATE!$B$3,BRUKERFLATE!$AV$4:$AV$9,0)) -> 0 | AW324: =IF($B$3=$AJ$2,AX324,IF($B$3=$AK$2,AY324,IF($B$3=$AL$2,AZ324,IF($B$3=$AM$2,BA324,IF($B$3=$AN$2,BB324,IF($B$3=$AO$2,BC324)))))) -> 0 | AX324: 0 | AY324: 0 | AZ324: 0 | BA324: 0 | BB324: 0 | BC324: 0

Sheet INDIKATORSETT
B1: I dette arket vises alle indikatorer, og disse kan filtreres i linje 4 | H1: Gevinstområder, kommuner | N1: Gevinstområder, fylkeskommuner | T1: Indikatorer for FNs bærekraftmål
H2: Kommuner | I2: Kommuner | J2: Kommuner | K2: Kommuner | L2: Kommuner | M2: Kommuner | N2: Fylker | O2: Fylker | P2: Fylker | Q2: Fylker | R2: Fylker | S2: Fylker
H3: 1 | I3: 2 | J3: 3 | K3: 4 | L3: 5 | M3: 6 | N3: 1 | O3: 2 | P3: 3 | Q3: 4 | R3: 5 | S3: 6
A4: Indikator-nummer | B4: Indikator | C4: Kilde | D4: Kommune | E4: Fylkes-kommune | F4: Indikator-nivå | G4: Hoved-indikator | H4: Tjenester | I4: Demokrati og medvirkning | J4: Samfunnsutvikling | K4: Økonomi | L4: Arbeidsgiver | M4: Innovasjon og digitalisering | N4: Tjenester | O4: Demokrati og medvirkning | P4: Samfunnsutvikling | Q4: Økonomi | R4: Arbeidsgiver | S4: Innovasjon og digitalisering | T4: 1 | U4: 2 | V4: 3 | W4: 4 | X4: 5 | Y4: 6 | Z4: 7 | AA4: 8 | AB4: 9 | AC4: 10 | AD4: 11 | AE4: 12 | AF4: 13 | AG4: 14 | AH4: 15 | AI4: 16 | AJ4: 17 | AN4: Tjenester | AO4: Demokrati og medvirkning | AP4: Samfunnsutvikling | AQ4: Økonomi | AR4: Arbeidsgiver | AS4: Innovasjon | AT4: K/F | AV4: Tjenester | AW4: Demokrati og medvirkning | AX4: Samfunnsutvikling | AY4: Økonomi | AZ4: Arbeidsgiver | BA4: Innovasjon | BB4: K/F
A5: 1 | B5: Produksjonsindeksen fra Teknisk beregningsutvalg, KMD/TBU | C5: https://www.regjeringen.no/no/tema/kommuner-og-regioner/kommunedata/produksjonsindeks2/id2507960/ | D5: KOM | F5: 4_samfunnseffekt | G5: Ja | H5: Administrasjon, tekniske tjenester, samferdsel | AN5: =IF(H5<>"",1,0) -> 1 | AO5: =IF(I5<>"",1,0) -> 0 | AP5: =IF(J5<>"",1,0) -> 0 | AQ5: =IF(K5<>"",1,0) -> 0 | AR5: =IF(L5<>"",1,0) -> 0 | AS5: =IF(M5<>"",1,0) -> 0 | AT5: =IF(D5="","FYL",IF(E5="","KOM","BEGGE")) -> KOM | AV5: =IF(N5<>"",1,0) -> 0 | AW5: =IF(O5<>"",1,0) -> 0 | AX5: =IF(P5<>"",1,0) -> 0 | AY5: =IF(Q5<>"",1,0) -> 0 | AZ5: =IF(R5<>"",1,0) -> 0 | BA5: =IF(S5<>"",1,0) -> 0
A6: 2 | B6: Responstid ved henvendelser til kommunen på ulike tjenesteområder | C6: Egen innhenting i kommunen | D6: KOM | F6: 3_brukereffekt | G6: Ja | H6: Administrasjon, tekniske tjenester, samferdsel | AN6: =IF(H6<>"",1,0) -> 1 | AO6: =IF(I6<>"",1,0) -> 0 | AP6: =IF(J6<>"",1,0) -> 0 | AQ6: =IF(K6<>"",1,0) -> 0 | AR6: =IF(L6<>"",1,0) -> 0 | AS6: =IF(M6<>"",1,0) -> 0 | AT6: =IF(D6="","FYL",IF(E6="","KOM","BEGGE")) -> KOM | AV6: =IF(N6<>"",1,0) -> 0 | AW6: =IF(O6<>"",1,0) -> 0 | AX6: =IF(P6<>"",1,0) -> 0 | AY6: =IF(Q6<>"",1,0) -> 0 | AZ6: =IF(R6<>"",1,0) -> 0 | BA6: =IF(S6<>"",1,0) -> 0
A7: 3 | B7: Andel barnehagelærere i forhold til grunnbemanning, prosent | C7: SSB, tabell 12562 | D7: KOM | F7: 2_prod/teneste | G7: Ja | H7: Barnehage | W7: 4.c | AN7: =IF(H7<>"",1,0) -> 1 | AO7: =IF(I7<>"",1,0) -> 0 | AP7: =IF(J7<>"",1,0) -> 0 | AQ7: =IF(K7<>"",1,0) -> 0 | AR7: =IF(L7<>"",1,0) -> 0 | AS7: =IF(M7<>"",1,0) -> 0 | AT7: =IF(D7="","FYL",IF(E7="","KOM","BEGGE")) -> KOM | AV7: =IF(N7<>"",1,0) -> 0 | AW7: =IF(O7<>"",1,0) -> 0 | AX7: =IF(P7<>"",1,0) -> 0 | AY7: =IF(Q7<>"",1,0) -> 0 | AZ7: =IF(R7<>"",1,0) -> 0 | BA7: =IF(S7<>"",1,0) -> 0
A8: 4 | B8: Korrigerte brutto driftsutgifter per korrigerte oppholdstime i kommunal barnehage, kroner | C8: SSB, tabell 12562 | D8: KOM | F8: 1_innsatsfaktor | H8: Barnehage | W8: 4.2 | AN8: =IF(H8<>"",1,0) -> 1 | AO8: =IF(I8<>"",1,0) -> 0 | AP8: =IF(J8<>"",1,0) -> 0 | AQ8: =IF(K8<>"",1,0) -> 0 | AR8: =IF(L8<>"",1,0) -> 0 | AS8: =IF(M8<>"",1,0) -> 0 | AT8: =IF(D8="","FYL",IF(E8="","KOM","BEGGE")) -> KOM | AV8: =IF(N8<>"",1,0) -> 0 | AW8: =IF(O8<>"",1,0) -> 0 | AX8: =IF(P8<>"",1,0) -> 0 | AY8: =IF(Q8<>"",1,0) -> 0 | AZ8: =IF(R8<>"",1,0) -> 0 | BA8: =IF(S8<>"",1,0) -> 0
A9: 5 | B9: Gjennomsnittleg månadleg foreldrebetaling | C9: SSB, tabell 11573 | D9: KOM | F9: 3_brukereffekt | H9: Barnehage | W9: 4 | AN9: =IF(H9<>"",1,0) -> 1 | AO9: =IF(I9<>"",1,0) -> 0 | AP9: =IF(J9<>"",1,0) -> 0 | AQ9: =IF(K9<>"",1,0) -> 0 | AR9: =IF(L9<>"",1,0) -> 0 | AS9: =IF(M9<>"",1,0) -> 0 | AT9: =IF(D9="","FYL",IF(E9="","KOM","BEGGE")) -> KOM | AV9: =IF(N9<>"",1,0) -> 0 | AW9: =IF(O9<>"",1,0) -> 0 | AX9: =IF(P9<>"",1,0) -> 0 | AY9: =IF(Q9<>"",1,0) -> 0 | AZ9: =IF(R9<>"",1,0) -> 0 | BA9: =IF(S9<>"",1,0) -> 0
A10: 6 | B10: Andel barn 1-2 år i barnehage i forhold til innbyggere 1-2 år, prosent | C10: SSB, tabell 12562 | D10: KOM | F10: 3_brukereffekt | G10: Ja | H10: Barnehage | W10: 4.2 | AN10: =IF(H10<>"",1,0) -> 1 | AO10: =IF(I10<>"",1,0) -> 0 | AP10: =IF(J10<>"",1,0) -> 0 | AQ10: =IF(K10<>"",1,0) -> 0 | AR10: =IF(L10<>"",1,0) -> 0 | AS10: =IF(M10<>"",1,0) -> 0 | AT10: =IF(D10="","FYL",IF(E10="","KOM","BEGGE")) -> KOM | AV10: =IF(N10<>"",1,0) -> 0 | AW10: =IF(O10<>"",1,0) -> 0 | AX10: =IF(P10<>"",1,0) -> 0 | AY10: =IF(Q10<>"",1,0) -> 0 | AZ10: =IF(R10<>"",1,0) -> 0 | BA10: =IF(S10<>"",1,0) -> 0
A11: 7 | B11: Andel barn korrigert for alder per årsverk til basisvirksomhet i barnehage | C11: SSB, tabell 12562 | D11: KOM | F11: 3_brukereffekt | H11: Barnehage | W11: 4 | AN11: =IF(H11<>"",1,0) -> 1 | AO11: =IF(I11<>"",1,0) -> 0 | AP11: =IF(J11<>"",1,0) -> 0 | AQ11: =IF(K11<>"",1,0) -> 0 | AR11: =IF(L11<>"",1,0) -> 0 | AS11: =IF(M11<>"",1,0) -> 0 | AT11: =IF(D11="","FYL",IF(E11="","KOM","BEGGE")) -> KOM | AV11: =IF(N11<>"",1,0) -> 0 | AW11: =IF(O11<>"",1,0) -> 0 | AX11: =IF(P11<>"",1,0) -> 0 | AY11: =IF(Q11<>"",1,0) -> 0 | AZ11: =IF(R11<>"",1,0) -> 0 | BA11: =IF(S11<>"",1,0) -> 0
A12: 8 | B12: Andel minoritetsspråklige barn i barnehage i forhold til innvandrerbarn 1-5 år | C12: SSB, tabell 12562 | D12: KOM | F12: 3_brukereffekt | G12: Ja | H12: Barnehage | W12: 4.2 | AN12: =IF(H12<>"",1,0) -> 1 | AO12: =IF(I12<>"",1,0) -> 0 | AP12: =IF(J12<>"",1,0) -> 0 | AQ12: =IF(K12<>"",1,0) -> 0 | AR12: =IF(L12<>"",1,0) -> 0 | AS12: =IF(M12<>"",1,0) -> 0 | AT12: =IF(D12="","FYL",IF(E12="","KOM","BEGGE")) -> KOM | AV12: =IF(N12<>"",1,0) -> 0 | AW12: =IF(O12<>"",1,0) -> 0 | AX12: =IF(P12<>"",1,0) -> 0 | AY12: =IF(Q12<>"",1,0) -> 0 | AZ12: =IF(R12<>"",1,0) -> 0 | BA12: =IF(S12<>"",1,0) -> 0
A13: 9 | B13: Lærertimer / elevtimer | C13: SSB, tabell 12285 | D13: KOM | F13: 2_prod/teneste | G13: Ja | H13: Skole | W13: 4 | AN13: =IF(H13<>"",1,0) -> 1 | AO13: =IF(I13<>"",1,0) -> 0 | AP13: =IF(J13<>"",1,0) -> 0 | AQ13: =IF(K13<>"",1,0) -> 0 | AR13: =IF(L13<>"",1,0) -> 0 | AS13: =IF(M13<>"",1,0) -> 0 | AT13: =IF(D13="","FYL",IF(E13="","KOM","BEGGE")) -> KOM | AV13: =IF(N13<>"",1,0) -> 0 | AW13: =IF(O13<>"",1,0) -> 0 | AX13: =IF(P13<>"",1,0) -> 0 | AY13: =IF(Q13<>"",1,0) -> 0 | AZ13: =IF(R13<>"",1,0) -> 0 | BA13: =IF(S13<>"",1,0) -> 0
A14: 10 | B14: Lærere med universitets-/høgskoleutdanning, med pedagogisk utdanning, prosent | C14: SSB, tabell 12247 | D14: KOM | F14: 2_prod/teneste | H14: Skole | W14: 4.c | AN14: =IF(H14<>"",1,0) -> 1 | AO14: =IF(I14<>"",1,0) -> 0 | AP14: =IF(J14<>"",1,0) -> 0 | AQ14: =IF(K14<>"",1,0) -> 0 | AR14: =IF(L14<>"",1,0) -> 0 | AS14: =IF(M14<>"",1,0) -> 0 | AT14: =IF(D14="","FYL",IF(E14="","KOM","BEGGE")) -> KOM | AV14: =IF(N14<>"",1,0) -> 0 | AW14: =IF(O14<>"",1,0) -> 0 | AX14: =IF(P14<>"",1,0) -> 0 | AY14: =IF(Q14<>"",1,0) -> 0 | AZ14: =IF(R14<>"",1,0) -> 0 | BA14: =IF(S14<>"",1,0) -> 0
A15: 11 | B15: Korrigerte brutto driftsutgifter til grunnskolesektor. Kroner per elev i kommunale grunnskoler. | C15: SSB, tabell 12235 | D15: KOM | F15: 1_innsatsfaktor | G15: Ja | H15: Skole | W15: 4 | AN15: =IF(H15<>"",1,0) -> 1 | AO15: =IF(I15<>"",1,0) -> 0 | AP15: =IF(J15<>"",1,0) -> 0 | AQ15: =IF(K15<>"",1,0) -> 0 | AR15: =IF(L15<>"",1,0) -> 0 | AS15: =IF(M15<>"",1,0) -> 0 | AT15: =IF(D15="","FYL",IF(E15="","KOM","BEGGE")) -> KOM | AV15: =IF(N15<>"",1,0) -> 0 | AW15: =IF(O15<>"",1,0) -> 0 | AX15: =IF(P15<>"",1,0) -> 0 | AY15: =IF(Q15<>"",1,0) -> 0 | AZ15: =IF(R15<>"",1,0) -> 0 | BA15: =IF(S15<>"",1,0) -> 0
A16: 12 | B16: Andel årstimer til undervisning gitt av lærere med godkjent utdanning, prosent 2008-2015 | C16: UDIR, GSI | D16: KOM | F16: 2_prod/teneste | H16: Skole | W16: 4.c | AN16: =IF(H16<>"",1,0) -> 1 | AO16: =IF(I16<>"",1,0) -> 0 | AP16: =IF(J16<>"",1,0) -> 0 | AQ16: =IF(K16<>"",1,0) -> 0 | AR16: =IF(L16<>"",1,0) -> 0 | AS16: =IF(M16<>"",1,0) -> 0 | AT16: =IF(D16="","FYL",IF(E16="","KOM","BEGGE")) -> KOM | AV16: =IF(N16<>"",1,0) -> 0 | AW16: =IF(O16<>"",1,0) -> 0 | AX16: =IF(P16<>"",1,0) -> 0 | AY16: =IF(Q16<>"",1,0) -> 0 | AZ16: =IF(R16<>"",1,0) -> 0 | BA16: =IF(S16<>"",1,0) -> 0
A17: 13 | B17: Gjennomsnittlig gruppestørrelse | C17: SSB, tabell 12255 | D17: KOM | F17: 2_prod/teneste | H17: Skole | W17: 4 | AN17: =IF(H17<>"",1,0) -> 1 | AO17: =IF(I17<>"",1,0) -> 0 | AP17: =IF(J17<>"",1,0) -> 0 | AQ17: =IF(K17<>"",1,0) -> 0 | AR17: =IF(L17<>"",1,0) -> 0 | AS17: =IF(M17<>"",1,0) -> 0 | AT17: =IF(D17="","FYL",IF(E17="","KOM","BEGGE")) -> KOM | AV17: =IF(N17<>"",1,0) -> 0 | AW17: =IF(O17<>"",1,0) -> 0 | AX17: =IF(P17<>"",1,0) -> 0 | AY17: =IF(Q17<>"",1,0) -> 0 | AZ17: =IF(R17<>"",1,0) -> 0 | BA17: =IF(S17<>"",1,0) -> 0
A18: 14 | B18: Nasjonale prøver, snittkarakter 8. trinn | C18: UDIR, Skoleporten, https://skoleporten.udir.no/# | D18: KOM | F18: 3_brukereffekt | G18: Ja | H18: Skole | W18: 4 | AN18: =IF(H18<>"",1,0) -> 1 | AO18: =IF(I18<>"",1,0) -> 0 | AP18: =IF(J18<>"",1,0) -> 0 | AQ18: =IF(K18<>"",1,0) -> 0 | AR18: =IF(L18<>"",1,0) -> 0 | AS18: =IF(M18<>"",1,0) -> 0 | AT18: =IF(D18="","FYL",IF(E18="","KOM","BEGGE")) -> KOM | AV18: =IF(N18<>"",1,0) -> 0 | AW18: =IF(O18<>"",1,0) -> 0 | AX18: =IF(P18<>"",1,0) -> 0 | AY18: =IF(Q18<>"",1,0) -> 0 | AZ18: =IF(R18<>"",1,0) -> 0 | BA18: =IF(S18<>"",1,0) -> 0
A19: 15 | B19: Trivsel, 7. trinn, indeks (1-5) | C19: UDIR, Skoleporten, https://skoleporten.udir.no/# | D19: KOM | F19: 3_brukereffekt | G19: Ja | H19: Skole | W19: 4 | AN19: =IF(H19<>"",1,0) -> 1 | AO19: =IF(I19<>"",1,0) -> 0 | AP19: =IF(J19<>"",1,0) -> 0 | AQ19: =IF(K19<>"",1,0) -> 0 | AR19: =IF(L19<>"",1,0) -> 0 | AS19: =IF(M19<>"",1,0) -> 0 | AT19: =IF(D19="","FYL",IF(E19="","KOM","BEGGE")) -> KOM | AV19: =IF(N19<>"",1,0) -> 0 | AW19: =IF(O19<>"",1,0) -> 0 | AX19: =IF(P19<>"",1,0) -> 0 | AY19: =IF(Q19<>"",1,0) -> 0 | AZ19: =IF(R19<>"",1,0) -> 0 | BA19: =IF(S19<>"",1,0) -> 0
A20: 16 | B20: Mobbing på skolen, 7. trinn, indeks (1-5) | C20: UDIR, Skoleporten, https://skoleporten.udir.no/# | D20: KOM | F20: 3_brukereffekt | H20: Skole | W20: 4 | AN20: =IF(H20<>"",1,0) -> 1 | AO20: =IF(I20<>"",1,0) -> 0 | AP20: =IF(J20<>"",1,0) -> 0 | AQ20: =IF(K20<>"",1,0) -> 0 | AR20: =IF(L20<>"",1,0) -> 0 | AS20: =IF(M20<>"",1,0) -> 0 | AT20: =IF(D20="","FYL",IF(E20="","KOM","BEGGE")) -> KOM | AV20: =IF(N20<>"",1,0) -> 0 | AW20: =IF(O20<>"",1,0) -> 0 | AX20: =IF(P20<>"",1,0) -> 0 | AY20: =IF(Q20<>"",1,0) -> 0 | AZ20: =IF(R20<>"",1,0) -> 0 | BA20: =IF(S20<>"",1,0) -> 0
A21: 17 | B21: Læringsmiljø: Elevdemokrati og medvirkning, 7. trinn, indeks (1-5) | C21: UDIR, Skoleporten, https://skoleporten.udir.no/# | D21: KOM | F21: 3_brukereffekt | H21: Skole | W21: 4 | AN21: =IF(H21<>"",1,0) -> 1 | AO21: =IF(I21<>"",1,0) -> 0 | AP21: =IF(J21<>"",1,0) -> 0 | AQ21: =IF(K21<>"",1,0) -> 0 | AR21: =IF(L21<>"",1,0) -> 0 | AS21: =IF(M21<>"",1,0) -> 0 | AT21: =IF(D21="","FYL",IF(E21="","KOM","BEGGE")) -> KOM | AV21: =IF(N21<>"",1,0) -> 0 | AW21: =IF(O21<>"",1,0) -> 0 | AX21: =IF(P21<>"",1,0) -> 0 | AY21: =IF(Q21<>"",1,0) -> 0 | AZ21: =IF(R21<>"",1,0) -> 0 | BA21: =IF(S21<>"",1,0) -> 0
A22: 18 | B22: Gjennomsnittlige grunnskolepoeng | C22: SSB, tabell 12255, 12232 | D22: KOM | F22: 3_brukereffekt | H22: Skole | W22: 4 | AN22: =IF(H22<>"",1,0) -> 1 | AO22: =IF(I22<>"",1,0) -> 0 | AP22: =IF(J22<>"",1,0) -> 0 | AQ22: =IF(K22<>"",1,0) -> 0 | AR22: =IF(L22<>"",1,0) -> 0 | AS22: =IF(M22<>"",1,0) -> 0 | AT22: =IF(D22="","FYL",IF(E22="","KOM","BEGGE")) -> KOM | AV22: =IF(N22<>"",1,0) -> 0 | AW22: =IF(O22<>"",1,0) -> 0 | AX22: =IF(P22<>"",1,0) -> 0 | AY22: =IF(Q22<>"",1,0) -> 0 | AZ22: =IF(R22<>"",1,0) -> 0 | BA22: =IF(S22<>"",1,0) -> 0
A23: 19 | B23: Nasjonale prøver, snittkarakter 5. trinn | C23: UDIR, Skoleporten, https://skoleporten.udir.no/# | D23: KOM | F23: 3_brukereffekt | H23: Skole | W23: 4 | AN23: =IF(H23<>"",1,0) -> 1 | AO23: =IF(I23<>"",1,0) -> 0 | AP23: =IF(J23<>"",1,0) -> 0 | AQ23: =IF(K23<>"",1,0) -> 0 | AR23: =IF(L23<>"",1,0) -> 0 | AS23: =IF(M23<>"",1,0) -> 0 | AT23: =IF(D23="","FYL",IF(E23="","KOM","BEGGE")) -> KOM | AV23: =IF(N23<>"",1,0) -> 0 | AW23: =IF(O23<>"",1,0) -> 0 | AX23: =IF(P23<>"",1,0) -> 0 | AY23: =IF(Q23<>"",1,0) -> 0 | AZ23: =IF(R23<>"",1,0) -> 0 | BA23: =IF(S23<>"",1,0) -> 0
A24: 20 | B24: Mestringsnivå regneferdighet, leseferdighet, 5. trinn | C24: SSB, tabell 12232, http://khs.fhi.no/webview/ | D24: KOM | F24: 3_brukereffekt | H24: Skole | W24: 4 | AN24: =IF(H24<>"",1,0) -> 1 | AO24: =IF(I24<>"",1,0) -> 0 | AP24: =IF(J24<>"",1,0) -> 0 | AQ24: =IF(K24<>"",1,0) -> 0 | AR24: =IF(L24<>"",1,0) -> 0 | AS24: =IF(M24<>"",1,0) -> 0 | AT24: =IF(D24="","FYL",IF(E24="","KOM","BEGGE")) -> KOM | AV24: =IF(N24<>"",1,0) -> 0 | AW24: =IF(O24<>"",1,0) -> 0 | AX24: =IF(P24<>"",1,0) -> 0 | AY24: =IF(Q24<>"",1,0) -> 0 | AZ24: =IF(R24<>"",1,0) -> 0 | BA24: =IF(S24<>"",1,0) -> 0
A25: 21 | B25: Læringsmiljø: Støtte fra lærerne, 7. trinn, indeks (1-5) | C25: UDIR, Skoleporten, https://skoleporten.udir.no/# | D25: KOM | F25: 3_brukereffekt | H25: Skole | W25: 4 | AN25: =IF(H25<>"",1,0) -> 1 | AO25: =IF(I25<>"",1,0) -> 0 | AP25: =IF(J25<>"",1,0) -> 0 | AQ25: =IF(K25<>"",1,0) -> 0 | AR25: =IF(L25<>"",1,0) -> 0 | AS25: =IF(M25<>"",1,0) -> 0 | AT25: =IF(D25="","FYL",IF(E25="","KOM","BEGGE")) -> KOM | AV25: =IF(N25<>"",1,0) -> 0 | AW25: =IF(O25<>"",1,0) -> 0 | AX25: =IF(P25<>"",1,0) -> 0 | AY25: =IF(Q25<>"",1,0) -> 0 | AZ25: =IF(R25<>"",1,0) -> 0 | BA25: =IF(S25<>"",1,0) -> 0
A26: 22 | B26: Prosentandel ungdomsskoleelever som har skulket skolen | C26: NOVA, www.ungdata.no | D26: KOM | F26: 3_brukereffekt | H26: Skole | W26: 4 | AN26: =IF(H26<>"",1,0) -> 1 | AO26: =IF(I26<>"",1,0) -> 0 | AP26: =IF(J26<>"",1,0) -> 0 | AQ26: =IF(K26<>"",1,0) -> 0 | AR26: =IF(L26<>"",1,0) -> 0 | AS26: =IF(M26<>"",1,0) -> 0 | AT26: =IF(D26="","FYL",IF(E26="","KOM","BEGGE")) -> KOM | AV26: =IF(N26<>"",1,0) -> 0 | AW26: =IF(O26<>"",1,0) -> 0 | AX26: =IF(P26<>"",1,0) -> 0 | AY26: =IF(Q26<>"",1,0) -> 0 | AZ26: =IF(R26<>"",1,0) -> 0 | BA26: =IF(S26<>"",1,0) -> 0
A27: 23 | B27: Elever med direkte overgang fra grunnskole til videregående læring, prosent | C27: SSB, tabell 12232 | D27: KOM | F27: 3_brukereffekt | G27: Ja | H27: Skole | W27: 4 | AN27: =IF(H27<>"",1,0) -> 1 | AO27: =IF(I27<>"",1,0) -> 0 | AP27: =IF(J27<>"",1,0) -> 0 | AQ27: =IF(K27<>"",1,0) -> 0 | AR27: =IF(L27<>"",1,0) -> 0 | AS27: =IF(M27<>"",1,0) -> 0 | AT27: =IF(D27="","FYL",IF(E27="","KOM","BEGGE")) -> KOM | AV27: =IF(N27<>"",1,0) -> 0 | AW27: =IF(O27<>"",1,0) -> 0 | AX27: =IF(P27<>"",1,0) -> 0 | AY27: =IF(Q27<>"",1,0) -> 0 | AZ27: =IF(R27<>"",1,0) -> 0 | BA27: =IF(S27<>"",1,0) -> 0
A28: 24 | B28: Andel brukerrettede årsverk i omsorgstjenesten m/ helsefagutdanning, prosent | C28: SSB, tabell 12209 | D28: KOM | F28: 2_prod/teneste | H28: Pleie og omsorg | V28: 3.c | AN28: =IF(H28<>"",1,0) -> 1 | AO28: =IF(I28<>"",1,0) -> 0 | AP28: =IF(J28<>"",1,0) -> 0 | AQ28: =IF(K28<>"",1,0) -> 0 | AR28: =IF(L28<>"",1,0) -> 0 | AS28: =IF(M28<>"",1,0) -> 0 | AT28: =IF(D28="","FYL",IF(E28="","KOM","BEGGE")) -> KOM | AV28: =IF(N28<>"",1,0) -> 0 | AW28: =IF(O28<>"",1,0) -> 0 | AX28: =IF(P28<>"",1,0) -> 0 | AY28: =IF(Q28<>"",1,0) -> 0 | AZ28: =IF(R28<>"",1,0) -> 0 | BA28: =IF(S28<>"",1,0) -> 0
A29: 25 | B29: Utgifter kommunale helse- og omsorgstjenester, kr per innbygger | C29: SSB, tabell 12209 | D29: KOM | F29: 1_innsatsfaktor | G29: Ja | H29: Pleie og omsorg | V29: 3.c | AN29: =IF(H29<>"",1,0) -> 1 | AO29: =IF(I29<>"",1,0) -> 0 | AP29: =IF(J29<>"",1,0) -> 0 | AQ29: =IF(K29<>"",1,0) -> 0 | AR29: =IF(L29<>"",1,0) -> 0 | AS29: =IF(M29<>"",1,0) -> 0 | AT29: =IF(D29="","FYL",IF(E29="","KOM","BEGGE")) -> KOM | AV29: =IF(N29<>"",1,0) -> 0 | AW29: =IF(O29<>"",1,0) -> 0 | AX29: =IF(P29<>"",1,0) -> 0 | AY29: =IF(Q29<>"",1,0) -> 0 | AZ29: =IF(R29<>"",1,0) -> 0 | BA29: =IF(S29<>"",1,0) -> 0
A30: 26 | B30: Årsverk helse og omsorg per 10 000 innbygger | C30: SSB, tabell 12209 | D30: KOM | F30: 2_prod/teneste | H30: Pleie og omsorg | V30: 3.8 | AN30: =IF(H30<>"",1,0) -> 1 | AO30: =IF(I30<>"",1,0) -> 0 | AP30: =IF(J30<>"",1,0) -> 0 | AQ30: =IF(K30<>"",1,0) -> 0 | AR30: =IF(L30<>"",1,0) -> 0 | AS30: =IF(M30<>"",1,0) -> 0 | AT30: =IF(D30="","FYL",IF(E30="","KOM","BEGGE")) -> KOM | AV30: =IF(N30<>"",1,0) -> 0 | AW30: =IF(O30<>"",1,0) -> 0 | AX30: =IF(P30<>"",1,0) -> 0 | AY30: =IF(Q30<>"",1,0) -> 0 | AZ30: =IF(R30<>"",1,0) -> 0 | BA30: =IF(S30<>"",1,0) -> 0
A31: 27 | B31: Andel brukertilpassede enerom m/ eget bad/wc, prosent | C31: SSB, tabell 12209 | D31: KOM | F31: 3_brukereffekt | H31: Pleie og omsorg | V31: 3.8 | AN31: =IF(H31<>"",1,0) -> 1 | AO31: =IF(I31<>"",1,0) -> 0 | AP31: =IF(J31<>"",1,0) -> 0 | AQ31: =IF(K31<>"",1,0) -> 0 | AR31: =IF(L31<>"",1,0) -> 0 | AS31: =IF(M31<>"",1,0) -> 0 | AT31: =IF(D31="","FYL",IF(E31="","KOM","BEGGE")) -> KOM | AV31: =IF(N31<>"",1,0) -> 0 | AW31: =IF(O31<>"",1,0) -> 0 | AX31: =IF(P31<>"",1,0) -> 0 | AY31: =IF(Q31<>"",1,0) -> 0 | AZ31: =IF(R31<>"",1,0) -> 0 | BA31: =IF(S31<>"",1,0) -> 0
A32: 28 | B32: Årsverk per bruker av omsorgstjenester | C32: SSB, tabell 12209 | D32: KOM | F32: 2_prod/teneste | G32: Ja | H32: Pleie og omsorg | V32: 3.8 | AN32: =IF(H32<>"",1,0) -> 1 | AO32: =IF(I32<>"",1,0) -> 0 | AP32: =IF(J32<>"",1,0) -> 0 | AQ32: =IF(K32<>"",1,0) -> 0 | AR32: =IF(L32<>"",1,0) -> 0 | AS32: =IF(M32<>"",1,0) -> 0 | AT32: =IF(D32="","FYL",IF(E32="","KOM","BEGGE")) -> KOM | AV32: =IF(N32<>"",1,0) -> 0 | AW32: =IF(O32<>"",1,0) -> 0 | AX32: =IF(P32<>"",1,0) -> 0 | AY32: =IF(Q32<>"",1,0) -> 0 | AZ32: =IF(R32<>"",1,0) -> 0 | BA32: =IF(S32<>"",1,0) -> 0
A33: 29 | B33: Gjennomsnittleg tal på timar i veka til heimesjukepleie og praktisk bistand ifølgje vedtak, direkte tid til brukar (kun utvalt /større kommunar) | C33: SSB, tabell 06967 | D33: KOM | F33: 3_brukereffekt | H33: Pleie og omsorg | V33: 3.8 | AN33: =IF(H33<>"",1,0) -> 1 | AO33: =IF(I33<>"",1,0) -> 0 | AP33: =IF(J33<>"",1,0) -> 0 | AQ33: =IF(K33<>"",1,0) -> 0 | AR33: =IF(L33<>"",1,0) -> 0 | AS33: =IF(M33<>"",1,0) -> 0 | AT33: =IF(D33="","FYL",IF(E33="","KOM","BEGGE")) -> KOM | AV33: =IF(N33<>"",1,0) -> 0 | AW33: =IF(O33<>"",1,0) -> 0 | AX33: =IF(P33<>"",1,0) -> 0 | AY33: =IF(Q33<>"",1,0) -> 0 | AZ33: =IF(R33<>"",1,0) -> 0 | BA33: =IF(S33<>"",1,0) -> 0
A34: 30 | B34: Andel innbyggere 80 år og over som bruker hjemmetjenester, prosent | C34: SSB, tabell 12209 | D34: KOM | F34: 3_brukereffekt | G34: Ja | H34: Pleie og omsorg | V34: 3 | AN34: =IF(H34<>"",1,0) -> 1 | AO34: =IF(I34<>"",1,0) -> 0 | AP34: =IF(J34<>"",1,0) -> 0 | AQ34: =IF(K34<>"",1,0) -> 0 | AR34: =IF(L34<>"",1,0) -> 0 | AS34: =IF(M34<>"",1,0) -> 0 | AT34: =IF(D34="","FYL",IF(E34="","KOM","BEGGE")) -> KOM | AV34: =IF(N34<>"",1,0) -> 0 | AW34: =IF(O34<>"",1,0) -> 0 | AX34: =IF(P34<>"",1,0) -> 0 | AY34: =IF(Q34<>"",1,0) -> 0 | AZ34: =IF(R34<>"",1,0) -> 0 | BA34: =IF(S34<>"",1,0) -> 0
A35: 31 | B35: Legetimer per uke per beboer i sykehjem | C35: SSB, tabell 12209 | D35: KOM | F35: 2_prod/teneste | H35: Pleie og omsorg | V35: 3.8 | AN35: =IF(H35<>"",1,0) -> 1 | AO35: =IF(I35<>"",1,0) -> 0 | AP35: =IF(J35<>"",1,0) -> 0 | AQ35: =IF(K35<>"",1,0) -> 0 | AR35: =IF(L35<>"",1,0) -> 0 | AS35: =IF(M35<>"",1,0) -> 0 | AT35: =IF(D35="","FYL",IF(E35="","KOM","BEGGE")) -> KOM | AV35: =IF(N35<>"",1,0) -> 0 | AW35: =IF(O35<>"",1,0) -> 0 | AX35: =IF(P35<>"",1,0) -> 0 | AY35: =IF(Q35<>"",1,0) -> 0 | AZ35: =IF(R35<>"",1,0) -> 0 | BA35: =IF(S35<>"",1,0) -> 0
A36: 32 | B36: Andel innbyggere 67-79 år med dagaktivitetstilbud, prosent | C36: SSB, tabell 12209 | D36: KOM | F36: 3_brukereffekt | H36: Pleie og omsorg | V36: 3.8 | AN36: =IF(H36<>"",1,0) -> 1 | AO36: =IF(I36<>"",1,0) -> 0 | AP36: =IF(J36<>"",1,0) -> 0 | AQ36: =IF(K36<>"",1,0) -> 0 | AR36: =IF(L36<>"",1,0) -> 0 | AS36: =IF(M36<>"",1,0) -> 0 | AT36: =IF(D36="","FYL",IF(E36="","KOM","BEGGE")) -> KOM | AV36: =IF(N36<>"",1,0) -> 0 | AW36: =IF(O36<>"",1,0) -> 0 | AX36: =IF(P36<>"",1,0) -> 0 | AY36: =IF(Q36<>"",1,0) -> 0 | AZ36: =IF(R36<>"",1,0) -> 0 | BA36: =IF(S36<>"",1,0) -> 0
A37: 33 | B37: Andel innbyggere 80 år og over som er beboere på sykehjem, prosent | C37: SSB, tabell 12209 | D37: KOM | F37: 3_brukereffekt | H37: Pleie og omsorg | V37: 3 | AN37: =IF(H37<>"",1,0) -> 1 | AO37: =IF(I37<>"",1,0) -> 0 | AP37: =IF(J37<>"",1,0) -> 0 | AQ37: =IF(K37<>"",1,0) -> 0 | AR37: =IF(L37<>"",1,0) -> 0 | AS37: =IF(M37<>"",1,0) -> 0 | AT37: =IF(D37="","FYL",IF(E37="","KOM","BEGGE")) -> KOM | AV37: =IF(N37<>"",1,0) -> 0 | AW37: =IF(O37<>"",1,0) -> 0 | AX37: =IF(P37<>"",1,0) -> 0 | AY37: =IF(Q37<>"",1,0) -> 0 | AZ37: =IF(R37<>"",1,0) -> 0 | BA37: =IF(S37<>"",1,0) -> 0
A38: 34 | B38: Bebuarar i bustader kommunen disponerer til pleie- og omsorgsformål, etter alder, per 1000 innbyggjarar | C38: SSB, tabell 04469 | D38: KOM | F38: 3_brukereffekt | H38: Pleie og omsorg | V38: 3 | AN38: =IF(H38<>"",1,0) -> 1 | AO38: =IF(I38<>"",1,0) -> 0 | AP38: =IF(J38<>"",1,0) -> 0 | AQ38: =IF(K38<>"",1,0) -> 0 | AR38: =IF(L38<>"",1,0) -> 0 | AS38: =IF(M38<>"",1,0) -> 0 | AT38: =IF(D38="","FYL",IF(E38="","KOM","BEGGE")) -> KOM | AV38: =IF(N38<>"",1,0) -> 0 | AW38: =IF(O38<>"",1,0) -> 0 | AX38: =IF(P38<>"",1,0) -> 0 | AY38: =IF(Q38<>"",1,0) -> 0 | AZ38: =IF(R38<>"",1,0) -> 0 | BA38: =IF(S38<>"",1,0) -> 0
A39: 35 | B39: Stillingar med fagutdanning per 1000 barn 0-17 år | C39: SSB, tabell 12305 | D39: KOM | F39: 2_prod/teneste | G39: Ja | H39: Barnevern | AN39: =IF(H39<>"",1,0) -> 1 | AO39: =IF(I39<>"",1,0) -> 0 | AP39: =IF(J39<>"",1,0) -> 0 | AQ39: =IF(K39<>"",1,0) -> 0 | AR39: =IF(L39<>"",1,0) -> 0 | AS39: =IF(M39<>"",1,0) -> 0 | AT39: =IF(D39="","FYL",IF(E39="","KOM","BEGGE")) -> KOM | AV39: =IF(N39<>"",1,0) -> 0 | AW39: =IF(O39<>"",1,0) -> 0 | AX39: =IF(P39<>"",1,0) -> 0 | AY39: =IF(Q39<>"",1,0) -> 0 | AZ39: =IF(R39<>"",1,0) -> 0 | BA39: =IF(S39<>"",1,0) -> 0
A40: 36 | B40: Netto driftsutgifter til barnevernstenesta per innbyggar 0-22 år, kr | C40: SSB, tabell 12280 | D40: KOM | F40: 1_innsatsfaktor | H40: Barnevern | AN40: =IF(H40<>"",1,0) -> 1 | AO40: =IF(I40<>"",1,0) -> 0 | AP40: =IF(J40<>"",1,0) -> 0 | AQ40: =IF(K40<>"",1,0) -> 0 | AR40: =IF(L40<>"",1,0) -> 0 | AS40: =IF(M40<>"",1,0) -> 0 | AT40: =IF(D40="","FYL",IF(E40="","KOM","BEGGE")) -> KOM | AV40: =IF(N40<>"",1,0) -> 0 | AW40: =IF(O40<>"",1,0) -> 0 | AX40: =IF(P40<>"",1,0) -> 0 | AY40: =IF(Q40<>"",1,0) -> 0 | AZ40: =IF(R40<>"",1,0) -> 0 | BA40: =IF(S40<>"",1,0) -> 0
A41: 37 | B41: Årsverk i barnevernet/1000 barn (0-17 år) | C41: SSB, tabell 12305 | D41: KOM | F41: 2_prod/teneste | H41: Barnevern | AN41: =IF(H41<>"",1,0) -> 1 | AO41: =IF(I41<>"",1,0) -> 0 | AP41: =IF(J41<>"",1,0) -> 0 | AQ41: =IF(K41<>"",1,0) -> 0 | AR41: =IF(L41<>"",1,0) -> 0 | AS41: =IF(M41<>"",1,0) -> 0 | AT41: =IF(D41="","FYL",IF(E41="","KOM","BEGGE")) -> KOM | AV41: =IF(N41<>"",1,0) -> 0 | AW41: =IF(O41<>"",1,0) -> 0 | AX41: =IF(P41<>"",1,0) -> 0 | AY41: =IF(Q41<>"",1,0) -> 0 | AZ41: =IF(R41<>"",1,0) -> 0 | BA41: =IF(S41<>"",1,0) -> 0
A42: 38 | B42: Andel ansatte i barnevernet med videreutdanning | C42: Egen innhenting, mulig PAI | D42: KOM | F42: 2_prod/teneste | H42: Barnevern | AN42: =IF(H42<>"",1,0) -> 1 | AO42: =IF(I42<>"",1,0) -> 0 | AP42: =IF(J42<>"",1,0) -> 0 | AQ42: =IF(K42<>"",1,0) -> 0 | AR42: =IF(L42<>"",1,0) -> 0 | AS42: =IF(M42<>"",1,0) -> 0 | AT42: =IF(D42="","FYL",IF(E42="","KOM","BEGGE")) -> KOM | AV42: =IF(N42<>"",1,0) -> 0 | AW42: =IF(O42<>"",1,0) -> 0 | AX42: =IF(P42<>"",1,0) -> 0 | AY42: =IF(Q42<>"",1,0) -> 0 | AZ42: =IF(R42<>"",1,0) -> 0 | BA42: =IF(S42<>"",1,0) -> 0
A43: 39 | B43: Prosentvis avvik i antall lovpålagte tilsynsbesøk | C43: Bufdir | D43: KOM | F43: 2_prod/teneste | G43: Ja | H43: Barnevern | AN43: =IF(H43<>"",1,0) -> 1 | AO43: =IF(I43<>"",1,0) -> 0 | AP43: =IF(J43<>"",1,0) -> 0 | AQ43: =IF(K43<>"",1,0) -> 0 | AR43: =IF(L43<>"",1,0) -> 0 | AS43: =IF(M43<>"",1,0) -> 0 | AT43: =IF(D43="","FYL",IF(E43="","KOM","BEGGE")) -> KOM | AV43: =IF(N43<>"",1,0) -> 0 | AW43: =IF(O43<>"",1,0) -> 0 | AX43: =IF(P43<>"",1,0) -> 0 | AY43: =IF(Q43<>"",1,0) -> 0 | AZ43: =IF(R43<>"",1,0) -> 0 | BA43: =IF(S43<>"",1,0) -> 0
A44: 40 | B44: Undersøkingar med handsamingstid innan 3 månader, prosent | C44: SSB, tabell 12280 | D44: KOM | F44: 2_prod/teneste | H44: Barnevern | AN44: =IF(H44<>"",1,0) -> 1 | AO44: =IF(I44<>"",1,0) -> 0 | AP44: =IF(J44<>"",1,0) -> 0 | AQ44: =IF(K44<>"",1,0) -> 0 | AR44: =IF(L44<>"",1,0) -> 0 | AS44: =IF(M44<>"",1,0) -> 0 | AT44: =IF(D44="","FYL",IF(E44="","KOM","BEGGE")) -> KOM | AV44: =IF(N44<>"",1,0) -> 0 | AW44: =IF(O44<>"",1,0) -> 0 | AX44: =IF(P44<>"",1,0) -> 0 | AY44: =IF(Q44<>"",1,0) -> 0 | AZ44: =IF(R44<>"",1,0) -> 0 | BA44: =IF(S44<>"",1,0) -> 0
A45: 41 | B45: Barn med melding ift. innbyggarar 0-17 år, prosent | C45: SSB, tabell 12280 | D45: KOM | F45: 4_samfunnseffekt | H45: Barnevern | AN45: =IF(H45<>"",1,0) -> 1 | AO45: =IF(I45<>"",1,0) -> 0 | AP45: =IF(J45<>"",1,0) -> 0 | AQ45: =IF(K45<>"",1,0) -> 0 | AR45: =IF(L45<>"",1,0) -> 0 | AS45: =IF(M45<>"",1,0) -> 0 | AT45: =IF(D45="","FYL",IF(E45="","KOM","BEGGE")) -> KOM | AV45: =IF(N45<>"",1,0) -> 0 | AW45: =IF(O45<>"",1,0) -> 0 | AX45: =IF(P45<>"",1,0) -> 0 | AY45: =IF(Q45<>"",1,0) -> 0 | AZ45: =IF(R45<>"",1,0) -> 0 | BA45: =IF(S45<>"",1,0) -> 0
A46: 42 | B46: Prosentdelen barn med undersøking ift. innbyggarar 0-17 år, prosent | C46: SSB, tabell 12280 | D46: KOM | F46: 4_samfunnseffekt | H46: Barnevern | AN46: =IF(H46<>"",1,0) -> 1 | AO46: =IF(I46<>"",1,0) -> 0 | AP46: =IF(J46<>"",1,0) -> 0 | AQ46: =IF(K46<>"",1,0) -> 0 | AR46: =IF(L46<>"",1,0) -> 0 | AS46: =IF(M46<>"",1,0) -> 0 | AT46: =IF(D46="","FYL",IF(E46="","KOM","BEGGE")) -> KOM | AV46: =IF(N46<>"",1,0) -> 0 | AW46: =IF(O46<>"",1,0) -> 0 | AX46: =IF(P46<>"",1,0) -> 0 | AY46: =IF(Q46<>"",1,0) -> 0 | AZ46: =IF(R46<>"",1,0) -> 0 | BA46: =IF(S46<>"",1,0) -> 0
A47: 43 | B47: Barn med barnevernstiltak ift. innbyggarar 0-22 år, prosent | C47: SSB, tabell 12280 | D47: KOM | F47: 4_samfunnseffekt | G47: Ja | H47: Barnevern | AN47: =IF(H47<>"",1,0) -> 1 | AO47: =IF(I47<>"",1,0) -> 0 | AP47: =IF(J47<>"",1,0) -> 0 | AQ47: =IF(K47<>"",1,0) -> 0 | AR47: =IF(L47<>"",1,0) -> 0 | AS47: =IF(M47<>"",1,0) -> 0 | AT47: =IF(D47="","FYL",IF(E47="","KOM","BEGGE")) -> KOM | AV47: =IF(N47<>"",1,0) -> 0 | AW47: =IF(O47<>"",1,0) -> 0 | AX47: =IF(P47<>"",1,0) -> 0 | AY47: =IF(Q47<>"",1,0) -> 0 | AZ47: =IF(R47<>"",1,0) -> 0 | BA47: =IF(S47<>"",1,0) -> 0
A48: 44 | B48: Andel barn/familier som kommer tilbake kort tid etter saken er avsluttet | C48: Egen innhenting i kommunen | D48: KOM | F48: 3_brukereffekt | H48: Barnevern | AN48: =IF(H48<>"",1,0) -> 1 | AO48: =IF(I48<>"",1,0) -> 0 | AP48: =IF(J48<>"",1,0) -> 0 | AQ48: =IF(K48<>"",1,0) -> 0 | AR48: =IF(L48<>"",1,0) -> 0 | AS48: =IF(M48<>"",1,0) -> 0 | AT48: =IF(D48="","FYL",IF(E48="","KOM","BEGGE")) -> KOM | AV48: =IF(N48<>"",1,0) -> 0 | AW48: =IF(O48<>"",1,0) -> 0 | AX48: =IF(P48<>"",1,0) -> 0 | AY48: =IF(Q48<>"",1,0) -> 0 | AZ48: =IF(R48<>"",1,0) -> 0 | BA48: =IF(S48<>"",1,0) -> 0
A49: 45 | B49: Avtalte årsverk i helsestasjons- og skolehelsetjenesten per 10 000 innbyggere 0-20 år | C49: SSB, tabell 12209 | D49: KOM | F49: 1_innsatsfaktor | G49: Ja | J49: Helse og livskvalitet | V49: 3.8 | AN49: =IF(H49<>"",1,0) -> 0 | AO49: =IF(I49<>"",1,0) -> 0 | AP49: =IF(J49<>"",1,0) -> 1 | AQ49: =IF(K49<>"",1,0) -> 0 | AR49: =IF(L49<>"",1,0) -> 0 | AS49: =IF(M49<>"",1,0) -> 0 | AT49: =IF(D49="","FYL",IF(E49="","KOM","BEGGE")) -> KOM | AV49: =IF(N49<>"",1,0) -> 0 | AW49: =IF(O49<>"",1,0) -> 0 | AX49: =IF(P49<>"",1,0) -> 0 | AY49: =IF(Q49<>"",1,0) -> 0 | AZ49: =IF(R49<>"",1,0) -> 0 | BA49: =IF(S49<>"",1,0) -> 0
A50: 46 | B50: Avtalte legeårsverk per 10 000 innbyggere | C50: SSB, tabell 12209 | D50: KOM | F50: 1_innsatsfaktor | G50: Ja | J50: Helse og livskvalitet | V50: 3.8 | AN50: =IF(H50<>"",1,0) -> 0 | AO50: =IF(I50<>"",1,0) -> 0 | AP50: =IF(J50<>"",1,0) -> 1 | AQ50: =IF(K50<>"",1,0) -> 0 | AR50: =IF(L50<>"",1,0) -> 0 | AS50: =IF(M50<>"",1,0) -> 0 | AT50: =IF(D50="","FYL",IF(E50="","KOM","BEGGE")) -> KOM | AV50: =IF(N50<>"",1,0) -> 0 | AW50: =IF(O50<>"",1,0) -> 0 | AX50: =IF(P50<>"",1,0) -> 0 | AY50: =IF(Q50<>"",1,0) -> 0 | AZ50: =IF(R50<>"",1,0) -> 0 | BA50: =IF(S50<>"",1,0) -> 0
A51: 47 | B51: Avtalte fysioterapeutårsverk per 10 000 innbyggere | C51: SSB, tabell 12209 | D51: KOM | F51: 1_innsatsfaktor | J51: Helse og livskvalitet | V51: 3.8 | AN51: =IF(H51<>"",1,0) -> 0 | AO51: =IF(I51<>"",1,0) -> 0 | AP51: =IF(J51<>"",1,0) -> 1 | AQ51: =IF(K51<>"",1,0) -> 0 | AR51: =IF(L51<>"",1,0) -> 0 | AS51: =IF(M51<>"",1,0) -> 0 | AT51: =IF(D51="","FYL",IF(E51="","KOM","BEGGE")) -> KOM | AV51: =IF(N51<>"",1,0) -> 0 | AW51: =IF(O51<>"",1,0) -> 0 | AX51: =IF(P51<>"",1,0) -> 0 | AY51: =IF(Q51<>"",1,0) -> 0 | AZ51: =IF(R51<>"",1,0) -> 0 | BA51: =IF(S51<>"",1,0) -> 0
A52: 48 | B52: Andel nyfødte med hjemmebesøk innen to uker etter hjemkomst, prosent | C52: SSB, tabell 12209 | D52: KOM | F52: 2_prod/teneste | J52: Helse og livskvalitet | V52: 3.8 | AN52: =IF(H52<>"",1,0) -> 0 | AO52: =IF(I52<>"",1,0) -> 0 | AP52: =IF(J52<>"",1,0) -> 1 | AQ52: =IF(K52<>"",1,0) -> 0 | AR52: =IF(L52<>"",1,0) -> 0 | AS52: =IF(M52<>"",1,0) -> 0 | AT52: =IF(D52="","FYL",IF(E52="","KOM","BEGGE")) -> KOM | AV52: =IF(N52<>"",1,0) -> 0 | AW52: =IF(O52<>"",1,0) -> 0 | AX52: =IF(P52<>"",1,0) -> 0 | AY52: =IF(Q52<>"",1,0) -> 0 | AZ52: =IF(R52<>"",1,0) -> 0 | BA52: =IF(S52<>"",1,0) -> 0
A53: 49 | B53: Samlet lengde av sommerturveier, -turstier, og -løyper med kommunalt driftsansvar, km | C53: SSB, tabell 12593 | D53: KOM | F53: 2_prod/teneste | H53: Fritid | AD53: 11.7 | AN53: =IF(H53<>"",1,0) -> 1 | AO53: =IF(I53<>"",1,0) -> 0 | AP53: =IF(J53<>"",1,0) -> 0 | AQ53: =IF(K53<>"",1,0) -> 0 | AR53: =IF(L53<>"",1,0) -> 0 | AS53: =IF(M53<>"",1,0) -> 0 | AT53: =IF(D53="","FYL",IF(E53="","KOM","BEGGE")) -> KOM | AV53: =IF(N53<>"",1,0) -> 0 | AW53: =IF(O53<>"",1,0) -> 0 | AX53: =IF(P53<>"",1,0) -> 0 | AY53: =IF(Q53<>"",1,0) -> 0 | AZ53: =IF(R53<>"",1,0) -> 0 | BA53: =IF(S53<>"",1,0) -> 0
A54: 50 | B54: Brutto driftsutgifter til kultursektor, kroner per innbygger | C54: SSB, tabell 12367, tabell 01222 | D54: KOM | F54: 1_innsatsfaktor | G54: Ja | H54: Kultur | AN54: =IF(H54<>"",1,0) -> 1 | AO54: =IF(I54<>"",1,0) -> 0 | AP54: =IF(J54<>"",1,0) -> 0 | AQ54: =IF(K54<>"",1,0) -> 0 | AR54: =IF(L54<>"",1,0) -> 0 | AS54: =IF(M54<>"",1,0) -> 0 | AT54: =IF(D54="","FYL",IF(E54="","KOM","BEGGE")) -> KOM | AV54: =IF(N54<>"",1,0) -> 0 | AW54: =IF(O54<>"",1,0) -> 0 | AX54: =IF(P54<>"",1,0) -> 0 | AY54: =IF(Q54<>"",1,0) -> 0 | AZ54: =IF(R54<>"",1,0) -> 0 | BA54: =IF(S54<>"",1,0) -> 0
A55: 51 | B55: Brutto driftsutgifter til folkebibliotek, kroner per innbygger | C55: SSB, tabell 12367, tabell 01222 | D55: KOM | F55: 1_innsatsfaktor | H55: Kultur | AN55: =IF(H55<>"",1,0) -> 1 | AO55: =IF(I55<>"",1,0) -> 0 | AP55: =IF(J55<>"",1,0) -> 0 | AQ55: =IF(K55<>"",1,0) -> 0 | AR55: =IF(L55<>"",1,0) -> 0 | AS55: =IF(M55<>"",1,0) -> 0 | AT55: =IF(D55="","FYL",IF(E55="","KOM","BEGGE")) -> KOM | AV55: =IF(N55<>"",1,0) -> 0 | AW55: =IF(O55<>"",1,0) -> 0 | AX55: =IF(P55<>"",1,0) -> 0 | AY55: =IF(Q55<>"",1,0) -> 0 | AZ55: =IF(R55<>"",1,0) -> 0 | BA55: =IF(S55<>"",1,0) -> 0
A56: 52 | B56: Brutto driftsutgifter til kino, kroner per innbygger | C56: SSB, tabell 12367, tabell 01222 | D56: KOM | F56: 1_innsatsfaktor | H56: Kultur | AN56: =IF(H56<>"",1,0) -> 1 | AO56: =IF(I56<>"",1,0) -> 0 | AP56: =IF(J56<>"",1,0) -> 0 | AQ56: =IF(K56<>"",1,0) -> 0 | AR56: =IF(L56<>"",1,0) -> 0 | AS56: =IF(M56<>"",1,0) -> 0 | AT56: =IF(D56="","FYL",IF(E56="","KOM","BEGGE")) -> KOM | AV56: =IF(N56<>"",1,0) -> 0 | AW56: =IF(O56<>"",1,0) -> 0 | AX56: =IF(P56<>"",1,0) -> 0 | AY56: =IF(Q56<>"",1,0) -> 0 | AZ56: =IF(R56<>"",1,0) -> 0 | BA56: =IF(S56<>"",1,0) -> 0
A57: 53 | B57: Samlet areal av leke- og rekreasjonsområder innenfor tettsteder. Dekar | C57: SSB, tabell 12243 | D57: KOM | F57: 1_innsatsfaktor | G57: Ja | H57: Fritid | V57: 3 | AD57: 11.7 | AN57: =IF(H57<>"",1,0) -> 1 | AO57: =IF(I57<>"",1,0) -> 0 | AP57: =IF(J57<>"",1,0) -> 0 | AQ57: =IF(K57<>"",1,0) -> 0 | AR57: =IF(L57<>"",1,0) -> 0 | AS57: =IF(M57<>"",1,0) -> 0 | AT57: =IF(D57="","FYL",IF(E57="","KOM","BEGGE")) -> KOM | AV57: =IF(N57<>"",1,0) -> 0 | AW57: =IF(O57<>"",1,0) -> 0 | AX57: =IF(P57<>"",1,0) -> 0 | AY57: =IF(Q57<>"",1,0) -> 0 | AZ57: =IF(R57<>"",1,0) -> 0 | BA57: =IF(S57<>"",1,0) -> 0
A58: 54 | B58: Frivillige lag og foreninger som mottar kommunale tilskudd, antall | C58: SSB, tabell 11761 | D58: KOM | F58: 1_innsatsfaktor | H58: Fritid | AN58: =IF(H58<>"",1,0) -> 1 | AO58: =IF(I58<>"",1,0) -> 0 | AP58: =IF(J58<>"",1,0) -> 0 | AQ58: =IF(K58<>"",1,0) -> 0 | AR58: =IF(L58<>"",1,0) -> 0 | AS58: =IF(M58<>"",1,0) -> 0 | AT58: =IF(D58="","FYL",IF(E58="","KOM","BEGGE")) -> KOM | AV58: =IF(N58<>"",1,0) -> 0 | AW58: =IF(O58<>"",1,0) -> 0 | AX58: =IF(P58<>"",1,0) -> 0 | AY58: =IF(Q58<>"",1,0) -> 0 | AZ58: =IF(R58<>"",1,0) -> 0 | BA58: =IF(S58<>"",1,0) -> 0
A59: 55 | B59: Driftstilskudd til frivillige lag og foreninger, 1000 kroner | C59: SSB, tabell 11761 | D59: KOM | F59: 1_innsatsfaktor | H59: Fritid | AN59: =IF(H59<>"",1,0) -> 1 | AO59: =IF(I59<>"",1,0) -> 0 | AP59: =IF(J59<>"",1,0) -> 0 | AQ59: =IF(K59<>"",1,0) -> 0 | AR59: =IF(L59<>"",1,0) -> 0 | AS59: =IF(M59<>"",1,0) -> 0 | AT59: =IF(D59="","FYL",IF(E59="","KOM","BEGGE")) -> KOM | AV59: =IF(N59<>"",1,0) -> 0 | AW59: =IF(O59<>"",1,0) -> 0 | AX59: =IF(P59<>"",1,0) -> 0 | AY59: =IF(Q59<>"",1,0) -> 0 | AZ59: =IF(R59<>"",1,0) -> 0 | BA59: =IF(S59<>"",1,0) -> 0
A60: 56 | B60: Kinoforestillinger | C60: SSB, tabell 11817 | D60: KOM | F60: 2_prod/teneste | H60: Kultur | AN60: =IF(H60<>"",1,0) -> 1 | AO60: =IF(I60<>"",1,0) -> 0 | AP60: =IF(J60<>"",1,0) -> 0 | AQ60: =IF(K60<>"",1,0) -> 0 | AR60: =IF(L60<>"",1,0) -> 0 | AS60: =IF(M60<>"",1,0) -> 0 | AT60: =IF(D60="","FYL",IF(E60="","KOM","BEGGE")) -> KOM | AV60: =IF(N60<>"",1,0) -> 0 | AW60: =IF(O60<>"",1,0) -> 0 | AX60: =IF(P60<>"",1,0) -> 0 | AY60: =IF(Q60<>"",1,0) -> 0 | AZ60: =IF(R60<>"",1,0) -> 0 | BA60: =IF(S60<>"",1,0) -> 0
A61: 57 | B61: Timer åpen per uke i gjennomsnitt, kommunale fritidssenter | C61: SSB, tabell 12063 | D61: KOM | F61: 2_prod/teneste | H61: Fritid | AN61: =IF(H61<>"",1,0) -> 1 | AO61: =IF(I61<>"",1,0) -> 0 | AP61: =IF(J61<>"",1,0) -> 0 | AQ61: =IF(K61<>"",1,0) -> 0 | AR61: =IF(L61<>"",1,0) -> 0 | AS61: =IF(M61<>"",1,0) -> 0 | AT61: =IF(D61="","FYL",IF(E61="","KOM","BEGGE")) -> KOM | AV61: =IF(N61<>"",1,0) -> 0 | AW61: =IF(O61<>"",1,0) -> 0 | AX61: =IF(P61<>"",1,0) -> 0 | AY61: =IF(Q61<>"",1,0) -> 0 | AZ61: =IF(R61<>"",1,0) -> 0 | BA61: =IF(S61<>"",1,0) -> 0
A62: 58 | B62: Årsverk ved kommunalt drevne fritidssenter | C62: SSB, tabell 12063 | D62: KOM | F62: 2_prod/teneste | H62: Fritid | AN62: =IF(H62<>"",1,0) -> 1 | AO62: =IF(I62<>"",1,0) -> 0 | AP62: =IF(J62<>"",1,0) -> 0 | AQ62: =IF(K62<>"",1,0) -> 0 | AR62: =IF(L62<>"",1,0) -> 0 | AS62: =IF(M62<>"",1,0) -> 0 | AT62: =IF(D62="","FYL",IF(E62="","KOM","BEGGE")) -> KOM | AV62: =IF(N62<>"",1,0) -> 0 | AW62: =IF(O62<>"",1,0) -> 0 | AX62: =IF(P62<>"",1,0) -> 0 | AY62: =IF(Q62<>"",1,0) -> 0 | AZ62: =IF(R62<>"",1,0) -> 0 | BA62: =IF(S62<>"",1,0) -> 0
A63: 59 | B63: Tilskudd/overføringer til fritidsaktiviteter for barn og unge, kroner | C63: SSB, tabell 12063 | D63: KOM | F63: 1_innsatsfaktor | H63: Fritid | AN63: =IF(H63<>"",1,0) -> 1 | AO63: =IF(I63<>"",1,0) -> 0 | AP63: =IF(J63<>"",1,0) -> 0 | AQ63: =IF(K63<>"",1,0) -> 0 | AR63: =IF(L63<>"",1,0) -> 0 | AS63: =IF(M63<>"",1,0) -> 0 | AT63: =IF(D63="","FYL",IF(E63="","KOM","BEGGE")) -> KOM | AV63: =IF(N63<>"",1,0) -> 0 | AW63: =IF(O63<>"",1,0) -> 0 | AX63: =IF(P63<>"",1,0) -> 0 | AY63: =IF(Q63<>"",1,0) -> 0 | AZ63: =IF(R63<>"",1,0) -> 0 | BA63: =IF(S63<>"",1,0) -> 0
A64: 60 | B64: Samlet lengde av planlagt maskinpreparerte skiløyper, gitt normale snøforhold, km | C64: SSB, tabell 12593 | D64: KOM | F64: 2_prod/teneste | H64: Fritid | AD64: 11.7 | AN64: =IF(H64<>"",1,0) -> 1 | AO64: =IF(I64<>"",1,0) -> 0 | AP64: =IF(J64<>"",1,0) -> 0 | AQ64: =IF(K64<>"",1,0) -> 0 | AR64: =IF(L64<>"",1,0) -> 0 | AS64: =IF(M64<>"",1,0) -> 0 | AT64: =IF(D64="","FYL",IF(E64="","KOM","BEGGE")) -> KOM | AV64: =IF(N64<>"",1,0) -> 0 | AW64: =IF(O64<>"",1,0) -> 0 | AX64: =IF(P64<>"",1,0) -> 0 | AY64: =IF(Q64<>"",1,0) -> 0 | AZ64: =IF(R64<>"",1,0) -> 0 | BA64: =IF(S64<>"",1,0) -> 0
A65: 61 | B65: Andel km tilrettelagt for syklende som er et kommunalt ansvar | C65: SSB, tabell 11816 | D65: KOM | F65: 2_prod/teneste | H65: Fritid | AN65: =IF(H65<>"",1,0) -> 1 | AO65: =IF(I65<>"",1,0) -> 0 | AP65: =IF(J65<>"",1,0) -> 0 | AQ65: =IF(K65<>"",1,0) -> 0 | AR65: =IF(L65<>"",1,0) -> 0 | AS65: =IF(M65<>"",1,0) -> 0 | AT65: =IF(D65="","FYL",IF(E65="","KOM","BEGGE")) -> KOM | AV65: =IF(N65<>"",1,0) -> 0 | AW65: =IF(O65<>"",1,0) -> 0 | AX65: =IF(P65<>"",1,0) -> 0 | AY65: =IF(Q65<>"",1,0) -> 0 | AZ65: =IF(R65<>"",1,0) -> 0 | BA65: =IF(S65<>"",1,0) -> 0
A66: 62 | B66: Andel av kommunens innbyggere som har akseptabel avstand (f.eks. 5 min gangavstand til grønnstruktur, som definert i kommuneplanens arealdel) | C66: Egen innhenting i kommunen | D66: KOM | F66: 3_brukereffekt | G66: Ja | H66: Fritid | AD66: 11.7 | AN66: =IF(H66<>"",1,0) -> 1 | AO66: =IF(I66<>"",1,0) -> 0 | AP66: =IF(J66<>"",1,0) -> 0 | AQ66: =IF(K66<>"",1,0) -> 0 | AR66: =IF(L66<>"",1,0) -> 0 | AS66: =IF(M66<>"",1,0) -> 0 | AT66: =IF(D66="","FYL",IF(E66="","KOM","BEGGE")) -> KOM | AV66: =IF(N66<>"",1,0) -> 0 | AW66: =IF(O66<>"",1,0) -> 0 | AX66: =IF(P66<>"",1,0) -> 0 | AY66: =IF(Q66<>"",1,0) -> 0 | AZ66: =IF(R66<>"",1,0) -> 0 | BA66: =IF(S66<>"",1,0) -> 0
A67: 63 | B67: Barn 6-15 år i kommunens kulturskole, prosent | C67: SSB, tabell 12060 | D67: KOM | F67: 3_brukereffekt | G67: Ja | H67: Kultur | AN67: =IF(H67<>"",1,0) -> 1 | AO67: =IF(I67<>"",1,0) -> 0 | AP67: =IF(J67<>"",1,0) -> 0 | AQ67: =IF(K67<>"",1,0) -> 0 | AR67: =IF(L67<>"",1,0) -> 0 | AS67: =IF(M67<>"",1,0) -> 0 | AT67: =IF(D67="","FYL",IF(E67="","KOM","BEGGE")) -> KOM | AV67: =IF(N67<>"",1,0) -> 0 | AW67: =IF(O67<>"",1,0) -> 0 | AX67: =IF(P67<>"",1,0) -> 0 | AY67: =IF(Q67<>"",1,0) -> 0 | AZ67: =IF(R67<>"",1,0) -> 0 | BA67: =IF(S67<>"",1,0) -> 0
A68: 64 | B68: Besøk i året per 1000 innbyggere 6-20 år, i kommunale fritidssenter, antall | C68: SSB, tabell 12063 | D68: KOM | F68: 3_brukereffekt | H68: Fritid | AN68: =IF(H68<>"",1,0) -> 1 | AO68: =IF(I68<>"",1,0) -> 0 | AP68: =IF(J68<>"",1,0) -> 0 | AQ68: =IF(K68<>"",1,0) -> 0 | AR68: =IF(L68<>"",1,0) -> 0 | AS68: =IF(M68<>"",1,0) -> 0 | AT68: =IF(D68="","FYL",IF(E68="","KOM","BEGGE")) -> KOM | AV68: =IF(N68<>"",1,0) -> 0 | AW68: =IF(O68<>"",1,0) -> 0 | AX68: =IF(P68<>"",1,0) -> 0 | AY68: =IF(Q68<>"",1,0) -> 0 | AZ68: =IF(R68<>"",1,0) -> 0 | BA68: =IF(S68<>"",1,0) -> 0
A69: 65 | B69: Fysiske besøk i folkebibliotek per innbygger, antall | C69: SSB, tabell 12060 | D69: KOM | F69: 3_brukereffekt | H69: Kultur | AN69: =IF(H69<>"",1,0) -> 1 | AO69: =IF(I69<>"",1,0) -> 0 | AP69: =IF(J69<>"",1,0) -> 0 | AQ69: =IF(K69<>"",1,0) -> 0 | AR69: =IF(L69<>"",1,0) -> 0 | AS69: =IF(M69<>"",1,0) -> 0 | AT69: =IF(D69="","FYL",IF(E69="","KOM","BEGGE")) -> KOM | AV69: =IF(N69<>"",1,0) -> 0 | AW69: =IF(O69<>"",1,0) -> 0 | AX69: =IF(P69<>"",1,0) -> 0 | AY69: =IF(Q69<>"",1,0) -> 0 | AZ69: =IF(R69<>"",1,0) -> 0 | BA69: =IF(S69<>"",1,0) -> 0
A70: 66 | B70: Kinobesøk | C70: SSB, tabell 11817 | D70: KOM | F70: 3_brukereffekt | H70: Kultur | AN70: =IF(H70<>"",1,0) -> 1 | AO70: =IF(I70<>"",1,0) -> 0 | AP70: =IF(J70<>"",1,0) -> 0 | AQ70: =IF(K70<>"",1,0) -> 0 | AR70: =IF(L70<>"",1,0) -> 0 | AS70: =IF(M70<>"",1,0) -> 0 | AT70: =IF(D70="","FYL",IF(E70="","KOM","BEGGE")) -> KOM | AV70: =IF(N70<>"",1,0) -> 0 | AW70: =IF(O70<>"",1,0) -> 0 | AX70: =IF(P70<>"",1,0) -> 0 | AY70: =IF(Q70<>"",1,0) -> 0 | AZ70: =IF(R70<>"",1,0) -> 0 | BA70: =IF(S70<>"",1,0) -> 0
A71: 67 | B71: Areal- og samfunnsplanlegging, gjennomsnittlig saksbehandlingstid under kommunalt ansvar | C71: SSB, tabell 11882 | D71: KOM | F71: 3_brukereffekt | H71: Administrasjon, tekniske tjenester, samferdsel | AN71: =IF(H71<>"",1,0) -> 1 | AO71: =IF(I71<>"",1,0) -> 0 | AP71: =IF(J71<>"",1,0) -> 0 | AQ71: =IF(K71<>"",1,0) -> 0 | AR71: =IF(L71<>"",1,0) -> 0 | AS71: =IF(M71<>"",1,0) -> 0 | AT71: =IF(D71="","FYL",IF(E71="","KOM","BEGGE")) -> KOM | AV71: =IF(N71<>"",1,0) -> 0 | AW71: =IF(O71<>"",1,0) -> 0 | AX71: =IF(P71<>"",1,0) -> 0 | AY71: =IF(Q71<>"",1,0) -> 0 | AZ71: =IF(R71<>"",1,0) -> 0 | BA71: =IF(S71<>"",1,0) -> 0
A72: 68 | B72: Årsgebyr for avfallstjenesten i kroner for enebolig på 120 kvm. ekskl. mva. | C72: SSB, tabell 08122 | D72: KOM | F72: 3_brukereffekt | H72: Administrasjon, tekniske tjenester, samferdsel | AN72: =IF(H72<>"",1,0) -> 1 | AO72: =IF(I72<>"",1,0) -> 0 | AP72: =IF(J72<>"",1,0) -> 0 | AQ72: =IF(K72<>"",1,0) -> 0 | AR72: =IF(L72<>"",1,0) -> 0 | AS72: =IF(M72<>"",1,0) -> 0 | AT72: =IF(D72="","FYL",IF(E72="","KOM","BEGGE")) -> KOM | AV72: =IF(N72<>"",1,0) -> 0 | AW72: =IF(O72<>"",1,0) -> 0 | AX72: =IF(P72<>"",1,0) -> 0 | AY72: =IF(Q72<>"",1,0) -> 0 | AZ72: =IF(R72<>"",1,0) -> 0 | BA72: =IF(S72<>"",1,0) -> 0
A73: 69 | B73: Gebyrer for kommunale tjenester – opprettelse av grunneiendom | C73: SSB, tabell 12303 | D73: KOM | F73: 3_brukereffekt | H73: Administrasjon, tekniske tjenester, samferdsel | AN73: =IF(H73<>"",1,0) -> 1 | AO73: =IF(I73<>"",1,0) -> 0 | AP73: =IF(J73<>"",1,0) -> 0 | AQ73: =IF(K73<>"",1,0) -> 0 | AR73: =IF(L73<>"",1,0) -> 0 | AS73: =IF(M73<>"",1,0) -> 0 | AT73: =IF(D73="","FYL",IF(E73="","KOM","BEGGE")) -> KOM | AV73: =IF(N73<>"",1,0) -> 0 | AW73: =IF(O73<>"",1,0) -> 0 | AX73: =IF(P73<>"",1,0) -> 0 | AY73: =IF(Q73<>"",1,0) -> 0 | AZ73: =IF(R73<>"",1,0) -> 0 | BA73: =IF(S73<>"",1,0) -> 0
A74: 70 | B74: Brutto driftsutgifter til samferdsel per innbygger, kroner per innbygger | C74: SSB, tabell 11816 | D74: KOM | F74: 1_innsatsfaktor | H74: Administrasjon, tekniske tjenester, samferdsel | AN74: =IF(H74<>"",1,0) -> 1 | AO74: =IF(I74<>"",1,0) -> 0 | AP74: =IF(J74<>"",1,0) -> 0 | AQ74: =IF(K74<>"",1,0) -> 0 | AR74: =IF(L74<>"",1,0) -> 0 | AS74: =IF(M74<>"",1,0) -> 0 | AT74: =IF(D74="","FYL",IF(E74="","KOM","BEGGE")) -> KOM | AV74: =IF(N74<>"",1,0) -> 0 | AW74: =IF(O74<>"",1,0) -> 0 | AX74: =IF(P74<>"",1,0) -> 0 | AY74: =IF(Q74<>"",1,0) -> 0 | AZ74: =IF(R74<>"",1,0) -> 0 | BA74: =IF(S74<>"",1,0) -> 0
A75: 71 | B75: E.coli: Andel innbyggere tilknyttet kommunalt vannverk med tilfredsstillende prøveresultater, prosent | C75: SSB, tabell 11786, 11791 | D75: KOM | F75: 3_brukereffekt | G75: Ja | H75: Administrasjon, tekniske tjenester, samferdsel | Y75: 6 | AD75: 11.5 | AN75: =IF(H75<>"",1,0) -> 1 | AO75: =IF(I75<>"",1,0) -> 0 | AP75: =IF(J75<>"",1,0) -> 0 | AQ75: =IF(K75<>"",1,0) -> 0 | AR75: =IF(L75<>"",1,0) -> 0 | AS75: =IF(M75<>"",1,0) -> 0 | AT75: =IF(D75="","FYL",IF(E75="","KOM","BEGGE")) -> KOM | AV75: =IF(N75<>"",1,0) -> 0 | AW75: =IF(O75<>"",1,0) -> 0 | AX75: =IF(P75<>"",1,0) -> 0 | AY75: =IF(Q75<>"",1,0) -> 0 | AZ75: =IF(R75<>"",1,0) -> 0 | BA75: =IF(S75<>"",1,0) -> 0
A76: 72 | B76: Andel kommunale veier og gater uten fast dekke i prosent av alle kommunale veier og gater | C76: SSB, tabell 11816 | D76: KOM | F76: 2_prod/teneste | G76: Ja | H76: Administrasjon, tekniske tjenester, samferdsel | AB76: 9.1 | AD76: 11.2 | AN76: =IF(H76<>"",1,0) -> 1 | AO76: =IF(I76<>"",1,0) -> 0 | AP76: =IF(J76<>"",1,0) -> 0 | AQ76: =IF(K76<>"",1,0) -> 0 | AR76: =IF(L76<>"",1,0) -> 0 | AS76: =IF(M76<>"",1,0) -> 0 | AT76: =IF(D76="","FYL",IF(E76="","KOM","BEGGE")) -> KOM | AV76: =IF(N76<>"",1,0) -> 0 | AW76: =IF(O76<>"",1,0) -> 0 | AX76: =IF(P76<>"",1,0) -> 0 | AY76: =IF(Q76<>"",1,0) -> 0 | AZ76: =IF(R76<>"",1,0) -> 0 | BA76: =IF(S76<>"",1,0) -> 0
A77: 73 | B77: Intestinale enterokokker: Andel innbyggere tilknyttet kommunalt vannverk med tilfredsstillende prøveresultater, prosent | C77: SSB, tabell 11786 | D77: KOM | F77: 3_brukereffekt | H77: Administrasjon, tekniske tjenester, samferdsel | Y77: 6 | AD77: 11.5 | AN77: =IF(H77<>"",1,0) -> 1 | AO77: =IF(I77<>"",1,0) -> 0 | AP77: =IF(J77<>"",1,0) -> 0 | AQ77: =IF(K77<>"",1,0) -> 0 | AR77: =IF(L77<>"",1,0) -> 0 | AS77: =IF(M77<>"",1,0) -> 0 | AT77: =IF(D77="","FYL",IF(E77="","KOM","BEGGE")) -> KOM | AV77: =IF(N77<>"",1,0) -> 0 | AW77: =IF(O77<>"",1,0) -> 0 | AX77: =IF(P77<>"",1,0) -> 0 | AY77: =IF(Q77<>"",1,0) -> 0 | AZ77: =IF(R77<>"",1,0) -> 0 | BA77: =IF(S77<>"",1,0) -> 0
A78: 74 | B78: Andelen driftsutgifter kommuneregnskap/konsernregnskap | C78: SSB, tabell 12328, tabell 12328 | D78: KOM | F78: 1_innsatsfaktor | G78: Ja | I78: Demokrati og medvirkning | AN78: =IF(H78<>"",1,0) -> 0 | AO78: =IF(I78<>"",1,0) -> 1 | AP78: =IF(J78<>"",1,0) -> 0 | AQ78: =IF(K78<>"",1,0) -> 0 | AR78: =IF(L78<>"",1,0) -> 0 | AS78: =IF(M78<>"",1,0) -> 0 | AT78: =IF(D78="","FYL",IF(E78="","KOM","BEGGE")) -> KOM | AV78: =IF(N78<>"",1,0) -> 0 | AW78: =IF(O78<>"",1,0) -> 0 | AX78: =IF(P78<>"",1,0) -> 0 | AY78: =IF(Q78<>"",1,0) -> 0 | AZ78: =IF(R78<>"",1,0) -> 0 | BA78: =IF(S78<>"",1,0) -> 0
A79: 75 | B79: Kommunale driftstilskudd til frivillige lag og foreninger per lag som mottar tilskudd, kroner | C79: SSB, tabell 11761 | D79: KOM | F79: 1_innsatsfaktor | I79: Demokrati og medvirkning | AN79: =IF(H79<>"",1,0) -> 0 | AO79: =IF(I79<>"",1,0) -> 1 | AP79: =IF(J79<>"",1,0) -> 0 | AQ79: =IF(K79<>"",1,0) -> 0 | AR79: =IF(L79<>"",1,0) -> 0 | AS79: =IF(M79<>"",1,0) -> 0 | AT79: =IF(D79="","FYL",IF(E79="","KOM","BEGGE")) -> KOM | AV79: =IF(N79<>"",1,0) -> 0 | AW79: =IF(O79<>"",1,0) -> 0 | AX79: =IF(P79<>"",1,0) -> 0 | AY79: =IF(Q79<>"",1,0) -> 0 | AZ79: =IF(R79<>"",1,0) -> 0 | BA79: =IF(S79<>"",1,0) -> 0
A80: 76 | B80: Frivillighetssatsing, kommuner som har vedtatt frivillighetspolitikk | C80: www.frivillighetnorge.no | D80: KOM | F80: 1_innsatsfaktor | G80: Ja | I80: Demokrati og medvirkning | AN80: =IF(H80<>"",1,0) -> 0 | AO80: =IF(I80<>"",1,0) -> 1 | AP80: =IF(J80<>"",1,0) -> 0 | AQ80: =IF(K80<>"",1,0) -> 0 | AR80: =IF(L80<>"",1,0) -> 0 | AS80: =IF(M80<>"",1,0) -> 0 | AT80: =IF(D80="","FYL",IF(E80="","KOM","BEGGE")) -> KOM | AV80: =IF(N80<>"",1,0) -> 0 | AW80: =IF(O80<>"",1,0) -> 0 | AX80: =IF(P80<>"",1,0) -> 0 | AY80: =IF(Q80<>"",1,0) -> 0 | AZ80: =IF(R80<>"",1,0) -> 0 | BA80: =IF(S80<>"",1,0) -> 0
A81: 77 | B81: Kommunestyrevalget, valgdeltakelse | C81: SSB, tabell 09475 | D81: KOM | F81: 4_samfunnseffekt | G81: Ja | I81: Demokrati og medvirkning | AI81: 16.7 | AN81: =IF(H81<>"",1,0) -> 0 | AO81: =IF(I81<>"",1,0) -> 1 | AP81: =IF(J81<>"",1,0) -> 0 | AQ81: =IF(K81<>"",1,0) -> 0 | AR81: =IF(L81<>"",1,0) -> 0 | AS81: =IF(M81<>"",1,0) -> 0 | AT81: =IF(D81="","FYL",IF(E81="","KOM","BEGGE")) -> KOM | AV81: =IF(N81<>"",1,0) -> 0 | AW81: =IF(O81<>"",1,0) -> 0 | AX81: =IF(P81<>"",1,0) -> 0 | AY81: =IF(Q81<>"",1,0) -> 0 | AZ81: =IF(R81<>"",1,0) -> 0 | BA81: =IF(S81<>"",1,0) -> 0
A82: 78 | B82: Befolkningens tillit til kommunepolitikerne, indeks (0-100) | C82: DIFIs Innbyggerundersøkelse | D82: KOM | F82: 4_samfunnseffekt | I82: Demokrati og medvirkning | AI82: 16.7 | AN82: =IF(H82<>"",1,0) -> 0 | AO82: =IF(I82<>"",1,0) -> 1 | AP82: =IF(J82<>"",1,0) -> 0 | AQ82: =IF(K82<>"",1,0) -> 0 | AR82: =IF(L82<>"",1,0) -> 0 | AS82: =IF(M82<>"",1,0) -> 0 | AT82: =IF(D82="","FYL",IF(E82="","KOM","BEGGE")) -> KOM | AV82: =IF(N82<>"",1,0) -> 0 | AW82: =IF(O82<>"",1,0) -> 0 | AX82: =IF(P82<>"",1,0) -> 0 | AY82: =IF(Q82<>"",1,0) -> 0 | AZ82: =IF(R82<>"",1,0) -> 0 | BA82: =IF(S82<>"",1,0) -> 0
A83: 79 | B83: Om de folkevalgte misbruker sin makt til personlig fordel | C83: KS’ lokaldemokratiundersøkelse | D83: KOM | E83: FYL | F83: 4_samfunnseffekt | G83: Ja | I83: Demokrati og medvirkning | O83: Demokrati og medvirkning | AI83: 16.5 | AN83: =IF(H83<>"",1,0) -> 0 | AO83: =IF(I83<>"",1,0) -> 1 | AP83: =IF(J83<>"",1,0) -> 0 | AQ83: =IF(K83<>"",1,0) -> 0 | AR83: =IF(L83<>"",1,0) -> 0 | AS83: =IF(M83<>"",1,0) -> 0 | AT83: =IF(D83="","FYL",IF(E83="","KOM","BEGGE")) -> BEGGE | AV83: =IF(N83<>"",1,0) -> 0 | AW83: =IF(O83<>"",1,0) -> 1 | AX83: =IF(P83<>"",1,0) -> 0 | AY83: =IF(Q83<>"",1,0) -> 0 | AZ83: =IF(R83<>"",1,0) -> 0 | BA83: =IF(S83<>"",1,0) -> 0
A84: 80 | B84: Om kommunen gjør en god jobb med å informere innbyggerne om aktuelle saker som diskuteres i kommunepolitikken | C84: KS’ lokaldemokratiundersøkelse | D84: KOM | F84: 4_samfunnseffekt | G84: Ja | I84: Demokrati og medvirkning | AI84: 16.7 | AN84: =IF(H84<>"",1,0) -> 0 | AO84: =IF(I84<>"",1,0) -> 1 | AP84: =IF(J84<>"",1,0) -> 0 | AQ84: =IF(K84<>"",1,0) -> 0 | AR84: =IF(L84<>"",1,0) -> 0 | AS84: =IF(M84<>"",1,0) -> 0 | AT84: =IF(D84="","FYL",IF(E84="","KOM","BEGGE")) -> KOM | AV84: =IF(N84<>"",1,0) -> 0 | AW84: =IF(O84<>"",1,0) -> 0 | AX84: =IF(P84<>"",1,0) -> 0 | AY84: =IF(Q84<>"",1,0) -> 0 | AZ84: =IF(R84<>"",1,0) -> 0 | BA84: =IF(S84<>"",1,0) -> 0
A85: 81 | B85: Befolkningens tilhørighet til kommunen, indeks (0-100) | C85: DIFIs Innbyggerundersøkelse | D85: KOM | F85: 4_samfunnseffekt | I85: Demokrati og medvirkning | AI85: 16.7 | AN85: =IF(H85<>"",1,0) -> 0 | AO85: =IF(I85<>"",1,0) -> 1 | AP85: =IF(J85<>"",1,0) -> 0 | AQ85: =IF(K85<>"",1,0) -> 0 | AR85: =IF(L85<>"",1,0) -> 0 | AS85: =IF(M85<>"",1,0) -> 0 | AT85: =IF(D85="","FYL",IF(E85="","KOM","BEGGE")) -> KOM | AV85: =IF(N85<>"",1,0) -> 0 | AW85: =IF(O85<>"",1,0) -> 0 | AX85: =IF(P85<>"",1,0) -> 0 | AY85: =IF(Q85<>"",1,0) -> 0 | AZ85: =IF(R85<>"",1,0) -> 0 | BA85: =IF(S85<>"",1,0) -> 0
A86: 82 | B86: Fylkestingsvalget, valgdeltakelse | C86: SSB, tabell 09476 | D86: KOM | E86: FYL | F86: 4_samfunnseffekt | G86: Ja | I86: Demokrati og medvirkning | O86: Demokrati og medvirkning | AI86: 16.7 | AN86: =IF(H86<>"",1,0) -> 0 | AO86: =IF(I86<>"",1,0) -> 1 | AP86: =IF(J86<>"",1,0) -> 0 | AQ86: =IF(K86<>"",1,0) -> 0 | AR86: =IF(L86<>"",1,0) -> 0 | AS86: =IF(M86<>"",1,0) -> 0 | AT86: =IF(D86="","FYL",IF(E86="","KOM","BEGGE")) -> BEGGE | AV86: =IF(N86<>"",1,0) -> 0 | AW86: =IF(O86<>"",1,0) -> 1 | AX86: =IF(P86<>"",1,0) -> 0 | AY86: =IF(Q86<>"",1,0) -> 0 | AZ86: =IF(R86<>"",1,0) -> 0 | BA86: =IF(S86<>"",1,0) -> 0
A87: 83 | B87: Stortingsvalget, valgdeltakelse | C87: SSB, tabell 08243 | D87: KOM | E87: FYL | F87: 4_samfunnseffekt | I87: Demokrati og medvirkning | O87: Demokrati og medvirkning | AI87: 16.7 | AN87: =IF(H87<>"",1,0) -> 0 | AO87: =IF(I87<>"",1,0) -> 1 | AP87: =IF(J87<>"",1,0) -> 0 | AQ87: =IF(K87<>"",1,0) -> 0 | AR87: =IF(L87<>"",1,0) -> 0 | AS87: =IF(M87<>"",1,0) -> 0 | AT87: =IF(D87="","FYL",IF(E87="","KOM","BEGGE")) -> BEGGE | AV87: =IF(N87<>"",1,0) -> 0 | AW87: =IF(O87<>"",1,0) -> 1 | AX87: =IF(P87<>"",1,0) -> 0 | AY87: =IF(Q87<>"",1,0) -> 0 | AZ87: =IF(R87<>"",1,0) -> 0 | BA87: =IF(S87<>"",1,0) -> 0
A88: 84 | B88: Andel medlemmer av politisk parti, prosent | C88: DIFIs Innbyggerundersøkelse | D88: KOM | E88: FYL | F88: 4_samfunnseffekt | G88: Ja | I88: Demokrati og medvirkning | O88: Demokrati og medvirkning | AI88: 16.7 | AN88: =IF(H88<>"",1,0) -> 0 | AO88: =IF(I88<>"",1,0) -> 1 | AP88: =IF(J88<>"",1,0) -> 0 | AQ88: =IF(K88<>"",1,0) -> 0 | AR88: =IF(L88<>"",1,0) -> 0 | AS88: =IF(M88<>"",1,0) -> 0 | AT88: =IF(D88="","FYL",IF(E88="","KOM","BEGGE")) -> BEGGE | AV88: =IF(N88<>"",1,0) -> 0 | AW88: =IF(O88<>"",1,0) -> 1 | AX88: =IF(P88<>"",1,0) -> 0 | AY88: =IF(Q88<>"",1,0) -> 0 | AZ88: =IF(R88<>"",1,0) -> 0 | BA88: =IF(S88<>"",1,0) -> 0
A89: 85 | B89: Antall registrerte partilag | C89: partifinansiering.no | D89: KOM | E89: FYL | F89: 4_samfunnseffekt | I89: Demokrati og medvirkning | O89: Demokrati og medvirkning | AI89: 16.7 | AN89: =IF(H89<>"",1,0) -> 0 | AO89: =IF(I89<>"",1,0) -> 1 | AP89: =IF(J89<>"",1,0) -> 0 | AQ89: =IF(K89<>"",1,0) -> 0 | AR89: =IF(L89<>"",1,0) -> 0 | AS89: =IF(M89<>"",1,0) -> 0 | AT89: =IF(D89="","FYL",IF(E89="","KOM","BEGGE")) -> BEGGE | AV89: =IF(N89<>"",1,0) -> 0 | AW89: =IF(O89<>"",1,0) -> 1 | AX89: =IF(P89<>"",1,0) -> 0 | AY89: =IF(Q89<>"",1,0) -> 0 | AZ89: =IF(R89<>"",1,0) -> 0 | BA89: =IF(S89<>"",1,0) -> 0
A90: 86 | B90: Befolkningens kontakt med kommunen, indeks (0-100) | C90: DIFIs Innbyggerundersøkelse | D90: KOM | F90: 4_samfunnseffekt | I90: Demokrati og medvirkning | AI90: 16.7 | AN90: =IF(H90<>"",1,0) -> 0 | AO90: =IF(I90<>"",1,0) -> 1 | AP90: =IF(J90<>"",1,0) -> 0 | AQ90: =IF(K90<>"",1,0) -> 0 | AR90: =IF(L90<>"",1,0) -> 0 | AS90: =IF(M90<>"",1,0) -> 0 | AT90: =IF(D90="","FYL",IF(E90="","KOM","BEGGE")) -> KOM | AV90: =IF(N90<>"",1,0) -> 0 | AW90: =IF(O90<>"",1,0) -> 0 | AX90: =IF(P90<>"",1,0) -> 0 | AY90: =IF(Q90<>"",1,0) -> 0 | AZ90: =IF(R90<>"",1,0) -> 0 | BA90: =IF(S90<>"",1,0) -> 0
A91: 87 | B91: Vurdering av kommunepolitikernes lydhørhet, indeks (0-100) | C91: DIFIs Innbyggerundersøkelse | D91: KOM | F91: 4_samfunnseffekt | I91: Demokrati og medvirkning | AI91: 16.7 | AN91: =IF(H91<>"",1,0) -> 0 | AO91: =IF(I91<>"",1,0) -> 1 | AP91: =IF(J91<>"",1,0) -> 0 | AQ91: =IF(K91<>"",1,0) -> 0 | AR91: =IF(L91<>"",1,0) -> 0 | AS91: =IF(M91<>"",1,0) -> 0 | AT91: =IF(D91="","FYL",IF(E91="","KOM","BEGGE")) -> KOM | AV91: =IF(N91<>"",1,0) -> 0 | AW91: =IF(O91<>"",1,0) -> 0 | AX91: =IF(P91<>"",1,0) -> 0 | AY91: =IF(Q91<>"",1,0) -> 0 | AZ91: =IF(R91<>"",1,0) -> 0 | BA91: =IF(S91<>"",1,0) -> 0
A92: 88 | B92: Om de som har gode personlige forbindelser i (fylkes)kommunen får lettere ivaretatt sine interesser | C92: KS’ lokaldemokratiundersøkelse | D92: KOM | E92: FYL | F92: 4_samfunnseffekt | G92: Ja | I92: Demokrati og medvirkning | O92: Demokrati og medvirkning | AI92: 16.5 | AN92: =IF(H92<>"",1,0) -> 0 | AO92: =IF(I92<>"",1,0) -> 1 | AP92: =IF(J92<>"",1,0) -> 0 | AQ92: =IF(K92<>"",1,0) -> 0 | AR92: =IF(L92<>"",1,0) -> 0 | AS92: =IF(M92<>"",1,0) -> 0 | AT92: =IF(D92="","FYL",IF(E92="","KOM","BEGGE")) -> BEGGE | AV92: =IF(N92<>"",1,0) -> 0 | AW92: =IF(O92<>"",1,0) -> 1 | AX92: =IF(P92<>"",1,0) -> 0 | AY92: =IF(Q92<>"",1,0) -> 0 | AZ92: =IF(R92<>"",1,0) -> 0 | BA92: =IF(S92<>"",1,0) -> 0
A93: 89 | B93: Om en kan stole på løftene fra politikerne i kommunen | C93: KS’ lokaldemokratiundersøkelse | D93: KOM | E93: FYL | F93: 4_samfunnseffekt | I93: Demokrati og medvirkning | AI93: 16.7 | AN93: =IF(H93<>"",1,0) -> 0 | AO93: =IF(I93<>"",1,0) -> 1 | AP93: =IF(J93<>"",1,0) -> 0 | AQ93: =IF(K93<>"",1,0) -> 0 | AR93: =IF(L93<>"",1,0) -> 0 | AS93: =IF(M93<>"",1,0) -> 0 | AT93: =IF(D93="","FYL",IF(E93="","KOM","BEGGE")) -> BEGGE | AV93: =IF(N93<>"",1,0) -> 0 | AW93: =IF(O93<>"",1,0) -> 0 | AX93: =IF(P93<>"",1,0) -> 0 | AY93: =IF(Q93<>"",1,0) -> 0 | AZ93: =IF(R93<>"",1,0) -> 0 | BA93: =IF(S93<>"",1,0) -> 0
A94: 90 | B94: Om kommunen gjør en god jobb med å informere om hvordan kommunens inntekter brukes | C94: KS’ lokaldemokratiundersøkelse | D94: KOM | F94: 4_samfunnseffekt | I94: Demokrati og medvirkning | AI94: 16.7 | AN94: =IF(H94<>"",1,0) -> 0 | AO94: =IF(I94<>"",1,0) -> 1 | AP94: =IF(J94<>"",1,0) -> 0 | AQ94: =IF(K94<>"",1,0) -> 0 | AR94: =IF(L94<>"",1,0) -> 0 | AS94: =IF(M94<>"",1,0) -> 0 | AT94: =IF(D94="","FYL",IF(E94="","KOM","BEGGE")) -> KOM | AV94: =IF(N94<>"",1,0) -> 0 | AW94: =IF(O94<>"",1,0) -> 0 | AX94: =IF(P94<>"",1,0) -> 0 | AY94: =IF(Q94<>"",1,0) -> 0 | AZ94: =IF(R94<>"",1,0) -> 0 | BA94: =IF(S94<>"",1,0) -> 0
A95: 91 | B95: Om jeg/innbyggerne stort sett vet nok om forholdene i kommunen til å buke stemmeseddelen på en fornuftig måte i kommunevalget | C95: KS’ lokaldemokratiundersøkelse | D95: KOM | F95: 4_samfunnseffekt | I95: Demokrati og medvirkning | AI95: 16.7 | AN95: =IF(H95<>"",1,0) -> 0 | AO95: =IF(I95<>"",1,0) -> 1 | AP95: =IF(J95<>"",1,0) -> 0 | AQ95: =IF(K95<>"",1,0) -> 0 | AR95: =IF(L95<>"",1,0) -> 0 | AS95: =IF(M95<>"",1,0) -> 0 | AT95: =IF(D95="","FYL",IF(E95="","KOM","BEGGE")) -> KOM | AV95: =IF(N95<>"",1,0) -> 0 | AW95: =IF(O95<>"",1,0) -> 0 | AX95: =IF(P95<>"",1,0) -> 0 | AY95: =IF(Q95<>"",1,0) -> 0 | AZ95: =IF(R95<>"",1,0) -> 0 | BA95: =IF(S95<>"",1,0) -> 0
A96: 92 | B96: Om innbyggerne har gode muligheter til å påvirke kommunale beslutninger som engasjerer dem | C96: KS’ lokaldemokratiundersøkelse | D96: KOM | F96: 4_samfunnseffekt | I96: Demokrati og medvirkning | AI96: 16.7 | AN96: =IF(H96<>"",1,0) -> 0 | AO96: =IF(I96<>"",1,0) -> 1 | AP96: =IF(J96<>"",1,0) -> 0 | AQ96: =IF(K96<>"",1,0) -> 0 | AR96: =IF(L96<>"",1,0) -> 0 | AS96: =IF(M96<>"",1,0) -> 0 | AT96: =IF(D96="","FYL",IF(E96="","KOM","BEGGE")) -> KOM | AV96: =IF(N96<>"",1,0) -> 0 | AW96: =IF(O96<>"",1,0) -> 0 | AX96: =IF(P96<>"",1,0) -> 0 | AY96: =IF(Q96<>"",1,0) -> 0 | AZ96: =IF(R96<>"",1,0) -> 0 | BA96: =IF(S96<>"",1,0) -> 0
A97: 93 | B97: Om politikerne involverer innbyggerne i forsøk på å finne løsninger på lokale problemer | C97: KS’ lokaldemokratiundersøkelse | D97: KOM | F97: 4_samfunnseffekt | I97: Demokrati og medvirkning | AI97: 16.7 | AN97: =IF(H97<>"",1,0) -> 0 | AO97: =IF(I97<>"",1,0) -> 1 | AP97: =IF(J97<>"",1,0) -> 0 | AQ97: =IF(K97<>"",1,0) -> 0 | AR97: =IF(L97<>"",1,0) -> 0 | AS97: =IF(M97<>"",1,0) -> 0 | AT97: =IF(D97="","FYL",IF(E97="","KOM","BEGGE")) -> KOM | AV97: =IF(N97<>"",1,0) -> 0 | AW97: =IF(O97<>"",1,0) -> 0 | AX97: =IF(P97<>"",1,0) -> 0 | AY97: =IF(Q97<>"",1,0) -> 0 | AZ97: =IF(R97<>"",1,0) -> 0 | BA97: =IF(S97<>"",1,0) -> 0
A98: 94 | B98: Om kommuneadministrasjonen alltid gjør sitt beste for å hjelpe innbyggerne | C98: KS’ lokaldemokratiundersøkelse | D98: KOM | F98: 4_samfunnseffekt | I98: Demokrati og medvirkning | AI98: 16.7 | AN98: =IF(H98<>"",1,0) -> 0 | AO98: =IF(I98<>"",1,0) -> 1 | AP98: =IF(J98<>"",1,0) -> 0 | AQ98: =IF(K98<>"",1,0) -> 0 | AR98: =IF(L98<>"",1,0) -> 0 | AS98: =IF(M98<>"",1,0) -> 0 | AT98: =IF(D98="","FYL",IF(E98="","KOM","BEGGE")) -> KOM | AV98: =IF(N98<>"",1,0) -> 0 | AW98: =IF(O98<>"",1,0) -> 0 | AX98: =IF(P98<>"",1,0) -> 0 | AY98: =IF(Q98<>"",1,0) -> 0 | AZ98: =IF(R98<>"",1,0) -> 0 | BA98: =IF(S98<>"",1,0) -> 0
A99: 95 | B99: Om jeg i det store og hele er godt fornøyd med kommunenes tjenestetilbud til innbyggerne | C99: KS’ lokaldemokratiundersøkelse | D99: KOM | F99: 4_samfunnseffekt | I99: Demokrati og medvirkning | AI99: 16.7 | AN99: =IF(H99<>"",1,0) -> 0 | AO99: =IF(I99<>"",1,0) -> 1 | AP99: =IF(J99<>"",1,0) -> 0 | AQ99: =IF(K99<>"",1,0) -> 0 | AR99: =IF(L99<>"",1,0) -> 0 | AS99: =IF(M99<>"",1,0) -> 0 | AT99: =IF(D99="","FYL",IF(E99="","KOM","BEGGE")) -> KOM | AV99: =IF(N99<>"",1,0) -> 0 | AW99: =IF(O99<>"",1,0) -> 0 | AX99: =IF(P99<>"",1,0) -> 0 | AY99: =IF(Q99<>"",1,0) -> 0 | AZ99: =IF(R99<>"",1,0) -> 0 | BA99: =IF(S99<>"",1,0) -> 0
A100: 96 | B100: Om kommunen forvalter de økonomiske ressursene på en forsvarlig måte | C100: KS’ lokaldemokratiundersøkelse | D100: KOM | F100: 4_samfunnseffekt | I100: Demokrati og medvirkning | AI100: 16.6 | AN100: =IF(H100<>"",1,0) -> 0 | AO100: =IF(I100<>"",1,0) -> 1 | AP100: =IF(J100<>"",1,0) -> 0 | AQ100: =IF(K100<>"",1,0) -> 0 | AR100: =IF(L100<>"",1,0) -> 0 | AS100: =IF(M100<>"",1,0) -> 0 | AT100: =IF(D100="","FYL",IF(E100="","KOM","BEGGE")) -> KOM | AV100: =IF(N100<>"",1,0) -> 0 | AW100: =IF(O100<>"",1,0) -> 0 | AX100: =IF(P100<>"",1,0) -> 0 | AY100: =IF(Q100<>"",1,0) -> 0 | AZ100: =IF(R100<>"",1,0) -> 0 | BA100: =IF(S100<>"",1,0) -> 0
...

Sheet Hjelpefil
B1: Denne er identisk med INDIKATORSETT. Fra dette arket hentes data til BRUKERFLATE. Celler må IKKE flyttes. | H1: Gevinstområder, kommuner | N1: Gevinstområder, fylkeskommuner | T1: Indikatorer for FNs bærekraftmål
H2: Kommuner | I2: Kommuner | J2: Kommuner | K2: Kommuner | L2: Kommuner | M2: Kommuner | N2: Fylker | O2: Fylker | P2: Fylker | Q2: Fylker | R2: Fylker | S2: Fylker
H3: 1 | I3: 2 | J3: 3 | K3: 4 | L3: 5 | M3: 6 | N3: 1 | O3: 2 | P3: 3 | Q3: 4 | R3: 5 | S3: 6
A4: Indikator-nummer | B4: Indikator | C4: Kilde | D4: Kommune | E4: Fylkes-kommune | F4: Indikator-nivå | G4: Hoved-indikator | H4: Tjenester | I4: Demokrati og medvirkning | J4: Samfunnsutvikling | K4: Økonomi | L4: Arbeidsgiver | M4: Innovasjon og digitalisering | N4: Tjenester | O4: Demokrati og medvirkning | P4: Samfunnsutvikling | Q4: Økonomi | R4: Arbeidsgiver | S4: Innovasjon og digitalisering | T4: 1 | U4: 2 | V4: 3 | W4: 4 | X4: 5 | Y4: 6 | Z4: 7 | AA4: 8 | AB4: 9 | AC4: 10 | AD4: 11 | AE4: 12 | AF4: 13 | AG4: 14 | AH4: 15 | AI4: 16 | AJ4: 17 | AN4: Tjenester | AO4: Demokrati og medvirkning | AP4: Samfunnsutvikling | AQ4: Økonomi | AR4: Arbeidsgiver | AS4: Innovasjon | AT4: K/F | AV4: Tjenester | AW4: Demokrati og medvirkning | AX4: Samfunnsutvikling | AY4: Økonomi | AZ4: Arbeidsgiver | BA4: Innovasjon | BB4: K/F | BC4: K/F
A5: 1 | B5: Produksjonsindeksen fra Teknisk beregningsutvalg, KMD/TBU | C5: https://www.regjeringen.no/no/tema/kommuner-og-regioner/kommunedata/produksjonsindeks2/id2507960/ | D5: KOM | F5: 4_samfunnseffekt | G5: Ja | H5: Administrasjon, tekniske tjenester, samferdsel | AN5: =IF(H5<>"",1,0) -> 1 | AO5: =IF(I5<>"",1,0) -> 0 | AP5: =IF(J5<>"",1,0) -> 0 | AQ5: =IF(K5<>"",1,0) -> 0 | AR5: =IF(L5<>"",1,0) -> 0 | AS5: =IF(M5<>"",1,0) -> 0 | AT5: =IF(D5="","FYL",IF(E5="","KOM","BEGGE")) -> KOM | AV5: =IF(N5<>"",1,0) -> 0 | AW5: =IF(O5<>"",1,0) -> 0 | AX5: =IF(P5<>"",1,0) -> 0 | AY5: =IF(Q5<>"",1,0) -> 0 | AZ5: =IF(R5<>"",1,0) -> 0 | BA5: =IF(S5<>"",1,0) -> 0
A6: 2 | B6: Responstid ved henvendelser til kommunen på ulike tjenesteområder | C6: Egen innhenting i kommunen | D6: KOM | F6: 3_brukereffekt | G6: Ja | H6: Administrasjon, tekniske tjenester, samferdsel | AN6: =IF(H6<>"",1,0) -> 1 | AO6: =IF(I6<>"",1,0) -> 0 | AP6: =IF(J6<>"",1,0) -> 0 | AQ6: =IF(K6<>"",1,0) -> 0 | AR6: =IF(L6<>"",1,0) -> 0 | AS6: =IF(M6<>"",1,0) -> 0 | AT6: =IF(D6="","FYL",IF(E6="","KOM","BEGGE")) -> KOM | AV6: =IF(N6<>"",1,0) -> 0 | AW6: =IF(O6<>"",1,0) -> 0 | AX6: =IF(P6<>"",1,0) -> 0 | AY6: =IF(Q6<>"",1,0) -> 0 | AZ6: =IF(R6<>"",1,0) -> 0 | BA6: =IF(S6<>"",1,0) -> 0
A7: 3 | B7: Andel barnehagelærere i forhold til grunnbemanning, prosent | C7: SSB, tabell 12562 | D7: KOM | F7: 2_prod/teneste | G7: Ja | H7: Barnehage | W7: 4.c | AN7: =IF(H7<>"",1,0) -> 1 | AO7: =IF(I7<>"",1,0) -> 0 | AP7: =IF(J7<>"",1,0) -> 0 | AQ7: =IF(K7<>"",1,0) -> 0 | AR7: =IF(L7<>"",1,0) -> 0 | AS7: =IF(M7<>"",1,0) -> 0 | AT7: =IF(D7="","FYL",IF(E7="","KOM","BEGGE")) -> KOM | AV7: =IF(N7<>"",1,0) -> 0 | AW7: =IF(O7<>"",1,0) -> 0 | AX7: =IF(P7<>"",1,0) -> 0 | AY7: =IF(Q7<>"",1,0) -> 0 | AZ7: =IF(R7<>"",1,0) -> 0 | BA7: =IF(S7<>"",1,0) -> 0
