Workbook
Name ANALYSE_AV: Veiledning!$C$15
Name KMOD_RES_MK1: 'Rådata kommunal modenhet'!$I$3
Name KMOD_RES_MK1_N: 'Rådata kommunal modenhet'!$J$3
Name KMOD_RES_MK10: 'Rådata kommunal modenhet'!$I$45
Name KMOD_RES_MK10_N: 'Rådata kommunal modenhet'!$J$45
Name KMOD_RES_MK11: 'Rådata kommunal modenhet'!$I$50
Name KMOD_RES_MK11_N: 'Rådata kommunal modenhet'!$J$50
Name KMOD_RES_MK12: 'Rådata kommunal modenhet'!$I$61
Name KMOD_RES_MK12_N: 'Rådata kommunal modenhet'!$J$61
Name KMOD_RES_MK13: 'Rådata kommunal modenhet'!$I$68
Name KMOD_RES_MK13_N: 'Rådata kommunal modenhet'!$J$68
Name KMOD_RES_MK14: 'Rådata kommunal modenhet'!$I$75
Name KMOD_RES_MK14_N: 'Rådata kommunal modenhet'!$J$75
Name KMOD_RES_MK15: 'Rådata kommunal modenhet'!$I$79
Name KMOD_RES_MK15_N: 'Rådata kommunal modenhet'!$J$79
Name KMOD_RES_MK16: 'Rådata kommunal modenhet'!$I$84
Name KMOD_RES_MK16_N: 'Rådata kommunal modenhet'!$J$84
Name KMOD_RES_MK17: 'Rådata kommunal modenhet'!$I$88
Name KMOD_RES_MK17_N: 'Rådata kommunal modenhet'!$J$88
Name KMOD_RES_MK18: 'Rådata kommunal modenhet'!$I$94
Name KMOD_RES_MK18_N: 'Rådata kommunal modenhet'!$J$94
Name KMOD_RES_MK19: 'Rådata kommunal modenhet'!$I$99
Name KMOD_RES_MK19_N: 'Rådata kommunal modenhet'!$J$99
Name KMOD_RES_MK2: 'Rådata kommunal modenhet'!$I$6
Name KMOD_RES_MK2_N: 'Rådata kommunal modenhet'!$J$6
Name KMOD_RES_MK20: 'Rådata kommunal modenhet'!$I$104
Name KMOD_RES_MK20_N: 'Rådata kommunal modenhet'!$J$104
Name KMOD_RES_MK21: 'Rådata kommunal modenhet'!$I$108
Name KMOD_RES_MK21_N: 'Rådata kommunal modenhet'!$J$108
Name KMOD_RES_MK22: 'Rådata kommunal modenhet'!$I$112
Name KMOD_RES_MK22_N: 'Rådata kommunal modenhet'!$J$112
Name KMOD_RES_MK23: 'Rådata kommunal modenhet'!$I$119
Name KMOD_RES_MK23_N: 'Rådata kommunal modenhet'!$J$119
Name KMOD_RES_MK3: 'Rådata kommunal modenhet'!$I$10
Name KMOD_RES_MK3_N: 'Rådata kommunal modenhet'!$J$10
Name KMOD_RES_MK4: 'Rådata kommunal modenhet'!$I$14
Name KMOD_RES_MK4_N: 'Rådata kommunal modenhet'!$J$14
Name KMOD_RES_MK5: 'Rådata kommunal modenhet'!$I$18
Name KMOD_RES_MK5_N: 'Rådata kommunal modenhet'!$J$18
Name KMOD_RES_MK6: 'Rådata kommunal modenhet'!$I$23
Name KMOD_RES_MK6_N: 'Rådata kommunal modenhet'!$J$23
Name KMOD_RES_MK7: 'Rådata kommunal modenhet'!$I$30
Name KMOD_RES_MK7_N: 'Rådata kommunal modenhet'!$J$30
Name KMOD_RES_MK8: 'Rådata kommunal modenhet'!$I$35
Name KMOD_RES_MK8_N: 'Rådata kommunal modenhet'!$J$35
Name KMOD_RES_MK9: 'Rådata kommunal modenhet'!$I$40
Name KMOD_RES_MK9_N: 'Rådata kommunal modenhet'!$J$40
Name KRIT_RES_K1: 'Rådata tjenestekritikalitet'!$I$6
Name KRIT_RES_K1_N: 'Rådata tjenestekritikalitet'!$J$6
Name KRIT_RES_K1_NORM: 'Rådata tjenestekritikalitet'!$J$6
Name KRIT_RES_K10: 'Rådata tjenestekritikalitet'!$I$58
Name KRIT_RES_K10_N: 'Rådata tjenestekritikalitet'!$J$58
Name KRIT_RES_K11: 'Rådata tjenestekritikalitet'!$I$65
Name KRIT_RES_K11_N: 'Rådata tjenestekritikalitet'!$J$65
Name KRIT_RES_K12: 'Rådata tjenestekritikalitet'!$I$68
Name KRIT_RES_K12_N: 'Rådata tjenestekritikalitet'!$J$68
Name KRIT_RES_K2: 'Rådata tjenestekritikalitet'!$I$12
Name KRIT_RES_K2_N: 'Rådata tjenestekritikalitet'!$J$12
Name KRIT_RES_K2_NORM: 'Rådata tjenestekritikalitet'!$J$12
Name KRIT_RES_K3: 'Rådata tjenestekritikalitet'!$I$18

Sheet Veiledning
A2: Skjema for felles sikkerhetskrav til anskaffelser
A4: Basert på spørsmål fra 2024-01-29
A5: Grunnleggende bruk
B6: Dette skjemaet er ment brukt sammen med to andre Excel ark. Disse to arkene må være åpne samtidig med dette arket.
B7: Du må skrive inn navnene på de to andre arkene her:
B9: Skjema for kritikalitet:
B11: Svarskjema fra leverandør:
B13: Om begge disse skjemaene finnes, er utfylt, og er åpne, så vil du se følgende to felt utfylt:
B15: Type system som anskaffes: | C15: {=IFERROR(INDIRECT("'" & SKJEMA_KRIT & "'!" & "SYSTEM_NAVN"),"Fant ikke fila eller navn mangler!")} -> Fant ikke fila eller navn mangler! | D15: NB! For at løsningen skal fungere
D16: må begge filene bli funnet her!
B17: Svarskjema fra leverandør: | C17: {=IFERROR(INDIRECT("'" & SKJEMA_LEV & "'!" & "LEV_NAVN"),"Fant ikke fila eller navn mangler!")} -> Fant ikke fila eller navn mangler! | D17: (Filene bør ligge lokalt for at dette skal fungere)
B19: For at arkene skal funger sammen så må du velge at det er tillat at informasjon delt mellom de to arkene blir oppdatert.
A22: Kort om hvordan bruke arkene i praksis
B23: Se dokumentet "veiledning.docx" for mer detaljer om hvordan løsningen brukes.
B24: Bruk av løsningen kan sees i sammenheng med DigDirs Prosjektveiviseren. (Se Nyttige ressurser under)
B27: 1. Det er et behov for en ny løsning eller system. 2. Arket for kritikalitet fylles ut av saksbehandler eller innkjøpsansvarlig i kommunen. Dette måler hvor kritisk systemet er. 3. Fliken for modenhet i arket for kritikalitet fylles ut. Dette måler hvor moden kommunen er til å ta det i bruk. 4. Basert på disse to flikene blir det gjort en analyse, og forslag til utlysningstekst og aktiviteter vises. 5. Leverandører fyller ut de generelle leverandørkravene. Her bør kommunen også passe på funksjonelle løsningsspesifike krav. 6. Når utfylte skjema er mottatt så kan analysearket brukes til å vurdere hvor bra leverandørene presenterer seg selv. 7. En kan også se en sammenligning av hvor bra tilbudet oppfyller kravene som fremgår av hvor kritisk systemet er. 8. Analysearket har en flik "Oppfølging" hvor du kan se spørsmål hvor leverandøren har svart at de kan gi mer informasjon. Rent praktisk er det fornuftig å lagre analysearket, arket for kritikalitet og modenhet og leverandørbesvarelser i samme katalog. For å gjøre en sammenligning av flere leverandører kan du klippe ut det som er relevant fra analysearkene til et eget dokument.
A30: Nyttige ressurser
B31: Rolle systemeier | C31: Digitaliseringsdirektoratets beskrivelse av rollen som systemeier
B32: Rolle risikoeier | C32: Digitaliseringsdirektoratets beskrivelse av rollen som risikoeier
B33: Prosjektveiviseren for anskaffelser | C33: Digitaliseringsdirektoratets prosjektveiviser for anskaffelser

Sheet Rådata tjenestekritikalitet
A2: Analyse av Tjenestekritikalitet
A4: Id | B4: Spørsmål | C4: Alternativer | D4: Score alt. | E4: Max | F4: Vekt | G4: Brukerens valg | H4: Skåre | I4: Sluttskåre | J4: Norm
A5: Overordnede spørsmål
A6: K1 | B6: Vil et bortfall av tjenesten direkte påvirke noens liv og helse? | E6: 4 | G6: {=INDIRECT("'" & SKJEMA_KRIT & "'!" & "KRIT_" & A6)} -> #REF! | H6: =VLOOKUP(G6,C7:D11,2,0) -> #REF! | I6: =H6 -> #REF! | J6: =I6/E6 -> #REF!
C7: Øyeblikkelig (minutter) | D7: 4 | L7: Underlag for analyse | M7: Sum | N7: Maks | O7: Normalisert (0-1)
C8: I løpet av en time | D8: 3 | L8: Total kritikalitet: | M8: =SUM(I6:I73) -> #REF! | N8: 47 | O8: =SUM(J6:J68)/12 -> #REF!
C9: I løpet av døgn | D9: 2
C10: I løpet av en uke | D10: 1 | L10: Kategorier | M10: Sum | N10: Maks | O10: Normalisert (0-1)
C11: Nei | D11: 0 | L11: Overordnede spørsmål | M11: =KRIT_RES_K1+KRIT_RES_K2+KRIT_RES_K3 -> #REF! | N11: 15 | O11: =(KRIT_RES_K1_N+KRIT_RES_K2_N+KRIT_RES_K3_N)/3 -> #REF!
A12: K2 | B12: Vil et bortfall av tjenesten forårsake større forstyrrelser i samfunnet? | E12: 4 | G12: {=INDIRECT("'" & SKJEMA_KRIT & "'!" & "KRIT_" & A12)} -> #REF! | H12: =VLOOKUP(G12,C13:D17,2,0) -> #REF! | I12: =H12 -> #REF! | J12: =I12/E12 -> #REF! | L12: Langsiktig planlegging og bruk | M12: =KRIT_RES_K4+KRIT_RES_K5 -> #REF! | N12: 8 | O12: =(KRIT_RES_K4_N+KRIT_RES_K5_N)/2 -> #REF!
C13: Øyeblikkelig (minutter) | D13: 4 | L13: Krav til sensitive data og tjenester | M13: =KRIT_RES_K6+KRIT_RES_K7+KRIT_RES_K8 -> #REF! | N13: 9 | O13: =(KRIT_RES_K6_N+KRIT_RES_K7_N+KRIT_RES_K8_N)/3 -> #REF!
C14: I løpet av en time | D14: 3 | L14: Krav til sikkerhet | M14: =KRIT_RES_K9+KRIT_RES_K10+KRIT_RES_K11+KRIT_RES_K12 -> #REF! | N14: 11 | O14: =(KRIT_RES_K9_N+KRIT_RES_K10_N+KRIT_RES_K11_N+KRIT_RES_K12_N)/4 -> #REF!
C15: I løpet av døgn | D15: 2
C16: I løpet av en uke | D16: 1
C17: Nei | D17: 0 | L17: Underskårer | M17: Sum | N17: Maks | O17: Normalisert (0-1)
A18: K3 | B18: Er tjenesten spesielt viktig for sårbare grupper i befolkningen, som eldre, barn, eller personer med nedsatt funksjonsevne? | E18: 4 | G18: {=INDIRECT("'" & SKJEMA_KRIT & "'!" & "KRIT_" & A18)} -> #REF! | H18: =VLOOKUP(G18,C19:D23,2,0) -> #REF! | I18: =H18 -> #REF! | J18: =I18/E18 -> #REF! | L18: Robusthet | M18: =SUM(I6:I60) -> #REF! | N18: 38 | O18: =SUM(J6:J60)/10 -> #REF!
C19: Øyeblikkelig (minutter) | D19: 4 | L19: Konfidensialitet | M19: =KRIT_RES_K6+KRIT_RES_K7+KRIT_RES_K8 -> #REF! | N19: 9 | O19: =(KRIT_RES_K6_N+KRIT_RES_K7_N+KRIT_RES_K8_N)/3 -> #REF!
C20: I løpet av en time | D20: 3 | L20: Integritet | M20: =KRIT_RES_K5 -> #REF! | N20: 4 | O20: =KRIT_RES_K5_N -> #REF!
C21: I løpet av døgn | D21: 2 | L21: Autentsitet | M21: =KRIT_RES_K6+KRIT_RES_K7+KRIT_RES_K5 -> #REF! | N21: 10 | O21: =(KRIT_RES_K6_N+KRIT_RES_K7_N+KRIT_RES_K5_N)/3 -> #REF!
C22: I løpet av en uke | D22: 1 | L22: Tilgjengelighet | M22: =KRIT_RES_K9+KRIT_RES_K10 -> #REF! | N22: 9 | O22: =(KRIT_RES_K9_N+KRIT_RES_K10_N)/2 -> #REF!
C23: Nei | D23: 0 | L23: Ikke-benektelse | M23: =KRIT_RES_K11+KRIT_RES_K12 -> #REF! | N23: 2 | O23: =M23/N23 -> #REF!
A24: K4 | B24: Vil svikt eller feil i løsningen føre til skader på natur og miljø? | E24: 3 | G24: {=INDIRECT("'" & SKJEMA_KRIT & "'!" & "KRIT_" & A24)} -> #REF! | H24: =VLOOKUP(G24,C25:D27,2,0) -> #REF! | I24: =H24 -> #REF! | J24: =I24/E24 -> #REF!
C25: Ja | D25: 3
C26: Potensiell skade | D26: 2
C27: Nei | D27: 1
A28: Langsiktig planlegging og bruk
A29: K5 | B29: Hvor viktig er løsningen for arbeidsutførelsen til kommunen? | E29: 4 | G29: {=INDIRECT("'" & SKJEMA_KRIT & "'!" & "KRIT_" & A29)} -> #REF! | H29: =VLOOKUP(G29,C30:D32,2,0) -> #REF! | I29: =H29 -> #REF! | J29: =I29/E29 -> #REF!
C30: Kritisk for arbeidsutførelsen | D30: 4
C31: Viktig | D31: 2
C32: Mindre viktig | D32: 1
A33: K6 | B33: Er tjenesten avhengig av høy tillit? | E33: 4 | G33: {=INDIRECT("'" & SKJEMA_KRIT & "'!" & "KRIT_" & A33)} -> #REF! | H33: =VLOOKUP(G33,C34:D37,2,0) -> #REF! | I33: =H33 -> #REF! | J33: =I33/E33 -> #REF!
C34: Høy tillit | D34: 4
C35: Innbyggertillit | D35: 2
C36: Ansatt-tillit | D36: 2
C37: Ingen | D37: 0
A38: Krav til sensitive data og tjenester
A39: K7 | B39: Er det tenkt å lagre eller behandle personsensitive data i løsningen? | E39: 3 | G39: {=INDIRECT("'" & SKJEMA_KRIT & "'!" & "KRIT_" & A39)} -> #REF! | H39: =VLOOKUP(G39,C40:D42,2,0) -> #REF! | I39: =H39 -> #REF! | J39: =I39/E39 -> #REF!
C40: Ja | D40: 3
C41: Ikke tiltenkt | D41: 2
C42: Nei | D42: 0
A43: K8 | B43: Er det tenkt å lagre eller behandle kommunesensitive data i løsningen? | E43: 3 | G43: {=INDIRECT("'" & SKJEMA_KRIT & "'!" & "KRIT_" & A43)} -> #REF! | H43: =VLOOKUP(G43,C44:D46,2,0) -> #REF! | I43: =H43 -> #REF! | J43: =I43/E43 -> #REF!
C44: Ja | D44: 3
C45: Ikke tiltenkt | D45: 2
C46: Nei | D46: 0
A47: K9 | B47: Vil løsningen inneholde, behandle eller på annen måte komme inn under Sikkerhetslovens bestemmelser? | E47: 3 | G47: {=INDIRECT("'" & SKJEMA_KRIT & "'!" & "KRIT_" & A47)} -> #REF! | H47: =VLOOKUP(G47,C48:D51,2,0) -> #REF! | I47: =H47 -> #REF! | J47: =I47/E47 -> #REF!
C48: Ja | D48: 3
C49: Mulig | D49: 2
C50: Nei | D50: 0
C51: Uavklart | D51: 1
A52: Krav til sikkerhet
A53: K10 | B53: Hva er kravene til tilgjengelighet for løsningen? | E53: 4 | G53: {=INDIRECT("'" & SKJEMA_KRIT & "'!" & "KRIT_" & A53)} -> #REF! | H53: =VLOOKUP(G53,C54:D57,2,0) -> #REF! | I53: =H53 -> #REF! | J53: =I53/E53 -> #REF!
C54: Svært høy | D54: 4
C55: Høy | D55: 3
C56: Middels | D56: 2
C57: Lav | D57: 1
A58: K11 | B58: Hva er kravene til kundestøtte fra leverandør? | E58: 5 | G58: {=INDIRECT("'" & SKJEMA_KRIT & "'!" & "KRIT_" & A58)} -> #REF! | H58: =VLOOKUP(G58,C59:D64,2,0) -> #REF! | I58: =H58 -> #REF! | J58: =I58/E58 -> #REF!
C59: 24/7 med oppmøte | D59: 5
C60: 24/7 telefonsupport og epost | D60: 4
C61: Forretningsdag på telefon og epost | D61: 3
C62: Epost og helpdesk support | D62: 2
C63: Bare selvhjelp | D63: 1
C64: Ingen | D64: 0
A65: K12 | B65: Skal brukere av løsningen være være autentisert? | E65: 2 | G65: {=INDIRECT("'" & SKJEMA_KRIT & "'!" & "KRIT_" & A65)} -> #REF! | H65: =VLOOKUP(G65,C66:D67,2,0) -> #REF! | I65: =H65 -> #REF! | J65: =I65/E65 -> #REF!
C66: Ja | D66: 2
C67: Nei | D67: 1
A68: K13 | B68: Skal data , hendelser og tilganger i løsningen være mulig å spore? | E68: 4 | G68: {=INDIRECT("'" & SKJEMA_KRIT & "'!" & "KRIT_" & A68)} -> #REF! | H68: =VLOOKUP(G68,C69:D74,2,0) -> #REF! | I68: =H68 -> #REF! | J68: =I68/E68 -> #REF!
C69: Ja via menyer i løsningen og eksterne systemer | D69: 4
C70: Ja via menyer i løsningen | D70: 3
C71: Ja via eksterne systemer | D71: 2
C72: Nei | D72: 1
C73: Vet ikke | D73: 0
C74: Ja fra leverandør ved behov | D74: 2

Sheet Rådata kommunal modenhet
A1: Id | B1: Spørsmål | C1: Alternativer | D1: Score alt. | E1: Max | F1: Vekt | G1: Brukerens valg | H1: Skåre | I1: Sluttskåre | J1: Norm
A2: Roller
A3: MK1 | B3: Er roller og arbeidsoppgaver knyttet til systemet avklart? | E3: 1 | G3: {=INDIRECT("'" & SKJEMA_KRIT & "'!" & "KM_" & A3)} -> #REF! | H3: =VLOOKUP(G3,C4:D5,2,0) -> #REF! | I3: =H3 -> #REF! | J3: =I3/E3 -> #REF!
C4: Ja | D4: 1 | L4: Underlag for analyse | M4: Sum | N4: Maks | O4: Normalisert (0-1)
C5: Nei | D5: 0 | L5: Total modenhet | M5: =SUM(I3:I123) -> #REF! | N5: 65 | O5: =M5/N5 -> #REF!
A6: MK2 | B6: Har systemansvarlig tid og ressurser til å ta på seg oppgaven? | E6: 2 | G6: {=INDIRECT("'" & SKJEMA_KRIT & "'!" & "KM_" & A6)} -> #REF! | H6: =VLOOKUP(G6,C7:D9,2,0) -> #REF! | I6: =H6 -> #REF! | J6: =I6/E6 -> #REF!
C7: Ja | D7: 2 | L7: Kategorier | M7: Sum | N7: Maks | O7: Normalisert (0-1)
C8: Nei | D8: 1 | L8: Roller | M8: =SUM(I3:I23) -> #REF! | N8: 14 | O8: =SUM(J3:J23)/6 -> #REF!
C9: Uavklart | D9: 0 | L9: Økonomi og ressurser | M9: =SUM(I30:I61) -> #REF! | N9: =3+3+3+3+3+3 -> 18 | O9: =SUM(J30:J61)/6 -> #REF!
A10: MK3 | B10: Er systemansvarlig involvert i anskaffelsen? | E10: 2 | G10: {=INDIRECT("'" & SKJEMA_KRIT & "'!" & "KM_" & A10)} -> #REF! | H10: =VLOOKUP(G10,C11:D13,2,0) -> #REF! | I10: =H10 -> #REF! | J10: =I10/E10 -> #REF! | L10: Avhengigheter | M10: =SUM(I67:I88) -> #REF! | N10: 15 | O10: =SUM(J67:J88)/5 -> #REF!
C11: Ja | D11: 2 | L11: Vedlikehold og forvaltning | M11: =SUM(I94:I108) -> #REF! | N11: =3+3+2 -> 8 | O11: =SUM(J94:J108)/4 -> #REF!
C12: Nei | D12: 1 | L12: Gevinst | M12: =SUM(I112:I119) -> #REF! | N12: =4+3 -> 7 | O12: =SUM(J112:J119)/2 -> #REF!
C13: Uavklart | D13: 0
A14: MK4 | B14: Har tillitsvalgte blitt orientert (eventuelt involvert) om kjøp av systemet? | E14: 2 | G14: {=INDIRECT("'" & SKJEMA_KRIT & "'!" & "KM_" & A14)} -> #REF! | H14: =VLOOKUP(G14,C15:D17,2,0) -> #REF! | I14: =H14 -> #REF! | J14: =I14/E14 -> #REF! | L14: Underskårer | M14: Sum | N14: Maks | O14: Normalisert (0-1)
C15: Ja | D15: 2 | L15: Organisatorisk forberedt | M15: =SUM(I3:I61) -> #REF! | N15: 32 | O15: =SUM(J3:J61)/12 -> #REF!
C16: Nei | D16: 1 | L16: Klarhet i krav | M16: =KMOD_RES_MK5+KMOD_RES_MK11+KMOD_RES_MK13+KMOD_RES_MK14+KMOD_RES_MK15+KMOD_RES_MK16+KMOD_RES_MK19+KMOD_RES_MK22+KMOD_RES_MK23 -> #REF! | N16: 30 | O16: =(KMOD_RES_MK5_N+KMOD_RES_MK11_N+KMOD_RES_MK13_N+KMOD_RES_MK14_N+KMOD_RES_MK15_N+KMOD_RES_MK16_N+KMOD_RES_MK19_N+KMOD_RES_MK22_N+KMOD_RES_MK23_N)/9 -> #REF!
C17: Ikke aktuelt | D17: 0 | L17: Teknisk forberedt | M17: =SUM(I68:I94) -> #REF! | N17: 18 | O17: =SUM(J68:J94)/6 -> #REF!
A18: MK5 | B18: Hvis systemet er tenkt brukt av kommunens innbyggere: Hvem skal ha ansvar for brukerstøtte for løsningen? | E18: 3 | G18: {=INDIRECT("'" & SKJEMA_KRIT & "'!" & "KM_" & A18)} -> #REF! | H18: =VLOOKUP(G18,C19:D22,2,0) -> #REF! | I18: =H18 -> #REF! | J18: =I18/E18 -> #REF! | L18: Avklart budsjett | M18: =KMOD_RES_MK7+KMOD_RES_MK8+KMOD_RES_MK9+KMOD_RES_MK10+KMOD_RES_MK11+KMOD_RES_MK12+KMOD_RES_MK17+KMOD_RES_MK21 -> #REF! | N18: 22 | O18: =(KMOD_RES_MK7_N+KMOD_RES_MK8_N+KMOD_RES_MK9_N+KMOD_RES_MK10_N+KMOD_RES_MK11_N+KMOD_RES_MK12_N+KMOD_RES_MK17_N+KMOD_RES_MK21_N)/8 -> #REF!
C19: Leverandør | D19: 3 | L19: Avhengighet og integrasjon | M19: =KMOD_RES_MK13+KMOD_RES_MK14+KMOD_RES_MK15+KMOD_RES_MK16 -> #REF! | N19: 12 | O19: =(KMOD_RES_MK13_N+KMOD_RES_MK14_N+KMOD_RES_MK15_N+KMOD_RES_MK16_N)/4 -> #REF!
C20: Kombinert | D20: 2 | L20: Risikovurdering | M20: =KMOD_RES_MK17+KMOD_RES_MK21 -> #REF! | N20: 4 | O20: =(KMOD_RES_MK17_N+KMOD_RES_MK21_N)/2 -> #REF!
C21: Kommunens ansatte | D21: 1 | L21: Forventet gevinst | M21: =KMOD_RES_MK22 -> 0 | N21: 6 | O21: =KMOD_RES_MK22_N -> 0
C22: Ikke relevant | D22: 0 | L22: Beredskapsplanlegging | M22: =KMOD_RES_MK20+KMOD_RES_MK18 -> #REF! | N22: 5 | O22: =(KMOD_RES_MK20_N+KMOD_RES_MK18_N)/2 -> #REF!
A23: MK6 | B23: Har IT personale blitt involvert i anskaffelsen? | E23: 4 | G23: {=INDIRECT("'" & SKJEMA_KRIT & "'!" & "KM_" & A23)} -> #REF! | H23: =VLOOKUP(G23,C24:D28,2,0) -> #REF! | I23: =H23 -> #REF! | J23: =I23/E23 -> #REF! | L23: Systemansvarlig involvering | M23: =KMOD_RES_MK2+KMOD_RES_MK3 -> #REF! | N23: 4 | O23: =(KMOD_RES_MK2_N+KMOD_RES_MK3_N)/2 -> #REF!
C24: Ja | D24: 4
C25: Delvis | D25: 3
C26: Nei | D26: 2
C27: Planlagt | D27: 1
C28: Ikke relevant | D28: 0
A29: Økonomi og ressurser
A30: MK7 | B30: Er det satt av budsjett og allokert ressurser til innføring av systemet for kommunens ansatte? | E30: 3 | G30: {=INDIRECT("'" & SKJEMA_KRIT & "'!" & "KM_" & A30)} -> #REF! | H30: =VLOOKUP(G30,C31:D34,2,0) -> #REF! | I30: =H30 -> #REF! | J30: =I30/E30 -> #REF!
C31: Tilstrekkelig tid | D31: 3
C32: Noe tid | D32: 2
C33: Ingen tid | D33: 1
C34: Ikke relevant | D34: 0
A35: MK8 | B35: Er det satt av budsjett og allokert ressurser til omstillingskostnader? | E35: 3 | G35: {=INDIRECT("'" & SKJEMA_KRIT & "'!" & "KM_" & A35)} -> #REF! | H35: =VLOOKUP(G35,C36:D39,2,0) -> #REF! | I35: =H35 -> #REF! | J35: =I35/E35 -> #REF!
C36: Fullt budsjett | D36: 3
C37: Delvis budsjett | D37: 2
C38: Minimalt budsjett | D38: 1
C39: Ikke relevant | D39: 0
A40: MK9 | B40: Er det satt av budsjett og allokert ressurser til innføring av systemet for kommunens innbyggere? | E40: 3 | G40: {=INDIRECT("'" & SKJEMA_KRIT & "'!" & "KM_" & A40)} -> #REF! | H40: =VLOOKUP(G40,C41:D44,2,0) -> #REF! | I40: =H40 -> #REF! | J40: =I40/E40 -> #REF!
C41: Fullt budsjett | D41: 3
C42: Delvis budsjett | D42: 2
C43: Minimalt budsjett | D43: 1
C44: Ikke aktuelt | D44: 0
A45: MK10 | B45: Er det satt av budsjett og allokert ressurser til forvaltning av systemet? | E45: 3 | G45: {=INDIRECT("'" & SKJEMA_KRIT & "'!" & "KM_" & A45)} -> #REF! | H45: =VLOOKUP(G45,C46:D49,2,0) -> #REF! | I45: =H45 -> #REF! | J45: =I45/E45 -> #REF!
C46: Fullt budsjett | D46: 3
C47: Delvis budsjett | D47: 2
C48: Minimalt budsjett | D48: 1
C49: Ikke relevant | D49: 0
A50: MK11 | B50: Er det satt av budsjett for å sikre løsningen? | E50: 3 | G50: {=INDIRECT("'" & SKJEMA_KRIT & "'!" & "KM_" & A50)} -> #REF! | H50: =VLOOKUP(G50,C51:D55,2,0) -> #REF! | I50: =H50 -> #REF! | J50: =I50/E50 -> #REF!
C51: Fullt budsjett | D51: 3
C52: Delvis budsjett | D52: 2
C53: Minimalt budsjett | D53: 1
C54: Ikke relevant | D54: 0
C55: Vet ikke | D55: 1
A56: MK12 | B56: Har personvernombudet blitt orientert om mulig personsensitiv informasjon i løsningen? | E56: 3 | G56: {=INDIRECT("'" & SKJEMA_KRIT & "'!" & "KM_" & A56)} -> #REF! | H56: =VLOOKUP(G56,C57:D60,2,0) -> #REF! | I56: =H56 -> #REF! | J56: =I56/E56 -> #REF!
C57: Ja | D57: 3
C58: Delvis | D58: 2
C59: Nei | D59: 1
C60: Ikke relevant | D60: 0
A61: MK13 | B61: Er det vurdert utfasingskostnader for eventuelt eksisterende system? | E61: 3 | G61: {=INDIRECT("'" & SKJEMA_KRIT & "'!" & "KM_" & A61)} -> #REF! | H61: =VLOOKUP(G61,C62:D66,2,0) -> #REF! | I61: =H61 -> #REF! | J61: =I61/E61 -> #REF!
C62: Fullt budsjett | D62: 3
C63: Delvis budsjett | D63: 2
C64: Minimalt budsjett | D64: 1
C65: Ikke relevant | D65: 0
C66: Uavklart | D66: 1
A67: Avhengigheter
A68: MK14 | B68: Vil løsningen være avhengig av andre systemer? | E68: 5 | G68: {=INDIRECT("'" & SKJEMA_KRIT & "'!" & "KM_" & A68)} -> #REF! | H68: =VLOOKUP(G68,C69:D74,2,0) -> #REF! | I68: =H68 -> #REF! | J68: =I68/E68 -> #REF!
C69: Både interne og eksterne | D69: 5
C70: Eksterne systemer | D70: 4
C71: Interne systemer | D71: 3
C72: Minimalt | D72: 2
C73: Ingen | D73: 1
C74: Vet ikke | D74: 0
A75: MK15 | B75: Vil andre systemer være avhengig av dette systemet? | E75: 2 | G75: {=INDIRECT("'" & SKJEMA_KRIT & "'!" & "KM_" & A75)} -> #REF! | H75: =VLOOKUP(G75,C76:D78,2,0) -> #REF! | I75: =H75 -> #REF! | J75: =I75/E75 -> #REF!
C76: Flere | D76: 2
C77: Ett | D77: 1
C78: Ingen | D78: 0
A79: MK16 | B79: Ønsker kommunen at løsningen skal være integrert med andre kommunale systemer? | E79: 3 | G79: {=INDIRECT("'" & SKJEMA_KRIT & "'!" & "KM_" & A79)} -> #REF! | H79: =VLOOKUP(G79,C80:D83,2,0) -> #REF! | I79: =H79 -> #REF! | J79: =I79/E79 -> #REF!
C80: Flere | D80: 3
C81: Ett | D81: 2
C82: Ingen | D82: 1
C83: Vet ikke | D83: 0
A84: MK17 | B84: Er det ønskelig at andre systemer skal være integrert med løsningen? | E84: 2 | G84: {=INDIRECT("'" & SKJEMA_KRIT & "'!" & "KM_" & A84)} -> #REF! | H84: =VLOOKUP(G84,C85:D87,2,0) -> #REF! | I84: =H84 -> #REF! | J84: =I84/E84 -> #REF!
C85: Flere | D85: 2
C86: Ett | D86: 1
C87: Ingen | D87: 0
A88: MK18 | B88: Er det vurdert konsekvenser av problemer med integrasjoner og avhengigheter? | E88: 3 | G88: {=INDIRECT("'" & SKJEMA_KRIT & "'!" & "KM_" & A88)} -> #REF! | H88: =VLOOKUP(G88,C89:D92,2,0) -> #REF! | I88: =H88 -> #REF! | J88: =I88/E88 -> #REF!
C89: Konsekvenser er avklart | D89: 3
C90: Konsekvenser er delvis avklart | D90: 2
C91: Konsekvenser er uavklart | D91: 1
C92: Ikke relevant | D92: 0
A93: Vedlikehold og forvaltning
A94: MK19 | B94: Er det planlagt alternativer til løsningen om den slutter å virke? | E94: 3 | G94: {=INDIRECT("'" & SKJEMA_KRIT & "'!" & "KM_" & A94)} -> #REF! | H94: =VLOOKUP(G94,C95:D98,2,0) -> #REF! | I94: =H94 -> #REF! | J94: =I94/E94 -> #REF!
C95: Ingen alternativer | D95: 3
C96: Ett likeverdig alternativ | D96: 2
C97: Nødrutiner | D97: 1
C98: Kriserutiner | D98: 0
A99: MK20 | B99: Skal data brukes til å ta viktige beslutninger? | E99: 3 | G99: {=INDIRECT("'" & SKJEMA_KRIT & "'!" & "KM_" & A99)} -> #REF! | H99: =VLOOKUP(G99,C100:D103,2,0) -> #REF! | I99: =H99 -> #REF! | J99: =I99/E99 -> #REF!
C100: Ingen feil data aksepteres | D100: 3
...

Sheet Analyse kommune
A1: Analyse av skjema for kritikalitet og kommunal modenhet
A3: Analyse av system eller løsning for: | D3: {=ANALYSE_AV} -> Fant ikke fila eller navn mangler!
A5: I den første delen av dette arket produseres forslag til mulig tekst i utlysningen, deretter kommer forslag til aktiviteter som kan være nødvendige. Begge disse er basert utelukkende på utfylt Kritikalitet og Kommunal modenhet.
A6: Merk at forslag til tekst i grå skrift ikke er aktuelt, det er bare normal skrift som er aktuelt.
A8: Mulig tekst i utlysning
B9: Krav til… | D9: Forslag til tekst som kan brukes i en utlysning
B10: Håndtering av kritisk løsning (Basert på skala for overordnet kritikalitet) | D10: På bakgrunn av løsningens viktighet, ønsker vi å påpeke at det vil bli stilt strenge krav til pålitelighet, ytelse og sikkerhet for leveransen. Vi forventer at løsningen skal sikre kontinuerlig drift og ha robuste beredskapsplaner for å håndtere eventuelle driftsavbrudd.
B11: Kundestøtte til kommune (Basert på spørsmål K11) | D11: {=IFERROR(_xlfn.SWITCH(KRIT_RES_K11, 5, "Vi søker en leverandør som kan tilby 24/7 support med oppmøte. Dette innebærer at leverandørens tekniske team skal være tilgjengelig til enhver tid, dag og natt, inkludert helger og helligdager, for å gi umiddelbar assistanse på stedet. ", 4, "Denne utlysningen krever at leverandøren tilbyr 24/7 support via telefon og epost. Med dette alternativet, skal leverandørens supportteam være tilgjengelig hele døgnet for å gi umiddelbar assistanse og veiledning via telefon og epost. ", 3, "Vi søker en leverandør som kan tilby support på vanlige forretningsdager via telefon og epost. Dette innebærer at supportteamet skal være tilgjengelig i løpet av standard arbeidstid på hverdager for å gi assistanse og løse eventuelle problemer.", 2, "Denne utlysningen krever at leverandøren tilbyr support gjennom epost. Leverandørens team skal svare på henvendelser via epost innenfor avtalte tidsrammer. ", 1, "For denne løsningen vil det være tilstrekkelig med selvhjelp over internet."), "Svar på spørsmål mangler")} -> Svar på spørsmål mangler
B12: Kundestøtte for innbyggere (Basert på spørsmål MK5) | D12: I tillegg til de nevnte sikkerhetskravene, forventer vi at deres tilbud inkluderer en detaljert plan for kundestøtte til kommunens innbyggere, som vil være brukerne av løsningen. Dette er spesielt viktig ettersom løsningen vil ha direkte interaksjon med brukerne. Vi ønsker forslag på hvordan dere vil tilnærme dere kundestøtte, inkludert men ikke begrenset til tilgjengelighet, responsivitet og språkvalg.
B13: Databehandleravtale (Basert på spørsmål K7) | D13: Løsningen vil innebære håndtering av personsensitive data. Det er derfor viktig at tilbudet deres reflekterer en streng tilnærming til datavern og overholdelse av gjeldende personvernlovgivning, avhengig av hvordan løsningen leveres. I tråd med dette, kan det være behov for at tilbudet inkluderer behovet for en databehandleravtale som er i samsvar med EUs generelle databeskyttelsesforordning (GDPR). Kommunen bruker her DFØ sin standard databehandleravtale. Det er også avgjørende at dere har fastsatte prosesser for å sikre at alle underleverandører som kan komme til å behandle personsensitive data på deres vegne, også vil være bundet av en tilsvarende databehandleravtale.
B14: Behandling av sensitive kommunedata (Basert på spørsmål K8) | D14: Merk at selv om data lagret i løsningen ikke nødvendigvis er sensitive personopplysninger, kan det være data som er av en slik art at deres sikkerhet og konfidensialitet er av høyeste prioritet for oss. Det er av denne grunn vi understreker viktigheten av robuste sikkerhetstiltak og en klar strategi for datavern i deres leveranse.
B15: Håndtering av Sikkerhetsloven (Basert på spørsmål K9) | D15: Slik vi vurderer det vil løsningen falle inn under rammen av Sikkerhetsloven. Dette betyr at løsningen vil håndtere informasjon og funksjoner som er essensielle for nasjonal sikkerhet og krever høyeste nivå av beskyttelse. Vi forventer at deres tilbud inneholder en grundig beskrivelse av hvordan løsningen oppfyller kravene i Sikkerhetsloven, inkludert, men ikke begrenset til, tiltak for sikkerhetshåndtering, personellsikkerhet, fysisk sikring og informasjonssikkerhet. Det er avgjørende at dere kan demonstrere evne til å opprettholde de nødvendige sikkerhetstiltakene og har prosedyrer på plass for å sikre at alle underleverandører også etterlever disse kravene.
B16: Tilgjengelighet (Basert på spørsmål K10) | D16: Gitt løsningens sentrale rolle, vil den være underlagt høye krav til tilgjengelighet. I lys av dette, ber vi om at deres tilbud adresserer hvordan dere vil sikre at løsningen oppnår og opprettholder den nødvendige tilgjengeligheten. Dette inkluderer spesifikke tiltak for oppetid, redundans, og hurtig gjenoppretting i tilfelle av et nedetidsscenario. Vi forventer detaljerte beskrivelser av de tekniske og operasjonelle strategiene dere vil bruke for å møte våre tilgjengelighetskrav. Tilbudet bør også inkludere informasjon om hvordan dere vil håndtere og forplikte dere til nødvendig oppetid gjennom serviceavtaler (SLAer), samt hvilke garantier og kompensasjoner som vil være tilgjengelige hvis kravene ikke blir møtt.
B17: Sporing (Basert på spørsmål K13) | D17: Vi ber om at deres tilbud inkluderer en beskrivelse av hvordan løsningen støtter detaljert sporing og logging av alle relevante aktiviteter. Dette skal omfatte, men ikke være begrenset til, brukerhandlinge, datatilgang og -modifisering, samt endringer gjort av automatiserte prosesser. Disse loggene må kunne lagres sikkert, være immun mot manipulasjon og lett tilgjengelige for gjennomgang ved behov.
B18: Sporing via eksterne systemer (Basert på spørsmål K13) | D18: Det er også anbefalt at den tilbudte løsningen støtter logging til kommunens installasjon av [navn på ekstern løsning for logging og sporing av brukeravktivitet}
B19: Integrasjon med andre systemer (Basert på skala for avhengigheter) | D19: Vi understreker at løsningen bør kunne integreres sømløst med våre eksisterende systemer: [liste av systemer her] Dette er avgjørende for å sikre en effektiv og koordinert drift av våre kommunale tjenester. Vi ber om at deres tilbud detaljert beskriver hvordan løsningen vil kunne integreres med våre nåværende systemer. Dette inkluderer teknisk kompatibilitet, datautveksling, felles brukergrensesnitt og hvordan løsningen vil støtte eksisterende arbeidsflyter og prosesser. Det er også viktig at integrasjonene støtter høy tilgjengelighet og tilbyr robuste løsninger for sporing av data, hendelser og tilganger. Det er ønskelig at leverandøren om mulig tar kontakt med leverandør av våre eksisterende systemer for å utrede eventuell kostnad ved integerering.
A21: Huskeliste aktiviteter for kommunen (grå skrift er ikke aktuelt)
B22: Aktivitet | D22: Beskrivelse
B23: Oppfølging personvernombud | D23: Det er tenkt lagret personsensitive data i løsningen (K6), så det er fornuftig å informere personvernombud i kommunen om løsningen, og vurdere hva som bør dokumenteres i en protokoll for systemet.
B24: Involvering av IT med integrasjoner | D24: Det er valgt at løsningen skal integrere med andre systemer (MK13-MK17), men IT har ikke vært involvert (MK6). I slike tilfeller er det fornuftig å involvere IT.
B25: Involvering av IT for eksisterende løsninger | D25: IT har ikke vært involvert (MK6), og det er ikke vurdert bruk av eksisterende systemer (MK23). I slike tilfeller er det fornuftig å involvere IT.
B26: Oppfølging systemansvarlig | D26: Valgene tatt i spørsmål MK2 og MK3 tyder på at systemansvarlig ikke har vært tilstrekkelig involvert i prosessen rundt anskaffelsen.
B27: Planlegging av alternativer | D27: Svaret i MK23 tyder på at det ikke er gjort en tilstrekkelig utredning av alternativer for løsningen. Det kan nok være fornuftig å gjøre dette før en går videre med
I34: 1

Sheet Rådata innledende spørsmål tjen
A1: Id | B1: Spørsmål | C1: Alternativer | D1: Score alt. | E1: Max | F1: Vekt | G1: Brukerens valg | H1: Sluttskåre | I1: Norm
A2: LIS00 | B2: Navn på leverandør | G2: {=INDIRECT("'" & SKJEMA_LEV & "'!" & "LEV_NAVN")} -> #REF!
A3: LIS01 | B3: Har leverandøren tilholdssted i Norge? | E3: 1 | G3: {=INDIRECT("'" & SKJEMA_LEV & "'!LEV_" & A3)} -> #REF! | H3: =VLOOKUP(G3,C4:D5,2,0) -> #REF! | I3: =H3/E3 -> #REF!
C4: Ja | D4: 1
C5: Nei | D5: 0 | K5: Underlag for analyse | L5: Sum | M5: Maks | N5: Normalisert (0-1)
A6: LIS02 | B6: Vil tjenesten leveres fra Norge eller EØS? | E6: 3 | G6: {=INDIRECT("'" & SKJEMA_LEV & "'!LEV_" & A6)} -> #REF! | H6: =VLOOKUP(G6,C7:D10,2,0) -> #REF! | I6: =H6/E6 -> #REF! | K6: Leverandørtrygghet | L6: =SUM(H3:H72) -> #REF! | M6: 31 | N6: =SUM(I3:I72)/15 -> #REF!
C7: Norge | D7: 3
C8: EØS | D8: 2 | K8: Underskårer | L8: Sum | M8: Maks | N8: Normalisert (0-1)
C9: Utenfor EØS | D9: 1 | K9: Lokal tilstedeværelse | L9: =SUM(H4:H33) -> #REF! | M9: 12 | N9: =SUM(I4:I33)/7 -> #REF!
C10: Ikke relevant | D10: 0 | K10: Driftsansvar | L10: =SUM(H16:H57) -> #REF! | M10: 19 | N10: =SUM(I16:I57)/10 -> #REF!
A11: LIS03 | B11: Hvor mange ansatte er det hos leverandøren? | E11: 3 | G11: {=INDIRECT("'" & SKJEMA_LEV & "'!LEV_" & A11)} -> #REF! | H11: =VLOOKUP(G11,C12:D15,2,0) -> #REF! | I11: =H11/E11 -> #REF! | K11: Supportansvar | L11: =RES_LIS05+RES_LIS06+RES_LIS09+RES_LIS08 -> #REF! | M11: 8 | N11: =(RES_LIS05_N+RES_LIS06+RES_LIS09_N+RES_LIS08_N)/4 -> #REF!
C12: < 10 | D12: 1 | K12: Løsningskjennskap | L12: =RES_LIS04+RES_LIS08+RES_LIS14 -> #REF! | M12: 6 | N12: =(RES_LIS04_N+RES_LIS08_N+RES_LIS14_N)/3 -> #REF!
C13: 10 - 50 | D13: 2 | K13: Datalagring | L13: =RES_LIS15+RES_LIS13 -> #REF! | M13: 5 | N13: =(RES_LIS15_N+RES_LIS13_N)/2 -> #REF!
C14: 50 - 200 | D14: 3
C15: > 200 | D15: 2
A16: LIS04 | B16: Er tjenesten utviklet av leverandøren? | E16: 1 | G16: {=INDIRECT("'" & SKJEMA_LEV & "'!LEV_" & A16)} -> #REF! | H16: =VLOOKUP(G16,C17:D18,2,0) -> #REF! | I16: =H16/E16 -> #REF!
C17: Ja | D17: 1
C18: Nei | D18: 0
A19: LIS05 | B19: Er leverandøren ansvarlig for drift av løsningen? | E19: 1 | G19: {=INDIRECT("'" & SKJEMA_LEV & "'!LEV_" & A19)} -> #REF! | H19: =VLOOKUP(G19,C20:D22,2,0) -> #REF! | I19: =H19/E19 -> #REF!
C20: Ja | D20: 1
C21: Nei | D21: 0
C22: Delt | D22: 1
A23: LIS06 | B23: Er leverandøren ansvarlig for support av løsningen? | E23: 1 | G23: {=INDIRECT("'" & SKJEMA_LEV & "'!LEV_" & A23)} -> #REF! | H23: =VLOOKUP(G23,C24:D25,2,0) -> #REF! | I23: =H23/E23 -> #REF!
C24: Ja | D24: 1
C25: Nei | D25: 0
A26: LIS07 | B26: Hvordan er løsningen tenkt levert? | E26: 1 | G26: {=INDIRECT("'" & SKJEMA_LEV & "'!LEV_" & A26)} -> #REF! | H26: =VLOOKUP(G26,C27:D29,2,0) -> #REF! | I26: =H26/E26 -> #REF!
C27: Leverandørens fysiske datasenter | D27: 0
C28: Leverandørens tredjepart skytjeneste | D28: 1
C29: Kommunens infrastruktur | D29: 2
A30: LIS08 | B30: Hvor stor andel av tjenesten leveres av leverandøren direkte? | E30: 2 | G30: {=INDIRECT("'" & SKJEMA_LEV & "'!LEV_" & A30)} -> #REF! | H30: =VLOOKUP(G30,C31:D33,2,0) -> #REF! | I30: =H30/E30 -> #REF!
C31: Alt | D31: 2
C32: Delvis | D32: 1
C33: Ingen | D33: 0
A34: LIS09 | B34: Hvor mange underleverandører er involvert? | E34: 4 | G34: {=INDIRECT("'" & SKJEMA_LEV & "'!LEV_" & A34)} -> #REF! | H34: =VLOOKUP(G34,C35:D39,2,0) -> #REF! | I34: =H34/E34 -> #REF!
C35: Ingen | D35: 4
C36: 1 - 3 | D36: 3
C37: 4 - 10 | D37: 0
C38: > 10 | D38: 0
C39: Vet ikke | D39: 0
A40: LIS10 | B40: Befinner personellet som skal drifte løsningen seg i Norge? | E40: 2 | G40: {=INDIRECT("'" & SKJEMA_LEV & "'!LEV_" & A40)} -> #REF! | H40: =VLOOKUP(G40,C41:D43,2,0) -> #REF! | I40: =H40/E40 -> #REF!
C41: Ja | D41: 2
C42: Delvis | D42: 1
C43: Nei | D43: 0
A44: LIS11 | B44: Befinner personellet som skal gi kundestøtte i Norge? | E44: 2 | G44: {=INDIRECT("'" & SKJEMA_LEV & "'!LEV_" & A44)} -> #REF! | H44: =VLOOKUP(G44,C45:D47,2,0) -> #REF! | I44: =H44/E44 -> #REF!
C45: Ja | D45: 2
C46: Delvis | D46: 1
C47: Nei | D47: 0
A48: LIS12 | B48: Hvilket språk snakker personellet som skal gi kundestøtte? | E48: 2 | G48: {=INDIRECT("'" & SKJEMA_LEV & "'!LEV_" & A48)} -> #REF! | H48: =VLOOKUP(G48,C49:D51,2,0) -> #REF! | I48: =H48/E48 -> #REF!
C49: Norsk | D49: 2
C50: Engelsk flytende | D50: 1
C51: Annet språk | D51: 0
A52: LIS13 | B52: Hvor er dataene i løsningen tenkt lokalisert? | E52: 3 | G52: {=INDIRECT("'" & SKJEMA_LEV & "'!LEV_" & A52)} -> #REF! | H52: =VLOOKUP(G52,C53:D60,2,0) -> #REF! | I52: =H52/E52 -> #REF!
C53: Ikke relevant | D53: 3
C54: Skyleverandør i Norge | D54: 2
C55: Skyleverandør i EØS | D55: 2
C56: Skyleverandør i Nord-Amerika | D56: 1
C57: Skyleverandør i Asia eller Oseania | D57: 0
C58: Skyleverandør i Afrika eller Rest-Amerika | D58: 0
C59: Hos kommunen | D59: 3
C60: I leverandørens datasenter i EØS | D60: 2
A61: LIS14 | B61: Oppfyller tjenesten alle krav til universell utforming? | E61: 3 | G61: {=INDIRECT("'" & SKJEMA_LEV & "'!LEV_" & A61)} -> #REF! | H61: =VLOOKUP(G61,C62:D67,2,0) -> #REF! | I61: =H61/E61 -> #REF!
C62: Full overenstemmelse | D62: 3
C63: Delvis overenstemmelse | D63: 2
C64: Under utvikling | D64: 1
C65: Ikke i overenstemmelse | D65: 0
C66: Ikke vurdert | D66: 0
C67: Ikke relevant | D67: 0
A68: LIS15 | B68: Godtar leverandøren DFØ sin databehandleravtaler? | E68: 2 | G68: {=INDIRECT("'" & SKJEMA_LEV & "'!LEV_" & A68)} -> #REF! | H68: =VLOOKUP(G68,C69:D72,2,0) -> #REF! | I68: =H68/E68 -> #REF!
C69: Ja vi godtar DFØ sine avtaler | D69: 2
C70: Delvis | D70: 1
C71: Nei | D71: 0
C72: Ikke relevant | D72: 0

Sheet Rådata leverandør modenhet
A1: Id | B1: Spørsmål | C1: Alternativer | D1: Score alt. | E1: Max | F1: Vekt | G1: Brukerens valg | H1: Skåre | I1: Sluttskåre | J1: Norm
A2: 1.1 | B2: Sertifisering
A3: 1.1.1 | B3: Er virksomheten sertifisert for sikkerhetsstyring? | E3: 3 | G3: {=INDIRECT("'" & SKJEMA_LEV & "'!LEV_" & A3)} -> #REF! | H3: =VLOOKUP(G3,C4:D7,2,0) -> #REF! | I3: =H3 -> #REF! | J3: =I3/E3 -> #REF!
C4: Ja ISO27001 | D4: 3 | L4: Underlag for analyse | M4: Sum | N4: Maks | O4: Normalisert (0-1)
C5: Ja annen anerkjent standard | D5: 2 | L5: Total modenhet | M5: =SUM(I3:I194) -> #REF! | N5: 92 | O5: =SUM('Rådata leverandør modenhet'!J3:J194)/28 -> #REF!
C6: Nei | D6: 0 | L6: Sertifisering | M6: =SUM('Rådata leverandør modenhet'!I3:I32) -> #REF! | N6: 17 | O6: =SUM('Rådata leverandør modenhet'!J3:J32)/6 -> #REF!
C7: Under sertifisering | D7: 1 | L7: Styringssystem | M7: =SUM('Rådata leverandør modenhet'!I44:I80) -> #REF! | N7: 25 | O7: =SUM('Rådata leverandør modenhet'!J44:J80)/6 -> #REF!
A8: 1.1.2 | B8: Følges hele eller deler av standarden? | E8: 2 | G8: {=INDIRECT("'" & SKJEMA_LEV & "'!LEV_" & A8)} -> #REF! | H8: =VLOOKUP(G8,C9:D11,2,0) -> #REF! | I8: =H8 -> #REF! | J8: =I8/E8 -> #REF! | L8: Bruk av utstyr | M8: =LM1_3_1 -> #REF! | N8: 2 | O8: =LM1_3_1_N -> #REF!
C9: Hele | D9: 2 | L9: Organisering sikkerhetsorg | M9: =LM2_1_1+LM2_1_2+LM2_1_3 -> #REF! | N9: 8 | O9: =(LM2_1_1_N+LM2_1_2_N+LM2_1_3_N)/3 -> #REF!
C10: Delvis | D10: 1 | L10: Kontroll av underleverandører | M10: =LM3_1_1+LM3_1_2 -> #REF! | N10: 4 | O10: =(LM3_1_1_N+LM3_1_2_N)/2 -> #REF!
C11: Ikke relevant | D11: 0 | L11: Leverandørkontroll | M11: =LM4_1_1+LM4_1_2+LM4_1_3+LM4_1_4+LM4_1_5+LM4_1_6+LM4_1_7+LM4_1_8 -> #REF! | N11: 27 | O11: =(LM4_1_1_N+LM4_1_2_N+LM4_1_3_N+LM4_1_4_N+LM4_1_5_N+LM4_1_6_N+LM4_1_7_N+LM4_1_8_N)/8 -> #REF!
A12: 1.1.3 | B12: Hvem har sertifisert virksomheten? | E12: 3 | G12: {=INDIRECT("'" & SKJEMA_LEV & "'!LEV_" & A12)} -> #REF! | H12: =VLOOKUP(G12,C13:D16,2,0) -> #REF! | I12: =H12 -> #REF! | J12: =I12/E12 -> #REF!
C13: Uavhengig sertifiseringsorgan | D13: 3 | L13: Underskårer | M13: Sum | N13: Maks | O13: Normalisert (0-1)
C14: Bransjespesifikt sertifiseringsorgan | D14: 2 | L14: Oppfølging sikkerhet | M14: =SUM(I3:I24) -> #REF! | N14: 14 | O14: =SUM(J3:J24)/5 -> #REF!
C15: Annen virksomhet | D15: 1 | L15: Databehandleravtaler | M15: =SUM(I31:I55) -> #REF! | N15: 20 | O15: =SUM(J31:J55)/4 -> #REF!
C16: Ingen | D16: 0 | L16: Overordnet beredskap | M16: =SUM(I60:I80) -> #REF! | N16: 13 | O16: =SUM(J60:J80)/4 -> #REF!
A17: 1.1.4 | B17: Når ble virksomheten sertifisert? | E17: 3 | G17: {=INDIRECT("'" & SKJEMA_LEV & "'!LEV_" & A17)} -> #REF! | H17: =VLOOKUP(G17,C18:D21,2,0) -> #REF! | I17: =H17 -> #REF! | J17: =I17/E17 -> #REF! | L17: Styringssystem størrelse | M17: =LM1_2_2+LM1_2_4+LM1_2_6 -> #REF! | N17: 22 | O17: =(LM1_2_2_N+LM1_2_4_N+LM1_2_6_N)/3 -> #REF!
C18: Innenfor det siste året | D18: 3
C19: 1-3 år siden | D19: 2
C20: Over 3 år siden | D20: 1
C21: Aldri sertifisert | D21: 0
A22: 1.1.5 | B22: Hva var utfallet? | E22: 3 | G22: {=INDIRECT("'" & SKJEMA_LEV & "'!LEV_" & A22)} -> #REF! | H22: =VLOOKUP(G22,C23:D26,2,0) -> #REF! | I22: =H22 -> #REF! | J22: =I22/E22 -> #REF!
C23: Sertifisert uten anmerkninger | D23: 3
C24: Sertifisert med mindre anmerkninger | D24: 2
C25: Ikke sertifisert | D25: 0
C26: Ikke relevant | D26: 0
A27: 1.1.6 | B27: Hvilke forbedringsområder ble påpekt? | E27: 3 | G27: {=INDIRECT("'" & SKJEMA_LEV & "'!LEV_" & A27)} -> #REF! | H27: =VLOOKUP(G27,C28:D32,2,0) -> #REF! | I27: =H27 -> #REF! | J27: =I27/E27 -> #REF!
C28: Ingen anmerkninger | D28: 3
C29: Tekniske | D29: 2
C30: Organisatoriske | D30: 2
C31: Både tekniske og organisatoriske | D31: 2
C32: Ikke relevant | D32: 0
A33: 1.1.7 | B33: Finnes det en plan for å lukke avvikene eller forbedringsområdene? | E33: 3 | G33: {=INDIRECT("'" & SKJEMA_LEV & "'!LEV_" & A33)} -> #REF! | H33: =VLOOKUP(G33,C34:D38,2,0) -> #REF! | I33: =H33 -> #REF! | J33: =I33/E33 -> #REF!
C34: Ja | D34: 3
C35: Delvis | D35: 2
C36: Nei | D36: 0
C37: Ingen anmerkninger | D37: 4
C38: Ikke relevant | D38: 0
A39: 1.1.8 | B39: Har virksomheten intensjon om å sikkerhetssertifisere seg? | E39: 2 | G39: {=INDIRECT("'" & SKJEMA_LEV & "'!LEV_" & A39)} -> #REF! | H39: =VLOOKUP(G39,C40:D43,2,0) -> #REF! | I39: =H39 -> #REF! | J39: =I39/E39 -> #REF!
C40: Ja | D40: 2
C41: Under vurdering | D41: 1
C42: Nei | D42: 1
C43: Ikke relevant | D43: 0
A44: 1.2 | B44: Styringssystem
A45: 1.2.1 | B45: Har leverandøren innført styringssystem for informasjonssikkerhet? | E45: 3 | G45: {=INDIRECT("'" & SKJEMA_LEV & "'!LEV_" & A45)} -> #REF! | H45: =VLOOKUP(G45,C46:D49,2,0) -> #REF! | I45: =H45 -> #REF! | J45: =I45/E45 -> #REF!
C46: Ja | D46: 3
C47: Delvis | D47: 2
C48: Under utvikling | D48: 1
C49: Nei | D49: 0
A50: 1.2.2 | B50: Hvilke områder dekker styringssystemet? | E50: 9 | G50: Sjekkbokser | I50: =COUNTIF(G50:G59, TRUE) -> 0 | J50: =I50/E50 -> 0
C51: a) risikostyring | D51: 2 | G51: {=INDIRECT("'" & SKJEMA_LEV & "'!LEV_1.2.2_A")} -> #REF!
C52: b) sikkerhetsledelse | D52: 1 | G52: {=INDIRECT("'" & SKJEMA_LEV & "'!LEV_1.2.2_B")} -> #REF!
C53: c) sikkerhetsorganisering | D53: 1 | G53: {=INDIRECT("'" & SKJEMA_LEV & "'!LEV_1.2.2_C")} -> #REF!
C54: d) sikkerhetstiltak og -prosedyrer | D54: 2 | G54: {=INDIRECT("'" & SKJEMA_LEV & "'!LEV_1.2.2_D")} -> #REF!
C55: e) forholdet til andre virksomheter | D55: 1 | G55: {=INDIRECT("'" & SKJEMA_LEV & "'!LEV_1.2.2_E")} -> #REF!
C56: f) sikkerhetsdokumentasjon | D56: 1 | G56: {=INDIRECT("'" & SKJEMA_LEV & "'!LEV_1.2.2_F")} -> #REF!
C57: g) planer og rutiner for hendelseshåndtering | D57: 1 | G57: {=INDIRECT("'" & SKJEMA_LEV & "'!LEV_1.2.2_G")} -> #REF!
C58: h) planer for gjenoppretting etter en sikkerhetstruende hendelse | D58: 1 | G58: {=INDIRECT("'" & SKJEMA_LEV & "'!LEV_1.2.2_H")} -> #REF!
C59: i) annet | D59: 1 | G59: {=INDIRECT("'" & SKJEMA_LEV & "'!LEV_1.2.2_I")} -> #REF!
A60: 1.2.3 | B60: Når ble styringssystemet sist oppdatert? | E60: 3 | G60: {=INDIRECT("'" & SKJEMA_LEV & "'!LEV_" & A60)} -> #REF! | H60: =VLOOKUP(G60,C61:D64,2,0) -> #REF! | I60: =H60 -> #REF! | J60: =I60/E60 -> #REF!
C61: Innen det siste året | D61: 3
C62: 1-3 år siden | D62: 2
C63: Over 3 år siden | D63: 1
C64: Aldri | D64: 0
A65: 1.2.4 | B65: Hvordan er styringssystemet implementert hos leverandøren? | E65: 3 | G65: {=INDIRECT("'" & SKJEMA_LEV & "'!LEV_" & A65)} -> #REF! | H65: =VLOOKUP(G65,C66:D69,2,0) -> #REF! | I65: =H65 -> #REF! | J65: =I65/E65 -> #REF!
C66: Fullstendig integrert | D66: 3
C67: Delvis integrert | D67: 2
C68: Grunnleggende nivå | D68: 1
C69: Ikke implementert | D69: 0
A70: 1.2.5 | B70: Hvordan måles etterlevelsen av styringssystemet? | E70: 4 | G70: {=INDIRECT("'" & SKJEMA_LEV & "'!LEV_" & A70)} -> #REF! | H70: =VLOOKUP(G70,C71:D75,2,0) -> #REF! | I70: =H70 -> #REF! | J70: =I70/E70 -> #REF!
C71: Regelmessige interne og eksterne gjennomganger | D71: 4
C72: Kun interne gjennomganger | D72: 3
C73: Sporadiske vurderinger | D73: 2
C74: Ingen måling | D74: 1
C75: Ikke relevant | D75: 0
A76: 1.2.6 | B76: Er retningslinjene for sikkerhet forankret i ledelsen? | E76: 3 | G76: {=INDIRECT("'" & SKJEMA_LEV & "'!LEV_" & A76)} -> #REF! | H76: =VLOOKUP(G76,C77:D80,2,0) -> #REF! | I76: =H76 -> #REF! | J76: =I76/E76 -> #REF!
C77: Fullstendig | D77: 3
C78: Delvis | D78: 2
C79: Nei | D79: 1
C80: Ukjent | D80: 0
A81: 1.3 | B81: Policy for bruk av utstyr
A82: 1.3.1 | B82: Har leverandøren dokumenterte retningslinjer for utstyr som brukes i drift eller utvikling? | E82: 2 | G82: {=INDIRECT("'" & SKJEMA_LEV & "'!LEV_" & A82)} -> #REF! | H82: =VLOOKUP(G82,C83:D85,2,0) -> #REF! | I82: =H82 -> #REF! | J82: =I82/E82 -> #REF!
C83: Ja | D83: 2
C84: Delvis | D84: 1
C85: Nei | D85: 0
A86: 2.1 | B86: Organisering av sikkerhetsorganisasjonen
A87: 2.1.1 | B87: Har virksomheten en sikkerhetsorganisasjon? | E87: 3 | G87: {=INDIRECT("'" & SKJEMA_LEV & "'!LEV_" & A87)} -> #REF! | H87: =VLOOKUP(G87,C88:D91,2,0) -> #REF! | I87: =H87 -> #REF! | J87: =I87/E87 -> #REF!
C88: Fullt etablert | D88: 3
C89: Delvis etablert | D89: 2
C90: Under oppbygging | D90: 1
C91: Nei | D91: 0
A92: 2.1.2 | B92: Er roller og ansvar beskrevet og avklart? | E92: 3 | G92: {=INDIRECT("'" & SKJEMA_LEV & "'!LEV_" & A92)} -> #REF! | H92: =VLOOKUP(G92,C93:D96,2,0) -> #REF! | I92: =H92 -> #REF! | J92: =I92/E92 -> #REF!
C93: Ja | D93: 3
C94: Ja men ikke delt | D94: 2
C95: Delvis | D95: 1
C96: Nei | D96: 9
A97: 2.1.3 | B97: Foreligger det dokumentasjon og verifikasjon på om sikkerhetsorganisasjonens anbefalinger følges i organisasjonen? | E97: 2 | G97: {=INDIRECT("'" & SKJEMA_LEV & "'!LEV_" & A97)} -> #REF! | H97: =VLOOKUP(G97,C98:D101,2,0) -> #REF! | I97: =H97 -> #REF! | J97: =I97/E97 -> #REF!
C98: Ja | D98: 2
C99: Begrenset | D99: 1
C100: Nei | D100: 0
...

Sheet Rådata leverandør leveransesikk
A1: Id | B1: Spørsmål | C1: Alternativer | D1: Score alt. | E1: Max | F1: Vekt | G1: Brukerens valg | H1: Skåre | I1: Sluttskåre | J1: Norm
A2: 5.1 | B2: Prosesser
A3: 5.1.1 | B3: Finnes det prosesser for risikostyring av leveransen? | E3: 2 | G3: {=INDIRECT("'" & SKJEMA_LEV & "'!LEV_" & A3)} -> #REF! | H3: =VLOOKUP(G3,C4:D7,2,0) -> #REF! | I3: =H3 -> #REF! | J3: =I3/E3 -> #REF!
C4: Ja | D4: 2 | L4: Underlag for analyse | M4: Sum | N4: Maks | O4: Normalisert (0-1) | P4: Antall
C5: Begrenset | D5: 1 | L5: Komplett skåre | M5: =SUM(I3:I622) -> #REF! | N5: 310 | O5: =SUM(J3:J622)/P5 -> #REF! | P5: 107
C6: Nei | D6: 0 | L6: Prosesser | M6: =SUM(I3:I39) -> #REF! | N6: 21 | O6: =SUM(J3:J39)/P6 -> #REF! | P6: 8
C7: Ukjent | D7: 0 | L7: Utvikling | M7: =SUM(I49:I69) -> #REF! | N7: 13 | O7: =SUM(J49:J69)/P7 -> #REF! | P7: 6
A8: 5.1.2 | B8: Foreligger det trusselvurderinger for leveransen? | E8: 2 | G8: {=INDIRECT("'" & SKJEMA_LEV & "'!LEV_" & A8)} -> #REF! | H8: =VLOOKUP(G8,C9:D12,2,0) -> #REF! | I8: =H8 -> #REF! | J8: =I8/E8 -> #REF! | L8: Vedlikehold | M8: =SUM(I75:I99) -> #REF! | N8: 18 | O8: =SUM(J75:J99)/P8 -> #REF! | P8: 6
C9: Ja og disse kan deles med kommunen | D9: 2 | L9: Hendelseshåndtering | M9: =SUM(I106:I140) -> #REF! | N9: 23 | O9: =SUM(J106:J140)/P9 -> #REF! | P9: 8
C10: Ja til intern bruk | D10: 1 | L10: Beredskap og kontinuitet | M10: =SUM(I145:I180) -> #REF! | N10: 23 | O10: =SUM(J145:J180)/P10 -> #REF! | P10: 8
C11: Nei | D11: 0 | L11: Utstyr i leveranse | M11: =SUM(I197:I212) -> #REF! | N11: 9 | O11: =SUM(J197:J212)/P11 -> #REF! | P11: 3
A12: 5.1.3 | B12: Benyttes det en metode/prosess for risikohåndtering og -rapportering? | E12: 3 | G12: {=INDIRECT("'" & SKJEMA_LEV & "'!LEV_" & A12)} -> #REF! | H12: =VLOOKUP(G12,C13:D16,2,0) -> #REF! | I12: =H12 -> #REF! | J12: =I12/E12 -> #REF! | L12: Informasjonskontroll | M12: =I214 -> #REF! | N12: 2 | O12: =J214/P12 -> #REF! | P12: 1
C13: Standardisert metode | D13: 3 | L13: Avhending | M13: =SUM(I219:I223) -> #REF! | N13: 5 | O13: =SUM(J219:J223)/P13 -> #REF! | P13: 2
C14: Egenutviklet metode | D14: 2 | L14: Prosess tilgangsstyring | M14: =I229 -> #REF! | N14: 3 | O14: =J229/P14 -> #REF! | P14: 1
C15: Delvis | D15: 1 | L15: Tilgangskontroll | M15: =SUM(I235:I253) -> #REF! | N15: 13 | O15: =SUM(J235:J253)/P15 -> #REF! | P15: 5
C16: Nei | D16: 0 | L16: Autentisering | M16: =SUM(I259:I282) -> #REF! | N16: 18 | O16: =SUM(J259:J282)/P16 -> #REF! | P16: 5
A17: 5.1.4 | B17: Foreligger det verifikasjon på at sikkerhetstiltakene fungerer etter sin hensikt? | E17: 2 | G17: {=INDIRECT("'" & SKJEMA_LEV & "'!LEV_" & A17)} -> #REF! | H17: =VLOOKUP(G17,C18:D21,2,0) -> #REF! | I17: =H17 -> #REF! | J17: =I17/E17 -> #REF! | L17: Kryptografiske kontroller | M17: =I288 -> #REF! | N17: 3 | O17: =J288/P17 -> #REF! | P17: 1
C18: Ja | D18: 2 | L18: Kryptografiske tiltak | M18: =SUM(I294:I304) -> #REF! | N18: 8 | O18: =SUM(J294:J304)/P18 -> #REF! | P18: 3
C19: Delvis | D19: 1 | L19: Sikring datatrom | M19: =SUM(I310:I332) -> #REF! | N19: 17 | O19: =SUM(J310:J332)/P19 -> #REF! | P19: 5
C20: Nei | D20: 0 | L20: Hendelsesteam | M20: =I338 -> #REF! | N20: 4 | O20: =J338/P20 -> #REF! | P20: 1
A21: 5.1.5 | B21: Vil resultatet av verifikasjonen kunne deles med kommunen? | E21: 3 | G21: {=INDIRECT("'" & SKJEMA_LEV & "'!LEV_" & A21)} -> #REF! | H21: =VLOOKUP(G21,C22:D25,2,0) -> #REF! | I21: =H21 -> #REF! | J21: =I21/E21 -> #REF! | L21: Opplæring | M21: =I345 -> #REF! | N21: 2 | O21: =J345/P21 -> #REF! | P21: 1
C22: Åpne delbare | D22: 3 | L22: Endringshåndtering | M22: =SUM(I352:I357) -> #REF! | N22: 6 | O22: =SUM(J352:J357)/P22 -> #REF! | P22: 2
C23: Delbare med NDA | D23: 2 | L23: Testmiljø | M23: =SUM(I363:I373) -> #REF! | N23: 9 | O23: =SUM(J363:J373)/P23 -> #REF! | P23: 3
C24: Kan dele kvalitetssystem | D24: 1 | L24: Separasjon | M24: =SUM(I379:I384) -> #REF! | N24: 7 | O24: =SUM(J379:J384)/P24 -> #REF! | P24: 2
C25: Kontrakt-basert | D25: 0 | L25: Kapasitetsstyring | M25: =SUM(I391:I397) -> #REF! | N25: 3 | O25: =SUM(J391:J397)/P25 -> #REF! | P25: 2
A26: 5.1.6 | B26: Finnes det etablerte prosesser for risikostyring dersom avvik avdekkes? | E26: 2 | G26: {=INDIRECT("'" & SKJEMA_LEV & "'!LEV_" & A26)} -> #REF! | H26: =VLOOKUP(G26,C27:D29,2,0) -> #REF! | I26: =H26 -> #REF! | J26: =I26/E26 -> #REF! | L26: Sikkerhetskopiering | M26: =SUM(I399:I424) -> #REF! | N26: 18 | O26: =SUM(J399:J424)/P26 -> #REF! | P26: 6
C27: Ja | D27: 2 | L27: Overvåking | M27: =SUM(I430:I457) -> #REF! | N27: 18 | O27: =SUM(J430:J457)/P27 -> #REF! | P27: 7
C28: Delvis | D28: 1 | L28: Logging | M28: =SUM(I463:I473) -> #REF! | N28: 7 | O28: =SUM(J463:J473)/P28 -> #REF! | P28: 3
C29: Nei | D29: 0 | L29: Sikkerhetsoppdateringer | M29: =SUM(I478:I492) -> #REF! | N29: 8 | O29: =SUM(J478:J492)/P29 -> #REF! | P29: 4
A30: 5.1.7 | B30: Er risikoakseptgrensene og uakseptabel risiko kommunisert i organisasjonen? | E30: 2 | G30: {=INDIRECT("'" & SKJEMA_LEV & "'!LEV_" & A30)} -> #REF! | H30: =VLOOKUP(G30,C31:D34,2,0) -> #REF! | I30: =H30 -> #REF! | J30: =I30/E30 -> #REF! | L30: Sikkerhetstesting | M30: =SUM(I495:I520) -> #REF! | N30: 23 | O30: =SUM(J495:J520)/P30 -> #REF! | P30: 5
C31: Ja til alle ansatte | D31: 2 | L31: Konfigurasjon | M31: =SUM(I527:I544) -> #REF! | N31: 11 | O31: =SUM(J527:J544)/P31 -> #REF! | P31: 5
C32: Delvis til ansatte i kritiske roller | D32: 1 | L32: Taushet | M32: =I550 -> 0 | N32: 3 | O32: =J550/P32 -> 0 | P32: 1
C33: Nei | D33: 0 | L33: Dokumentasjon | M33: =SUM(I555:I622) -> #REF! | N33: 16 | O33: =SUM(J555:J622)/P33 -> #REF! | P33: 3
A34: 5.1.8 | B34: Vil kunstig intelligens (AI) bli brukt for å ta viktige beslutninger i løsningen? | E34: 4 | G34: {=INDIRECT("'" & SKJEMA_LEV & "'!LEV_" & A34)} -> #REF! | H34: =VLOOKUP(G34,C35:D39,2,0) -> #REF! | I34: =H34 -> #REF! | J34: =I34/E34 -> #REF!
C35: Omfattende bruk | D35: 4
C36: Begrenset bruk | D36: 3 | L36: Underskårer | M36: Sum | N36: Maks | O36: Normalisert (0-1)
C37: Ikke relevantsfsf | D37: 2 | M37: =SUM(I3:I23) -> #REF! | O37: =M37/N37 -> #REF!
C38: Under vurdering | D38: 1 | M38: =SUM(I30:I63) -> #REF! | O38: =M38/N38 -> #REF!
C39: Ikke relevant | D39: 0 | M39: =SUM(I68:I89) -> #REF! | O39: =M39/N39 -> #REF!
E40: 4 | H40: =COUNTIF(G41:G45,TRUE) -> 0 | I40: =H40 -> 0 | J40: =I40/E40 -> 0
A41: 5.1.9 | B41: Hvordan involveres kundene i risikovurderingen? | C41: Kundesentrert risikoanalyse | D41: 1 | G41: {=INDIRECT("'" & SKJEMA_LEV & "'!LEV_5.1.9_A")} -> #REF!
C42: Tilbakemelding og kontinuerlig forbedring | D42: 1 | G42: {=INDIRECT("'" & SKJEMA_LEV & "'!LEV_5.1.9_B")} -> #REF!
C43: Kunder deltar i sikkerhetsaudit | D43: 1 | G43: {=INDIRECT("'" & SKJEMA_LEV & "'!LEV_5.1.9_C")} -> #REF!
C44: Opplæring og bevistgjøring | D44: 1 | G44: {=INDIRECT("'" & SKJEMA_LEV & "'!LEV_5.1.9_D")} -> #REF!
A48: 6.1 | B48: Utvikling
A49: 6.1.1 | B49: Bygger leverandøren inn innebygd sikkerhet og personvern inn i løsningen fra starten av utviklingsløpet? | E49: 1 | G49: {=INDIRECT("'" & SKJEMA_LEV & "'!LEV_" & A49)} -> #REF! | H49: =VLOOKUP(G49,C50:D51,2,0) -> #REF! | I49: =H49 -> #REF! | J49: =I49/E49 -> #REF!
C50: Ja | D50: 1
C51: Nei | D51: 0
A52: 6.1.2 | B52: Antar dere at løsningen angripes fra mange posisjoner, både internt og eksternt? | E52: 2 | G52: {=INDIRECT("'" & SKJEMA_LEV & "'!LEV_" & A52)} -> #REF! | H52: =VLOOKUP(G52,C53:D56,2,0) -> #REF! | I52: =H52 -> #REF! | J52: =I52/E52 -> #REF!
C53: Ja for eksterne og interne | D53: 2
C54: Ja mot eksterne | D54: 1
C55: Nei | D55: 0
A56: 6.1.3 | B56: Benyttes åpen kildekode eller annen tredjepartskode i løsningen som leveres? | E56: 1 | G56: {=INDIRECT("'" & SKJEMA_LEV & "'!LEV_" & A56)} -> #REF! | H56: =VLOOKUP(G56,C57:D58,2,0) -> #REF! | I56: =H56 -> #REF! | J56: =I56/E56 -> #REF!
C57: Ja | D57: 0
C58: Nei | D58: 1
A59: 6.1.4 | B59: Hvordan analyseres koden for bakdører og andre sikkerhetshull? | E59: 5 | H59: =COUNTIF(G60:G64,TRUE) -> 0 | I59: =H59 -> 0 | J59: =I59/E59 -> 0
C60: Automatiserte verktøy og analyser | D60: 1 | G60: {=INDIRECT("'" & SKJEMA_LEV & "'!LEV_6.1.4_A")} -> #REF!
C61: Automatiserte verktøy | D61: 1 | G61: {=INDIRECT("'" & SKJEMA_LEV & "'!LEV_6.1.4_B")} -> #REF!
C62: Eksterne gjennomganger | D62: 1 | G62: {=INDIRECT("'" & SKJEMA_LEV & "'!LEV_6.1.4_C")} -> #REF!
C63: Manuell gjennomgang | D63: 1 | G63: {=INDIRECT("'" & SKJEMA_LEV & "'!LEV_6.1.4_D")} -> #REF!
C64: Ingen fast metode | D64: 1 | G64: {=INDIRECT("'" & SKJEMA_LEV & "'!LEV_6.1.4_E")} -> #REF!
A65: 6.1.5 | B65: Er mulige problemer med åpen-kildekode lisenser og andre tredjepart lisenser vurdert? | E65: 2 | G65: {=INDIRECT("'" & SKJEMA_LEV & "'!LEV_" & A65)} -> #REF! | H65: =VLOOKUP(G65,C66:D69,2,0) -> #REF! | I65: =H65 -> #REF! | J65: =I65/E65 -> #REF!
C66: Ja | D66: 2
C67: Nei | D67: 1
C68: Ikke aktuelt | D68: 0
A69: 6.1.6 | B69: Er det vurdert at alle lisenser kan brukes i kommersiell sammenheng? | E69: 2 | G69: {=INDIRECT("'" & SKJEMA_LEV & "'!LEV_" & A69)} -> #REF! | H69: =VLOOKUP(G69,C70:D73,2,0) -> #REF! | I69: =H69 -> #REF! | J69: =I69/E69 -> #REF!
C70: Fullstendig vurdert | D70: 2
C71: Delvis vurdert | D71: 1
C72: Ikke vurdert | D72: 0
C73: Ikke relevant | D73: 0
A74: 6.2 | B74: Vedlikehold
A75: 6.2.1 | B75: Hva er antatt teknisk levetid for løsningen? | E75: 2 | G75: {=INDIRECT("'" & SKJEMA_LEV & "'!LEV_" & A75)} -> #REF! | H75: =VLOOKUP(G75,C76:D77,2,0) -> #REF! | I75: =H75 -> #REF! | J75: =I75/E75 -> #REF!
C76: 10 år | D76: 2
C77: 5 år | D77: 1
A78: 6.2.2 | B78: Vil det komme sikkerhetsoppdateringer etter løsningens levetid er over? | E78: 3 | G78: {=INDIRECT("'" & SKJEMA_LEV & "'!LEV_" & A78)} -> #REF! | H78: =VLOOKUP(G78,C79:D82,2,0) -> #REF! | I78: =H78 -> #REF! | J78: =I78/E78 -> #REF!
C79: Ja | D79: 3
C80: Nei | D80: 2
C81: Ikke avklart | D81: 1
C82: Ikke relevant | D82: 0
A83: 6.2.3 | B83: Hvordan følges systemets livsløp opp? | E83: 2 | G83: {=INDIRECT("'" & SKJEMA_LEV & "'!LEV_" & A83)} -> #REF! | H83: =VLOOKUP(G83,C84:D87,2,0) -> #REF! | I83: =H83 -> #REF! | J83: =I83/E83 -> #REF!
C84: Livsløpsstyringsprosedyre | D84: 2
C85: Sporadisk | D85: 1
C86: Ikke fulgt opp | D86: 0
A87: 6.2.4 | B87: Hvordan håndteres videre oppfølging mot kommunen etter at løsningen er levert? | E87: 4 | G87: {=INDIRECT("'" & SKJEMA_LEV & "'!LEV_" & A87)} -> #REF! | H87: =VLOOKUP(G87,C88:D92,2,0) -> #REF! | I87: =H87 -> #REF! | J87: =I87/E87 -> #REF!
C88: Ingen | D88: 0
C89: Vedlikehold og kundestøtte | D89: 2
C90: Forvaltningmøter | D90: 2
C91: Brukermøter | D91: 3
C92: Både forvaltningsmøter og kundemøter | D92: 4
A93: 6.2.5 | B93: Er eventuelle krav til kommunen for installasjon, daglig drift eller andre nødvendige aktiiviteter for forsvarlig drift dokumentert? | E93: 4 | G93: {=INDIRECT("'" & SKJEMA_LEV & "'!LEV_" & A93)} -> #REF! | H93: =VLOOKUP(G93,C94:D98,2,0) -> #REF! | I93: =H93 -> #REF! | J93: =I93/E93 -> #REF!
C94: Alle krav er dokumentert | D94: 4
C95: Kritiske krav er dokumentert | D95: 3
C96: Dokumentasjon er under utarbeidelse | D96: 2
C97: Ingen spesiell dokumentasjon er utarbeidet | D97: 0
C98: Ikke relevant | D98: 0 | L98: True if all checkboxes are missing
A99: 6.2.6 | B99: Hvordan foregår prosessen med endringsønsker og videreutvikling? | E99: 4 | G99: {=INDIRECT("'" & SKJEMA_LEV & "'!LEV_" & A99)} -> #REF! | H99: =COUNTIF(G101:G104,TRUE) -> 0 | I99: =H99 -> 0 | J99: =I99/E99 -> 0 | L99: {=AND(ISERROR(INDIRECT(G100:G104)))} -> TRUE
C100: Uten kommunen | D100: 0 | G100: {=INDIRECT("'" & SKJEMA_LEV & "'!LEV_6.2.6_A")} -> #REF!
C101: Endringsønsker | D101: 1 | G101: {=INDIRECT("'" & SKJEMA_LEV & "'!LEV_6.2.6_B")} -> #REF!
C102: Kontaktperson | D102: 1 | G102: {=INDIRECT("'" & SKJEMA_LEV & "'!LEV_6.2.6_C")} -> #REF!
C103: Kvartalsvise møter | D103: 1 | G103: {=INDIRECT("'" & SKJEMA_LEV & "'!LEV_6.2.6_D")} -> #REF!
...

Sheet Analyse leverandør
A1: Analyse av leverandør
A3: Anbudsprosess for | C3: =ANALYSE_AV -> Fant ikke fila eller navn mangler!
A4: Vurdering av | C4: =RES_LIS00 -> #REF!
A6: Leverandørens tilholdssted | C6: =IF(RES_LIS01=1,"Norge", "utlandet") -> #REF!
A7: Antall ansatte | C7: =LIS03_VALG -> #REF! | I7: Dette arket analyserer leverandøren alene, uten å ta hensyn til krav fra kommunen.
A8: Land tjenesten leveres fra | C8: =LIS02_VALG -> #REF! | I8: Merk at siden spørsmålene er generelle så er dette en generell analyse.
A9: Hvordan tjenesten leveres | C9: =LIS07_VALG -> #REF! | I9: Den tar derfor ikke hensyn til at sikkerhetskrav til ulike løsninger også vil være ulike.
A10: Lokasjon hvor data lagres | C10: =LIS13_VALG -> #REF! | I10: Men, skjemaet kan fungere som sammenligningsgrunnlag mellom flere leverandører,
A11: Er tjenesten utviklet av leverandør | C11: =LIS04_VALG -> #REF! | I11: og kan hjelpe til med å avgjøre om en leverandør tilfredsstiller minstekrav.
A12: Driftsansvarlig | C12: =LIS05_VALG -> #REF!
A13: Om kundestøtte gjøres fra Norge | C13: =LIS11_VALG -> #REF!
E15: Skåre | G15: Maks
A16: Overordnet leverandørmodenhet | D16: =IF(F16>=0.8, "A", IF(F16>=0.6, "B", IF(F16>=0.4, "C", IF(F16>=0.2, "D", IF(F16>0, "E", "F"))))) -> #REF! | E16: =SUM('Rådata leverandør modenhet'!I3:I194) -> #REF! | F16: ='Rådata leverandør modenhet'!O5 -> #REF! | G16: 92 | I16: Total skåre for leverandørmodenhet
B17: Sikkerhetsstyring: Sertifisering | E17: =SUM('Rådata leverandør modenhet'!I3:I32) -> #REF! | F17: =SUM('Rådata leverandør modenhet'!J3:J32)/6 -> #REF! | G17: 17 | I17: Grad av sertifisering
B18: Sikkerhetsstyring: Styringssystem | E18: =SUM('Rådata leverandør modenhet'!I44:I80) -> #REF! | F18: ='Rådata leverandør modenhet'!O7 -> #REF! | G18: 25 | I18: Vurdering av implementering av styringssystem
B19: Kontroll av utstyr | E19: =LM1_3_1 -> #REF! | F19: =LM1_3_1_N -> #REF! | G19: 2 | I19: Avhending av utstyr
B20: Organisering av sikkerhetsorganisasjon | E20: =LM2_1_1+LM2_1_2+LM2_1_3 -> #REF! | F20: =(LM2_1_1_N+LM2_1_2_N+LM2_1_3_N)/3 -> #REF! | G20: 8 | I20: Vurdering av organisatorisk struktur for sikkerhet (e.g. om personer og roller finnes)
B21: Kontroll av leverandører | E21: =LM3_1_1+LM3_1_2 -> #REF! | F21: =(LM3_1_1_N+LM3_1_2_N)/2 -> #REF! | G21: 4 | I21: Overordnet kontroll på leverandører
B22: Kontroll av underleverandører | E22: =LM4_1_1+LM4_1_2+LM4_1_3+LM4_1_4+LM4_1_5+LM4_1_6+LM4_1_7+LM4_1_8 -> #REF! | F22: =(LM4_1_1_N+LM4_1_2_N+LM4_1_3_N+LM4_1_4_N+LM4_1_5_N+LM4_1_6_N+LM4_1_7_N+LM4_1_8_N)/8 -> #REF! | G22: 27 | I22: Oversikt og grad av avtaler med underleverandører
A24: Overordnet leveransesikkerhet | D24: =IF(F24>=0.8, "A", IF(F24>=0.6, "B", IF(F24>=0.4, "C", IF(F24>=0.2, "D", IF(F24>0, "E", "F"))))) -> #REF! | E24: ='Rådata leverandør leveransesikk'!M5 -> #REF! | F24: ='Rådata leverandør leveransesikk'!O5 -> #REF! | G24: 310 | I24: Total skåre for leveransesikkerhet
B25: Risikostyring | E25: ='Rådata leverandør leveransesikk'!M6 -> #REF! | F25: ='Rådata leverandør leveransesikk'!O6 -> #REF! | G25: 20 | I25: Evaluering av hvordan organisasjonen identifiserer, vurderer og håndterer sikkerhetsrisikoer i løsningen som skal leveres
B26: Utvikling | E26: ='Rådata leverandør leveransesikk'!M7 -> #REF! | F26: ='Rådata leverandør leveransesikk'!O7 -> #REF! | G26: 13 | I26: Måling av prosesser og standarder for utvikling av løsningen
B27: Vedlikehold | E27: ='Rådata leverandør leveransesikk'!M8 -> #REF! | F27: ='Rådata leverandør leveransesikk'!O8 -> #REF! | G27: 18 | I27: Vurdering av hvordan organisasjonen vedlikeholder og oppdaterer systemene sine
B28: Hendelseshåndtering | E28: ='Rådata leverandør leveransesikk'!M9 -> #REF! | F28: ='Rådata leverandør leveransesikk'!O9 -> #REF! | G28: 16 | I28: Bedømmelse av effektiviteten i organisasjonens håndtering av sikkerhets- og driftrelaterte hendelser
B29: Beredskap og kontinuitet | E29: ='Rådata leverandør leveransesikk'!M10 -> #REF! | F29: ='Rådata leverandør leveransesikk'!O10 -> #REF! | G29: 19 | I29: Evaluering av organisasjonens evne til å opprettholde operasjoner under kriser eller avbrudd
B30: Kontroll av utstyr i leveransen | E30: ='Rådata leverandør leveransesikk'!M11+'Rådata leverandør leveransesikk'!M12+'Rådata leverandør leveransesikk'!M13 -> #REF! | F30: =('Rådata leverandør leveransesikk'!O11+'Rådata leverandør leveransesikk'!O12+'Rådata leverandør leveransesikk'!O13)/3 -> #REF! | G30: 16 | I30: Vurdering av hvordan organisasjonen forvalter fysisk utstyr involvert i leveransen
B31: Prosess tilgangsstyring og tilgangskontroll | E31: ='Rådata leverandør leveransesikk'!M14+'Rådata leverandør leveransesikk'!M15 -> #REF! | F31: =('Rådata leverandør leveransesikk'!O14+'Rådata leverandør leveransesikk'!O15)/2 -> #REF! | G31: 16 | I31: Måling av prosesser for tildeling og administrasjon av brukertilganger i leveransen
B32: Autentisering | E32: ='Rådata leverandør leveransesikk'!M16 -> #REF! | F32: ='Rådata leverandør leveransesikk'!O16 -> #REF! | G32: 18 | I32: Evaluering av kontroller for å sikre autorisert tilgang til systemer og data. Merk at denne vurderingen er streng og foretrekker tofaktor.
B33: Kryptografiske kontroller og tiltak | E33: ='Rådata leverandør leveransesikk'!M17+'Rådata leverandør leveransesikk'!M18 -> #REF! | F33: =('Rådata leverandør leveransesikk'!O17+'Rådata leverandør leveransesikk'!O18)/2 -> #REF! | G33: 11 | I33: Vurdering av hvordan og i hvilken grad kryptografi brukes for å sikre data lagret på servere og ved overføring
B34: Sikring datatrom | E34: ='Rådata leverandør leveransesikk'!M19 -> #REF! | F34: ='Rådata leverandør leveransesikk'!O19 -> #REF! | G34: 17 | I34: Bedømmelse av tiltak for å beskytte fysiske lokasjoner og utstyr, som serverrom
B35: Driftssikkerhet | E35: ='Rådata leverandør leveransesikk'!M20 -> #REF! | F35: ='Rådata leverandør leveransesikk'!O20 -> #REF! | G35: 4 | I35: Vurdering av stabilitet og pålitelighet
B36: Opplæring | E36: ='Rådata leverandør leveransesikk'!M21 -> #REF! | F36: ='Rådata leverandør leveransesikk'!O21 -> #REF! | G36: 2 | I36: Evaluering av prosedyrer for å administrere endringer i systemene involvert i leveransen
B37: Endringshåndtering | E37: ='Rådata leverandør leveransesikk'!M22 -> #REF! | F37: ='Rådata leverandør leveransesikk'!O22 -> #REF! | G37: 6 | I37: Prosess for endringer og sikkerhetsoppdateringer som kommunen må informeres om
B38: Testmiljø | E38: ='Rådata leverandør leveransesikk'!M23 -> #REF! | F38: ='Rådata leverandør leveransesikk'!O23 -> #REF! | G38: 9 | I38: I hvilken grad nye endringer testes i et eget miljø før de settes i produksjon
B39: Separasjon | E39: ='Rådata leverandør leveransesikk'!M24 -> #REF! | F39: ='Rådata leverandør leveransesikk'!O24 -> #REF! | G39: 7 | I39: Bedømmelse av tiltak for å holde data adskilt og beskyttet.
B40: Kapasitetsstyring | E40: ='Rådata leverandør leveransesikk'!M25 -> #REF! | F40: ='Rådata leverandør leveransesikk'!O25 -> #REF! | G40: 3 | I40: Skalering av kapasitet ved behov, både manuelt og automatisk
B41: Sikkerhetskopiering | E41: ='Rådata leverandør leveransesikk'!M26 -> #REF! | F41: ='Rådata leverandør leveransesikk'!O26 -> #REF! | G41: 18 | I41: Evaluering av prosedyrer og metoder for sikkerhetskopiering av data
B42: Overvåking | E42: ='Rådata leverandør leveransesikk'!M27 -> #REF! | F42: ='Rådata leverandør leveransesikk'!O27 -> #REF! | G42: 18 | I42: Vurdering av overvåkningsmetoder og -verktøy for å identifisere og reagere på sikkerhetstrusler mot løsningen
B43: Logging | E43: ='Rådata leverandør leveransesikk'!M28 -> #REF! | F43: ='Rådata leverandør leveransesikk'!O28 -> #REF! | G43: 7 | I43: Vurdering av systemer for loggføring
B44: Sikkerhetsoppdateringer | E44: ='Rådata leverandør leveransesikk'!M29 -> #REF! | F44: ='Rådata leverandør leveransesikk'!O29 -> #REF! | G44: 8 | I44: Evaluering av rutiner for sikkerhetsoppdatering av løsningen
B45: Sikkerhetstesting | E45: ='Rådata leverandør leveransesikk'!M30 -> #REF! | F45: ='Rådata leverandør leveransesikk'!O30 -> #REF! | G45: 23 | I45: Bedømmelse av rutiner og metoder for å teste sikkerheten i løsningen
... B48: Dokumentasjon | E48: ='Rådata leverandør leveransesikk'!M33 -> #REF! | F48: ='Rådata leverandør leveransesikk'!O33 -> #REF! | G48: 13 | I48: Måling av fullstendighet på dokumentasjonen
A52: Analyse av røde flagg
A53: Det kan være fornuftig å vurdere avvik markert med rødt i listen under nøye. Noen av disse er logiske brister i tilbudet, andre er enkeltpunkt som kan kreve grundigere oppfølging.
B55: Liten organisasjon men eget 24/7 team for sikkerhet (LIS03 og 7.1.2) | S55: =RES_LIS03 -> #REF!
B56: Å ha et sikkerhetsteam som jobber 24 timer i døgnet 7 dager i uken vil normalt kreve en driftsorganisasjon som er større enn 10 personer. Et mulig unntak her er om det eneste leverandøren gjør er overvåking. | S56: =LL7_1_2 -> #REF!
B57: Zero-trust men ikke flerfaktor autentisering (MFA) (14.1.1 og 10.3.2) | S57: =LL14_1_1 -> #REF!
B58: Å alltid bruke Flerfaktor autentisering (MFA) er absolutt nødvendig for å kunne implementere en zero-trust basert arkitektur. | S58: =LL10_3_2 -> #REF!
B59: Driftspersonale for løsningen er i utlandet (LIS10) men løsning er installert hos kommunen (LIS7) | S59: =RES_LIS10 -> #REF!
B60: Dette behøver ikke være noe problem, men det er viktig å være bevisst på at personalet som skal drifte løsningen ikke befinner seg i Norge | S60: =RES_LIS07 -> #REF!
B61: Kunstig intelligens (AI) vil bli brukt i løsningen (5.1.8) | S61: =LL5_1_8 -> #REF!
B62: Bruk av kunstig intelligens kan medføre utfordringer rundt personvern og hvordan beslutninger tas, så det vil være behov for å sette seg nøye inn i hvordan KI faktisk brukes for leveransen.
B63: Utvikling av løsningen tar ikke hensyn til kommunens ønsker (6.2.6) | S63: =LL6_2_6 -> 0
B64: Dette er ikke nødvendigvis et problem, men for mange typer løsninger er det fornuftig om kommunens ønsker blir tatt hensyn til i for videre utvikling.
B65: Lav grad av separasjon (13.5) mellom kunder
B66: Om det er lav grad av separasjon mellom kunder så kan et problem som en kunde får "smitte" til en annen kunde. Dette er mest kritisk om sensitive data behandles. | S66: =SUM_SEPARASJON_N -> #REF!
B67: Sikkerhetskopi kan ødelegges fra produksjonsmiljø (13.7.6) og drift gjøres av leverandør (LIS05) | S67: =LL13_7_6 -> #REF!
B68: De siste årene har det vær flere tilfeller av "randsomware angrep" i Norge. I slike angrep vil gjerne servere krypteres, inklusiv backup-servere. For å unngå dette må sikkerhetskopi lagres separat. | S68: =RES_LIS05 -> #REF!
B70: All datatrafikk er kryptert (11.2.2) og datatrafikk går i klartekst (14.1.4) samtidig
B71: Dette er i praksis umulig.

Sheet Sammenligning kommune og levera
A1: Samsvar kritikalitet og leveransesikkerhet
D2: Krav fra kommune | E2: Tilbud fra leverandør
B3: Overordnet krav til robusthet | C3: =SUM_KRITIKALITET_N -> #REF! | D3: =IF(C3 < 0.33, "Lav", IF(C3 < 0.67, "Medium", "Høy")) -> #REF! | E3: =IF(F3 < 0.33, "Lav", IF(F3 < 0.67, "Medium", "Høy")) -> #REF! | F3: =(SUM_L_BEREDSKAP_KONTINUITET+SUM_L_HENDELSER)/2 -> #REF! | G3: =IF(F3-C3<-0.3,"Pass på - leverandørens tilbud kan være dårligere enn påkrevd fra kommunen", "") -> #REF!
B4: Krav til konfidensialitet | C4: =SUM_KONFIDENSIALITET_N -> #REF! | D4: =IF(C4 < 0.33, "Lav", IF(C4 < 0.67, "Medium", "Høy")) -> #REF! | E4: =IF(F4 < 0.33, "Lav", IF(F4 < 0.67, "Medium", "Høy")) -> #REF! | F4: =(SUM_L_SIKKERHET+SUM_L_KRYPT_KONTROLL+SUM_L_KRYPT_TILTAK )/3 -> #REF! | G4: =IF(F4-C4<-0.3,"Pass på - leverandørens tilbud kan være dårligere enn påkrevd fra kommunen", "") -> #REF!
B5: Krav til integritet | C5: =KMOD_RES_MK19_N -> #REF! | D5: =IF(C5 < 0.33, "Lav", IF(C5 < 0.67, "Medium", "Høy")) -> #REF! | E5: =IF(F5 < 0.33, "Lav", IF(F5 < 0.67, "Medium", "Høy")) -> #REF! | F5: =(SUM_L_HENDELSER+SUM_L_OVERVÅK+SUM_L_SIKKERHETSKOPI)/3 -> #REF! | G5: =IF(F5-C5<-0.3,"Pass på - leverandørens tilbud kan være dårligere enn påkrevd fra kommunen", "") -> #REF!
B6: Krav til tilgjengelighet | C6: =KRIT_RES_K9_N -> #REF! | D6: =IF(C6 < 0.33, "Lav", IF(C6 < 0.67, "Medium", "Høy")) -> #REF! | E6: =IF(F6 < 0.33, "Lav", IF(F6 < 0.67, "Medium", "Høy")) -> #REF! | F6: =SUM_L_BEREDSKAP_KONTINUITET -> #REF! | G6: =IF(F6-C6<-0.3,"Pass på - leverandørens tilbud kan være dårligere enn påkrevd fra kommunen", "") -> #REF!
B7: Nivå på kundestøtte | C7: =KRIT_RES_K10_N -> #REF! | D7: =IF(C7 < 0.33, "Lav", IF(C7 < 0.67, "Medium", "Høy")) -> #REF! | E7: =IF(F7 < 0.33, "Lav", IF(F7 < 0.67, "Medium", "Høy")) -> #REF! | F7: =SUM_L_SUPPORT -> #REF! | G7: =IF(F7-C7<-0.3,"Pass på - leverandørens tilbud kan være dårligere enn påkrevd fra kommunen", "") -> #REF!
B8: Sikring av personsensitive data | C8: =KRIT_RES_K6_N -> #REF! | D8: =IF(C8 < 0.33, "Lav", IF(C8 < 0.67, "Medium", "Høy")) -> #REF! | E8: =IF(F8 < 0.33, "Lav", IF(F8 < 0.67, "Medium", "Høy")) -> #REF! | F8: =(SUM_L_DATALAGRING+SUM_L_KRYPT_KONTROLL+SUM_L_KRYPT_TILTAK+SUM_L_HENDELSER)/4 -> #REF! | G8: =IF(F8-C8<-0.3,"Pass på - leverandørens tilbud kan være dårligere enn påkrevd fra kommunen", "") -> #REF!
B9: Sikring av kommunesensitive data | C9: =KRIT_RES_K7_N -> #REF! | D9: =IF(C9 < 0.33, "Lav", IF(C9 < 0.67, "Medium", "Høy")) -> #REF! | E9: =IF(F9 < 0.33, "Lav", IF(F9 < 0.67, "Medium", "Høy")) -> #REF! | F9: =(SUM_L_DATALAGRING+SUM_L_KRYPT_KONTROLL+SUM_L_KRYPT_TILTAK+SUM_L_HENDELSER)/4 -> #REF! | G9: =IF(F9-C9<-0.3,"Pass på - leverandørens tilbud kan være dårligere enn påkrevd fra kommunen", "") -> #REF!
B10: Krav til sporing | C10: =KRIT_RES_K7_N -> #REF! | D10: =IF(C10 < 0.33, "Lav", IF(C10 < 0.67, "Medium", "Høy")) -> #REF! | E10: =IF(F10 < 0.33, "Lav", IF(F10 < 0.67, "Medium", "Høy")) -> #REF! | F10: =(SUM_L_LOGGING+SUM_L_AUTENTISERING)/2 -> #REF! | G10: =IF(F10-C10<-0.3,"Pass på - leverandørens tilbud kan være dårligere enn påkrevd fra kommunen", "") -> #REF!
B11: Tilgangskontroll og autentisering | C11: =KRIT_RES_K11_N -> #REF! | D11: =IF(C11 < 0.33, "Lav", IF(C11 < 0.67, "Medium", "Høy")) -> #REF! | E11: =IF(F11 < 0.33, "Lav", IF(F11 < 0.67, "Medium", "Høy")) -> #REF! | F11: =(SUM_L_AUTENTISERING+SUM_L_TILGANGSKONTROLL)/2 -> #REF! | G11: =IF(F11-C11<-0.3,"Pass på - leverandørens tilbud kan være dårligere enn påkrevd fra kommunen", "") -> #REF!
B12: Krav til integrasjon vs dokumentasjon fra leverandør* | C12: =SUM_AVHENGIGHETER_N -> #REF! | D12: =IF(C12 < 0.33, "Lav", IF(C12 < 0.67, "Medium", "Høy")) -> #REF! | E12: =IF(F12 < 0.33, "Lav", IF(F12 < 0.67, "Medium", "Høy")) -> #REF! | F12: =SUM_L_INTEGRASJON -> #REF! | G12: =IF(F12-C12<-0.3,"Pass på - leverandørens tilbud kan være dårligere enn påkrevd fra kommunen", "") -> #REF!
A14: *: Om løsningen skal integreres med mange systemer stiller dette krav til dokumentasjon tilgjengelig fra leverandør for hvordan løsningen fungerer.
A16: Konkrete avvik
A17: Avvik markert med rødt i listen under bør vurderes nøyere
B18: Mange underleverandører (LIS09) og kritisk løsning | M18: =RES_LIS09 -> #REF!
B19: Systemet er vurdert som kritisk av kommunen, men leverandørens tilbud bruker har mange underleverandører | M19: =SUM_KRITIKALITET_N -> #REF!
B20: Manglende databehandleravtaler med underleverandører (4.1.4) og personsensitive data (K6) | M20: =LM4_1_4 -> #REF!
B21: Leverandøren har oppgitt at de ikke har tilstrekkelige databehandleravtaler, og løsningen vil behandle personsensitive data. Dette kan være veldig problematisk. | M21: =KRIT_RES_K6_N -> #REF!
B22: Mangler i sikkerhetsorganisasjon (2.1) men kritisk løsning | M22: =SUM_L_SIKKERHETSORG -> #REF!
B23: Det mangler en definert sikkerhetsorganisasjon, samtidig er løsningen fra kommunen vurdert som kritisk. | M23: =AND(SUM_L_SIKKERHETSORG <0.6, SUM_KRITIKALITET_N > 0.6) -> #REF! | N23: =SUM_L_SIKKERHETSORG -> #REF!
B24: Krav til integrasjon (MK16, MK17) men mangler i dokumentasjon (16.1) | M24: =(KMOD_RES_MK17_N+KMOD_RES_MK17_N)/2 -> #REF!
B25: Leverandøren har ikke tilstrekkelig dokumentasjon, men systemet vil integreres med mange systemer hos kommunen. Dette kan være problematisk og skape ekstra kostnader. | M25: =SUM_L_DOKUMENTASJON -> #REF!
B26: Manglende overensstemmelse med krav til universell utforming (LIS14) og bruk av kommunens innbyggere (MK9) | M26: =KMOD_RES_MK9 -> #REF!
B27: Universell utforming gjør at tjenester er tilgjengelig for alle, uavhengig av alder og funksjonsevne. Om løsningen er tenkt brukt av kommunens innbyggere er dette et obligatorisk krav, men det er også viktig for kommunens ansatte. | M27: =RES_LIS15 -> #REF!
B28: Data er planlagt lagret utenfor Norge / EØS (LIS13) men mulig at personsensitive data lagres i løsningen | M28: RES_LIS13
B29: Å lagre data utenfor Norge / EØS kan være problematisk selv om det ikke er planlagt at personsensitive data skal lagres i løsningen. | M29: KRIT_RES_K6

Sheet Oppfølging
A1: Oppfølgingsspørsmål til leverandør
A3: I dette skjemaet kan du se hvilke spørsmål hvor leverandøren har sagt seg villig til å dele informasjon med kommunen. Informasjon de ikke er villige til å dele, eller som ikke finnes, er vist med rød skrift.
A5: Kilde | B5: Informasjon
A6: 2.1.2 | B6: Detaljert beskrivelse av alle roller og ansvarsfordeling i leverandørens sikkerhetsorganisasjon. Denne oversikten skal inneholde navn på personene.
A7: 4.1.1 | B7: Oversikt over underleverandører og leverandørkjeder. Denne oversikten skal også inneholde hva de ulike underleverandørene leverer.
A8: 4.1.2 | B8: Oversikt over tilgang og roller for disse underleverandørene. Denne oversikten er viktig for å forstå hvor en underleverandør kan trenge tilgang på leverandørens vegne.
A9: 5.1.2 | B9: Trusselvurderinger for hva som kan påvirke leveransen
A10: 5.1.5 | B10: Bevis på at sikkerhetstiltak fungerer etter sin hensikt. Dette inkluderer rapporter for at sjekker av etterlevelse for sikkerhetstiltak er er gjort.
A11: 8.1.8 | B11: Bekreftelse på deltakelse i kommunale samvirkeøvelser.
A12: 13.11.4 | B12: Resultater av sikkerhetstester er lovet delt med kommunen.
A13: 16.1.3 | B13: Resultatet av sikkerhetsrevisjon for den tilbudte løsningen. En slik revisjon vil sjekke at løsningen etterlever krav i en bransjestandard.
