Workbook

Sheet ROS -  hvorfor og hvordan

Sheet Veiledning for bruk av mal

Sheet Løsningsskisse

Sheet Løsningsskisse - eksempel

Sheet Aktører
B2: Personas til bruk i ROS og DPIA | C2: Aktørgruppe
B3: Turid Tjenestemottaker | C3: Den registrerte
B4: Pauline Pårørende | C4: Pårørende
B5: Nabeel Nabo | C5: Uvedkommende
B6: Hjalmar Hjemmesykepleier | C6: Kommune
B7: Helga Helsetun | C7: Kommune
B8: Reidar Respons | C8: Kommune
B9: Anna Avdelingsleder | C9: Kommune
B10: Komila Kommunalsjef | C10: Kommune
B11: Helge HelseIT-leder | C11: Kommune
B12: Vanja Vaktmester | C12: Kommune
B13: Terje Hjelpemiddeltekniker | C13: Kommune
... B20: Ulrik Utvikler | C20: Leverandør

Sheet Risikovurdering - mal 
A2: RisikoID | B2: Aktørgruppe | C2: Aktør | D2: Uønsket hendelse/risikoscenario (Som <aktør> er det en risiko for at [jeg]…) | E2: Årsak/sårbarhet - beskrivelse av hvorfor den uønskede hendelsen kan inntreffe, eventuelt hvordan det kan skje ( brukes som grunnlag for å beskrive sannsynlighet) | F2: Hva er konsekvensen hvis risikohendelsen inntreffer? (en kort tekstlig beskrivelse av hva som kan skje hvis tiltak ikke blir iverksatt- brukes som grunnlag for å vurdere konsekvens) | G2: Eksisterende tiltak | H2: Initiell sannsynlighet (vurdert etter eksisterende tiltak) | I2: Initiell konsekvens (vurdert etter eksisterende tiltak) | J2: Initiell risikoscore (vurdert etter eksisterende tiltak) | K2: Nye tiltak som kan redusere risiko | L2: Sannsynlighet etter nye tiltak | M2: Konsekvens etter nye tiltak | N2: Risikoscore etter nye tiltak | O2: Ansvarlig for å etablere/gjennomføre nye risikoreduserende tiltak | P2: Frist for å etablere/gjennomføre nye risikoreduserende tiltak
A3: 1 | J3: =H3*I3 -> 0 | N3: =L3*M3 -> 0
A4: 2 | J4: =H4*I4 -> 0 | N4: =L4*M4 -> 0
A5: 3 | J5: =H5*I5 -> 0 | N5: =L5*M5 -> 0
A6: 4 | J6: =H6*I6 -> 0 | N6: =L6*M6 -> 0
A7: 5 | J7: =H7*I7 -> 0 | N7: =L7*M7 -> 0
A8: 6 | J8: =H8*I8 -> 0 | N8: =L8*M8 -> 0
A9: 7
A10: 8
A11: 9
A12: 10
A13: 11
A14: 12
A15: 13
A16: 14
A17: 15
A18: 16
A19: 17
A20: 18
... A39: 37

Sheet Risikotabell
A2: USANNSYNLIG (<25%) | B2: {=IF(RIGHT(IF(LEFT(SUBSTITUTE(SUBSTITUTE(_xlfn.ARRAYTOTEXT(IF('Risikovurdering - mal '!$L$2:$L$200=ROW()-2,IF('Risikovurdering - mal '!$M$2:$M$200=COLUMN()-1,"R"&'Risikovurdering - mal '!$A$2:$A$200,""),""))," ;",""),";",","),2)=", ",RIGHT(SUBSTITUTE(SUBSTITUTE(_xlfn.ARRAYTOTEXT(IF('Risikovurdering - mal '!$L$2:$L$200=ROW()-2,IF('Risikovurdering - mal '!$M$2:$M$200=COLUMN()-1,"R"&'Risikovurdering - mal '!$A$2:$A$200,""),""))," ;",""),";",","),LEN(SUBSTITUTE(SUBSTITUTE(_xlfn.ARRAYTOTEXT(IF('Risikovurdering - mal '!$L$2:$L$200=ROW()-2,IF('Risikovurdering - mal '!$M$2:$M$200=COLUMN()-1,"R"&'Risikovurdering - mal '!$A$2:$A$200,""),""))," ;",""),";",","))-2),SUBSTITUTE(SUBSTITUTE(_xlfn.ARRAYTOTEXT(IF('Risikovurdering - mal '!$L$2:$L$200=ROW()-2,IF('Risikovurdering - mal '!$M$2:$M$200=COLUMN()-1,"R"&'Risikovurdering - mal '!$A$2:$A$200,""),""))," ;",""),";",",")),2)=", ",LEFT(IF(LEFT(SUBSTITUTE(SUBSTITUTE(_xlfn.ARRAYTOTEXT(IF('Risikovurdering - mal '!$L$2:$L$200=ROW()-2,IF('Risikovurdering - mal '!$M$2:$M$200=COLUMN()-1,"R"&'Risikovurdering - mal '!$A$2:$A$200,""),""))," ;",""),";",","),2)=", ",RIGHT(SUBSTITUTE(SUBSTITUTE(_xlfn.ARRAYTOTEXT(IF('Risikovurdering - mal '!$L$2:$L$200=ROW()-2,IF('Risikovurdering - mal '!$M$2:$M$200=COLUMN()-1,"R"&'Risikovurdering - mal '!$A$2:$A$200,""),""))," ;",""),";",","),LEN(SUBSTITUTE(SUBSTITUTE(_xlfn.ARRAYTOTEXT(IF('Risikovurdering - mal '!$L$2:$L$200=ROW()-2,IF('Risikovurdering - mal '!$M$2:$M$200=COLUMN()-1,"R"&'Risikovurdering - mal '!$A$2:$A$200,""),""))," ;",""),";",","))-2),SUBSTITUTE(SUBSTITUTE(_xlfn.ARRAYTOTEXT(IF('Risikovurdering - mal '!$L$2:$L$200=ROW()-2,IF('Risikovurdering - mal '!$M$2:$M$200=COLUMN()-1,"R"&'Risikovurdering - mal '!$A$2:$A$200,""),""))," ;",""),";",",")),LEN(IF(LEFT(SUBSTITUTE(SUBSTITUTE(_xlfn.ARRAYTOTEXT(IF('Risikovurdering - mal '!$L$2:$L$200=ROW()-2,IF('Risikovurdering - mal '!$M$2:$M$200=COLUMN()-1,"R"&'Risikovurdering - mal '!$A$2:$A$200,""),""))," ;",""),";",","),2)=", ",RIGHT(SUBSTITUTE(SUBSTITUTE(_xlfn.ARRAYTOTEXT(IF('Risikovurdering - mal '!$L$2:$L$200=ROW()-2,IF('Risikovurdering - mal '!$M$2:$M$200=COLUMN()-1,"R"&'Risikovurdering - mal '!$A$2:$A$200,""),""))," ;",""),";",","),LEN(SUBSTITUTE(SUBSTITUTE(_xlfn.ARRAYTOTEXT(IF('Risikovurdering - mal '!$L$2:$L$200=ROW()-2,IF('Risikovurdering - mal '!$M$2:$M$200=COLUMN()-1,"R"&'Risikovurdering - mal '!$A$2:$A$200,""),""))," ;",""),";",","))-2),SUBSTITUTE(SUBSTITUTE(_xlfn.ARRAYTOTEXT(IF('Risikovurdering - mal '!$L$2:$L$200=ROW()-2,IF('Risikovurdering - mal '!$M$2:$M$200=COLUMN()-1,"R"&'Risikovurdering - mal '!$A$2:$A$200,""),""))," ;",""),";",",")))-2),IF(LEFT(SUBSTITUTE(SUBSTITUTE(_xlfn.ARRAYTOTEXT(IF('Risikovurdering - mal '!$L$2:$L$200=ROW()-2,IF('Risikovurdering - mal '!$M$2:$M$200=COLUMN()-1,"R"&'Risikovurdering - mal '!$A$2:$A$200,""),""))," ;",""),";",","),2)=", ",RIGHT(SUBSTITUTE(SUBSTITUTE(_xlfn.ARRAYTOTEXT(IF('Risikovurdering - mal '!$L$2:$L$200=ROW()-2,IF('Risikovurdering - mal '!$M$2:$M$200=COLUMN()-1,"R"&'Risikovurdering - mal '!$A$2:$A$200,""),""))," ;",""),";",","),LEN(SUBSTITUTE(SUBSTITUTE(_xlfn.ARRAYTOTEXT(IF('Risikovurdering - mal '!$L$2:$L$200=ROW()-2,IF('Risikovurdering - mal '!$M$2:$M$200=COLUMN()-1,"R"&'Risikovurdering - mal '!$A$2:$A$200,""),""))," ;",""),";",","))-2),SUBSTITUTE(SUBSTITUTE(_xlfn.ARRAYTOTEXT(IF('Risikovurdering - mal '!$L$2:$L$200=ROW()-2,IF('Risikovurdering - mal '!$M$2:$M$200=COLUMN()-1,"R"&'Risikovurdering - mal '!$A$2:$A$200,""),""))," ;",""),";",",")))} | C2: {=IF(RIGHT(IF(LEFT(SUBSTITUTE(SUBSTITUTE(_xlfn.ARRAYTOTEXT(IF('Risikovurdering - mal '!$L$2:$L$200=ROW()-2,IF('Risikovurdering - mal '!$M$2:$M$200=COLUMN()-1,"R"&'Risikovurdering - mal '!$A$2:$A$200,""),""))," ;",""),";",","),2)=", ",RIGHT(SUBSTITUTE(SUBSTITUTE(_xlfn.ARRAYTOTEXT(IF('Risikovurdering - mal '!$L$2:$L$200=ROW()-2,IF('Risikovurdering - mal '!$M$2:$M$200=COLUMN()-1,"R"&'Risikovurdering - mal '!$A$2:$A$200,""),""))," ;",""),";",","),LEN(SUBSTITUTE(SUBSTITUTE(_xlfn.ARRAYTOTEXT(IF('Risikovurdering - mal '!$L$2:$L$200=ROW()-2,IF('Risikovurdering - mal '!$M$2:$M$200=COLUMN()-1,"R"&'Risikovurdering - mal '!$A$2:$A$200,""),""))," ;",""),";",","))-2),SUBSTITUTE(SUBSTITUTE(_xlfn.ARRAYTOTEXT(IF('Risikovurdering - mal '!$L$2:$L$200=ROW()-2,IF('Risikovurdering - mal '!$M$2:$M$200=COLUMN()-1,"R"&'Risikovurdering - mal '!$A$2:$A$200,""),""))," ;",""),";",",")),2)=", ",LEFT(IF(LEFT(SUBSTITUTE(SUBSTITUTE(_xlfn.ARRAYTOTEXT(IF('Risikovurdering - mal '!$L$2:$L$200=ROW()-2,IF('Risikovurdering - mal '!$M$2:$M$200=COLUMN()-1,"R"&'Risikovurdering - mal '!$A$2:$A$200,""),""))," ;",""),";",","),2)=", ",RIGHT(SUBSTITUTE(SUBSTITUTE(_xlfn.ARRAYTOTEXT(IF('Risikovurdering - mal '!$L$2:$L$200=ROW()-2,IF('Risikovurdering - mal '!$M$2:$M$200=COLUMN()-1,"R"&'Risikovurdering - mal '!$A$2:$A$200,""),""))," ;",""),";",","),LEN(SUBSTITUTE(SUBSTITUTE(_xlfn.ARRAYTOTEXT(IF('Risikovurdering - mal '!$L$2:$L$200=ROW()-2,IF('Risikovurdering - mal '!$M$2:$M$200=COLUMN()-1,"R"&'Risikovurdering - mal '!$A$2:$A$200,""),""))," ;",""),";",","))-2),SUBSTITUTE(SUBSTITUTE(_xlfn.ARRAYTOTEXT(IF('Risikovurdering - mal '!$L$2:$L$200=ROW()-2,IF('Risikovurdering - mal '!$M$2:$M$200=COLUMN()-1,"R"&'Risikovurdering - mal '!$A$2:$A$200,""),""))," ;",""),";",",")),LEN(IF(LEFT(SUBSTITUTE(SUBSTITUTE(_xlfn.ARRAYTOTEXT(IF('Risikovurdering - mal '!$L$2:$L$200=ROW()-2,IF('Risikovurdering - mal '!$M$2:$M$200=COLUMN()-1,"R"&'Risikovurdering - mal '!$A$2:$A$200,""),""))," ;",""),";",","),2)=", ",RIGHT(SUBSTITUTE(SUBSTITUTE(_xlfn.ARRAYTOTEXT(IF('Risikovurdering - mal '!$L$2:$L$200=ROW()-2,IF('Risikovurdering - mal '!$M$2:$M$200=COLUMN()-1,"R"&'Risikovurdering - mal '!$A$2:$A$200,""),""))," ;",""),";",","),LEN(SUBSTITUTE(SUBSTITUTE(_xlfn.ARRAYTOTEXT(IF('Risikovurdering - mal '!$L$2:$L$200=ROW()-2,IF('Risikovurdering - mal '!$M$2:$M$200=COLUMN()-1,"R"&'Risikovurdering - mal '!$A$2:$A$200,""),""))," ;",""),";",","))-2),SUBSTITUTE(SUBSTITUTE(_xlfn.ARRAYTOTEXT(IF('Risikovurdering - mal '!$L$2:$L$200=ROW()-2,IF('Risikovurdering - mal '!$M$2:$M$200=COLUMN()-1,"R"&'Risikovurdering - mal '!$A$2:$A$200,""),""))," ;",""),";",",")))-2),IF(LEFT(SUBSTITUTE(SUBSTITUTE(_xlfn.ARRAYTOTEXT(IF('Risikovurdering - mal '!$L$2:$L$200=ROW()-2,IF('Risikovurdering - mal '!$M$2:$M$200=COLUMN()-1,"R"&'Risikovurdering - mal '!$A$2:$A$200,""),""))," ;",""),";",","),2)=", ",RIGHT(SUBSTITUTE(SUBSTITUTE(_xlfn.ARRAYTOTEXT(IF('Risikovurdering - mal '!$L$2:$L$200=ROW()-2,IF('Risikovurdering - mal '!$M$2:$M$200=COLUMN()-1,"R"&'Risikovurdering - mal '!$A$2:$A$200,""),""))," ;",""),";",","),LEN(SUBSTITUTE(SUBSTITUTE(_xlfn.ARRAYTOTEXT(IF('Risikovurdering - mal '!$L$2:$L$200=ROW()-2,IF('Risikovurdering - mal '!$M$2:$M$200=COLUMN()-1,"R"&'Risikovurdering - mal '!$A$2:$A$200,""),""))," ;",""),";",","))-2),SUBSTITUTE(SUBSTITUTE(_xlfn.ARRAYTOTEXT(IF('Risikovurdering - mal '!$L$2:$L$200=ROW()-2,IF('Risikovurdering - mal '!$M$2:$M$200=COLUMN()-1,"R"&'Risikovurdering - mal '!$A$2:$A$200,""),""))," ;",""),";",",")))} | D2: {=IF(RIGHT(IF(LEFT(SUBSTITUTE(SUBSTITUTE(_xlfn.ARRAYTOTEXT(IF('Risikovurdering - mal '!$L$2:$L$200=ROW()-2,IF('Risikovurdering - mal '!$M$2:$M$200=COLUMN()-1,"R"&'Risikovurdering - mal '!$A$2:$A$200,""),""))," ;",""),";",","),2)=", ",RIGHT(SUBSTITUTE(SUBSTITUTE(_xlfn.ARRAYTOTEXT(IF('Risikovurdering - mal '!$L$2:$L$200=ROW()-2,IF('Risikovurdering - mal '!$M$2:$M$200=COLUMN()-1,"R"&'Risikovurdering - mal '!$A$2:$A$200,""),""))," ;",""),";",","),LEN(SUBSTITUTE(SUBSTITUTE(_xlfn.ARRAYTOTEXT(IF('Risikovurdering - mal '!$L$2:$L$200=ROW()-2,IF('Risikovurdering - mal '!$M$2:$M$200=COLUMN()-1,"R"&'Risikovurdering - mal '!$A$2:$A$200,""),""))," ;",""),";",","))-2),SUBSTITUTE(SUBSTITUTE(_xlfn.ARRAYTOTEXT(IF('Risikovurdering - mal '!$L$2:$L$200=ROW()-2,IF('Risikovurdering - mal '!$M$2:$M$200=COLUMN()-1,"R"&'Risikovurdering - mal '!$A$2:$A$200,""),""))," ;",""),";",",")),2)=", ",LEFT(IF(LEFT(SUBSTITUTE(SUBSTITUTE(_xlfn.ARRAYTOTEXT(IF('Risikovurdering - mal '!$L$2:$L$200=ROW()-2,IF('Risikovurdering - mal '!$M$2:$M$200=COLUMN()-1,"R"&'Risikovurdering - mal '!$A$2:$A$200,""),""))," ;",""),";",","),2)=", ",RIGHT(SUBSTITUTE(SUBSTITUTE(_xlfn.ARRAYTOTEXT(IF('Risikovurdering - mal '!$L$2:$L$200=ROW()-2,IF('Risikovurdering - mal '!$M$2:$M$200=COLUMN()-1,"R"&'Risikovurdering - mal '!$A$2:$A$200,""),""))," ;",""),";",","),LEN(SUBSTITUTE(SUBSTITUTE(_xlfn.ARRAYTOTEXT(IF('Risikovurdering - mal '!$L$2:$L$200=ROW()-2,IF('Risikovurdering - mal '!$M$2:$M$200=COLUMN()-1,"R"&'Risikovurdering - mal '!$A$2:$A$200,""),""))," ;",""),";",","))-2),SUBSTITUTE(SUBSTITUTE(_xlfn.ARRAYTOTEXT(IF('Risikovurdering - mal '!$L$2:$L$200=ROW()-2,IF('Risikovurdering - mal '!$M$2:$M$200=COLUMN()-1,"R"&'Risikovurdering - mal '!$A$2:$A$200,""),""))," ;",""),";",",")),LEN(IF(LEFT(SUBSTITUTE(SUBSTITUTE(_xlfn.ARRAYTOTEXT(IF('Risikovurdering - mal '!$L$2:$L$200=ROW()-2,IF('Risikovurdering - mal '!$M$2:$M$200=COLUMN()-1,"R"&'Risikovurdering - mal '!$A$2:$A$200,""),""))," ;",""),";",","),2)=", ",RIGHT(SUBSTITUTE(SUBSTITUTE(_xlfn.ARRAYTOTEXT(IF('Risikovurdering - mal '!$L$2:$L$200=ROW()-2,IF('Risikovurdering - mal '!$M$2:$M$200=COLUMN()-1,"R"&'Risikovurdering - mal '!$A$2:$A$200,""),""))," ;",""),";",","),LEN(SUBSTITUTE(SUBSTITUTE(_xlfn.ARRAYTOTEXT(IF('Risikovurdering - mal '!$L$2:$L$200=ROW()-2,IF('Risikovurdering - mal '!$M$2:$M$200=COLUMN()-1,"R"&'Risikovurdering - mal '!$A$2:$A$200,""),""))," ;",""),";",","))-2),SUBSTITUTE(SUBSTITUTE(_xlfn.ARRAYTOTEXT(IF('Risikovurdering - mal '!$L$2:$L$200=ROW()-2,IF('Risikovurdering - mal '!$M$2:$M$200=COLUMN()-1,"R"&'Risikovurdering - mal '!$A$2:$A$200,""),""))," ;",""),";",",")))-2),IF(LEFT(SUBSTITUTE(SUBSTITUTE(_xlfn.ARRAYTOTEXT(IF('Risikovurdering - mal '!$L$2:$L$200=ROW()-2,IF('Risikovurdering - mal '!$M$2:$M$200=COLUMN()-1,"R"&'Risikovurdering - mal '!$A$2:$A$200,""),""))," ;",""),";",","),2)=", ",RIGHT(SUBSTITUTE(SUBSTITUTE(_xlfn.ARRAYTOTEXT(IF('Risikovurdering - mal '!$L$2:$L$200=ROW()-2,IF('Risikovurdering - mal '!$M$2:$M$200=COLUMN()-1,"R"&'Risikovurdering - mal '!$A$2:$A$200,""),""))," ;",""),";",","),LEN(SUBSTITUTE(SUBSTITUTE(_xlfn.ARRAYTOTEXT(IF('Risikovurdering - mal '!$L$2:$L$200=ROW()-2,IF('Risikovurdering - mal '!$M$2:$M$200=COLUMN()-1,"R"&'Risikovurdering - mal '!$A$2:$A$200,""),""))," ;",""),";",","))-2),SUBSTITUTE(SUBSTITUTE(_xlfn.ARRAYTOTEXT(IF('Risikovurdering - mal '!$L$2:$L$200=ROW()-2,IF('Risikovurdering - mal '!$M$2:$M$200=COLUMN()-1,"R"&'Risikovurdering - mal '!$A$2:$A$200,""),""))," ;",""),";",",")))} | E2: {=IF(RIGHT(IF(LEFT(SUBSTITUTE(SUBSTITUTE(_xlfn.ARRAYTOTEXT(IF('Risikovurdering - mal '!$L$2:$L$200=ROW()-2,IF('Risikovurdering - mal '!$M$2:$M$200=COLUMN()-1,"R"&'Risikovurdering - mal '!$A$2:$A$200,""),""))," ;",""),";",","),2)=", ",RIGHT(SUBSTITUTE(SUBSTITUTE(_xlfn.ARRAYTOTEXT(IF('Risikovurdering - mal '!$L$2:$L$200=ROW()-2,IF('Risikovurdering - mal '!$M$2:$M$200=COLUMN()-1,"R"&'Risikovurdering - mal '!$A$2:$A$200,""),""))," ;",""),";",","),LEN(SUBSTITUTE(SUBSTITUTE(_xlfn.ARRAYTOTEXT(IF('Risikovurdering - mal '!$L$2:$L$200=ROW()-2,IF('Risikovurdering - mal '!$M$2:$M$200=COLUMN()-1,"R"&'Risikovurdering - mal '!$A$2:$A$200,""),""))," ;",""),";",","))-2),SUBSTITUTE(SUBSTITUTE(_xlfn.ARRAYTOTEXT(IF('Risikovurdering - mal '!$L$2:$L$200=ROW()-2,IF('Risikovurdering - mal '!$M$2:$M$200=COLUMN()-1,"R"&'Risikovurdering - mal '!$A$2:$A$200,""),""))," ;",""),";",",")),2)=", ",LEFT(IF(LEFT(SUBSTITUTE(SUBSTITUTE(_xlfn.ARRAYTOTEXT(IF('Risikovurdering - mal '!$L$2:$L$200=ROW()-2,IF('Risikovurdering - mal '!$M$2:$M$200=COLUMN()-1,"R"&'Risikovurdering - mal '!$A$2:$A$200,""),""))," ;",""),";",","),2)=", ",RIGHT(SUBSTITUTE(SUBSTITUTE(_xlfn.ARRAYTOTEXT(IF('Risikovurdering - mal '!$L$2:$L$200=ROW()-2,IF('Risikovurdering - mal '!$M$2:$M$200=COLUMN()-1,"R"&'Risikovurdering - mal '!$A$2:$A$200,""),""))," ;",""),";",","),LEN(SUBSTITUTE(SUBSTITUTE(_xlfn.ARRAYTOTEXT(IF('Risikovurdering - mal '!$L$2:$L$200=ROW()-2,IF('Risikovurdering - mal '!$M$2:$M$200=COLUMN()-1,"R"&'Risikovurdering - mal '!$A$2:$A$200,""),""))," ;",""),";",","))-2),SUBSTITUTE(SUBSTITUTE(_xlfn.ARRAYTOTEXT(IF('Risikovurdering - mal '!$L$2:$L$200=ROW()-2,IF('Risikovurdering - mal '!$M$2:$M$200=COLUMN()-1,"R"&'Risikovurdering - mal '!$A$2:$A$200,""),""))," ;",""),";",",")),LEN(IF(LEFT(SUBSTITUTE(SUBSTITUTE(_xlfn.ARRAYTOTEXT(IF('Risikovurdering - mal '!$L$2:$L$200=ROW()-2,IF('Risikovurdering - mal '!$M$2:$M$200=COLUMN()-1,"R"&'Risikovurdering - mal '!$A$2:$A$200,""),""))," ;",""),";",","),2)=", ",RIGHT(SUBSTITUTE(SUBSTITUTE(_xlfn.ARRAYTOTEXT(IF('Risikovurdering - mal '!$L$2:$L$200=ROW()-2,IF('Risikovurdering - mal '!$M$2:$M$200=COLUMN()-1,"R"&'Risikovurdering - mal '!$A$2:$A$200,""),""))," ;",""),";",","),LEN(SUBSTITUTE(SUBSTITUTE(_xlfn.ARRAYTOTEXT(IF('Risikovurdering - mal '!$L$2:$L$200=ROW()-2,IF('Risikovurdering - mal '!$M$2:$M$200=COLUMN()-1,"R"&'Risikovurdering - mal '!$A$2:$A$200,""),""))," ;",""),";",","))-2),SUBSTITUTE(SUBSTITUTE(_xlfn.ARRAYTOTEXT(IF('Risikovurdering - mal '!$L$2:$L$200=ROW()-2,IF('Risikovurdering - mal '!$M$2:$M$200=COLUMN()-1,"R"&'Risikovurdering - mal '!$A$2:$A$200,""),""))," ;",""),";",",")))-2),IF(LEFT(SUBSTITUTE(SUBSTITUTE(_xlfn.ARRAYTOTEXT(IF('Risikovurdering - mal '!$L$2:$L$200=ROW()-2,IF('Risikovurdering - mal '!$M$2:$M$200=COLUMN()-1,"R"&'Risikovurdering - mal '!$A$2:$A$200,""),""))," ;",""),";",","),2)=", ",RIGHT(SUBSTITUTE(SUBSTITUTE(_xlfn.ARRAYTOTEXT(IF('Risikovurdering - mal '!$L$2:$L$200=ROW()-2,IF('Risikovurdering - mal '!$M$2:$M$200=COLUMN()-1,"R"&'Risikovurdering - mal '!$A$2:$A$200,""),""))," ;",""),";",","),LEN(SUBSTITUTE(SUBSTITUTE(_xlfn.ARRAYTOTEXT(IF('Risikovurdering - mal '!$L$2:$L$200=ROW()-2,IF('Risikovurdering - mal '!$M$2:$M$200=COLUMN()-1,"R"&'Risikovurdering - mal '!$A$2:$A$200,""),""))," ;",""),";",","))-2),SUBSTITUTE(SUBSTITUTE(_xlfn.ARRAYTOTEXT(IF('Risikovurdering - mal '!$L$2:$L$200=ROW()-2,IF('Risikovurdering - mal '!$M$2:$M$200=COLUMN()-1,"R"&'Risikovurdering - mal '!$A$2:$A$200,""),""))," ;",""),";",",")))}
A3: LITE SANNSYNLIG (25-50%) | B3: {=IF(RIGHT(IF(LEFT(SUBSTITUTE(SUBSTITUTE(_xlfn.ARRAYTOTEXT(IF('Risikovurdering - mal '!$L$2:$L$200=ROW()-2,IF('Risikovurdering - mal '!$M$2:$M$200=COLUMN()-1,"R"&'Risikovurdering - mal '!$A$2:$A$200,""),""))," ;",""),";",","),2)=", ",RIGHT(SUBSTITUTE(SUBSTITUTE(_xlfn.ARRAYTOTEXT(IF('Risikovurdering - mal '!$L$2:$L$200=ROW()-2,IF('Risikovurdering - mal '!$M$2:$M$200=COLUMN()-1,"R"&'Risikovurdering - mal '!$A$2:$A$200,""),""))," ;",""),";",","),LEN(SUBSTITUTE(SUBSTITUTE(_xlfn.ARRAYTOTEXT(IF('Risikovurdering - mal '!$L$2:$L$200=ROW()-2,IF('Risikovurdering - mal '!$M$2:$M$200=COLUMN()-1,"R"&'Risikovurdering - mal '!$A$2:$A$200,""),""))," ;",""),";",","))-2),SUBSTITUTE(SUBSTITUTE(_xlfn.ARRAYTOTEXT(IF('Risikovurdering - mal '!$L$2:$L$200=ROW()-2,IF('Risikovurdering - mal '!$M$2:$M$200=COLUMN()-1,"R"&'Risikovurdering - mal '!$A$2:$A$200,""),""))," ;",""),";",",")),2)=", ",LEFT(IF(LEFT(SUBSTITUTE(SUBSTITUTE(_xlfn.ARRAYTOTEXT(IF('Risikovurdering - mal '!$L$2:$L$200=ROW()-2,IF('Risikovurdering - mal '!$M$2:$M$200=COLUMN()-1,"R"&'Risikovurdering - mal '!$A$2:$A$200,""),""))," ;",""),";",","),2)=", ",RIGHT(SUBSTITUTE(SUBSTITUTE(_xlfn.ARRAYTOTEXT(IF('Risikovurdering - mal '!$L$2:$L$200=ROW()-2,IF('Risikovurdering - mal '!$M$2:$M$200=COLUMN()-1,"R"&'Risikovurdering - mal '!$A$2:$A$200,""),""))," ;",""),";",","),LEN(SUBSTITUTE(SUBSTITUTE(_xlfn.ARRAYTOTEXT(IF('Risikovurdering - mal '!$L$2:$L$200=ROW()-2,IF('Risikovurdering - mal '!$M$2:$M$200=COLUMN()-1,"R"&'Risikovurdering - mal '!$A$2:$A$200,""),""))," ;",""),";",","))-2),SUBSTITUTE(SUBSTITUTE(_xlfn.ARRAYTOTEXT(IF('Risikovurdering - mal '!$L$2:$L$200=ROW()-2,IF('Risikovurdering - mal '!$M$2:$M$200=COLUMN()-1,"R"&'Risikovurdering - mal '!$A$2:$A$200,""),""))," ;",""),";",",")),LEN(IF(LEFT(SUBSTITUTE(SUBSTITUTE(_xlfn.ARRAYTOTEXT(IF('Risikovurdering - mal '!$L$2:$L$200=ROW()-2,IF('Risikovurdering - mal '!$M$2:$M$200=COLUMN()-1,"R"&'Risikovurdering - mal '!$A$2:$A$200,""),""))," ;",""),";",","),2)=", ",RIGHT(SUBSTITUTE(SUBSTITUTE(_xlfn.ARRAYTOTEXT(IF('Risikovurdering - mal '!$L$2:$L$200=ROW()-2,IF('Risikovurdering - mal '!$M$2:$M$200=COLUMN()-1,"R"&'Risikovurdering - mal '!$A$2:$A$200,""),""))," ;",""),";",","),LEN(SUBSTITUTE(SUBSTITUTE(_xlfn.ARRAYTOTEXT(IF('Risikovurdering - mal '!$L$2:$L$200=ROW()-2,IF('Risikovurdering - mal '!$M$2:$M$200=COLUMN()-1,"R"&'Risikovurdering - mal '!$A$2:$A$200,""),""))," ;",""),";",","))-2),SUBSTITUTE(SUBSTITUTE(_xlfn.ARRAYTOTEXT(IF('Risikovurdering - mal '!$L$2:$L$200=ROW()-2,IF('Risikovurdering - mal '!$M$2:$M$200=COLUMN()-1,"R"&'Risikovurdering - mal '!$A$2:$A$200,""),""))," ;",""),";",",")))-2),IF(LEFT(SUBSTITUTE(SUBSTITUTE(_xlfn.ARRAYTOTEXT(IF('Risikovurdering - mal '!$L$2:$L$200=ROW()-2,IF('Risikovurdering - mal '!$M$2:$M$200=COLUMN()-1,"R"&'Risikovurdering - mal '!$A$2:$A$200,""),""))," ;",""),";",","),2)=", ",RIGHT(SUBSTITUTE(SUBSTITUTE(_xlfn.ARRAYTOTEXT(IF('Risikovurdering - mal '!$L$2:$L$200=ROW()-2,IF('Risikovurdering - mal '!$M$2:$M$200=COLUMN()-1,"R"&'Risikovurdering - mal '!$A$2:$A$200,""),""))," ;",""),";",","),LEN(SUBSTITUTE(SUBSTITUTE(_xlfn.ARRAYTOTEXT(IF('Risikovurdering - mal '!$L$2:$L$200=ROW()-2,IF('Risikovurdering - mal '!$M$2:$M$200=COLUMN()-1,"R"&'Risikovurdering - mal '!$A$2:$A$200,""),""))," ;",""),";",","))-2),SUBSTITUTE(SUBSTITUTE(_xlfn.ARRAYTOTEXT(IF('Risikovurdering - mal '!$L$2:$L$200=ROW()-2,IF('Risikovurdering - mal '!$M$2:$M$200=COLUMN()-1,"R"&'Risikovurdering - mal '!$A$2:$A$200,""),""))," ;",""),";",",")))} | C3: {=IF(RIGHT(IF(LEFT(SUBSTITUTE(SUBSTITUTE(_xlfn.ARRAYTOTEXT(IF('Risikovurdering - mal '!$L$2:$L$200=ROW()-2,IF('Risikovurdering - mal '!$M$2:$M$200=COLUMN()-1,"R"&'Risikovurdering - mal '!$A$2:$A$200,""),""))," ;",""),";",","),2)=", ",RIGHT(SUBSTITUTE(SUBSTITUTE(_xlfn.ARRAYTOTEXT(IF('Risikovurdering - mal '!$L$2:$L$200=ROW()-2,IF('Risikovurdering - mal '!$M$2:$M$200=COLUMN()-1,"R"&'Risikovurdering - mal '!$A$2:$A$200,""),""))," ;",""),";",","),LEN(SUBSTITUTE(SUBSTITUTE(_xlfn.ARRAYTOTEXT(IF('Risikovurdering - mal '!$L$2:$L$200=ROW()-2,IF('Risikovurdering - mal '!$M$2:$M$200=COLUMN()-1,"R"&'Risikovurdering - mal '!$A$2:$A$200,""),""))," ;",""),";",","))-2),SUBSTITUTE(SUBSTITUTE(_xlfn.ARRAYTOTEXT(IF('Risikovurdering - mal '!$L$2:$L$200=ROW()-2,IF('Risikovurdering - mal '!$M$2:$M$200=COLUMN()-1,"R"&'Risikovurdering - mal '!$A$2:$A$200,""),""))," ;",""),";",",")),2)=", ",LEFT(IF(LEFT(SUBSTITUTE(SUBSTITUTE(_xlfn.ARRAYTOTEXT(IF('Risikovurdering - mal '!$L$2:$L$200=ROW()-2,IF('Risikovurdering - mal '!$M$2:$M$200=COLUMN()-1,"R"&'Risikovurdering - mal '!$A$2:$A$200,""),""))," ;",""),";",","),2)=", ",RIGHT(SUBSTITUTE(SUBSTITUTE(_xlfn.ARRAYTOTEXT(IF('Risikovurdering - mal '!$L$2:$L$200=ROW()-2,IF('Risikovurdering - mal '!$M$2:$M$200=COLUMN()-1,"R"&'Risikovurdering - mal '!$A$2:$A$200,""),""))," ;",""),";",","),LEN(SUBSTITUTE(SUBSTITUTE(_xlfn.ARRAYTOTEXT(IF('Risikovurdering - mal '!$L$2:$L$200=ROW()-2,IF('Risikovurdering - mal '!$M$2:$M$200=COLUMN()-1,"R"&'Risikovurdering - mal '!$A$2:$A$200,""),""))," ;",""),";",","))-2),SUBSTITUTE(SUBSTITUTE(_xlfn.ARRAYTOTEXT(IF('Risikovurdering - mal '!$L$2:$L$200=ROW()-2,IF('Risikovurdering - mal '!$M$2:$M$200=COLUMN()-1,"R"&'Risikovurdering - mal '!$A$2:$A$200,""),""))," ;",""),";",",")),LEN(IF(LEFT(SUBSTITUTE(SUBSTITUTE(_xlfn.ARRAYTOTEXT(IF('Risikovurdering - mal '!$L$2:$L$200=ROW()-2,IF('Risikovurdering - mal '!$M$2:$M$200=COLUMN()-1,"R"&'Risikovurdering - mal '!$A$2:$A$200,""),""))," ;",""),";",","),2)=", ",RIGHT(SUBSTITUTE(SUBSTITUTE(_xlfn.ARRAYTOTEXT(IF('Risikovurdering - mal '!$L$2:$L$200=ROW()-2,IF('Risikovurdering - mal '!$M$2:$M$200=COLUMN()-1,"R"&'Risikovurdering - mal '!$A$2:$A$200,""),""))," ;",""),";",","),LEN(SUBSTITUTE(SUBSTITUTE(_xlfn.ARRAYTOTEXT(IF('Risikovurdering - mal '!$L$2:$L$200=ROW()-2,IF('Risikovurdering - mal '!$M$2:$M$200=COLUMN()-1,"R"&'Risikovurdering - mal '!$A$2:$A$200,""),""))," ;",""),";",","))-2),SUBSTITUTE(SUBSTITUTE(_xlfn.ARRAYTOTEXT(IF('Risikovurdering - mal '!$L$2:$L$200=ROW()-2,IF('Risikovurdering - mal '!$M$2:$M$200=COLUMN()-1,"R"&'Risikovurdering - mal '!$A$2:$A$200,""),""))," ;",""),";",",")))-2),IF(LEFT(SUBSTITUTE(SUBSTITUTE(_xlfn.ARRAYTOTEXT(IF('Risikovurdering - mal '!$L$2:$L$200=ROW()-2,IF('Risikovurdering - mal '!$M$2:$M$200=COLUMN()-1,"R"&'Risikovurdering - mal '!$A$2:$A$200,""),""))," ;",""),";",","),2)=", ",RIGHT(SUBSTITUTE(SUBSTITUTE(_xlfn.ARRAYTOTEXT(IF('Risikovurdering - mal '!$L$2:$L$200=ROW()-2,IF('Risikovurdering - mal '!$M$2:$M$200=COLUMN()-1,"R"&'Risikovurdering - mal '!$A$2:$A$200,""),""))," ;",""),";",","),LEN(SUBSTITUTE(SUBSTITUTE(_xlfn.ARRAYTOTEXT(IF('Risikovurdering - mal '!$L$2:$L$200=ROW()-2,IF('Risikovurdering - mal '!$M$2:$M$200=COLUMN()-1,"R"&'Risikovurdering - mal '!$A$2:$A$200,""),""))," ;",""),";",","))-2),SUBSTITUTE(SUBSTITUTE(_xlfn.ARRAYTOTEXT(IF('Risikovurdering - mal '!$L$2:$L$200=ROW()-2,IF('Risikovurdering - mal '!$M$2:$M$200=COLUMN()-1,"R"&'Risikovurdering - mal '!$A$2:$A$200,""),""))," ;",""),";",",")))} | D3: {=IF(RIGHT(IF(LEFT(SUBSTITUTE(SUBSTITUTE(_xlfn.ARRAYTOTEXT(IF('Risikovurdering - mal '!$L$2:$L$200=ROW()-2,IF('Risikovurdering - mal '!$M$2:$M$200=COLUMN()-1,"R"&'Risikovurdering - mal '!$A$2:$A$200,""),""))," ;",""),";",","),2)=", ",RIGHT(SUBSTITUTE(SUBSTITUTE(_xlfn.ARRAYTOTEXT(IF('Risikovurdering - mal '!$L$2:$L$200=ROW()-2,IF('Risikovurdering - mal '!$M$2:$M$200=COLUMN()-1,"R"&'Risikovurdering - mal '!$A$2:$A$200,""),""))," ;",""),";",","),LEN(SUBSTITUTE(SUBSTITUTE(_xlfn.ARRAYTOTEXT(IF('Risikovurdering - mal '!$L$2:$L$200=ROW()-2,IF('Risikovurdering - mal '!$M$2:$M$200=COLUMN()-1,"R"&'Risikovurdering - mal '!$A$2:$A$200,""),""))," ;",""),";",","))-2),SUBSTITUTE(SUBSTITUTE(_xlfn.ARRAYTOTEXT(IF('Risikovurdering - mal '!$L$2:$L$200=ROW()-2,IF('Risikovurdering - mal '!$M$2:$M$200=COLUMN()-1,"R"&'Risikovurdering - mal '!$A$2:$A$200,""),""))," ;",""),";",",")),2)=", ",LEFT(IF(LEFT(SUBSTITUTE(SUBSTITUTE(_xlfn.ARRAYTOTEXT(IF('Risikovurdering - mal '!$L$2:$L$200=ROW()-2,IF('Risikovurdering - mal '!$M$2:$M$200=COLUMN()-1,"R"&'Risikovurdering - mal '!$A$2:$A$200,""),""))," ;",""),";",","),2)=", ",RIGHT(SUBSTITUTE(SUBSTITUTE(_xlfn.ARRAYTOTEXT(IF('Risikovurdering - mal '!$L$2:$L$200=ROW()-2,IF('Risikovurdering - mal '!$M$2:$M$200=COLUMN()-1,"R"&'Risikovurdering - mal '!$A$2:$A$200,""),""))," ;",""),";",","),LEN(SUBSTITUTE(SUBSTITUTE(_xlfn.ARRAYTOTEXT(IF('Risikovurdering - mal '!$L$2:$L$200=ROW()-2,IF('Risikovurdering - mal '!$M$2:$M$200=COLUMN()-1,"R"&'Risikovurdering - mal '!$A$2:$A$200,""),""))," ;",""),";",","))-2),SUBSTITUTE(SUBSTITUTE(_xlfn.ARRAYTOTEXT(IF('Risikovurdering - mal '!$L$2:$L$200=ROW()-2,IF('Risikovurdering - mal '!$M$2:$M$200=COLUMN()-1,"R"&'Risikovurdering - mal '!$A$2:$A$200,""),""))," ;",""),";",",")),LEN(IF(LEFT(SUBSTITUTE(SUBSTITUTE(_xlfn.ARRAYTOTEXT(IF('Risikovurdering - mal '!$L$2:$L$200=ROW()-2,IF('Risikovurdering - mal '!$M$2:$M$200=COLUMN()-1,"R"&'Risikovurdering - mal '!$A$2:$A$200,""),""))," ;",""),";",","),2)=", ",RIGHT(SUBSTITUTE(SUBSTITUTE(_xlfn.ARRAYTOTEXT(IF('Risikovurdering - mal '!$L$2:$L$200=ROW()-2,IF('Risikovurdering - mal '!$M$2:$M$200=COLUMN()-1,"R"&'Risikovurdering - mal '!$A$2:$A$200,""),""))," ;",""),";",","),LEN(SUBSTITUTE(SUBSTITUTE(_xlfn.ARRAYTOTEXT(IF('Risikovurdering - mal '!$L$2:$L$200=ROW()-2,IF('Risikovurdering - mal '!$M$2:$M$200=COLUMN()-1,"R"&'Risikovurdering - mal '!$A$2:$A$200,""),""))," ;",""),";",","))-2),SUBSTITUTE(SUBSTITUTE(_xlfn.ARRAYTOTEXT(IF('Risikovurdering - mal '!$L$2:$L$200=ROW()-2,IF('Risikovurdering - mal '!$M$2:$M$200=COLUMN()-1,"R"&'Risikovurdering - mal '!$A$2:$A$200,""),""))," ;",""),";",",")))-2),IF(LEFT(SUBSTITUTE(SUBSTITUTE(_xlfn.ARRAYTOTEXT(IF('Risikovurdering - mal '!$L$2:$L$200=ROW()-2,IF('Risikovurdering - mal '!$M$2:$M$200=COLUMN()-1,"R"&'Risikovurdering - mal '!$A$2:$A$200,""),""))," ;",""),";",","),2)=", ",RIGHT(SUBSTITUTE(SUBSTITUTE(_xlfn.ARRAYTOTEXT(IF('Risikovurdering - mal '!$L$2:$L$200=ROW()-2,IF('Risikovurdering - mal '!$M$2:$M$200=COLUMN()-1,"R"&'Risikovurdering - mal '!$A$2:$A$200,""),""))," ;",""),";",","),LEN(SUBSTITUTE(SUBSTITUTE(_xlfn.ARRAYTOTEXT(IF('Risikovurdering - mal '!$L$2:$L$200=ROW()-2,IF('Risikovurdering - mal '!$M$2:$M$200=COLUMN()-1,"R"&'Risikovurdering - mal '!$A$2:$A$200,""),""))," ;",""),";",","))-2),SUBSTITUTE(SUBSTITUTE(_xlfn.ARRAYTOTEXT(IF('Risikovurdering - mal '!$L$2:$L$200=ROW()-2,IF('Risikovurdering - mal '!$M$2:$M$200=COLUMN()-1,"R"&'Risikovurdering - mal '!$A$2:$A$200,""),""))," ;",""),";",",")))} | E3: {=IF(RIGHT(IF(LEFT(SUBSTITUTE(SUBSTITUTE(_xlfn.ARRAYTOTEXT(IF('Risikovurdering - mal '!$L$2:$L$200=ROW()-2,IF('Risikovurdering - mal '!$M$2:$M$200=COLUMN()-1,"R"&'Risikovurdering - mal '!$A$2:$A$200,""),""))," ;",""),";",","),2)=", ",RIGHT(SUBSTITUTE(SUBSTITUTE(_xlfn.ARRAYTOTEXT(IF('Risikovurdering - mal '!$L$2:$L$200=ROW()-2,IF('Risikovurdering - mal '!$M$2:$M$200=COLUMN()-1,"R"&'Risikovurdering - mal '!$A$2:$A$200,""),""))," ;",""),";",","),LEN(SUBSTITUTE(SUBSTITUTE(_xlfn.ARRAYTOTEXT(IF('Risikovurdering - mal '!$L$2:$L$200=ROW()-2,IF('Risikovurdering - mal '!$M$2:$M$200=COLUMN()-1,"R"&'Risikovurdering - mal '!$A$2:$A$200,""),""))," ;",""),";",","))-2),SUBSTITUTE(SUBSTITUTE(_xlfn.ARRAYTOTEXT(IF('Risikovurdering - mal '!$L$2:$L$200=ROW()-2,IF('Risikovurdering - mal '!$M$2:$M$200=COLUMN()-1,"R"&'Risikovurdering - mal '!$A$2:$A$200,""),""))," ;",""),";",",")),2)=", ",LEFT(IF(LEFT(SUBSTITUTE(SUBSTITUTE(_xlfn.ARRAYTOTEXT(IF('Risikovurdering - mal '!$L$2:$L$200=ROW()-2,IF('Risikovurdering - mal '!$M$2:$M$200=COLUMN()-1,"R"&'Risikovurdering - mal '!$A$2:$A$200,""),""))," ;",""),";",","),2)=", ",RIGHT(SUBSTITUTE(SUBSTITUTE(_xlfn.ARRAYTOTEXT(IF('Risikovurdering - mal '!$L$2:$L$200=ROW()-2,IF('Risikovurdering - mal '!$M$2:$M$200=COLUMN()-1,"R"&'Risikovurdering - mal '!$A$2:$A$200,""),""))," ;",""),";",","),LEN(SUBSTITUTE(SUBSTITUTE(_xlfn.ARRAYTOTEXT(IF('Risikovurdering - mal '!$L$2:$L$200=ROW()-2,IF('Risikovurdering - mal '!$M$2:$M$200=COLUMN()-1,"R"&'Risikovurdering - mal '!$A$2:$A$200,""),""))," ;",""),";",","))-2),SUBSTITUTE(SUBSTITUTE(_xlfn.ARRAYTOTEXT(IF('Risikovurdering - mal '!$L$2:$L$200=ROW()-2,IF('Risikovurdering - mal '!$M$2:$M$200=COLUMN()-1,"R"&'Risikovurdering - mal '!$A$2:$A$200,""),""))," ;",""),";",",")),LEN(IF(LEFT(SUBSTITUTE(SUBSTITUTE(_xlfn.ARRAYTOTEXT(IF('Risikovurdering - mal '!$L$2:$L$200=ROW()-2,IF('Risikovurdering - mal '!$M$2:$M$200=COLUMN()-1,"R"&'Risikovurdering - mal '!$A$2:$A$200,""),""))," ;",""),";",","),2)=", ",RIGHT(SUBSTITUTE(SUBSTITUTE(_xlfn.ARRAYTOTEXT(IF('Risikovurdering - mal '!$L$2:$L$200=ROW()-2,IF('Risikovurdering - mal '!$M$2:$M$200=COLUMN()-1,"R"&'Risikovurdering - mal '!$A$2:$A$200,""),""))," ;",""),";",","),LEN(SUBSTITUTE(SUBSTITUTE(_xlfn.ARRAYTOTEXT(IF('Risikovurdering - mal '!$L$2:$L$200=ROW()-2,IF('Risikovurdering - mal '!$M$2:$M$200=COLUMN()-1,"R"&'Risikovurdering - mal '!$A$2:$A$200,""),""))," ;",""),";",","))-2),SUBSTITUTE(SUBSTITUTE(_xlfn.ARRAYTOTEXT(IF('Risikovurdering - mal '!$L$2:$L$200=ROW()-2,IF('Risikovurdering - mal '!$M$2:$M$200=COLUMN()-1,"R"&'Risikovurdering - mal '!$A$2:$A$200,""),""))," ;",""),";",",")))-2),IF(LEFT(SUBSTITUTE(SUBSTITUTE(_xlfn.ARRAYTOTEXT(IF('Risikovurdering - mal '!$L$2:$L$200=ROW()-2,IF('Risikovurdering - mal '!$M$2:$M$200=COLUMN()-1,"R"&'Risikovurdering - mal '!$A$2:$A$200,""),""))," ;",""),";",","),2)=", ",RIGHT(SUBSTITUTE(SUBSTITUTE(_xlfn.ARRAYTOTEXT(IF('Risikovurdering - mal '!$L$2:$L$200=ROW()-2,IF('Risikovurdering - mal '!$M$2:$M$200=COLUMN()-1,"R"&'Risikovurdering - mal '!$A$2:$A$200,""),""))," ;",""),";",","),LEN(SUBSTITUTE(SUBSTITUTE(_xlfn.ARRAYTOTEXT(IF('Risikovurdering - mal '!$L$2:$L$200=ROW()-2,IF('Risikovurdering - mal '!$M$2:$M$200=COLUMN()-1,"R"&'Risikovurdering - mal '!$A$2:$A$200,""),""))," ;",""),";",","))-2),SUBSTITUTE(SUBSTITUTE(_xlfn.ARRAYTOTEXT(IF('Risikovurdering - mal '!$L$2:$L$200=ROW()-2,IF('Risikovurdering - mal '!$M$2:$M$200=COLUMN()-1,"R"&'Risikovurdering - mal '!$A$2:$A$200,""),""))," ;",""),";",",")))}
A4: SANNSYNLIG (50-75%) | B4: {=IF(RIGHT(IF(LEFT(SUBSTITUTE(SUBSTITUTE(_xlfn.ARRAYTOTEXT(IF('Risikovurdering - mal '!$L$2:$L$200=ROW()-2,IF('Risikovurdering - mal '!$M$2:$M$200=COLUMN()-1,"R"&'Risikovurdering - mal '!$A$2:$A$200,""),""))," ;",""),";",","),2)=", ",RIGHT(SUBSTITUTE(SUBSTITUTE(_xlfn.ARRAYTOTEXT(IF('Risikovurdering - mal '!$L$2:$L$200=ROW()-2,IF('Risikovurdering - mal '!$M$2:$M$200=COLUMN()-1,"R"&'Risikovurdering - mal '!$A$2:$A$200,""),""))," ;",""),";",","),LEN(SUBSTITUTE(SUBSTITUTE(_xlfn.ARRAYTOTEXT(IF('Risikovurdering - mal '!$L$2:$L$200=ROW()-2,IF('Risikovurdering - mal '!$M$2:$M$200=COLUMN()-1,"R"&'Risikovurdering - mal '!$A$2:$A$200,""),""))," ;",""),";",","))-2),SUBSTITUTE(SUBSTITUTE(_xlfn.ARRAYTOTEXT(IF('Risikovurdering - mal '!$L$2:$L$200=ROW()-2,IF('Risikovurdering - mal '!$M$2:$M$200=COLUMN()-1,"R"&'Risikovurdering - mal '!$A$2:$A$200,""),""))," ;",""),";",",")),2)=", ",LEFT(IF(LEFT(SUBSTITUTE(SUBSTITUTE(_xlfn.ARRAYTOTEXT(IF('Risikovurdering - mal '!$L$2:$L$200=ROW()-2,IF('Risikovurdering - mal '!$M$2:$M$200=COLUMN()-1,"R"&'Risikovurdering - mal '!$A$2:$A$200,""),""))," ;",""),";",","),2)=", ",RIGHT(SUBSTITUTE(SUBSTITUTE(_xlfn.ARRAYTOTEXT(IF('Risikovurdering - mal '!$L$2:$L$200=ROW()-2,IF('Risikovurdering - mal '!$M$2:$M$200=COLUMN()-1,"R"&'Risikovurdering - mal '!$A$2:$A$200,""),""))," ;",""),";",","),LEN(SUBSTITUTE(SUBSTITUTE(_xlfn.ARRAYTOTEXT(IF('Risikovurdering - mal '!$L$2:$L$200=ROW()-2,IF('Risikovurdering - mal '!$M$2:$M$200=COLUMN()-1,"R"&'Risikovurdering - mal '!$A$2:$A$200,""),""))," ;",""),";",","))-2),SUBSTITUTE(SUBSTITUTE(_xlfn.ARRAYTOTEXT(IF('Risikovurdering - mal '!$L$2:$L$200=ROW()-2,IF('Risikovurdering - mal '!$M$2:$M$200=COLUMN()-1,"R"&'Risikovurdering - mal '!$A$2:$A$200,""),""))," ;",""),";",",")),LEN(IF(LEFT(SUBSTITUTE(SUBSTITUTE(_xlfn.ARRAYTOTEXT(IF('Risikovurdering - mal '!$L$2:$L$200=ROW()-2,IF('Risikovurdering - mal '!$M$2:$M$200=COLUMN()-1,"R"&'Risikovurdering - mal '!$A$2:$A$200,""),""))," ;",""),";",","),2)=", ",RIGHT(SUBSTITUTE(SUBSTITUTE(_xlfn.ARRAYTOTEXT(IF('Risikovurdering - mal '!$L$2:$L$200=ROW()-2,IF('Risikovurdering - mal '!$M$2:$M$200=COLUMN()-1,"R"&'Risikovurdering - mal '!$A$2:$A$200,""),""))," ;",""),";",","),LEN(SUBSTITUTE(SUBSTITUTE(_xlfn.ARRAYTOTEXT(IF('Risikovurdering - mal '!$L$2:$L$200=ROW()-2,IF('Risikovurdering - mal '!$M$2:$M$200=COLUMN()-1,"R"&'Risikovurdering - mal '!$A$2:$A$200,""),""))," ;",""),";",","))-2),SUBSTITUTE(SUBSTITUTE(_xlfn.ARRAYTOTEXT(IF('Risikovurdering - mal '!$L$2:$L$200=ROW()-2,IF('Risikovurdering - mal '!$M$2:$M$200=COLUMN()-1,"R"&'Risikovurdering - mal '!$A$2:$A$200,""),""))," ;",""),";",",")))-2),IF(LEFT(SUBSTITUTE(SUBSTITUTE(_xlfn.ARRAYTOTEXT(IF('Risikovurdering - mal '!$L$2:$L$200=ROW()-2,IF('Risikovurdering - mal '!$M$2:$M$200=COLUMN()-1,"R"&'Risikovurdering - mal '!$A$2:$A$200,""),""))," ;",""),";",","),2)=", ",RIGHT(SUBSTITUTE(SUBSTITUTE(_xlfn.ARRAYTOTEXT(IF('Risikovurdering - mal '!$L$2:$L$200=ROW()-2,IF('Risikovurdering - mal '!$M$2:$M$200=COLUMN()-1,"R"&'Risikovurdering - mal '!$A$2:$A$200,""),""))," ;",""),";",","),LEN(SUBSTITUTE(SUBSTITUTE(_xlfn.ARRAYTOTEXT(IF('Risikovurdering - mal '!$L$2:$L$200=ROW()-2,IF('Risikovurdering - mal '!$M$2:$M$200=COLUMN()-1,"R"&'Risikovurdering - mal '!$A$2:$A$200,""),""))," ;",""),";",","))-2),SUBSTITUTE(SUBSTITUTE(_xlfn.ARRAYTOTEXT(IF('Risikovurdering - mal '!$L$2:$L$200=ROW()-2,IF('Risikovurdering - mal '!$M$2:$M$200=COLUMN()-1,"R"&'Risikovurdering - mal '!$A$2:$A$200,""),""))," ;",""),";",",")))} | C4: {=IF(RIGHT(IF(LEFT(SUBSTITUTE(SUBSTITUTE(_xlfn.ARRAYTOTEXT(IF('Risikovurdering - mal '!$L$2:$L$200=ROW()-2,IF('Risikovurdering - mal '!$M$2:$M$200=COLUMN()-1,"R"&'Risikovurdering - mal '!$A$2:$A$200,""),""))," ;",""),";",","),2)=", ",RIGHT(SUBSTITUTE(SUBSTITUTE(_xlfn.ARRAYTOTEXT(IF('Risikovurdering - mal '!$L$2:$L$200=ROW()-2,IF('Risikovurdering - mal '!$M$2:$M$200=COLUMN()-1,"R"&'Risikovurdering - mal '!$A$2:$A$200,""),""))," ;",""),";",","),LEN(SUBSTITUTE(SUBSTITUTE(_xlfn.ARRAYTOTEXT(IF('Risikovurdering - mal '!$L$2:$L$200=ROW()-2,IF('Risikovurdering - mal '!$M$2:$M$200=COLUMN()-1,"R"&'Risikovurdering - mal '!$A$2:$A$200,""),""))," ;",""),";",","))-2),SUBSTITUTE(SUBSTITUTE(_xlfn.ARRAYTOTEXT(IF('Risikovurdering - mal '!$L$2:$L$200=ROW()-2,IF('Risikovurdering - mal '!$M$2:$M$200=COLUMN()-1,"R"&'Risikovurdering - mal '!$A$2:$A$200,""),""))," ;",""),";",",")),2)=", ",LEFT(IF(LEFT(SUBSTITUTE(SUBSTITUTE(_xlfn.ARRAYTOTEXT(IF('Risikovurdering - mal '!$L$2:$L$200=ROW()-2,IF('Risikovurdering - mal '!$M$2:$M$200=COLUMN()-1,"R"&'Risikovurdering - mal '!$A$2:$A$200,""),""))," ;",""),";",","),2)=", ",RIGHT(SUBSTITUTE(SUBSTITUTE(_xlfn.ARRAYTOTEXT(IF('Risikovurdering - mal '!$L$2:$L$200=ROW()-2,IF('Risikovurdering - mal '!$M$2:$M$200=COLUMN()-1,"R"&'Risikovurdering - mal '!$A$2:$A$200,""),""))," ;",""),";",","),LEN(SUBSTITUTE(SUBSTITUTE(_xlfn.ARRAYTOTEXT(IF('Risikovurdering - mal '!$L$2:$L$200=ROW()-2,IF('Risikovurdering - mal '!$M$2:$M$200=COLUMN()-1,"R"&'Risikovurdering - mal '!$A$2:$A$200,""),""))," ;",""),";",","))-2),SUBSTITUTE(SUBSTITUTE(_xlfn.ARRAYTOTEXT(IF('Risikovurdering - mal '!$L$2:$L$200=ROW()-2,IF('Risikovurdering - mal '!$M$2:$M$200=COLUMN()-1,"R"&'Risikovurdering - mal '!$A$2:$A$200,""),""))," ;",""),";",",")),LEN(IF(LEFT(SUBSTITUTE(SUBSTITUTE(_xlfn.ARRAYTOTEXT(IF('Risikovurdering - mal '!$L$2:$L$200=ROW()-2,IF('Risikovurdering - mal '!$M$2:$M$200=COLUMN()-1,"R"&'Risikovurdering - mal '!$A$2:$A$200,""),""))," ;",""),";",","),2)=", ",RIGHT(SUBSTITUTE(SUBSTITUTE(_xlfn.ARRAYTOTEXT(IF('Risikovurdering - mal '!$L$2:$L$200=ROW()-2,IF('Risikovurdering - mal '!$M$2:$M$200=COLUMN()-1,"R"&'Risikovurdering - mal '!$A$2:$A$200,""),""))," ;",""),";",","),LEN(SUBSTITUTE(SUBSTITUTE(_xlfn.ARRAYTOTEXT(IF('Risikovurdering - mal '!$L$2:$L$200=ROW()-2,IF('Risikovurdering - mal '!$M$2:$M$200=COLUMN()-1,"R"&'Risikovurdering - mal '!$A$2:$A$200,""),""))," ;",""),";",","))-2),SUBSTITUTE(SUBSTITUTE(_xlfn.ARRAYTOTEXT(IF('Risikovurdering - mal '!$L$2:$L$200=ROW()-2,IF('Risikovurdering - mal '!$M$2:$M$200=COLUMN()-1,"R"&'Risikovurdering - mal '!$A$2:$A$200,""),""))," ;",""),";",",")))-2),IF(LEFT(SUBSTITUTE(SUBSTITUTE(_xlfn.ARRAYTOTEXT(IF('Risikovurdering - mal '!$L$2:$L$200=ROW()-2,IF('Risikovurdering - mal '!$M$2:$M$200=COLUMN()-1,"R"&'Risikovurdering - mal '!$A$2:$A$200,""),""))," ;",""),";",","),2)=", ",RIGHT(SUBSTITUTE(SUBSTITUTE(_xlfn.ARRAYTOTEXT(IF('Risikovurdering - mal '!$L$2:$L$200=ROW()-2,IF('Risikovurdering - mal '!$M$2:$M$200=COLUMN()-1,"R"&'Risikovurdering - mal '!$A$2:$A$200,""),""))," ;",""),";",","),LEN(SUBSTITUTE(SUBSTITUTE(_xlfn.ARRAYTOTEXT(IF('Risikovurdering - mal '!$L$2:$L$200=ROW()-2,IF('Risikovurdering - mal '!$M$2:$M$200=COLUMN()-1,"R"&'Risikovurdering - mal '!$A$2:$A$200,""),""))," ;",""),";",","))-2),SUBSTITUTE(SUBSTITUTE(_xlfn.ARRAYTOTEXT(IF('Risikovurdering - mal '!$L$2:$L$200=ROW()-2,IF('Risikovurdering - mal '!$M$2:$M$200=COLUMN()-1,"R"&'Risikovurdering - mal '!$A$2:$A$200,""),""))," ;",""),";",",")))} | D4: {=IF(RIGHT(IF(LEFT(SUBSTITUTE(SUBSTITUTE(_xlfn.ARRAYTOTEXT(IF('Risikovurdering - mal '!$L$2:$L$200=ROW()-2,IF('Risikovurdering - mal '!$M$2:$M$200=COLUMN()-1,"R"&'Risikovurdering - mal '!$A$2:$A$200,""),""))," ;",""),";",","),2)=", ",RIGHT(SUBSTITUTE(SUBSTITUTE(_xlfn.ARRAYTOTEXT(IF('Risikovurdering - mal '!$L$2:$L$200=ROW()-2,IF('Risikovurdering - mal '!$M$2:$M$200=COLUMN()-1,"R"&'Risikovurdering - mal '!$A$2:$A$200,""),""))," ;",""),";",","),LEN(SUBSTITUTE(SUBSTITUTE(_xlfn.ARRAYTOTEXT(IF('Risikovurdering - mal '!$L$2:$L$200=ROW()-2,IF('Risikovurdering - mal '!$M$2:$M$200=COLUMN()-1,"R"&'Risikovurdering - mal '!$A$2:$A$200,""),""))," ;",""),";",","))-2),SUBSTITUTE(SUBSTITUTE(_xlfn.ARRAYTOTEXT(IF('Risikovurdering - mal '!$L$2:$L$200=ROW()-2,IF('Risikovurdering - mal '!$M$2:$M$200=COLUMN()-1,"R"&'Risikovurdering - mal '!$A$2:$A$200,""),""))," ;",""),";",",")),2)=", ",LEFT(IF(LEFT(SUBSTITUTE(SUBSTITUTE(_xlfn.ARRAYTOTEXT(IF('Risikovurdering - mal '!$L$2:$L$200=ROW()-2,IF('Risikovurdering - mal '!$M$2:$M$200=COLUMN()-1,"R"&'Risikovurdering - mal '!$A$2:$A$200,""),""))," ;",""),";",","),2)=", ",RIGHT(SUBSTITUTE(SUBSTITUTE(_xlfn.ARRAYTOTEXT(IF('Risikovurdering - mal '!$L$2:$L$200=ROW()-2,IF('Risikovurdering - mal '!$M$2:$M$200=COLUMN()-1,"R"&'Risikovurdering - mal '!$A$2:$A$200,""),""))," ;",""),";",","),LEN(SUBSTITUTE(SUBSTITUTE(_xlfn.ARRAYTOTEXT(IF('Risikovurdering - mal '!$L$2:$L$200=ROW()-2,IF('Risikovurdering - mal '!$M$2:$M$200=COLUMN()-1,"R"&'Risikovurdering - mal '!$A$2:$A$200,""),""))," ;",""),";",","))-2),SUBSTITUTE(SUBSTITUTE(_xlfn.ARRAYTOTEXT(IF('Risikovurdering - mal '!$L$2:$L$200=ROW()-2,IF('Risikovurdering - mal '!$M$2:$M$200=COLUMN()-1,"R"&'Risikovurdering - mal '!$A$2:$A$200,""),""))," ;",""),";",",")),LEN(IF(LEFT(SUBSTITUTE(SUBSTITUTE(_xlfn.ARRAYTOTEXT(IF('Risikovurdering - mal '!$L$2:$L$200=ROW()-2,IF('Risikovurdering - mal '!$M$2:$M$200=COLUMN()-1,"R"&'Risikovurdering - mal '!$A$2:$A$200,""),""))," ;",""),";",","),2)=", ",RIGHT(SUBSTITUTE(SUBSTITUTE(_xlfn.ARRAYTOTEXT(IF('Risikovurdering - mal '!$L$2:$L$200=ROW()-2,IF('Risikovurdering - mal '!$M$2:$M$200=COLUMN()-1,"R"&'Risikovurdering - mal '!$A$2:$A$200,""),""))," ;",""),";",","),LEN(SUBSTITUTE(SUBSTITUTE(_xlfn.ARRAYTOTEXT(IF('Risikovurdering - mal '!$L$2:$L$200=ROW()-2,IF('Risikovurdering - mal '!$M$2:$M$200=COLUMN()-1,"R"&'Risikovurdering - mal '!$A$2:$A$200,""),""))," ;",""),";",","))-2),SUBSTITUTE(SUBSTITUTE(_xlfn.ARRAYTOTEXT(IF('Risikovurdering - mal '!$L$2:$L$200=ROW()-2,IF('Risikovurdering - mal '!$M$2:$M$200=COLUMN()-1,"R"&'Risikovurdering - mal '!$A$2:$A$200,""),""))," ;",""),";",",")))-2),IF(LEFT(SUBSTITUTE(SUBSTITUTE(_xlfn.ARRAYTOTEXT(IF('Risikovurdering - mal '!$L$2:$L$200=ROW()-2,IF('Risikovurdering - mal '!$M$2:$M$200=COLUMN()-1,"R"&'Risikovurdering - mal '!$A$2:$A$200,""),""))," ;",""),";",","),2)=", ",RIGHT(SUBSTITUTE(SUBSTITUTE(_xlfn.ARRAYTOTEXT(IF('Risikovurdering - mal '!$L$2:$L$200=ROW()-2,IF('Risikovurdering - mal '!$M$2:$M$200=COLUMN()-1,"R"&'Risikovurdering - mal '!$A$2:$A$200,""),""))," ;",""),";",","),LEN(SUBSTITUTE(SUBSTITUTE(_xlfn.ARRAYTOTEXT(IF('Risikovurdering - mal '!$L$2:$L$200=ROW()-2,IF('Risikovurdering - mal '!$M$2:$M$200=COLUMN()-1,"R"&'Risikovurdering - mal '!$A$2:$A$200,""),""))," ;",""),";",","))-2),SUBSTITUTE(SUBSTITUTE(_xlfn.ARRAYTOTEXT(IF('Risikovurdering - mal '!$L$2:$L$200=ROW()-2,IF('Risikovurdering - mal '!$M$2:$M$200=COLUMN()-1,"R"&'Risikovurdering - mal '!$A$2:$A$200,""),""))," ;",""),";",",")))} | E4: {=IF(RIGHT(IF(LEFT(SUBSTITUTE(SUBSTITUTE(_xlfn.ARRAYTOTEXT(IF('Risikovurdering - mal '!$L$2:$L$200=ROW()-2,IF('Risikovurdering - mal '!$M$2:$M$200=COLUMN()-1,"R"&'Risikovurdering - mal '!$A$2:$A$200,""),""))," ;",""),";",","),2)=", ",RIGHT(SUBSTITUTE(SUBSTITUTE(_xlfn.ARRAYTOTEXT(IF('Risikovurdering - mal '!$L$2:$L$200=ROW()-2,IF('Risikovurdering - mal '!$M$2:$M$200=COLUMN()-1,"R"&'Risikovurdering - mal '!$A$2:$A$200,""),""))," ;",""),";",","),LEN(SUBSTITUTE(SUBSTITUTE(_xlfn.ARRAYTOTEXT(IF('Risikovurdering - mal '!$L$2:$L$200=ROW()-2,IF('Risikovurdering - mal '!$M$2:$M$200=COLUMN()-1,"R"&'Risikovurdering - mal '!$A$2:$A$200,""),""))," ;",""),";",","))-2),SUBSTITUTE(SUBSTITUTE(_xlfn.ARRAYTOTEXT(IF('Risikovurdering - mal '!$L$2:$L$200=ROW()-2,IF('Risikovurdering - mal '!$M$2:$M$200=COLUMN()-1,"R"&'Risikovurdering - mal '!$A$2:$A$200,""),""))," ;",""),";",",")),2)=", ",LEFT(IF(LEFT(SUBSTITUTE(SUBSTITUTE(_xlfn.ARRAYTOTEXT(IF('Risikovurdering - mal '!$L$2:$L$200=ROW()-2,IF('Risikovurdering - mal '!$M$2:$M$200=COLUMN()-1,"R"&'Risikovurdering - mal '!$A$2:$A$200,""),""))," ;",""),";",","),2)=", ",RIGHT(SUBSTITUTE(SUBSTITUTE(_xlfn.ARRAYTOTEXT(IF('Risikovurdering - mal '!$L$2:$L$200=ROW()-2,IF('Risikovurdering - mal '!$M$2:$M$200=COLUMN()-1,"R"&'Risikovurdering - mal '!$A$2:$A$200,""),""))," ;",""),";",","),LEN(SUBSTITUTE(SUBSTITUTE(_xlfn.ARRAYTOTEXT(IF('Risikovurdering - mal '!$L$2:$L$200=ROW()-2,IF('Risikovurdering - mal '!$M$2:$M$200=COLUMN()-1,"R"&'Risikovurdering - mal '!$A$2:$A$200,""),""))," ;",""),";",","))-2),SUBSTITUTE(SUBSTITUTE(_xlfn.ARRAYTOTEXT(IF('Risikovurdering - mal '!$L$2:$L$200=ROW()-2,IF('Risikovurdering - mal '!$M$2:$M$200=COLUMN()-1,"R"&'Risikovurdering - mal '!$A$2:$A$200,""),""))," ;",""),";",",")),LEN(IF(LEFT(SUBSTITUTE(SUBSTITUTE(_xlfn.ARRAYTOTEXT(IF('Risikovurdering - mal '!$L$2:$L$200=ROW()-2,IF('Risikovurdering - mal '!$M$2:$M$200=COLUMN()-1,"R"&'Risikovurdering - mal '!$A$2:$A$200,""),""))," ;",""),";",","),2)=", ",RIGHT(SUBSTITUTE(SUBSTITUTE(_xlfn.ARRAYTOTEXT(IF('Risikovurdering - mal '!$L$2:$L$200=ROW()-2,IF('Risikovurdering - mal '!$M$2:$M$200=COLUMN()-1,"R"&'Risikovurdering - mal '!$A$2:$A$200,""),""))," ;",""),";",","),LEN(SUBSTITUTE(SUBSTITUTE(_xlfn.ARRAYTOTEXT(IF('Risikovurdering - mal '!$L$2:$L$200=ROW()-2,IF('Risikovurdering - mal '!$M$2:$M$200=COLUMN()-1,"R"&'Risikovurdering - mal '!$A$2:$A$200,""),""))," ;",""),";",","))-2),SUBSTITUTE(SUBSTITUTE(_xlfn.ARRAYTOTEXT(IF('Risikovurdering - mal '!$L$2:$L$200=ROW()-2,IF('Risikovurdering - mal '!$M$2:$M$200=COLUMN()-1,"R"&'Risikovurdering - mal '!$A$2:$A$200,""),""))," ;",""),";",",")))-2),IF(LEFT(SUBSTITUTE(SUBSTITUTE(_xlfn.ARRAYTOTEXT(IF('Risikovurdering - mal '!$L$2:$L$200=ROW()-2,IF('Risikovurdering - mal '!$M$2:$M$200=COLUMN()-1,"R"&'Risikovurdering - mal '!$A$2:$A$200,""),""))," ;",""),";",","),2)=", ",RIGHT(SUBSTITUTE(SUBSTITUTE(_xlfn.ARRAYTOTEXT(IF('Risikovurdering - mal '!$L$2:$L$200=ROW()-2,IF('Risikovurdering - mal '!$M$2:$M$200=COLUMN()-1,"R"&'Risikovurdering - mal '!$A$2:$A$200,""),""))," ;",""),";",","),LEN(SUBSTITUTE(SUBSTITUTE(_xlfn.ARRAYTOTEXT(IF('Risikovurdering - mal '!$L$2:$L$200=ROW()-2,IF('Risikovurdering - mal '!$M$2:$M$200=COLUMN()-1,"R"&'Risikovurdering - mal '!$A$2:$A$200,""),""))," ;",""),";",","))-2),SUBSTITUTE(SUBSTITUTE(_xlfn.ARRAYTOTEXT(IF('Risikovurdering - mal '!$L$2:$L$200=ROW()-2,IF('Risikovurdering - mal '!$M$2:$M$200=COLUMN()-1,"R"&'Risikovurdering - mal '!$A$2:$A$200,""),""))," ;",""),";",",")))}
A5: SVÆRT SANNSYNLIG (>75%) | B5: {=IF(RIGHT(IF(LEFT(SUBSTITUTE(SUBSTITUTE(_xlfn.ARRAYTOTEXT(IF('Risikovurdering - mal '!$L$2:$L$200=ROW()-2,IF('Risikovurdering - mal '!$M$2:$M$200=COLUMN()-1,"R"&'Risikovurdering - mal '!$A$2:$A$200,""),""))," ;",""),";",","),2)=", ",RIGHT(SUBSTITUTE(SUBSTITUTE(_xlfn.ARRAYTOTEXT(IF('Risikovurdering - mal '!$L$2:$L$200=ROW()-2,IF('Risikovurdering - mal '!$M$2:$M$200=COLUMN()-1,"R"&'Risikovurdering - mal '!$A$2:$A$200,""),""))," ;",""),";",","),LEN(SUBSTITUTE(SUBSTITUTE(_xlfn.ARRAYTOTEXT(IF('Risikovurdering - mal '!$L$2:$L$200=ROW()-2,IF('Risikovurdering - mal '!$M$2:$M$200=COLUMN()-1,"R"&'Risikovurdering - mal '!$A$2:$A$200,""),""))," ;",""),";",","))-2),SUBSTITUTE(SUBSTITUTE(_xlfn.ARRAYTOTEXT(IF('Risikovurdering - mal '!$L$2:$L$200=ROW()-2,IF('Risikovurdering - mal '!$M$2:$M$200=COLUMN()-1,"R"&'Risikovurdering - mal '!$A$2:$A$200,""),""))," ;",""),";",",")),2)=", ",LEFT(IF(LEFT(SUBSTITUTE(SUBSTITUTE(_xlfn.ARRAYTOTEXT(IF('Risikovurdering - mal '!$L$2:$L$200=ROW()-2,IF('Risikovurdering - mal '!$M$2:$M$200=COLUMN()-1,"R"&'Risikovurdering - mal '!$A$2:$A$200,""),""))," ;",""),";",","),2)=", ",RIGHT(SUBSTITUTE(SUBSTITUTE(_xlfn.ARRAYTOTEXT(IF('Risikovurdering - mal '!$L$2:$L$200=ROW()-2,IF('Risikovurdering - mal '!$M$2:$M$200=COLUMN()-1,"R"&'Risikovurdering - mal '!$A$2:$A$200,""),""))," ;",""),";",","),LEN(SUBSTITUTE(SUBSTITUTE(_xlfn.ARRAYTOTEXT(IF('Risikovurdering - mal '!$L$2:$L$200=ROW()-2,IF('Risikovurdering - mal '!$M$2:$M$200=COLUMN()-1,"R"&'Risikovurdering - mal '!$A$2:$A$200,""),""))," ;",""),";",","))-2),SUBSTITUTE(SUBSTITUTE(_xlfn.ARRAYTOTEXT(IF('Risikovurdering - mal '!$L$2:$L$200=ROW()-2,IF('Risikovurdering - mal '!$M$2:$M$200=COLUMN()-1,"R"&'Risikovurdering - mal '!$A$2:$A$200,""),""))," ;",""),";",",")),LEN(IF(LEFT(SUBSTITUTE(SUBSTITUTE(_xlfn.ARRAYTOTEXT(IF('Risikovurdering - mal '!$L$2:$L$200=ROW()-2,IF('Risikovurdering - mal '!$M$2:$M$200=COLUMN()-1,"R"&'Risikovurdering - mal '!$A$2:$A$200,""),""))," ;",""),";",","),2)=", ",RIGHT(SUBSTITUTE(SUBSTITUTE(_xlfn.ARRAYTOTEXT(IF('Risikovurdering - mal '!$L$2:$L$200=ROW()-2,IF('Risikovurdering - mal '!$M$2:$M$200=COLUMN()-1,"R"&'Risikovurdering - mal '!$A$2:$A$200,""),""))," ;",""),";",","),LEN(SUBSTITUTE(SUBSTITUTE(_xlfn.ARRAYTOTEXT(IF('Risikovurdering - mal '!$L$2:$L$200=ROW()-2,IF('Risikovurdering - mal '!$M$2:$M$200=COLUMN()-1,"R"&'Risikovurdering - mal '!$A$2:$A$200,""),""))," ;",""),";",","))-2),SUBSTITUTE(SUBSTITUTE(_xlfn.ARRAYTOTEXT(IF('Risikovurdering - mal '!$L$2:$L$200=ROW()-2,IF('Risikovurdering - mal '!$M$2:$M$200=COLUMN()-1,"R"&'Risikovurdering - mal '!$A$2:$A$200,""),""))," ;",""),";",",")))-2),IF(LEFT(SUBSTITUTE(SUBSTITUTE(_xlfn.ARRAYTOTEXT(IF('Risikovurdering - mal '!$L$2:$L$200=ROW()-2,IF('Risikovurdering - mal '!$M$2:$M$200=COLUMN()-1,"R"&'Risikovurdering - mal '!$A$2:$A$200,""),""))," ;",""),";",","),2)=", ",RIGHT(SUBSTITUTE(SUBSTITUTE(_xlfn.ARRAYTOTEXT(IF('Risikovurdering - mal '!$L$2:$L$200=ROW()-2,IF('Risikovurdering - mal '!$M$2:$M$200=COLUMN()-1,"R"&'Risikovurdering - mal '!$A$2:$A$200,""),""))," ;",""),";",","),LEN(SUBSTITUTE(SUBSTITUTE(_xlfn.ARRAYTOTEXT(IF('Risikovurdering - mal '!$L$2:$L$200=ROW()-2,IF('Risikovurdering - mal '!$M$2:$M$200=COLUMN()-1,"R"&'Risikovurdering - mal '!$A$2:$A$200,""),""))," ;",""),";",","))-2),SUBSTITUTE(SUBSTITUTE(_xlfn.ARRAYTOTEXT(IF('Risikovurdering - mal '!$L$2:$L$200=ROW()-2,IF('Risikovurdering - mal '!$M$2:$M$200=COLUMN()-1,"R"&'Risikovurdering - mal '!$A$2:$A$200,""),""))," ;",""),";",",")))} | C5: {=IF(RIGHT(IF(LEFT(SUBSTITUTE(SUBSTITUTE(_xlfn.ARRAYTOTEXT(IF('Risikovurdering - mal '!$L$2:$L$200=ROW()-2,IF('Risikovurdering - mal '!$M$2:$M$200=COLUMN()-1,"R"&'Risikovurdering - mal '!$A$2:$A$200,""),""))," ;",""),";",","),2)=", ",RIGHT(SUBSTITUTE(SUBSTITUTE(_xlfn.ARRAYTOTEXT(IF('Risikovurdering - mal '!$L$2:$L$200=ROW()-2,IF('Risikovurdering - mal '!$M$2:$M$200=COLUMN()-1,"R"&'Risikovurdering - mal '!$A$2:$A$200,""),""))," ;",""),";",","),LEN(SUBSTITUTE(SUBSTITUTE(_xlfn.ARRAYTOTEXT(IF('Risikovurdering - mal '!$L$2:$L$200=ROW()-2,IF('Risikovurdering - mal '!$M$2:$M$200=COLUMN()-1,"R"&'Risikovurdering - mal '!$A$2:$A$200,""),""))," ;",""),";",","))-2),SUBSTITUTE(SUBSTITUTE(_xlfn.ARRAYTOTEXT(IF('Risikovurdering - mal '!$L$2:$L$200=ROW()-2,IF('Risikovurdering - mal '!$M$2:$M$200=COLUMN()-1,"R"&'Risikovurdering - mal '!$A$2:$A$200,""),""))," ;",""),";",",")),2)=", ",LEFT(IF(LEFT(SUBSTITUTE(SUBSTITUTE(_xlfn.ARRAYTOTEXT(IF('Risikovurdering - mal '!$L$2:$L$200=ROW()-2,IF('Risikovurdering - mal '!$M$2:$M$200=COLUMN()-1,"R"&'Risikovurdering - mal '!$A$2:$A$200,""),""))," ;",""),";",","),2)=", ",RIGHT(SUBSTITUTE(SUBSTITUTE(_xlfn.ARRAYTOTEXT(IF('Risikovurdering - mal '!$L$2:$L$200=ROW()-2,IF('Risikovurdering - mal '!$M$2:$M$200=COLUMN()-1,"R"&'Risikovurdering - mal '!$A$2:$A$200,""),""))," ;",""),";",","),LEN(SUBSTITUTE(SUBSTITUTE(_xlfn.ARRAYTOTEXT(IF('Risikovurdering - mal '!$L$2:$L$200=ROW()-2,IF('Risikovurdering - mal '!$M$2:$M$200=COLUMN()-1,"R"&'Risikovurdering - mal '!$A$2:$A$200,""),""))," ;",""),";",","))-2),SUBSTITUTE(SUBSTITUTE(_xlfn.ARRAYTOTEXT(IF('Risikovurdering - mal '!$L$2:$L$200=ROW()-2,IF('Risikovurdering - mal '!$M$2:$M$200=COLUMN()-1,"R"&'Risikovurdering - mal '!$A$2:$A$200,""),""))," ;",""),";",",")),LEN(IF(LEFT(SUBSTITUTE(SUBSTITUTE(_xlfn.ARRAYTOTEXT(IF('Risikovurdering - mal '!$L$2:$L$200=ROW()-2,IF('Risikovurdering - mal '!$M$2:$M$200=COLUMN()-1,"R"&'Risikovurdering - mal '!$A$2:$A$200,""),""))," ;",""),";",","),2)=", ",RIGHT(SUBSTITUTE(SUBSTITUTE(_xlfn.ARRAYTOTEXT(IF('Risikovurdering - mal '!$L$2:$L$200=ROW()-2,IF('Risikovurdering - mal '!$M$2:$M$200=COLUMN()-1,"R"&'Risikovurdering - mal '!$A$2:$A$200,""),""))," ;",""),";",","),LEN(SUBSTITUTE(SUBSTITUTE(_xlfn.ARRAYTOTEXT(IF('Risikovurdering - mal '!$L$2:$L$200=ROW()-2,IF('Risikovurdering - mal '!$M$2:$M$200=COLUMN()-1,"R"&'Risikovurdering - mal '!$A$2:$A$200,""),""))," ;",""),";",","))-2),SUBSTITUTE(SUBSTITUTE(_xlfn.ARRAYTOTEXT(IF('Risikovurdering - mal '!$L$2:$L$200=ROW()-2,IF('Risikovurdering - mal '!$M$2:$M$200=COLUMN()-1,"R"&'Risikovurdering - mal '!$A$2:$A$200,""),""))," ;",""),";",",")))-2),IF(LEFT(SUBSTITUTE(SUBSTITUTE(_xlfn.ARRAYTOTEXT(IF('Risikovurdering - mal '!$L$2:$L$200=ROW()-2,IF('Risikovurdering - mal '!$M$2:$M$200=COLUMN()-1,"R"&'Risikovurdering - mal '!$A$2:$A$200,""),""))," ;",""),";",","),2)=", ",RIGHT(SUBSTITUTE(SUBSTITUTE(_xlfn.ARRAYTOTEXT(IF('Risikovurdering - mal '!$L$2:$L$200=ROW()-2,IF('Risikovurdering - mal '!$M$2:$M$200=COLUMN()-1,"R"&'Risikovurdering - mal '!$A$2:$A$200,""),""))," ;",""),";",","),LEN(SUBSTITUTE(SUBSTITUTE(_xlfn.ARRAYTOTEXT(IF('Risikovurdering - mal '!$L$2:$L$200=ROW()-2,IF('Risikovurdering - mal '!$M$2:$M$200=COLUMN()-1,"R"&'Risikovurdering - mal '!$A$2:$A$200,""),""))," ;",""),";",","))-2),SUBSTITUTE(SUBSTITUTE(_xlfn.ARRAYTOTEXT(IF('Risikovurdering - mal '!$L$2:$L$200=ROW()-2,IF('Risikovurdering - mal '!$M$2:$M$200=COLUMN()-1,"R"&'Risikovurdering - mal '!$A$2:$A$200,""),""))," ;",""),";",",")))} | D5: {=IF(RIGHT(IF(LEFT(SUBSTITUTE(SUBSTITUTE(_xlfn.ARRAYTOTEXT(IF('Risikovurdering - mal '!$L$2:$L$200=ROW()-2,IF('Risikovurdering - mal '!$M$2:$M$200=COLUMN()-1,"R"&'Risikovurdering - mal '!$A$2:$A$200,""),""))," ;",""),";",","),2)=", ",RIGHT(SUBSTITUTE(SUBSTITUTE(_xlfn.ARRAYTOTEXT(IF('Risikovurdering - mal '!$L$2:$L$200=ROW()-2,IF('Risikovurdering - mal '!$M$2:$M$200=COLUMN()-1,"R"&'Risikovurdering - mal '!$A$2:$A$200,""),""))," ;",""),";",","),LEN(SUBSTITUTE(SUBSTITUTE(_xlfn.ARRAYTOTEXT(IF('Risikovurdering - mal '!$L$2:$L$200=ROW()-2,IF('Risikovurdering - mal '!$M$2:$M$200=COLUMN()-1,"R"&'Risikovurdering - mal '!$A$2:$A$200,""),""))," ;",""),";",","))-2),SUBSTITUTE(SUBSTITUTE(_xlfn.ARRAYTOTEXT(IF('Risikovurdering - mal '!$L$2:$L$200=ROW()-2,IF('Risikovurdering - mal '!$M$2:$M$200=COLUMN()-1,"R"&'Risikovurdering - mal '!$A$2:$A$200,""),""))," ;",""),";",",")),2)=", ",LEFT(IF(LEFT(SUBSTITUTE(SUBSTITUTE(_xlfn.ARRAYTOTEXT(IF('Risikovurdering - mal '!$L$2:$L$200=ROW()-2,IF('Risikovurdering - mal '!$M$2:$M$200=COLUMN()-1,"R"&'Risikovurdering - mal '!$A$2:$A$200,""),""))," ;",""),";",","),2)=", ",RIGHT(SUBSTITUTE(SUBSTITUTE(_xlfn.ARRAYTOTEXT(IF('Risikovurdering - mal '!$L$2:$L$200=ROW()-2,IF('Risikovurdering - mal '!$M$2:$M$200=COLUMN()-1,"R"&'Risikovurdering - mal '!$A$2:$A$200,""),""))," ;",""),";",","),LEN(SUBSTITUTE(SUBSTITUTE(_xlfn.ARRAYTOTEXT(IF('Risikovurdering - mal '!$L$2:$L$200=ROW()-2,IF('Risikovurdering - mal '!$M$2:$M$200=COLUMN()-1,"R"&'Risikovurdering - mal '!$A$2:$A$200,""),""))," ;",""),";",","))-2),SUBSTITUTE(SUBSTITUTE(_xlfn.ARRAYTOTEXT(IF('Risikovurdering - mal '!$L$2:$L$200=ROW()-2,IF('Risikovurdering - mal '!$M$2:$M$200=COLUMN()-1,"R"&'Risikovurdering - mal '!$A$2:$A$200,""),""))," ;",""),";",",")),LEN(IF(LEFT(SUBSTITUTE(SUBSTITUTE(_xlfn.ARRAYTOTEXT(IF('Risikovurdering - mal '!$L$2:$L$200=ROW()-2,IF('Risikovurdering - mal '!$M$2:$M$200=COLUMN()-1,"R"&'Risikovurdering - mal '!$A$2:$A$200,""),""))," ;",""),";",","),2)=", ",RIGHT(SUBSTITUTE(SUBSTITUTE(_xlfn.ARRAYTOTEXT(IF('Risikovurdering - mal '!$L$2:$L$200=ROW()-2,IF('Risikovurdering - mal '!$M$2:$M$200=COLUMN()-1,"R"&'Risikovurdering - mal '!$A$2:$A$200,""),""))," ;",""),";",","),LEN(SUBSTITUTE(SUBSTITUTE(_xlfn.ARRAYTOTEXT(IF('Risikovurdering - mal '!$L$2:$L$200=ROW()-2,IF('Risikovurdering - mal '!$M$2:$M$200=COLUMN()-1,"R"&'Risikovurdering - mal '!$A$2:$A$200,""),""))," ;",""),";",","))-2),SUBSTITUTE(SUBSTITUTE(_xlfn.ARRAYTOTEXT(IF('Risikovurdering - mal '!$L$2:$L$200=ROW()-2,IF('Risikovurdering - mal '!$M$2:$M$200=COLUMN()-1,"R"&'Risikovurdering - mal '!$A$2:$A$200,""),""))," ;",""),";",",")))-2),IF(LEFT(SUBSTITUTE(SUBSTITUTE(_xlfn.ARRAYTOTEXT(IF('Risikovurdering - mal '!$L$2:$L$200=ROW()-2,IF('Risikovurdering - mal '!$M$2:$M$200=COLUMN()-1,"R"&'Risikovurdering - mal '!$A$2:$A$200,""),""))," ;",""),";",","),2)=", ",RIGHT(SUBSTITUTE(SUBSTITUTE(_xlfn.ARRAYTOTEXT(IF('Risikovurdering - mal '!$L$2:$L$200=ROW()-2,IF('Risikovurdering - mal '!$M$2:$M$200=COLUMN()-1,"R"&'Risikovurdering - mal '!$A$2:$A$200,""),""))," ;",""),";",","),LEN(SUBSTITUTE(SUBSTITUTE(_xlfn.ARRAYTOTEXT(IF('Risikovurdering - mal '!$L$2:$L$200=ROW()-2,IF('Risikovurdering - mal '!$M$2:$M$200=COLUMN()-1,"R"&'Risikovurdering - mal '!$A$2:$A$200,""),""))," ;",""),";",","))-2),SUBSTITUTE(SUBSTITUTE(_xlfn.ARRAYTOTEXT(IF('Risikovurdering - mal '!$L$2:$L$200=ROW()-2,IF('Risikovurdering - mal '!$M$2:$M$200=COLUMN()-1,"R"&'Risikovurdering - mal '!$A$2:$A$200,""),""))," ;",""),";",",")))} | E5: {=IF(RIGHT(IF(LEFT(SUBSTITUTE(SUBSTITUTE(_xlfn.ARRAYTOTEXT(IF('Risikovurdering - mal '!$L$2:$L$200=ROW()-2,IF('Risikovurdering - mal '!$M$2:$M$200=COLUMN()-1,"R"&'Risikovurdering - mal '!$A$2:$A$200,""),""))," ;",""),";",","),2)=", ",RIGHT(SUBSTITUTE(SUBSTITUTE(_xlfn.ARRAYTOTEXT(IF('Risikovurdering - mal '!$L$2:$L$200=ROW()-2,IF('Risikovurdering - mal '!$M$2:$M$200=COLUMN()-1,"R"&'Risikovurdering - mal '!$A$2:$A$200,""),""))," ;",""),";",","),LEN(SUBSTITUTE(SUBSTITUTE(_xlfn.ARRAYTOTEXT(IF('Risikovurdering - mal '!$L$2:$L$200=ROW()-2,IF('Risikovurdering - mal '!$M$2:$M$200=COLUMN()-1,"R"&'Risikovurdering - mal '!$A$2:$A$200,""),""))," ;",""),";",","))-2),SUBSTITUTE(SUBSTITUTE(_xlfn.ARRAYTOTEXT(IF('Risikovurdering - mal '!$L$2:$L$200=ROW()-2,IF('Risikovurdering - mal '!$M$2:$M$200=COLUMN()-1,"R"&'Risikovurdering - mal '!$A$2:$A$200,""),""))," ;",""),";",",")),2)=", ",LEFT(IF(LEFT(SUBSTITUTE(SUBSTITUTE(_xlfn.ARRAYTOTEXT(IF('Risikovurdering - mal '!$L$2:$L$200=ROW()-2,IF('Risikovurdering - mal '!$M$2:$M$200=COLUMN()-1,"R"&'Risikovurdering - mal '!$A$2:$A$200,""),""))," ;",""),";",","),2)=", ",RIGHT(SUBSTITUTE(SUBSTITUTE(_xlfn.ARRAYTOTEXT(IF('Risikovurdering - mal '!$L$2:$L$200=ROW()-2,IF('Risikovurdering - mal '!$M$2:$M$200=COLUMN()-1,"R"&'Risikovurdering - mal '!$A$2:$A$200,""),""))," ;",""),";",","),LEN(SUBSTITUTE(SUBSTITUTE(_xlfn.ARRAYTOTEXT(IF('Risikovurdering - mal '!$L$2:$L$200=ROW()-2,IF('Risikovurdering - mal '!$M$2:$M$200=COLUMN()-1,"R"&'Risikovurdering - mal '!$A$2:$A$200,""),""))," ;",""),";",","))-2),SUBSTITUTE(SUBSTITUTE(_xlfn.ARRAYTOTEXT(IF('Risikovurdering - mal '!$L$2:$L$200=ROW()-2,IF('Risikovurdering - mal '!$M$2:$M$200=COLUMN()-1,"R"&'Risikovurdering - mal '!$A$2:$A$200,""),""))," ;",""),";",",")),LEN(IF(LEFT(SUBSTITUTE(SUBSTITUTE(_xlfn.ARRAYTOTEXT(IF('Risikovurdering - mal '!$L$2:$L$200=ROW()-2,IF('Risikovurdering - mal '!$M$2:$M$200=COLUMN()-1,"R"&'Risikovurdering - mal '!$A$2:$A$200,""),""))," ;",""),";",","),2)=", ",RIGHT(SUBSTITUTE(SUBSTITUTE(_xlfn.ARRAYTOTEXT(IF('Risikovurdering - mal '!$L$2:$L$200=ROW()-2,IF('Risikovurdering - mal '!$M$2:$M$200=COLUMN()-1,"R"&'Risikovurdering - mal '!$A$2:$A$200,""),""))," ;",""),";",","),LEN(SUBSTITUTE(SUBSTITUTE(_xlfn.ARRAYTOTEXT(IF('Risikovurdering - mal '!$L$2:$L$200=ROW()-2,IF('Risikovurdering - mal '!$M$2:$M$200=COLUMN()-1,"R"&'Risikovurdering - mal '!$A$2:$A$200,""),""))," ;",""),";",","))-2),SUBSTITUTE(SUBSTITUTE(_xlfn.ARRAYTOTEXT(IF('Risikovurdering - mal '!$L$2:$L$200=ROW()-2,IF('Risikovurdering - mal '!$M$2:$M$200=COLUMN()-1,"R"&'Risikovurdering - mal '!$A$2:$A$200,""),""))," ;",""),";",",")))-2),IF(LEFT(SUBSTITUTE(SUBSTITUTE(_xlfn.ARRAYTOTEXT(IF('Risikovurdering - mal '!$L$2:$L$200=ROW()-2,IF('Risikovurdering - mal '!$M$2:$M$200=COLUMN()-1,"R"&'Risikovurdering - mal '!$A$2:$A$200,""),""))," ;",""),";",","),2)=", ",RIGHT(SUBSTITUTE(SUBSTITUTE(_xlfn.ARRAYTOTEXT(IF('Risikovurdering - mal '!$L$2:$L$200=ROW()-2,IF('Risikovurdering - mal '!$M$2:$M$200=COLUMN()-1,"R"&'Risikovurdering - mal '!$A$2:$A$200,""),""))," ;",""),";",","),LEN(SUBSTITUTE(SUBSTITUTE(_xlfn.ARRAYTOTEXT(IF('Risikovurdering - mal '!$L$2:$L$200=ROW()-2,IF('Risikovurdering - mal '!$M$2:$M$200=COLUMN()-1,"R"&'Risikovurdering - mal '!$A$2:$A$200,""),""))," ;",""),";",","))-2),SUBSTITUTE(SUBSTITUTE(_xlfn.ARRAYTOTEXT(IF('Risikovurdering - mal '!$L$2:$L$200=ROW()-2,IF('Risikovurdering - mal '!$M$2:$M$200=COLUMN()-1,"R"&'Risikovurdering - mal '!$A$2:$A$200,""),""))," ;",""),";",",")))}
B6: UBETYDELIG | C6: MODERAT | D6: ALVORLIG | E6: KRITISK
A9: Grønn - risikoen er akseptabel og ytterligere tiltak er ikke nødvendig
A10: Gul - det må vurderes om ytterligere tiltak er nødvendig og mulig
A11: Rød - risikoen er uakseptabel og krever ytterligere tiltak

Sheet Risikovurdering - eksempler
A2: RisikoID | B2: Aktørgruppe | C2: Aktør | D2: Uønsket hendelse/risikoscenario (Som <aktør> er det en risiko for at [jeg]…) | E2: Årsak/sårbarhet - beskrivelse av hvorfor den uønskede hendelsen kan inntreffe, eventuelt hvordan det kan skje ( brukes som grunnlag for å beskrive sannsynlighet) | F2: Hva er konsekvensen hvis risikohendelsen inntreffer? (en kort tekstlig beskrivelse av hva som kan skje hvis tiltak ikke blir iverksatt- brukes som grunnlag for å vurdere konsekvens) | G2: Eksisterende tiltak | H2: Initiell sannsynlighet (vurdert etter eksisterende tiltak) | I2: Initiell konsekvens (vurdert etter eksisterende tiltak) | J2: Initiell risikoscore (vurdert etter eksisterende tiltak) | K2: Nye tiltak som kan redusere risiko | L2: Sannsynlighet etter nye tiltak | M2: Konsekvens etter nye tiltak | N2: Risikoscore etter nye tiltak | O2: Ansvarlig for å etablere/gjennomføre nye risikoreduserende tiltak | P2: Frist for å etablere/gjennomføre nye risikoreduserende tiltak
A3: 1 | B3: Kommune | C3: Helge HelseIT | D3: Lydlogg er tilgjengelig for uvedkommende | E3: Dersom lydlogg ikke er sikret tilstrekkelig vil lydlogg-data kunne være tilgjengelig for uvedkommmende. | F3: Sensitiv informasjon på avveie | H3: 2 | I3: 4 | J3: =H3*I3 -> 8 | K3: Sørge for riktig tilgangsstyring for avspilling av lydlogg. Faste rutiner på hvordan lydlogg skal avspilles | L3: 2 | M3: 2 | N3: =L3*M3 -> 4
A4: 2 | B4: Kommune | C4: Siri Systemintegratør | D4: Uønsket nedlastning/bruk av smarttelefon med PAVA app | E4: Telefonene som benyttes er ikke styrt av MDM løsning. For vide rettigheter på smarttelefonene | F4: Uønskede får tilgang til informasjon som kjøres i PAVA app | H4: 2 | I4: 3 | J4: =H4*I4 -> 6 | K4: Smarttelefoner rulles inn i MDM løsning for oppsett av regelsett og rettigheter | L4: 1 | M4: 2 | N4: =L4*M4 -> 2
A5: 3 | B5: Leverandør | C5: Lars Leverandør | D5: "Geogjerde" eller andre parametere som skal utløse varslinger er definert ukorrekt. | E5: Det skjer endringer i tjenestemottakers behov, ansatt glemmer i den forbindelse å oppdatere definert «geogjerde» i fagsystem. | F5: Hendelsen kan medføre falsk trygghet i form av tjenesten baseres på at definerte hendelser varsles, mens det i realiteten kan være at det ikke varsles når den definerte hendelsen oppstår. Tjenestemottaker kan rote seg bort og få problemer med å komme seg hjem. Fare for at tjenestemottaker ikke mottar nødvendig helsehjelp. | H5: 2 | I5: 3 | J5: =H5*I5 -> 6 | K5: Etablere prosedyre for å sikre at det gis adekvat og dokumentert opplæring av involverte ansatte. Etablere sjekkliste, eller implementere i allerede etablert sjekkliste, for å ivareta at nødvendige forarbeid og videre oppfølging gjennomføres korrekt. | L5: 1 | M5: 2 | N5: =L5*M5 -> 2
A6: 4 | B6: Den registrerte | C6: Turid tjenestemottaker | D6: Tjenestemottaker tar ikke medisinen | E6: Tjenstemottaker tar ut posen, men tar ikke medisinen slik den er foreskrevet | F6: Funksjonssvikt, redusert allmenntilstand kan føre til dårlig omdømme for kommunen | H6: 2 | I6: 4 | J6: =H6*I6 -> 8 | K6: Rutine for oppfølging av bruker fortløpende daglig første periode, etter dette fast oppfølging hver 14 dag ved ny medisinrull med kartlegging om tiltaket fortsatt fungerer som planlagt. Kartlegg brukerbehov og evt alternativ løsning. Dokumenter | L6: 1 | M6: 4 | N6: =L6*M6 -> 4
A7: 5 | B7: Leverandør | C7: Lars Leverandør | D7: Mottar ikke varsler om utstyr som ikke er i kontakt med løsningen | E7: Manglende "heart beat"-funksjoner | F7: Tjenestemottaker mottar ikke hjelp | H7: 2 | I7: 3 | J7: =H7*I7 -> 6 | K7: Kravstille ved anskaffelse | L7: 1 | M7: 3 | N7: =L7*M7 -> 3
A8: 6 | B8: Uvedkommende | C8: Krøsus Kriminell | D8: Avlytting av nettverkstrafikk - uvedkommende får tilgang til data, og kan gi svekket omdømme for kommunen vedrørende personsikkerhet | E8: Sikkerhetshull pga svakheter | F8: Uvedkommende får tilgang til data, og kan gi svekket omdømme for kommunen vedrørende personsikkerhet | H8: 2 | I8: 4 | J8: =H8*I8 -> 8 | K8: Gode oppdateringsrutine og overvåkning med varsling i alle ledd av løsningen slik at sikkerhetshull tettes, og eventuelle systemfeil eller tekniske feil blir oppdaget og kan løses raskest mulig | L8: 1 | M8: 3 | N8: =L8*M8 -> 3
A9: 7
A10: 8
A11: 9
A12: 10
A13: 11
A14: 12
A15: 13
A16: 14
A17: 15
A18: 16
A19: 17
A20: 18
... A39: 37

Sheet Oppslag - Felles hendelser
A1: Aktørgruppe | B1: Aktør | C1: Uønsket hendelse/risikoscenario (Som <aktør> er det en risiko for at [jeg]…) | D1: Årsak/sårbarhet - beskrivelse av hvorfor den uønskede hendelsen kan inntreffe, eventuelt hvordan det kan skje ( brukes som grunnlag for å beskrive sannsynlighet) | E1: Hva er konsekvensen hvis risikohendelsen inntreffer? (en kort tekstlig beskrivelse av hva som kan skje hvis tiltak ikke blir iverksatt- brukes som grunnlag for å vurdere konsekvens) | F1: Tiltak som kan redusere risiko | G1: Digitalt tilsyn | H1: Elektronisk medisinerings-støtte | I1: Lokaliserings-teknologi | J1: Pasient-varslingsanlegg(PAVA) | K1: Trygghets-alarmer
G2: Teknologier som ikke er vurdert å kunne ha hendelser som er markert med "x" er markert med gult. Det anbefales likevel å vurdere disse for aktuell teknologi for å sikre at alle relevante uønskede hendelser blir vurdert.
A3: Leverandør | B3: Lars Leverandør | C3: Datainnhenting - kommunikasjon mellom velferdsteknologisytem og journal - er ikke satt opp i samsvar med avtale | D3: Rutiner for oppsett, herunder testing er ikke utført som forutsatt | E3: Sensitiv informasjon på avveie. Dårlig omdømme og muligens også bot fra Datatilsynet | F3: Forsvarlige rutiner for datainnhenting. Kryptert datatrafikk mellom systemer | G3: x | H3: x | I3: x | J3: x | K3: x
A4: Kommune | B4: Helge HelseIT-leder | C4: Datainnhenting - kommunikasjon mellom velferdsteknologisytem og journal - er ikke satt opp i samsvar med avtale | D4: Rutiner for oppsett, herunder testing er ikke utført som forutsatt | E4: Sensitiv informasjon på avveie. Dårlig omdømme og muligens også bot fra Datatilsynet | F4: Forsvarlige rutiner for datainnhenting. Kryptert datatrafikk mellom systemer | G4: x | H4: x | I4: x
A5: Leverandør | B5: Lars Leverandør | C5: Det oppstår "Støy" (interferens) som påvirker alarmer eller sensorer hos tjenestemottaker, eller radiofrekvens (jamming) | D5: Ikke optimalt oppsett av utstyr i hjemmet | E5: Mange sensorer som kan kobles på. Kan føre til at tjenestemottaker får ikke den hjelp som er planlagt/lovt og kan også føre til dårlig omdømme for kommunen | F5: Systemvarsler når sensorer er utsatt for jamming eller at systemet mangler kontakt med sensorer. Innarbeidede rutiner for håndtering av systemvarsler | G5: x | H5: x | K5: x
A6: Leverandør | B6: Lars Leverandør | C6: Mangelfull mobildekning o.l. | D6: Telefoni/tale vs data, mobildekning -avhengighet av teleselskapene | E6: Tjenestemottaker får ikke den hjelp som er planlagt/lovt og kan også føre til dårlig omdømme for kommunen | F6: Løsninger bør ha duplisitet slik at dersom en signalvei stoppes eller sperres så kan en annen ta over. | G6: x | H6: x | I6: x | K6: x
A7: Kommune | B7: Helge HelseIT-leder | C7: Lydlogg er tilgjengelig for uvedkommende | D7: Dersom lydlogg ikke er sikret tilstrekkelig vil lydlogg-data kunne være tilgjengelig for uvedkommmende. | E7: Sensitiv informasjon på avveie. Dårlig omdømme og muligens også bot fra Datatilsynet | F7: Sørge for riktig tilgangsstyring for avspilling av lydlogg. Faste rutiner på hvordan lydlogg skal avspilles. Avhengig av bruk av responssenter. | G7: x | H7: x | I7: x | J7: x | K7: x
A8: Leverandør | B8: Lars Leverandør | C8: Lydlogg oppbevares for lenge eller slettes ikke | D8: Lydlogg som ikke slettes har en større risiko for misbruk. | E8: Brudd på personvernlovgivningen. Dårlig omdømme og muligens også bot fra Datatilsynet | F8: Sørge for faste rutiner for forsvarlig oppbevaring/lagring og sletterutiner for lydlogg | G8: x | H8: x | I8: x | J8: x | K8: x
A9: Kommune | B9: Komila Kommunalsjef | C9: Det eksisterer foreldede data i forsystem | D9: Data som legges inn i løsningen forsystem vil i løpet av avtaleperioden kunne endre seg - både sykdomsbilde, hjelpebehov mv. Foreldede data kan gi feilaktige vurderinger med tanke på hjelp og hjelpebehov | E9: Feil bruk av tjenesten og kan få store konsekvenser for tjenestemottakeren og dårlig omdømme for kommunen | F9: Rutiner for oppdatering av data i forsystem og journal. Oppfølging av tiltak | G9: x | H9: x | I9: x | J9: x | K9: x
A10: Kommune | B10: Komila Kommunalsjef | C10: Feil oppstår som er knyttet til pårørendeinnvolvering i alarmkjeden | D10: Svakheter knyttet til pårørendeinnvolvering i alarmkjeden | E10: Pårørendeinnvolvering i alarmkjeden kan i prinsippet føre til at uvedkommende eller uønskede personer får tilgang til å kontakte løsningenen eller motta varsel | F10: Forsvarlig tilgangskontroll, kryptering av data mellom enheter. Tydelige rutiner på hvem som kan involveres i en alarmkjede | G10: x | H10: x | I10: x | K10: x
A11: Leverandør | B11: Lars Leverandør | C11: Løsningen har svakheter knyttet til kommunikasjon mellom enheter | D11: Dersom alarmer ikke mottas i forsystemet vil man i ytterste konsekvens kunne ha fatale utfall. | E11: Tjenestemottaker får ikke den hjelp som er planlagt/lovt og kan føre til brudd på pasientsikkerhet og dårlig omdømme for kommunen | F11: Gode overvåkningsrutiner med varsling, i alle ledd av løsningen slik at eventuelle systemfeil eller tekniske feil blir oppdaget og kan løses raskest mulig | G11: x | H11: x | I11: x | J11: x | K11: x
A12: Leverandør | B12: Lars Leverandør | C12: løsningen har svakheter knyttet til kommunikasjon mellom enheter | D12: Utilgjengelighet til databaser, tilknyttet forsystem og/eller dårlig sikrede datalinjer | E12: Tjenestemottaker får ikke den hjelp som er planlagt/lovt og kan føre til brudd på pasientsikkerhet og dårlig omdømme for kommunen | F12: Sikker datatransport, kryptering, egne linjer | G12: x | H12: x | I12: x | J12: x | K12: x
A13: Kommune | B13: Helge HelseIT-leder | C13: Deler av nettverket, eksempelvis 2G eller 4G del av mobilnettet er nede/delvis ute av drift | D13: Tjenesten kan være avhengig av flere komponenter i mobilnettet for å kunne fungere | E13: Tjenestemottaker får ikke den hjelp som er planlagt/lovt og kan føre til brudd på pasientsikkerhet og dårlig omdømme for kommunen | F13: Alternative metoder for mottak av alarmer. Nettverk eller SMS | G13: x | K13: x
A14: Kommune | B14: Terje Hjelpemiddeltekniker/Vanja Vaktmester | C14: Feil i konfigurasjon av utstyret hos tjenestemottaker | D14: Feil konfigurasjon av utstyr kan føre til at alarmer ikke responderer som forventet eller at alarmeringer ikke når mottaket. | E14: Tjenestemottaker får ikke den hjelp som er planlagt/lovt og kan føre til brudd på pasientsikkerhet og dårlig omdømme for kommunen | F14: Fastlagte rutiner for hvordan konfigurasjon av utstyr skal foregå, både på kontor i forkant av montering og hjemme hos tjenestemottaker. Standardiserte testrutiner ved montering | G14: x | H14: x | I14: x | J14: x | K14: x
A15: Kommune | B15: Terje Hjelpemiddeltekniker/Vanja Vaktmester | C15: Dårlig evt manglende mobildekning hos tjenestemottaker | D15: Flere steder er det fremdeles dårlig mobildekning eller deler av nettet er ikke godt nok utbygd for å kunne takle den datatrafikken som tjenesten krever | E15: Tjenestemottaker får ikke den hjelp som er planlagt/lovt og kan føre til brudd på pasientsikkerhet og dårlig omdømme for kommunen | F15: Alternative løsninger med tanke på antenner eller oppkoblingsmetoder. Teste mottaksforhold før det sette i drift hos den enkelte | G15: x | H15: x | I15: x | K15: x
A16: Uvedkommende | B16: Krøsus Kriminell | C16: Avlytting av nettverkstrafikk - uvedkommende får tilgang til data, og kan gi svekket omdømme for kommunen vedrørende personsikkerhet | D16: Sikkerhetshull pga svakheter | E16: Uvedkommende får tilgang til data, og kan gi svekket omdømme for kommunen vedrørende personsikkerhet | F16: Gode oppdateringsrutine og overvåkning med varsling i alle ledd av løsningen slik at sikkerhetshull tettes, og eventuelle systemfeil eller tekniske feil blir oppdaget og kan løses raskest mulig | G16: x | H16: x | I16: x | J16: x | K16: x
A17: Kommune | B17: Helge HelseIT-leder | C17: Det benyttes en kombinasjon av løsninger som ikke har tilstrekkelig redundans/duplisitet i alle ledd | D17: Alarmer som er avhengig av nettverk for å kunne varsle vil kunne ha problemer med å få sendt korrekte signal dersom nettverket settes ut av spill | E17: Tjenestemottaker får ikke den hjelp som er planlagt/lovt og kan føre til brudd på pasientsikkerhet og dårlig omdømme for kommunen | F17: Redundans/duplisitet i løsninger, alternative varslingsveier når den normale varslingsveien ikke er tilgjengelig | G17: x | H17: x | I17: x | J17: x | K17: x
A18: Kommune | B18: Helge HelseIT-leder | C18: Varsel om strømbrudd mangler, eller kommer for sent | D18: Alle teknologitjenester er avhengig av strøm for å kunne fungere. Bortfall av strøm vil skje. Varigheten av strømbortfall vil kunne påvirke tjenesten. | E18: Tjenestemottaker får ikke den hjelp som er planlagt/lovt og kan føre til brudd på pasientsikkerhet og dårlig omdømme for kommunen | F18: Varsler om strømbrudd, strøm tilbake og batterivarsler. Gode, felles rutiner for håndtering av strømbruddsvarsel. God nok batterikapasitet når tjenesten må driftes på batteri. Bytte batteri som er dårlige slik at tjenesten opprettholdes for tjenestemottaker | G18: x | H18: x | I18: x | J18: x | K18: x
A19: Kommune | B19: Siri Systemintegratør | C19: Upersonlig pleieralarm gir manglende loggføring | D19: Kommunen velger upersonlig pleieralarm som da ikke logger hvem pleier som har hatt hvilken pleieralarm. Grunnen til valget er manglende funksjonalitet tilknyttet varslingskjede. Varslingskjede er standarisert og kan ikke velges av den ansatte | E19: Ikke mulig å ettergå hvilken ansatt som har hatt hvilken pleieralarm uten et eget side regnskap | F19: Rutiner for manuell nn/utsjekk av alarmer, Utbedring av funksjonalitet | G19: x | J19: x
A20: Kommune | B20: Hjalmar Hjemmesykepleier | C20: Smarttelefon med PAVA app på avveie | D20: Smarttelefoner er ikke beskyttet med skjermlåskode. Smarttelefonene oppbevares ikke på trygg plass når de ikke er i bruk | E20: Uvedkommende får tilgang til smartelefon inkludert data i PAVA app. Dårlig omdømme og muligens også bor fra Datatilsynet | F20: Rutiner for oppbevaring av smartelefoner. Merking av telefoner | G20: x | J20: x
A21: Kommune | B21: Komila Kommunalsjef | C21: Beboeralarm virker ikke | D21: Batteri er tomt. beboeralarm er satt opp feil | E21: Beboer får ikke tilkalt hjelp og kan føre til dårlig omdømme for kommunen | F21: Rutiner for oppsett og sjekk av beboeralarm. Plan B prosedyre. Rutiner for melding av feil til support | G21: x | J21: x
A22: Kommune | B22: Hjalmar Hjemmesykepleier | C22: Beboer kan ikke benytte beboeralarm | D22: Det er ikke utført tilstrekkelig kartlegging av beboer i forhold til riktig bruk av sensorikk for varsling | E22: Beboer får ikke tilkalt hjelp og kan føre til kan føre til brudd på pasientsikkerhet og dårlig omdømme for kommunen | F22: Rutiner for kartlegging av beboers behov. Oversikt over alternative løsninger for beboer | G22: x | J22: x
A23: Den registrerte | B23: Turid tjenestemottaker | C23: Beboeralarm på avveie | D23: Beboer har mistet alarmen | E23: Beboer får ikke tilkalt hjelp og kan føre til kan føre til brudd på pasientsikkerhet og dårlig omdømme for kommunen | F23: Rutiner for oppbevaring av beboeralarmer som ikke er i bruk. Samt vandrealarm for å unngå at beboer/pasient tar alarm ut av huset | G23: x | J23: x
A24: Kommune | B24: Helge HelseIT-leder | C24: Bortfall av strøm | D24: Brudd i strømnettet. Sentralutstyr mister strømforbindelse og slutter å fungere og løsningen vil da ikke sende/motta varsel | E24: Beboere/personalet får ikke sendt/mottatt varsel. Kan føre til kan føre til brudd på pasientsikkerhet og dårlig omdømme for kommunen | F24: UPS/batteribackup på sentralutstyr | G24: x | H24: x | J24: x | K24: x
A25: Kommune | B25: Helge HelseIT-leder | C25: Brudd i kommunikasjon mellom sentralutstyr og mobiltelefoner | D25: Sentralutstyr mister strømforbindelse/nettverksforbindelse og slutter å fungere og løsningen/smarttelefon vil da ikke sende/motta varsel | E25: Beboere/personalet får ikke sendt/mottatt varsel. Kan føre til kan føre til brudd på pasientsikkerhet og dårlig omdømme for kommunen | F25: UPS/batteribackup på sentralutstyr samt backup i 4G router. Plan B prosedyre for i varetakelse av beboere. Rutine for melding av feil | G25: x | J25: x
A26: Kommune | B26: Helge HelseIT-leder | C26: Bortfall av nettverk | D26: Sentralutstyr nettverksforbindelse og slutter å fungere og løsningen/smarttelefon vil da ikke sende/motta varsel | E26: Beboere/personalet får ikke sendt/mottatt varsel. Kan føre til kan føre til brudd på pasientsikkerhet og dårlig omdømme for kommunen | F26: Backup 4G. Plan B prosedyre for å ivareta beboere | G26: x | J26: x | K26: x
A27: Kommune | B27: Helge HelseIT-leder | C27: Personalet får ikke logget inn i PAVA app | D27: Manglende tilgang. Feil i AD integrasjon | E27: Personalet får ikke logget på og deltatt i varslingsmottak Kan føre til kan føre til brudd på pasientsikkerhet og dårlig omdømme for kommunen | F27: Rutiner for registrering og verifisering av tilganger. Rutine for melding av feil. Integrasjoner | G27: x | J27: x
A28: Kommune | B28: Hjalmar Hjemmesykepleier | C28: Manglende respons på beboeralarm | D28: Personalet er ikke logget på APP. Personalet besvarer ikke varsel grunnet opptatt | E28: Beboere/personal får ikke hjelp når det er behov. Kan føre til kan føre til brudd på pasientsikkerhet og dårlig omdømme for kommunen | F28: Rutine for varselhåndtering. Eskaleringsplan | G28: x | H28: x | J28: x
A29: Kommune | B29: Hjalmar Hjemmesykepleier | C29: Manglende respons på nødalarm | D29: Personalet er ikke logget på APP. Personalet besvarer ikke varsel grunnet opptatt | E29: Beboere/personal får ikke hjelp når det er behov. Kan føre til kan føre til brudd på pasientsikkerhet og dårlig omdømme for kommunen | F29: Rutine for varselhåndtering. Eskaleringsplan | G29: x | J29: x
A30: Kommune | B30: Helge HelseIT-leder | C30: Uautorisert tilgang til sentralutstyr(teknisk rom) | D30: Teknisk rom er ikke tilstrekkelig sikret | E30: Uvedkommende får tilgang til kritisk infrastruktur. Dårlig omdømme og muligens også bot fra Datatilsynet | F30: Tilgangstyring på teknisk rom med kritisk infrastruktur | G30: x | J30: x | K30: x
A31: Kommune | B31: Komila Kommunalsjef | C31: Feil beboer registrert på rom | D31: Endringer er ikke meldt tjenestevei. Endringer er ikke tatt til etterretning og utført | E31: Feil i journalføring. Kan føre til kan føre til brudd på pasientsikkerhet og dårlig omdømme for kommunen | F31: Rutiner for overføring av informasjon ved nye beboere/flytting mellom rom | G31: x | J31: x | K31: x
A32: Leverandør | B32: Lars Leverandør | C32: Tekniske feil i PAVA løsningen | E32: Beboere/personal får ikke hjelp når det er behov. Kan føre til kan føre til brudd på pasientsikkerhet og dårlig omdømme for kommunen | F32: Meld feil! Plan B prosedyre | G32: x | J32: x
A33: Kommune | B33: Komila Kommunalsjef | C33: Beboer vandrer avgårde uten at det blir oppdaget som forutsatt | D33: Vandrealarm er innstilt feil basert på pasients behov | E33: Beboer blir ikke tilstrekkelig ivaretatt. Kan føre til kan føre til brudd på pasientsikkerhet og dårlig omdømme for kommunen | F33: Gode beskrivelser for hvordan vandrealarm fungerer og rutiner for oppsett | G33: x | J33: x
A34: Kommune | B34: Hjalmar Hjemmesykepleier | C34: overtar en innlogget «sesjon» fra en av mine kolleger, som har glemt å låse/logge ut fra fagsystemet eller rett og slett låner bort sin "sesjon" | D34: Mangelfulle driftsrutiner samt svakheter i tilgangsstyring og -kontroll | E34: Dette fører til et konfidensialitetsbrudd. Informasjon på avveier. Dårlig omdømme og muligens også bot fra Datatilsynet | F34: Gjennomgå og forbedre driftsrutinene | G34: x | H34: x | I34: x | J34: x
A35: Kommune | B35: Reidar Respons | C35: Ansatte med tilgang til forsystem forlater PC ulåst når de er innlogget. | D35: En ansatt ved responssenter for mottak av helseteknologiske varsler forlater arbeidsstasjonen sin for å gå på toalettet, vedkommende glemmer å låse arbeidsstasjonen sin, slik at den blir stående tilgjengelig. | E35: Uvedkommende kan få tilgang til informasjon som den ansatte har tilgang til og personopplysninger kan komme på avveie. Det kan installeres bakdører som uvedkommende kan utnytte på et senere tidspunkt. | F35: Etablere prosedyre som setter fokus på lås av PC og utlogging av forsystem etter endt jobb. Innarbeide rutine for at ansatte gis dokumentert opplæring og informasjon om at PC kan konfigureres til å låse seg automatisk ved inaktivitet. Endre hvor fort PC skal låse seg ved inaktivitet ved bruk av group policy eller lignende. | G35: x | H35: x | I35: x | K35: x
A36: Kommune | B36: Komila Kommunalsjef | C36: Manglende eller mangelfulle prosedyrer og rutiner | D36: Kan skyldes alt fra mangel på kunnskap til at det ikke er avsatt stor nok ressurs til å følge opp. Prosedyrer blir ikke revidert. | E36: Lovbrudd. Dårlig omdømme og muligens også bot fra Datatilsynet | F36: Gjennomføre kartlegging av hvilke rutiner og prosedyrer som må på plass, etablere de rutiner og prosedyrer som kartleggingen identifiserer. Gi arbeidet med prosedyrer tilstrekkelig prioritet. | G36: x | H36: x | I36: x | K36: x
A37: Kommune | B37: Siri Systemintegratør | C37: Det kommer nye oppdateringer som gjør gjeldende prosedyrer og rutiner utdaterte. | D37: Hendelsen kan inntreffe i forbindelse med at leverandørern slipper ny programvareoppdatering for løsningen. | E37: At prosedyrer ikke samsvarer med de faktiske forhold kan medføre brudd på den registrertes rettigheter. Hendelsen kan påvirke alt fra tilgjengelighet og integritet til konfidensialitet. | F37: Etablere prosedyre som ivaretar at systemforvalter kvalitetssikrer berørte prosedyrer i forbindelse med hver systemoppdatering. | G37: x | H37: x | I37: x | K37: x
A38: Leverandør | B38: Ulrik Utvikler | C38: Peronopplysninger brukes til andre formål av leverandøren | D38: Leverandøren benytter innsamlet informasjon til egne formål, som f.eks. gjennomføring av markedsundersøkelse. | E38: Den registrertes personopplysninger kan havne på avveie og benyttes til formål som bryter med den registrertes vilje. | F38: Sikre at formålet tydelig fremkommer av inngått databehandleravtale og at avtalen for øvrig tilfredsstiller alle lovkrav. Etablere prosedyre for gjennomføring av revisjon av databehandlere. | G38: x | H38: x | I38: x
A39: Kommune | B39: Komila Kommunalsjef | C39: Manglende opplæring i personvern og informasjonssikkerhet | D39: Ansatte/vikarer settes ut i operativt arbeid før nødvendig opplæring er gitt. | E39: Lovbrudd. Dårlig omdømme og muligens også bot fra Datatilsynet | F39: Innarbeide rutine for at ansatte gis dokumentert opplæring og informasjon om personvern og informasjonssikkerhet. | G39: x | H39: x | I39: x
A40: Leverandør | B40: Lars Leverandør | C40: Ansatte får informasjon om brukere de ikke skal ha tilgang til | D40: Rutiner for oppsett, herunder testing er ikke utført som forutsatt | E40: Lovbrudd. Dårlig omdømme og muligens også bot fra Datatilsynet | F40: Gjennomføre god nok testing av løsning før den tas i bruk | G40: x | H40: x | I40: x | K40: x
A41: Kommune | B41: Helge HelseIT-leder | C41: Ansatte får informasjon om brukere de ikke skal ha tilgang til | D41: Rutiner for oppsett, herunder testing er ikke utført som forutsatt | E41: Lovbrudd. Dårlig omdømme og muligens også bot fra Datatilsynet | F41: Gjennomføre god nok testing av løsning før den tas i bruk | G41: x | H41: x | I41: x
A42: Pårørende | B42: Pauline Pårørende | C42: ikke forstår hvordan teknologien skal brukes | D42: Manglende rutiner og opplæring | E42: Tjenestemottaker får ikke den hjelp som er planlagt/lovt. Kan føre til kan føre til brudd på pasientsikkerhet og dårlig omdømme for kommunen | F42: Gjennomføre kartlegging av pårørendes mulighet til å ta i mot og behandle varsler. Ha lav terskel for at helse- og omsorgstjeneten skal ta ansvar for varsler. | G42: x | H42: x | I42: x
A43: Kommune | B43: Helge HelseIT-leder | C43: Data slettes/endres ved brukerfeil | D43: Svakhet i rutiner for oppbevaring/sletting | E43: Brudd på personvernlovgivningen. Dårlig omdømme og muligens også bot fra Datatilsynet | F43: Sørge for rutiner for forsvarlig oppbevaring/lagring og sletterutiner | G43: x | H43: x | I43: x
A44: Kommune | B44: Anna Avdelingsleder | C44: Manglende informasjon til den registrerte om type opplysninger som behandles i løsningen | D44: Svakhet i rutiner før implementering av løsning | E44: Brudd på personvernlovgivningen. Dårlig omdømme og muligens også bot fra Datatilsynet | F44: Gjennomføring av DPIA og oppfølging av relevante tiltak | G44: x | H44: x | I44: x | K44: x
A45: Den registrerte | B45: Turid tjenestemottaker | C45: Brukerne kjenner ikke til hvordan tjenesten ytes og hva teknologien kan bistå med. | D45: Svakheter i rutiner for informasjon og kommunikasjon til nye brukere | E45: Tjenestemottaker får ikke den hjelpe de faktisk kunne ha fått ved innføring av ny teknologi. Kan føre til kan føre til brudd på pasientsikkerhet og dårlig omdømme for kommunen | F45: Gi tilstrekkelig informasjon før tjenesten starter opp. | G45: x | H45: x | I45: x
A46: Kommune | B46: Fredrik Ferievikar | C46: Bruker får tildelt tjenesten uten at det er fattet vedtak | D46: Ansatt uten tilstrekkelig kompetanse på regelverket velger å ta i bruk teknologi i forbidnelse med yting av helse hjelp, uten at det i forkant er gjort nødvendig vurdering og fattet vedtak. | E46: Tildeling av tjenesten kan være urettmessig inngripende og ulovlig. Tjenestemottaker kan gå glipp av andre nødvendige tjenester for at helsehjelpen skal være forsvarlig. | F46: Etablere prosedyre for å ivareta at alle ansatte som kan bli involvert i tildeling av tjenester får tilstrekkelig innføring og opplæring i relevante prosedyrer og lovverk for øvrig. | G46: x | H46: x | I46: x | K46: x
A47: Kommune | B47: Anna Avdelingsleder | C47: Tjenesten kan tildeles bruker uten at bruker har behov for, eller kan nyttegjøre seg tjenesten | D47: Tildelingskontoret har ikke kartlagt situasjonen til tjenestemottarker godt nok i forhold til det faktiske behovet. | E47: Kan medføre ekstrabelastning av både tjenesteyter og tjenestemottaker. Tildeling av tjenesten kan være urettmessig inngripende og ulovlig. Tjenestemottaker kan gå glipp av andre nødvendige tjenester for at helsehjelpen skal være forsvarlig. | F47: Gjennomføre kartlegging samtaler for å avdekke tjenestebehov. Evaluere behov underveis. | G47: x | H47: x | I47: x | K47: x
A48: Kommune | B48: Anna Avdelingsleder | C48: Tjenesten iverksettes uten at samtykkekompetanse er vurdert | D48: Mangelfull opplæring og rutiner for de som skal forklare tjenesten til tjenestemottaker og deres pårørende | E48: Brudd på personvernlovgivningen, samt risiko for feil bruk av tjenesten | F48: Beskrivelse av tjenesteforløp og kartleggingsskjema lett tilgjengelig | G48: x | H48: r | I48: x
A49: Den registrerte | B49: Turid tjenestemottaker | C49: Tjenestemottaker ønsker ikke ta i bruk digitale løsninger | D49: Tjenestemottaker har vegring mot å ta i bruk ny og ukjent teknologi. | E49: Tjenesten kan medføre en falsk trygghet hvis tjenestemottaker velger å ikke benytte seg av teknologien. Tjenestemottaker kan f.eks. rote seg bort og slite med å komme seg hjem, mens det for tjenesteutøver ser ut til at alt er i skjønneste orden. | F49: Etablere prosedyre som ivaretar at tildelingskontoret sikrer at helsehjelpen er faglig forsvarlig. Andre tjenester må settes i drift. | G49: x | H49: x | I49: x | K49: x
A50: Pårørende | B50: Pauline Pårørende | C50: Mangel på kommunikasjon mellom pårørende og kommune | D50: Dårlige/ingen opplæring for hvordan ha pårørendekontakt og oppfølging | E50: Dårlig omdømme. Utrygghet og uforutsigbarhet for pårørende | F50: Veiledning, kontinuerlig oppfølging og opplæring. Informasjon om kommunikasjonakanaler som kan benyttes ved spørsmål. | G50: x | H50: x | I50: x | K50: x
A51: Kommune | B51: Signe systemansvarlig og superbruker | C51: Unødvendig tilgang til helseopplysninger i admin/oppfølgingssystem | D51: Mangelfull opplæring og svakheter i rutiner | E51: Uvedkommnede får tilgang til brukernavn, passord og pin til administrator/pleiepersonell | F51: Tofaktor iverksatt og opplæring/prosedyre i sikker bruk av brukernavn, passord og pinkoder | G51: x | H51: x | I51: x
A52: Kommune | B52: Signe systemansvarlig og superbruker | C52: Feilregisteringer ifht Individuelle tilpasninger bruker | D52: Mennesklig svikt og/eller dårlig opplæring og manglende rutiner | E52: Dispenser fungerer ikke optimalt for tjenstemottaker. Kan føre til kan føre til brudd på pasientsikkerhet og dårlig omdømme for kommunen | F52: Opplæring, sjekklister, gode prosedyrer | G52: x | H52: x
A53: Kommune | B53: Signe systemansvarlig og superbruker | C53: Feilregisteringer ifht varslingskjede | D53: Mennesklig svikt og/eller dårlig opplæring og manglende rutiner | E53: Tjenesten/responssenter mottar ikke varsel fra dispenser. Alarm blir ikke fulgt opp. Kan føre til kan føre til brudd på pasientsikkerhet og dårlig omdømme for kommunen | F53: Opplæring, sjekklister, gode prosedyrer | G53: x | H53: x
A54: Kommune | B54: Hjalmar Hjemmesykepleier | C54: Ansatte avviser telefoner fra support/leverandør | D54: Utenlands/ukjent nummer - ansatte tar ikke telefonen | E54: Tjensten kan gå glipp av nødvendig oppfølging fra leverandør. Kan føre til kan føre til brudd på pasientsikkerhet og dårlig omdømme for kommunen | F54: Lagre suppport nummer til leverandør på aktuelle tjenestemobiler | G54: x | H54: x
A55: Kommune | B55: Anna Avdelingsleder | C55: Manglende respons på varslinger/alarmer | D55: Tjenesten får ikke med seg/følger ikke opp varsel på tjenestemobil | E55: Tjenestemottaker får ikke rett medisin til rett tid. Dette kan gi funksjonssvikt, redusert allmenntilstand. Kan føre til kan føre til brudd på pasientsikkerhet og dårlig omdømme for kommunen | F55: Koble varsler til dispenser til responssenter slik at man sikrer at varsler blir fulgt opp. Rutine for å sjekke alarmer i adminsystemet før avsluttet vakt. | G55: x | H55: x | I55: x | K55: x
A56: Kommune | B56: Komila Kommunalsjef | C56: Feil selektering av brukere | D56: Feil kartlegging | E56: Dispenser vil ikke fungere hos bruker. Resulterer i undøvendig "forstyrrelser" for bruker og/eller at tjenstemottaker ikke får sin medisin. Kan føre til kan føre til brudd på pasientsikkerhet og dårlig omdømme for kommunen | F56: Opplæring brukerbehov - gode kartleggingskjema teknologi | H56: x | I56: x
A57: Kommune | B57: Anna Avdelingsleder | C57: Manglende kunnskap/opplæring om bruk av teknologien hos ansatte | D57: Har ikke får tilstrekklig opplæring i bruk av teknologien | E57: Følger ikke opp bruk av dispenser optimalt. Kan gi konsekvenser for at tjenstemottaker ikke mottar medisin som planlagt. Kan føre til kan føre til brudd på pasientsikkerhet og dårlig omdømme for kommunen | F57: Opplæring, sjekklister, gode prosedyrer | G57: x | H57: x | I57: x | K57: x
A58: Kommune | B58: Signe systemansvarlig og superbruker | C58: Manglende system for tilgangstyring (start og slutt) i admin/oppfølgingssystem | D58: Ingen integrasjon til eksisterende brukersystemer | E58: Ansatte som har sluttet vil kunne få tilgang til brukerinfo | F58: Rutiner for avslutte ansatte tilganger | G58: x | H58: x | K58: x
A59: Kommune | B59: Anna Avdelingsleder | C59: Manglende kunnskap/opplæring om oppfølgingssystemet | D59: Har ikke får tilstrekklig opplæring i bruk av teknologien/admin systemet | E59: Følger ikke opp bruk av dispenser optimalt. Kan gi konsekvenser for at tjenstemottaker ikke mottar medisin som planlagt. Kan føre til kan føre til brudd på pasientsikkerhet og dårlig omdømme for kommunen | F59: Opplæring, sjekklister, gode prosedyrer | G59: x | H59: x | I59: x | K59: x
A60: Kommune | B60: Anna Avdelingsleder | C60: Stor turnover ansatte - vanskelig å opprettholde kompetanse | D60: Mange brukere av sysmet, klarer ikke holde kontinuerlig opplæring | E60: Driftsmedliner/varsler følges ikke opp. Tjenestemottaker får ikke rett medisin til rett tid | F60: Gode opplæringsrutiner nyansatte | G60: x | H60: x | I60: x | K60: x
A61: Kommune | B61: Komila Kommunalsjef | C61: Ressursmangel ifht administratorer/superbrukere/oppfølging alarmer | D61: Ressursmangel pga for eksempel sykdom | E61: Følger ikke opp bruk av dispenser optimalt. Kan gi konsekvenser for at tjenstemottaker ikke mottar medisin som planlagt. Kan føre til kan føre til brudd på pasientsikkerhet og dårlig omdømme for kommunen | F61: Forankring på ledernivå. For å ta i bruk teknologi må det avsettes tilstrekklig ressurser for oppfølging. God forankring i helhetlig tjnestemodell - en plan om hvem gjør hva også ved sykdom eller andre uforutsette hendelser | G61: x | H61: x | K61: x
A62: Kommune | B62: Anna Avdelingsleder | C62: Avvik blir ikke registert i kommunens kvalitetssystem og leverandørens support system | D62: Glemmer å rapportere i avvikksystemet | E62: Avvik blir ikke håndtert i henhold til avtale og avvikene vil fortsette uten at dette blir tatt tak i. Kan gi konsekvens for både bruker, ansatte og kommune | F62: Opplæring og rutiner for varsling av avvik | G62: x | H62: x | I62: x | K62: x
A63: Kommune | B63: Anna Avdelingsleder | C63: Manglende dokumentasjon i EPJ | D63: Glemmer å rapportere oppfølging av varslinger og/eller "gitt medisin" i epj | E63: Ivaretar ikke dokumentasjonsplikten. Tjenestemottaker får ikke den hjelp som er planlagt/lovt og kan også føre til dårlig omdømme for kommunen | F63: Integrasjon til epj. Rutiner og prosedyrer for journalføring | H63: x | I63: x | J63: x
A64: Leverandør | B64: Lars Leverandør | C64: Feil kontaktinfo/telefonnummer/epj id /varslingskjede dokumentert | D64: Integrasjon fungerer ikke. Leverandør får ikke kontakt med ansvarlig kommune | E64: Tjenesten får ikke informasjon om driftsmeldinger/varslinger som antatt. Kan føre til kan føre til brudd på pasientsikkerhet og dårlig omdømme for kommunen | F64: SLA avtaler | H64: x | I64: x | J64: x | K64: x
A65: Leverandør | B65: Lars Leverandør | C65: Manglende varsling om dispenser kommer utenfor dekning | D65: Tjenestemottaker/pårørende bytter lokasjon på dispenser (Eks. dispenser blir tatt med på tur (eks hytta) | E65: Tjenstemottaker får ikke rett medisin til rett tid noe som kan gi funksjonssvikt og redusert allmenntilstand. Tjensten er ikke klar over at det er feil på systemet og følger ikke opp bruker tilstrekkelig | F65: Grunnforutsetning for teknologien, gode SLA avtaler | G65: x | H65: x | K65: x
A66: Leverandør | B66: Lars Leverandør | C66: Manglende varsling ved system nede | D66: Mobiloperatørfeil eller systemfeil , systemet varsler ikke nedetid | E66: Tjenstemottaker får ikke rett medisin til rett tid noe som kan gi funksjonssvikt og redusert allmenntilstand. Tjensten er ikke klar over at det er feil på systemet og følger ikke opp bruker tilstrekkelig | F66: Grunnforutsetning for teknologien, gode SLA avtaler | G66: x | H66: x | K66: x
A67: Leverandør | B67: Lars Leverandør | C67: Levetid, tilgjengelighet og kostnader på batteri | D67: Maskinen blir strømtom. Strømnett nede og tomt batteri | E67: Tjenstemottaker får ikke rett medisin til rett tid noe som kan gi funksjonssvikt og redusert allmenntilstand. | F67: Prosedyre og rutiner for oppfølginger av driftsmeldinger/feil på utstyr | G67: x | H67: x | J67: x | K67: x
A68: Leverandør | B68: Lars Leverandør | C68: Kundeservice/brukerstøtte ikke tilgjengelig | D68: Nedetid mobiloperatør for telefon og nedetid nettverk ifht adminsystem hos leverandør | E68: Får ikke bistand til problemer og man må ha fysiske tilsyn til tjenestemottaker. Kan føre til kan føre til brudd på pasientsikkerhet og dårlig omdømme for kommunen | F68: Grunnforutsetninger, åpent kl 00-00. Avtalefestet tilgang til support/brukerstøtte. F | G68: x | H68: x | J68: x | K68: x
A69: Leverandør | B69: Lars Leverandør | C69: Manglende oppdatering av software på dispenser | D69: Fjernoppdatering fungerer ikke | E69: Får ikke siste oppdateringer av admin system, dette kan potenesielt gi sikkerhetshull | F69: Grunnforutsetnin- avtalefestet. Rutiner/system hos leverandør som oppdager dette. | G69: x | H69: x
A70: Leverandør | B70: Lars Leverandør | C70: ikke håndterer strømbrudd på en tilfredsstillende måte | D70: Teknologien er avhengig av strøm for å kunne fungere. Bortfall av strøm vil skje. Varigheten av strømbortfall vil kunne påvirke tjenesten. | E70: Tjenestemottaker får ikke den hjelp som er planlagt/lovt. Kan føre til kan føre til brudd på pasientsikkerhet og dårlig omdømme for kommunen | F70: Varsler om strømbrudd, strøm tilbake og batterivarsler. Gode, felles rutiner for håndtering av strømbruddsvarsel. God nok batterikapasitet når tjenesten må driftes på batteri. Bytte batteri som er dårlige slik at tjenesten opprettholdes for tjenestemottaker | G70: x | H70: x | J70: x
A71: Kommune | B71: Helge HelseIT-leder | C71: ikke håndterer strømbrudd på en tilfredsstillende måte | D71: Teknologien er avhengig av strøm for å kunne fungere. Bortfall av strøm vil skje. Varigheten av strømbortfall vil kunne påvirke tjenesten. | E71: Tjenestemottaker får ikke den hjelp som er planlagt/lovt. Kan føre til kan føre til brudd på pasientsikkerhet og dårlig omdømme for kommunen | F71: Varsler om strømbrudd, strøm tilbake og batterivarsler. Gode, felles rutiner for håndtering av strømbruddsvarsel. God nok batterikapasitet når tjenesten må driftes på batteri. Bytte batteri som er dårlige slik at tjenesten opprettholdes for tjenestemottaker | G71: x | H71: x | I71: x | J71: x | K71: x
A72: Uvedkommende | B72: Krøsus Kriminell | C72: kan forårsake strømbrudd | D72: Teknologien er avhengig av strøm for å kunne fungere. Bortfall av strøm vil skje. Varigheten av strømbortfall vil kunne påvirke tjenesten. | E72: Tjenestemottaker får ikke den hjelp som er planlagt/lovt. Kan føre til kan føre til brudd på pasientsikkerhet og dårlig omdømme for kommunen | F72: Varsler om strømbrudd, strøm tilbake og batterivarsler. Gode, felles rutiner for håndtering av strømbruddsvarsel. God nok batterikapasitet når tjenesten må driftes på batteri. Bytte batteri som er dårlige slik at tjenesten opprettholdes for tjenestemottaker | G72: x | H72: x | I72: x | J72: x | K72: x
A73: Leverandør | B73: Lars Leverandør | C73: ikke håndterer nettverksbrudd på en tilfredsstillende måte | D73: Teknologien er avhengig av mobilnettet for å kunne fungere | E73: Tjenestemottaker får ikke den hjelp som er planlagt/lovt. Kan føre til kan føre til brudd på pasientsikkerhet og dårlig omdømme for kommunen | F73: Alternative metoder for mottak av alarmer. Nettverk, SMS, fysisk tilsyn | G73: x | H73: x | J73: x
A74: Kommune | B74: Helge HelseIT-leder | C74: ikke håndterer nettverksbrudd på en tilfredsstillende måte | D74: Teknologien er avhengig av mobilnettet for å kunne fungere | E74: Tjenestemottaker får ikke den hjelp som er planlagt/lovt. Kan føre til kan føre til brudd på pasientsikkerhet og dårlig omdømme for kommunen | F74: Alternative metoder for mottak av alarmer. Nettverk, SMS, fysisk tilsyn | G74: x | H74: x | K74: x
A75: Uvedkommende | B75: Krøsus Kriminell | C75: kan forårsake nettverksbrudd | D75: Teknologien er avhengig av mobilnettet for å kunne fungere | E75: Tjenestemottaker får ikke den hjelp som er planlagt/lovt. Kan føre til kan føre til brudd på pasientsikkerhet og dårlig omdømme for kommunen | F75: Alternative metoder for mottak av alarmer. Nettverk, SMS, fysisk tilsyn | G75: x | H75: x | K75: x
A76: Leverandør | B76: Lars Leverandør | C76: Systemfeil/bortfall tilgang admin/oppfølgingssystem | D76: Systemfeil eller nedetid ved oppgradering av systemet | E76: Tjenestemottaker får ikke den hjelp som er planlagt/lovt. Kan føre til kan føre til brudd på pasientsikkerhet og dårlig omdømme for kommunen | F76: Varslingsrutiner og alternativ håndtering | G76: x | H76: x | I76: x | J76: x | K76: x
A77: Kommune | B77: Siri Systemintegratør | C77: Nedetid systemer | D77: Lokal IKT avd har tekniske problemer eller oppgraderinger som gir nedetid | E77: Får ikke registert nye brukere/ansatte i oppfølgingssystem eller fulgt opp driftmeldinger. Kan føre til kan føre til brudd på pasientsikkerhet og dårlig omdømme for kommunen | F77: Skyløsninger med pålogging i system via nettleser | G77: x | H77: x | I77: x | K77: x
A78: Leverandør | B78: Lars Leverandør | C78: Tekniske varsler | D78: Feil på teknologien | E78: Tjenestemottaker får ikke den hjelp som er planlagt/lovt. Kan føre til kan føre til brudd på pasientsikkerhet og dårlig omdømme for kommunen | F78: Rutiner for rask oppfølging av tekniske varsler og varsling kommune | G78: x | H78: x | I78: x | J78: x | K78: x
A79: Leverandør | B79: Lars Leverandør | C79: To faktorpålogging fungerer ikke | D79: Systemfeil eller nedetid ved oppgradering av systemet | E79: Ansatte får ikke tilgang til admin/oppfølgingssystem. Kan føre til kan føre til brudd på pasientsikkerhet og dårlig omdømme for kommunen | F79: SLA avtaler | G79: x | H79: x | I79: x | K79: x
A80: Kommune | B80: Helge HelseIT-leder | C80: AD innlogging fungerer ikke | D80: Systemfeil eller nedetid ved oppgradering av systemet | E80: Ansatte får ikke tilgang til admin/oppfølgingssystem. Kan føre til kan føre til brudd på pasientsikkerhet og dårlig omdømme for kommunen | F80: Beredskapsplan, prioritering av feilsøking | H80: x | K80: x
A81: Kommune | B81: Siri Systemintegratør | C81: Tjenstemottakers rett til sletting av data (dataportabilitet) | D81: Rutiner for sletting ikke fulgt opp | E81: Omdømme. Følger ikke lovverk | F81: Rutiner for sletting | G81: x | H81: x | K81: x
A82: Leverandør | B82: Lars Leverandør | C82: Defekt simkort | D82: hærverk på simkort/defekt/ | E82: Tjenestemottaker får ikke den hjelp som er planlagt/lovt. Kan føre til kan føre til brudd på pasientsikkerhet og dårlig omdømme for kommunen | F82: Rutiner for teknisk varsel samt bytting av simkort | G82: x | H82: x | I82: x | K82: x
A83: Uvedkommende | B83: Krøsus Kriminell | C83: Skade på teknologi (hærverk, fall etc) | D83: Uvedkommende | E83: Tjenestemottaker får ikke rett medisin til rett tid. Dette kan gi funksjonssvikt, redusert allmenntilstand. Kan føre til kan føre til brudd på pasientsikkerhet og dårlig omdømme for kommunen | F83: Rutine for automatisk varsel til tjenesten ved hærver/skade på teknologien | G83: x | H83: x | I83: x | J83: x | K83: x
A84: Uvedkommende | B84: Krøsus Kriminell | C84: Hacker systemet | D84: Sikkerhetshull pga svakheter | E84: Tilgang til og misbruk av sensitive data | F84: Databehandleravtale og gode rutiner for varsling til kommune/leverandør | G84: x | H84: x | I84: x | J84: x | K84: x
A85: Den registrerte | B85: Turid Tjenestemottaker | C85: Enheter fanger ikke opp områder som er nødvendige, varsler feil | D85: Beboer ommøblert / flyttet enhet | E85: Manglende varsler. Kan føre til kan føre til brudd på pasientsikkerhet og dårlig omdømme for kommunen | F85: Informasjon | G85: x | H85: x
A86: Pårørende | B86: Pauline Pårørende | C86: Enheter fanger ikke opp områder som er nødvendige, varsler feil | D86: Pårørende ommøblert / flyttet enhet | E86: Manglende varsler. Kan føre til kan føre til brudd på pasientsikkerhet og dårlig omdømme for kommunen | F86: Informasjon | G86: x | H86: x
A87: Leverandør | B87: Lars Leverandør | C87: Mottar ikke varsler om utstyr som ikke er i kontakt med løsningen | D87: Manglende "heart beat"-funksjoner | E87: Tjenestemottaker mottar ikke hjelp. Kan føre til kan føre til brudd på pasientsikkerhet og dårlig omdømme for kommunen | F87: Kravstille ved anskaffelse | G87: x | H87: x | I87: x | K87: x
A88: Den registrerte | B88: Turid Tjenestemottaker | C88: Utstyret gir et teknisk varsel som tjenestemottaker ikke forstår | D88: Manglende opplæring | E88: Tjenestemottaker mottar ikke hjelp. Kan føre til kan føre til brudd på pasientsikkerhet og dårlig omdømme for kommunen | F88: Opplæring mm | G88: x | H88: x | I88: x | J88: x | K88: x
A89: Leverandør | B89: Lars Leverandør | C89: Utstyret oppfyller ikke krav til medisinsk utstyr | D89: Mangler/svakheter ved anskaffelsesprosessen | E89: Tjenestemottaker mottar ikke hjelp. Kan føre til kan føre til brudd på pasientsikkerhet og dårlig omdømme for kommunen | F89: Kommunen må foreta en konkret vurdering om krav etterleves før anskaffelse | G89: x | H89: x | I89: x | J89: x | K89: x

Sheet Oppslag - Unike hendelser
A1: Aktørgruppe | B1: Aktør | C1: Uønsket hendelse/risikoscenario (Som <aktør> er det en risiko for at [jeg]…) | D1: Årsak/sårbarhet - beskrivelse av hvorfor den uønskede hendelsen kan inntreffe, eventuelt hvordan det kan skje ( brukes som grunnlag for å beskrive sannsynlighet) | E1: Hva er konsekvensen hvis risikohendelsen inntreffer? (en kort tekstlig beskrivelse av hva som kan skje hvis tiltak ikke blir iverksatt- brukes som grunnlag for å vurdere konsekvens) | F1: Tiltak som kan redusere risiko
A2: Lokaliseringsteknologi
A3: Uvedkommende | B3: Sune Statsaktør | C3: GPS-signalet forstyrres eller blokkeres (jamming) | D3: Kjent eller ukjent statsaktør forstyrrer GPS-signalet for et større område for å skape uro eller påvirke politiske beslutninger. | E3: Hendelsen kan medføre en falsk trygghet ved at posisjoneringsdata presenteres ukorrekt. Tjenestemottaker kan rote seg bort og få problemer med å komme seg hjem, mens det for tjenesteutøver ser ut til at alt er i skjønneste orden. Selv om tjenestemottaker er klar over at hendelsen har inntruffet kan det medføre betydelig merarbeid for tjenesten. Fare for at tjenestemottaker ikke mottar nødvendig helsehjelp i tide. Hvis hendelsen inntreffer er det sannsynlig at hendelsen berører alle tjenestemottakere. | F3: Etablere prosedyre for regelmessig testing av kvaliteten på teknologi/tjeneste, slik at man får et bilde av omfang. Etablere prosedyre for manuell håndtering ved bortfall av teknologien.
A4: Uvedkommende | B4: Nabeel Nabo | C4: GPS-signalet forstyrres eller blokkeres (jamming) | D4: En ansatt ved et privat foretak har skaffet seg en enhet som er ment for å forstyrre GPS-signalet. Denne enheten plasseres i vedkommendes firmabil, for å unngå at vedkommendes arbeidsgiver til enhver tid kan se hvor hen befinner seg. | E4: Hendelsen kan medføre en falsk trygghet ved at posisjoneringsdata presenteres ukorrekt. Tjenestemottaker kan rote seg bort og få problemer med å komme seg hjem, mens det for tjenesteutøver ser ut til at alt er i skjønneste orden. Selv om tjenestemottaker er klar over at hendelsen har inntruffet kan det medføre betydelig merarbeid for tjenesten. Fare for at tjenestemottaker ikke mottar nødvendig helsehjelp i tide. Kan gi dårlig omdømme for kommunen i tillegg til konsevenser for tjenestemottaker. | F4: Etablere prosedyre for regelmessig testing av kvaliteten på teknologi/tjeneste, slik at man får et bilde av omfang. Etablere prosedyre for manuell håndtering ved bortfall av teknologien.
A5: Leverandør | B5: Lars Leverandør | C5: "Geogjerde" eller andre parametere som skal utløse varslinger er definert ukorrekt. | D5: Det skjer endringer i tjenestemottakers behov, ansatt glemmer i den forbindelse å oppdatere definert «geogjerde» i fagsystem. | E5: Hendelsen kan medføre falsk trygghet i form av tjenesten baseres på at definerte hendelser varsles, mens det i realiteten kan være at det ikke varsles når den definerte hendelsen oppstår. Tjenestemottaker kan rote seg bort og få problemer med å komme seg hjem. Fare for at tjenestemottaker ikke mottar nødvendig helsehjelp. Kan gi dårlig omdømme for kommunen i tillegg til konsevenser for tjenestemottaker. | F5: Etablere prosedyre for å sikre at det gis adekvat og dokumentert opplæring av involverte ansatte. Etablere sjekkliste, eller implementere i allerede etablert sjekkliste, for å ivareta at nødvendige forarbeid og videre oppfølging gjennomføres korrekt.
A6: Den registrerte | B6: Turid tjenestemottaker | C6: Sporingsenhet skiller lag med den som skal spores. | D6: Tjenstemottaker velger å ta bort sporeningsenheten med vilje eller at den utilsiktet faller av. | E6: Hendelsen kan medføre falsk trygghet i form av tjenesten baseres på at definerte hendelser varsles, mens det i realiteten kan være at det ikke varsles når den definerte hendelsen oppstår. Tjenestemottaker kan rote seg bort og få problemer med å komme seg hjem. Fare for at tjenestemottaker ikke mottar nødvendig helsehjelp. Kan gi dårlig omdømme for kommunen i tillegg til konsevenser for tjenestemottaker. | F6: Etablere prosedyrere for å kontrollere og sikre at enheten er i bruk, f.eks. i forbindelse med faste kontaktpunkter mellom tjenestemottaker og helsetjenesten, slik som f.eks. hjemmebesøk og ligendende.
A7: Kommune | B7: Hjalmar Hjemmesykepleier | C7: Sporingsenhet tom for strøm. | D7: Hjemmesykepleier glemmer å bytte ut/lade sporingsenheten. Batterikvaliteten er dårlig pga. lang brukstid og mange ladesykluser. | E7: Hendelsen kan medføre falsk trygghet i form av tjenesten baseres på at definerte hendelser varsles, mens det i realiteten kan være at det ikke varsles når den definerte hendelsen oppstår. Tjenestemottaker kan rote seg bort og få problemer med å komme seg hjem. Fare for at tjenestemottaker ikke mottar nødvendig helsehjelp. Kan gi dårlig omdømme for kommunen i tillegg til konsevenser for tjenestemottaker. | F7: Etablere prosedyre og sjekkliste som skal ivareta at den ansvarlige følger opp og at utstyr blir byttet ut.
A8: Pårørende | B8: Pauline Pårørende | C8: Sporingsenhet tom for strøm. | D8: Pårørende glemmer å bytte ut/lade sporingsenheten. Batterikvaliteten er dårlig pga. lang brukstid og mange ladesykluser. | E8: Hendelsen kan medføre falsk trygghet i form av tjenesten baseres på at definerte hendelser varsles, mens det i realiteten kan være at det ikke varsles når den definerte hendelsen oppstår. Tjenestemottaker kan rote seg bort og få problemer med å komme seg hjem. Fare for at tjenestemottaker ikke mottar nødvendig helsehjelp. Kan gi dårlig omdømme for kommunen i tillegg til konsevenser for tjenestemottaker. | F8: Overføre ansvaret til helsetjenesten.
A9: Den registrerte | B9: Turid tjenestemottaker | C9: Sporingsenhet tom for strøm. | D9: Tjenestemottaker glemmer å bytte ut/lade sporingsenheten. Batterikvaliteten er dårlig pga. lang brukstid og mange ladesykluser. | E9: Hendelsen kan medføre falsk trygghet i form av tjenesten baseres på at definerte hendelser varsles, mens det i realiteten kan være at det ikke varsles når den definerte hendelsen oppstår. Tjenestemottaker kan rote seg bort og få problemer med å komme seg hjem. Fare for at tjenestemottaker ikke mottar nødvendig helsehjelp. Kan gi dårlig omdømme for kommunen i tillegg til konsevenser for tjenestemottaker. | F9: Overføre ansvaret til pårørende eller helsetjenesten.
A13: Elektronisk medisineringsstøtte
A14: Den registrerte | B14: Turid tjenestemottaker | C14: Evt medisiner må taes ved siden av EMD | D14: Beskjed blir ikke formidlet via EMD og bruker tar ikke eventuell medisin til rett tid | E14: Funksjonssvikt, redusert allmenntilstand. Kan gi dårlig omdømme for kommunen | F14: Prosedyre for hvordan dette skal håndteres via annen påminnelse
A15: Den registrerte | B15: Turid tjenestemottaker | C15: Tjenestemottaker tar ikke medisinen | D15: Tjenstemottaker tar ut posen, men tar ikke medisinen slik den er forskrevet | E15: Funksjonssvikt, redusert allmenntilstand. Kan gi dårlig omdømme for kommunen | F15: Rutine for oppfølging av bruker fortløpende daglig første periode, etter dette fast oppfølging hver 14 dag ved ny medisinrull med kartlegging om tiltaket fortsatt fungerer som planlagt. Kartlegg brukerbehov og evt alternativ løsning. Sørg for dokumentasjon. .
A16: Kommune | B16: Signe systemansvarlig | C16: Feilregisteringer ifht medisineringsvindu | D16: Mennesklig svikt | E16: Medisin til feil tid. Kan gi funksjonssvikt, redusert allmenntilstand. Kan føre til kan føre til brudd på pasientsikkerhet og dårlig omdømme for kommunen | F16: Opplæring, sjekklister, gode prosedyrer
A17: Kommune | B17: Anna Avdelingsleder | C17: Endringer på ordinasjonskort blir ikke fulgt opp | D17: Endringer ikke fulgt opp for eksempel pga stress/tidspress. Menneskelig svikt | E17: Uheldig/feil inntak av medisiner. Kan føre til kan føre til brudd på pasientsikkerhet og dårlig omdømme for kommunen | F17: Rutiner og prosedyrer for endring av ordinasjonskort - medisindispenser
A18: Kommune | B18: Hjalmar Hjemmesykepleier | C18: Feil medisinrull til feil bruker | D18: Menneskelig svikt, dårlige rutiner | E18: Feil medisin til tjenestemottaker. Kan føre til kan føre til brudd på pasientsikkerhet og dårlig omdømme for kommunen | F18: Rutiner, prosedyrer og opplæring. Sikkerhet med dispenser som leser ID på rull
A19: Kommune | B19: Hjalmar Hjemmesykepleier | C19: Nøkkel/ID kort med tilgang til dispenser blir borte | D19: Ansatte mister nøkkel/Id kort med tilgang til dispenser | E19: Uvedkommende kan få tilgang til alle medisiner i dispenser såfremt de vet at den aktuelle nøkkel/ID kort kan brukes til åpning av dispenser og hvilke tjenstemottakere som har dette. Kan føre til kan føre til brudd på pasientsikkerhet og dårlig omdømme for kommunen | F19: Merking av nøkkel med kommune kontaktinfo. Avvikshåndtering
A20: Kommune | B20: Hjalmar Hjemmesykepleier | C20: Nøkkel/Id kort med tilgang til dispenser blir lagt igjen hos tjenstemottaker | D20: Ansatte glemmer nøkkel/ID kort hos tjenstemottaker | E20: Tjenestemottaker kan få tilgang til alle medisinene i dispenser. Kan føre til kan føre til brudd på pasientsikkerhet og dårlig omdømme for kommunen | F20: Rutine for avvikshåndtering samt raskt få tilbake nøkkel/Id kort fra tjenstemottaker
A21: Den registrerte | B21: Turid tjenestemottaker | C21: Tjenestemottaker er ikke hjemme ved påfyll av dispenser | D21: Tjenestemottaker er borte når tjensten kommer for å fylle på dispenser | E21: Tjenestemottaker får ikke rett medisin til rett tid. Dette kan gi funksjonssvikt, redusert allmenntilstand. Kan føre til kan føre til brudd på pasientsikkerhet og dårlig omdømme for kommunen | F21: Rutiner for kontakt med tjenstemottaker, etterfylling så fort som mulig etter opprettet kontakt
A22: Den registrerte | B22: Turid tjenestemottaker | C22: Medisin faller ut av dispenser (v/dosett) | D22: Dispenser bæres i for eksempel en veske og ligger opp-ned når kammeret åpner seg | E22: Tjenestemottaker får ikke tatt medisin til rett tid. Kan gi funksjonssvikt, nedsatt allmenntilstand. Kan føre til kan føre til brudd på pasientsikkerhet og dårlig omdømme for kommunen | F22: Opplæring av bruker i hvordan oppbevare dispenser samt info om hvordan rapportere til helsepersonell omenkelte medisiner har falt ut slik at tjenesten kan følge opp.
A23: Kommune | B23: Anna Avdelingsleder | C23: Doser som ikke kan pakkes i multidose | D23: Tjenestemottaker glemmer "ekstra" medisinen sin | E23: Får ikke rett medisin til rett tid som kan gi funksjonssvikt, nedsatt allmenntilstand. Kan føre til kan føre til brudd på pasientsikkerhet og dårlig omdømme for kommunen | F23: Prosedyre for hvordan dette skal håndteres via annen påminnelse
A24: Kommune | B24: Komila Kommunalsjef | C24: Bytte av leverandør multidose | D24: Multidoserull kan ikke leses i dispenser | E24: Tjenestemottaker får ikke sin medisin via dispenser. Kan føre til kan føre til brudd på pasientsikkerhet og dårlig omdømme for kommunen | F24: Behovskartlegging ved anskaffelser
A25: Kommune | B25: Anna Avdelingsleder | C25: Krøllete multidoseposer | D25: Dispenser kan ikke lese multidosepose | E25: Tjenestemottaker får ikke sin medisin. Kan føre til kan føre til brudd på pasientsikkerhet og dårlig omdømme for kommunen | F25: Egen rutine for hvordan sikre at posen blir lest i dispenser
... A31: Den registrerte | B31: Turid tjenestemottaker | C31: Forstår ikke teknologien - kognitive utfordinger | D31: Tjenestemottaker forstår ikke hvordan posen/medisinen skal tas ut når varsel går. Færre besøk av helsepersonell, endringer i helsetilstand oppdages for sent | E31: Får ikke tatt rett medisiner til rett tid, dette kan gi funksjonssvikt og/eller redusert allmenntilstand. Kan føre til kan føre til brudd på pasientsikkerhet og dårlig omdømme for kommunen | F31: Rutine for oppfølging av bruker fortløpende daglig første periode, etter dette fast oppfølging hver 14 dag ved ny medisinrull med kartlegging om tiltaket fortsatt fungerer som planlagt. Kartlegg brukerbehov og evt alternativ løsning. Dokumenter
A34: Digitalt tilsyn
A35: Kommune | B35: Vanja Vaktmester | C35: Det oppstår "Støy" (interferens) som påvirker alarmer eller sensorer hos tjenestemottaker, eller radiofrekvens (jamming) | D35: Ikke optimalt oppsett av utstyr i hjemmet | E35: Mange sensorer som kan kobles på. Kan føre til kan føre til brudd på pasientsikkerhet og dårlig omdømme for kommunen | F35: Systemvarsler når sensorer er utsatt for jamming eller at systemet mangler kontakt med sensorer. Innarbeidede rutiner for håndtering av systemvarsler
A36: Leverandør | B36: Lars Leverandør | C36: Utstyr resettes etter strømbrudd | D36: Tekniske svakheter | E36: Utstyr sender ikke varsler. Kan føre til kan føre til brudd på pasientsikkerhet og dårlig omdømme for kommunen | F36: Kravstille ved anskaffelse/test eksisterende
A37: Leverandør | B37: Lars Leverandør | C37: Utstyr resettes av bruker/pårørende | D37: Resettknapp lett tilgjengelig | E37: Utstyr sender ikke varsler. Kan føre til kan føre til brudd på pasientsikkerhet og dårlig omdømme for kommunen | F37: Kravstille ved anskaffelse/test eksisterende
A38: Leverandør | B38: Lars Leverandør | C38: Opplysninger om tjenestemottaker blir liggende på enhet. | D38: Mellomlagring av data på enhet | E38: Sensitive data tilgjengelig. Dette fører til et konfidensialitetsbrudd. Dårlig omdømme og muligens også bot fra Datatilsynet | F38: Kravstille ved anskaffelse/sletterutiner
A39: Kommune | B39: Komila Kommunalsjef | C39: Håndtering av feilsituasjoner/feilsøking tar tid | D39: Utydige og mangelfulle ansvarsforhold mellom leverandør/tjenesteyter | E39: Systemer utilgjengelige. Dette fører til et konfidensialitetsbrudd. Dårlig omdømme og muligens også bot fra Datatilsynet | F39: Avtalefeste forhold mellom kommune og leverandør
A40: Kommune | B40: Vanja Vaktmester | C40: Enheter fanger ikke opp områder som er nødvendige, varsler feil | D40: Monternt utstyr feil/ev. noe som dekker "synsfelt" / flyttet enhet | E40: Manglende varsler. Kan føre til kan føre til brudd på pasientsikkerhet og dårlig omdømme for kommunen | F40: Informasjon og opplæring
A41: Kommune | B41: Helge HelseIT-leder | C41: Kommunikasjon mellom enheter seg i mellom og mot sentrale systemer forstyrres | D41: Enheter kommuniserer dårlig med sentral løsning Mulige årsaker: 1. Wifi - overlappende kanaler, fysiske barrierer som sperrer signaler 2. Ethernet - dårlig kabling, ddos, loop 2. Mobiltbredbånd - Dårlig dekning, radiostøy fra illegalt utstyr 3. Blåtann - fysiske barrierer som sperrer signaler, rekkevidde, radiostøy fra mikrobølgeovner | E41: Manglende/feil varsler. Kan føre til kan føre til brudd på pasientsikkerhet og dårlig omdømme for kommunen | F41: Kartlegging av radiosignaler tilpasset teknologi
A45: Trygghetsalarmer
A46: Kommune | B46: Helge HelseIT-leder | C46: Mangelfull mobildekning o.l. | D46: Telefoni/tale vs data, mobildekning -avhengighet av teleselskapene | E46: Tjenestemottaker får ikke den hjelp som er planlagt/lovt. Kan føre til kan føre til brudd på pasientsikkerhet og dårlig omdømme for kommunen | F46: Løsninger bør ha duplisitet slik at dersom en signalvei stoppes eller sperres så kan en annen ta over.
A47: Kommune | B47: Signe systemansvarlig og superbruker | C47: Tekniske varsler | D47: Feil på teknologien | E47: Tjenestemottaker får ikke den hjelp som er planlagt/lovt. Kan føre til kan føre til brudd på pasientsikkerhet og dårlig omdømme for kommunen | F47: Rutiner for rask oppfølging av tekniske varsler og varsling ansatte/IKT/Leverandør ved behov
A51: Pasientvarslingsanlegg (PAVA)
A52: Kommune | B52: Komila Kommunalsjef | C52: Pleieralarm virker ikke | D52: Batteri er tomt. Pleieralarm er satt opp feil | E52: Pleier får ikke tilkalt hjelp. Kan føre til kan føre til brudd på pasientsikkerhet og dårlig omdømme for kommunen | F52: Rutiner for sjekk og oppsett av pleieralarm. Rutiner for melding av feil til support. Plan B prosedyre
A53: Kommune | B53: Siri Systemintegratør | C53: Uønsket nedlastning/bruk av smarttelefon med PAVA app | D53: Telefonene som benyttes er ikke styrt av MDM løsning. For vide rettigheter på smarttelefonene | E53: Uønskede får tilgang til informasjon som kjøres i PAVA app. Dette fører til et konfidensialitetsbrudd. Dårlig omdømme og muligens også bot fra Datatilsynet | F53: Smarttelefoner rulles inn i MDM løsning for oppsett av regelsett og rettigheter
A54: Kommune | B54: Hjalmar Hjemmesykepleier | C54: Manglende respons på pleieralarm(assistanse) | D54: Personalet er ikke logget på APP. Personalet besvarer ikke varsel grunnet opptatt | E54: Beboere/personal får ikke hjelp når det er behov. Kan føre til kan føre til brudd på pasientsikkerhet og dårlig omdømme for kommunen | F54: Rutine for varselhåndtering. Eskaleringsplan
A55: Leverandør | B55: Lars Leverandør | C55: Brannintegrasjon feiler | D55: Feil i integrasjonen | E55: Brannvarsling når ikke personalet. Forsinkelser i beredskap. Kan føre til kan føre til brudd på pasientsikkerhet og dårlig omdømme for kommunen | F55: Meld feil! Plan B prosedyre
A56: Leverandør | B56: Lars Leverandør | C56: Integrajon med porttelefon feiler | D56: Feil i integrasjonen | E56: Personalet får ikke besvart porttelefon eller åpnet døren på avstand. Kan føre til kan føre til brudd på pasientsikkerhet og dårlig omdømme for kommunen | F56: Meld feil! Plan B prosedyre
A57: Leverandør | B57: Lars Leverandør | C57: Overføring av data fra PAVA via VKP til EPJ | D57: Feil i datagrunnlag/feil i integrasjon | E57: Data blir ikke hentet ut fra EPJ. Data leveres ikke til EPJ. Kan føre til kan føre til brudd på pasientsikkerhet og dårlig omdømme for kommunen | F57: Rutiner for oppfølging av feilede hendelser, risikovurdering
A58: Leverandør | B58: Lars Leverandør | C58: Løsningen har svakheter knyttet til dørstyring | D58: Dørstyring feiler | E58: Beboere går inn på andre beboeres rom. Kan føre til kan føre til brudd på pasientsikkerhet og dårlig omdømme for kommunen | F58: Meld feil, Rutiner for Plan B
A59: Kommune | B59: Helga Helsetun | C59: ikke har etablert rutiner for å håndtere feil ved dørstyring | D59: Dørstyring feiler | E59: Beboere går inn på andre beboeres rom. Kan føre til kan føre til brudd på pasientsikkerhet og dårlig omdømme for kommunen | F59: Meld feil, Rutiner for Plan B
