Workbook

Sheet ROS -  hvorfor og hvordan

Sheet Veiledning for bruk av mal

Sheet Løsningsskisse

Sheet Løsningsskisse - eksempel

Sheet Aktører
B2: Personas til bruk i ROS og DPIA | C2: Aktørgruppe
B3: Turid Tjenestemottaker | C3: Den registrerte
B4: Pauline Pårørende | C4: Pårørende
B5: Nabeel Nabo | C5: Uvedkommende
B6: Hjalmar Hjemmesykepleier | C6: Kommune
B7: Helga Helsetun | C7: Kommune
B8: Reidar Respons | C8: Kommune
B9: Anna Avdelingsleder | C9: Kommune
B10: Komila Kommunalsjef | C10: Kommune
B11: Helge HelseIT-leder | C11: Kommune
B12: Vanja Vaktmester | C12: Kommune
B13: Terje Hjelpemiddeltekniker | C13: Kommune
... B20: Ulrik Utvikler | C20: Leverandør

Sheet Risikovurdering - mal 
A2: RisikoID | B2: Aktørgruppe | C2: Aktør | D2: Uønsket hendelse/risikoscenario (Som <aktør> er det en risiko for at [jeg]…) | E2: Årsak/sårbarhet - beskrivelse av hvorfor den uønskede hendelsen kan inntreffe, eventuelt hvordan det kan skje ( brukes som grunnlag for å beskrive sannsynlighet) | F2: Hva er konsekvensen hvis risikohendelsen inntreffer? (en kort tekstlig beskrivelse av hva som kan skje hvis tiltak ikke blir iverksatt- brukes som grunnlag for å vurdere konsekvens) | G2: Eksisterende tiltak | H2: Initiell sannsynlighet (vurdert etter eksisterende tiltak) | I2: Initiell konsekvens (vurdert etter eksisterende tiltak) | J2: Initiell risikoscore (vurdert etter eksisterende tiltak) | K2: Nye tiltak som kan redusere risiko | L2: Sannsynlighet etter nye tiltak | M2: Konsekvens etter nye tiltak | N2: Risikoscore etter nye tiltak | O2: Ansvarlig for å etablere/gjennomføre nye risikoreduserende tiltak | P2: Frist for å etablere/gjennomføre nye risikoreduserende tiltak
A3: 1 | J3: =H3*I3 -> 0 | N3: =L3*M3 -> 0
A4: 2 | J4: =H4*I4 -> 0 | N4: =L4*M4 -> 0
A5: 3 | J5: =H5*I5 -> 0 | N5: =L5*M5 -> 0
A6: 4 | J6: =H6*I6 -> 0 | N6: =L6*M6 -> 0
A7: 5 | J7: =H7*I7 -> 0 | N7: =L7*M7 -> 0
A8: 6 | J8: =H8*I8 -> 0 | N8: =L8*M8 -> 0
A9: 7
A10: 8
A11: 9
A12: 10
A13: 11
A14: 12
A15: 13
A16: 14
A17: 15
A18: 16
A19: 17
A20: 18
... A39: 37

Sheet Risikotabell
A2: USANNSYNLIG (<25%) | B2: {=IF(RIGHT(IF(LEFT(SUBSTITUTE(SUBSTITUTE(_xlfn.ARRAYTOTEXT(IF('Risikovurdering - mal '!$L$2:$L$200=ROW()-2,IF('Risikovurdering - mal '!$M$2:$M$200=COLUMN()-1,"R"&'Risikovurdering - mal '!$A$2:$A$200,""),""))," ;",""),";",","),2)=", ",RIGHT(SUBSTITUTE(SUBSTITUTE(_xlfn.ARRAYTOTEXT(IF('Risikovurdering - mal '!$L$2:$L$200=ROW()-2,IF('Risikovurdering - mal '!$M$2:$M$200=COLUMN()-1,"R"&'Risikovurdering - mal '!$A$2:$A$200,""),""))," ;",""),";",","),LEN(SUBSTITUTE(SUBSTITUTE(_xlfn.ARRAYTOTEXT(IF('Risikovurdering - mal '!$L$2:$L$200=ROW()-2,IF('Risikovurdering - mal '!$M$2:$M$200=COLUMN()-1,"R"&'Risikovurdering - mal '!$A$2:$A$200,""),""))," ;",""),";",","))-2),SUBSTITUTE(SUBSTITUTE(_xlfn.ARRAYTOTEXT(IF('Risikovurdering - mal '!$L$2:$L$200=ROW()-2,IF('Risikovurdering - mal '!$M$2:$M$200=COLUMN()-1,"R"&'Risikovurdering - mal '!$A$2:$A$200,""),""))," ;",""),";",",")),2)=", ",LEFT(IF(LEFT(SUBSTITUTE(SUBSTITUTE(_xlfn.ARRAYTOTEXT(IF('Risikovurdering - mal '!$L$2:$L$200=ROW()-2,IF('Risikovurdering - mal '!$M$2:$M$200=COLUMN()-1,"R"&'Risikovurdering - mal '!$A$2:$A$200,""),""))," ;",""),";",","),2)=", ",RIGHT(SUBSTITUTE(SUBSTITUTE(_xlfn.ARRAYTOTEXT(IF('Risikovurdering - mal '!$L$2:$L$200=ROW()-2,IF('Risikovurdering - mal '!$M$2:$M$200=COLUMN()-1,"R"&'Risikovurdering - mal '!$A$2:$A$200,""),""))," ;",""),";",","),LEN(SUBSTITUTE(SUBSTITUTE(_xlfn.ARRAYTOTEXT(IF('Risikovurdering - mal '!$L$2:$L$200=ROW()-2,IF('Risikovurdering - mal '!$M$2:$M$200=COLUMN()-1,"R"&'Risikovurdering - mal '!$A$2:$A$200,""),""))," ;",""),";",","))-2),SUBSTITUTE(SUBSTITUTE(_xlfn.ARRAYTOTEXT(IF('Risikovurdering - mal '!$L$2:$L$200=ROW()-2,IF('Risikovurdering - mal '!$M$2:$M$200=COLUMN()-1,"R"&'Risikovurdering - mal '!$A$2:$A$200,""),""))," ;",""),";",",")),LEN(IF(LEFT(SUBSTITUTE(SUBSTITUTE(_xlfn.ARRAYTOTEXT(IF('Risikovurdering - mal '!$L$2:$L$200=ROW()-2,IF('Risikovurdering - mal '!$M$2:$M$200=COLUMN()-1,"R"&'Risikovurdering - mal '!$A$2:$A$200,""),""))," ;",""),";",","),2)=", ",RIGHT(SUBSTITUTE(SUBSTITUTE(_xlfn.ARRAYTOTEXT(IF('Risikovurdering - mal '!$L$2:$L$200=ROW()-2,IF('Risikovurdering - mal '!$M$2:$M$200=COLUMN()-1,"R"&'Risikovurdering - mal '!$A$2:$A$200,""),""))," ;",""),";",","),LEN(SUBSTITUTE(SUBSTITUTE(_xlfn.ARRAYTOTEXT(IF('Risikovurdering - mal '!$L$2:$L$200=ROW()-2,IF('Risikovurdering - mal '!$M$2:$M$200=COLUMN()-1,"R"&'Risikovurdering - mal '!$A$2:$A$200,""),""))," ;",""),";",","))-2),SUBSTITUTE(SUBSTITUTE(_xlfn.ARRAYTOTEXT(IF('Risikovurdering - mal '!$L$2:$L$200=ROW()-2,IF('Risikovurdering - mal '!$M$2:$M$200=COLUMN()-1,"R"&'Risikovurdering - mal '!$A$2:$A$200,""),""))," ;",""),";",",")))-2),IF(LEFT(SUBSTITUTE(SUBSTITUTE(_xlfn.ARRAYTOTEXT(IF('Risikovurdering - mal '!$L$2:$L$200=ROW()-2,IF('Risikovurdering - mal '!$M$2:$M$200=COLUMN()-1,"R"&'Risikovurdering - mal '!$A$2:$A$200,""),""))," ;",""),";",","),2)=", ",RIGHT(SUBSTITUTE(SUBSTITUTE(_xlfn.ARRAYTOTEXT(IF('Risikovurdering - mal '!$L$2:$L$200=ROW()-2,IF('Risikovurdering - mal '!$M$2:$M$200=COLUMN()-1,"R"&'Risikovurdering - mal '!$A$2:$A$200,""),""))," ;",""),";",","),LEN(SUBSTITUTE(SUBSTITUTE(_xlfn.ARRAYTOTEXT(IF('Risikovurdering - mal '!$L$2:$L$200=ROW()-2,IF('Risikovurdering - mal '!$M$2:$M$200=COLUMN()-1,"R"&'Risikovurdering - mal '!$A$2:$A$200,""),""))," ;",""),";",","))-2),SUBSTITUTE(SUBSTITUTE(_xlfn.ARRAYTOTEXT(IF('Risikovurdering - mal '!$L$2:$L$200=ROW()-2,IF('Risikovurdering - mal '!$M$2:$M$200=COLUMN()-1,"R"&'Risikovurdering - mal '!$A$2:$A$200,""),""))," ;",""),";",",")))} | C2: {=IF(RIGHT(IF(LEFT(SUBSTITUTE(SUBSTITUTE(_xlfn.ARRAYTOTEXT(IF('Risikovurdering - mal '!$L$2:$L$200=ROW()-2,IF('Risikovurdering - mal '!$M$2:$M$200=COLUMN()-1,"R"&'Risikovurdering - mal '!$A$2:$A$200,""),""))," ;",""),";",","),2)=", ",RIGHT(SUBSTITUTE(SUBSTITUTE(_xlfn.ARRAYTOTEXT(IF('Risikovurdering - mal '!$L$2:$L$200=ROW()-2,IF('Risikovurdering - mal '!$M$2:$M$200=COLUMN()-1,"R"&'Risikovurdering - mal '!$A$2:$A$200,""),""))," ;",""),";",","),LEN(SUBSTITUTE(SUBSTITUTE(_xlfn.ARRAYTOTEXT(IF('Risikovurdering - mal '!$L$2:$L$200=ROW()-2,IF('Risikovurdering - mal '!$M$2:$M$200=COLUMN()-1,"R"&'Risikovurdering - mal '!$A$2:$A$200,""),""))," ;",""),";",","))-2),SUBSTITUTE(SUBSTITUTE(_xlfn.ARRAYTOTEXT(IF('Risikovurdering - mal '!$L$2:$L$200=ROW()-2,IF('Risikovurdering - mal '!$M$2:$M$200=COLUMN()-1,"R"&'Risikovurdering - mal '!$A$2:$A$200,""),""))," ;",""),";",",")),2)=", ",LEFT(IF(LEFT(SUBSTITUTE(SUBSTITUTE(_xlfn.ARRAYTOTEXT(IF('Risikovurdering - mal '!$L$2:$L$200=ROW()-2,IF('Risikovurdering - mal '!$M$2:$M$200=COLUMN()-1,"R"&'Risikovurdering - mal '!$A$2:$A$200,""),""))," ;",""),";",","),2)=", ",RIGHT(SUBSTITUTE(SUBSTITUTE(_xlfn.ARRAYTOTEXT(IF('Risikovurdering - mal '!$L$2:$L$200=ROW()-2,IF('Risikovurdering - mal '!$M$2:$M$200=COLUMN()-1,"R"&'Risikovurdering - mal '!$A$2:$A$200,""),""))," ;",""),";",","),LEN(SUBSTITUTE(SUBSTITUTE(_xlfn.ARRAYTOTEXT(IF('Risikovurdering - mal '!$L$2:$L$200=ROW()-2,IF('Risikovurdering - mal '!$M$2:$M$200=COLUMN()-1,"R"&'Risikovurdering - mal '!$A$2:$A$200,""),""))," ;",""),";",","))-2),SUBSTITUTE(SUBSTITUTE(_xlfn.ARRAYTOTEXT(IF('Risikovurdering - mal '!$L$2:$L$200=ROW()-2,IF('Risikovurdering - mal '!$M$2:$M$200=COLUMN()-1,"R"&'Risikovurdering - mal '!$A$2:$A$200,""),""))," ;",""),";",",")),LEN(IF(LEFT(SUBSTITUTE(SUBSTITUTE(_xlfn.ARRAYTOTEXT(IF('Risikovurdering - mal '!$L$2:$L$200=ROW()-2,IF('Risikovurdering - mal '!$M$2:$M$200=COLUMN()-1,"R"&'Risikovurdering - mal '!$A$2:$A$200,""),""))," ;",""),";",","),2)=", ",RIGHT(SUBSTITUTE(SUBSTITUTE(_xlfn.ARRAYTOTEXT(IF('Risikovurdering - mal '!$L$2:$L$200=ROW()-2,IF('Risikovurdering - mal '!$M$2:$M$200=COLUMN()-1,"R"&'Risikovurdering - mal '!$A$2:$A$200,""),""))," ;",""),";",","),LEN(SUBSTITUTE(SUBSTITUTE(_xlfn.ARRAYTOTEXT(IF('Risikovurdering - mal '!$L$2:$L$200=ROW()-2,IF('Risikovurdering - mal '!$M$2:$M$200=COLUMN()-1,"R"&'Risikovurdering - mal '!$A$2:$A$200,""),""))," ;",""),";",","))-2),SUBSTITUTE(SUBSTITUTE(_xlfn.ARRAYTOTEXT(IF('Risikovurdering - mal '!$L$2:$L$200=ROW()-2,IF('Risikovurdering - mal '!$M$2:$M$200=COLUMN()-1,"R"&'Risikovurdering - mal '!$A$2:$A$200,""),""))," ;",""),";",",")))-2),IF(LEFT(SUBSTITUTE(SUBSTITUTE(_xlfn.ARRAYTOTEXT(IF('Risikovurdering - mal '!$L$2:$L$200=ROW()-2,IF('Risikovurdering - mal '!$M$2:$M$200=COLUMN()-1,"R"&'Risikovurdering - mal '!$A$2:$A$200,""),""))," ;",""),";",","),2)=", ",RIGHT(SUBSTITUTE(SUBSTITUTE(_xlfn.ARRAYTOTEXT(IF('Risikovurdering - mal '!$L$2:$L$200=ROW()-2,IF('Risikovurdering - mal '!$M$2:$M$200=COLUMN()-1,"R"&'Risikovurdering - mal '!$A$2:$A$200,""),""))," ;",""),";",","),LEN(SUBSTITUTE(SUBSTITUTE(_xlfn.ARRAYTOTEXT(IF('Risikovurdering - mal '!$L$2:$L$200=ROW()-2,IF('Risikovurdering - mal '!$M$2:$M$200=COLUMN()-1,"R"&'Risikovurdering - mal '!$A$2:$A$200,""),""))," ;",""),";",","))-2),SUBSTITUTE(SUBSTITUTE(_xlfn.ARRAYTOTEXT(IF('Risikovurdering - mal '!$L$2:$L$200=ROW()-2,IF('Risikovurdering - mal '!$M$2:$M$200=COLUMN()-1,"R"&'Risikovurdering - mal '!$A$2:$A$200,""),""))," ;",""),";",",")))} | D2: {=IF(RIGHT(IF(LEFT(SUBSTITUTE(SUBSTITUTE(_xlfn.ARRAYTOTEXT(IF('Risikovurdering - mal '!$L$2:$L$200=ROW()-2,IF('Risikovurdering - mal '!$M$2:$M$200=COLUMN()-1,"R"&'Risikovurdering - mal '!$A$2:$A$200,""),""))," ;",""),";",","),2)=", ",RIGHT(SUBSTITUTE(SUBSTITUTE(_xlfn.ARRAYTOTEXT(IF('Risikovurdering - mal '!$L$2:$L$200=ROW()-2,IF('Risikovurdering - mal '!$M$2:$M$200=COLUMN()-1,"R"&'Risikovurdering - mal '!$A$2:$A$200,""),""))," ;",""),";",","),LEN(SUBSTITUTE(SUBSTITUTE(_xlfn.ARRAYTOTEXT(IF('Risikovurdering - mal '!$L$2:$L$200=ROW()-2,IF('Risikovurdering - mal '!$M$2:$M$200=COLUMN()-1,"R"&'Risikovurdering - mal '!$A$2:$A$200,""),""))," ;",""),";",","))-2),SUBSTITUTE(SUBSTITUTE(_xlfn.ARRAYTOTEXT(IF('Risikovurdering - mal '!$L$2:$L$200=ROW()-2,IF('Risikovurdering - mal '!$M$2:$M$200=COLUMN()-1,"R"&'Risikovurdering - mal '!$A$2:$A$200,""),""))," ;",""),";",",")),2)=", ",LEFT(IF(LEFT(SUBSTITUTE(SUBSTITUTE(_xlfn.ARRAYTOTEXT(IF('Risikovurdering - mal '!$L$2:$L$200=ROW()-2,IF('Risikovurdering - mal '!$M$2:$M$200=COLUMN()-1,"R"&'Risikovurdering - mal '!$A$2:$A$200,""),""))," ;",""),";",","),2)=", ",RIGHT(SUBSTITUTE(SUBSTITUTE(_xlfn.ARRAYTOTEXT(IF('Risikovurdering - mal '!$L$2:$L$200=ROW()-2,IF('Risikovurdering - mal '!$M$2:$M$200=COLUMN()-1,"R"&'Risikovurdering - mal '!$A$2:$A$200,""),""))," ;",""),";",","),LEN(SUBSTITUTE(SUBSTITUTE(_xlfn.ARRAYTOTEXT(IF('Risikovurdering - mal '!$L$2:$L$200=ROW()-2,IF('Risikovurdering - mal '!$M$2:$M$200=COLUMN()-1,"R"&'Risikovurdering - mal '!$A$2:$A$200,""),""))," ;",""),";",","))-2),SUBSTITUTE(SUBSTITUTE(_xlfn.ARRAYTOTEXT(IF('Risikovurdering - mal '!$L$2:$L$200=ROW()-2,IF('Risikovurdering - mal '!$M$2:$M$200=COLUMN()-1,"R"&'Risikovurdering - mal '!$A$2:$A$200,""),""))," ;",""),";",",")),LEN(IF(LEFT(SUBSTITUTE(SUBSTITUTE(_xlfn.ARRAYTOTEXT(IF('Risikovurdering - mal '!$L$2:$L$200=ROW()-2,IF('Risikovurdering - mal '!$M$2:$M$200=COLUMN()-1,"R"&'Risikovurdering - mal '!$A$2:$A$200,""),""))," ;",""),";",","),2)=", ",RIGHT(SUBSTITUTE(SUBSTITUTE(_xlfn.ARRAYTOTEXT(IF('Risikovurdering - mal '!$L$2:$L$200=ROW()-2,IF('Risikovurdering - mal '!$M$2:$M$200=COLUMN()-1,"R"&'Risikovurdering - mal '!$A$2:$A$200,""),""))," ;",""),";",","),LEN(SUBSTITUTE(SUBSTITUTE(_xlfn.ARRAYTOTEXT(IF('Risikovurdering - mal '!$L$2:$L$200=ROW()-2,IF('Risikovurdering - mal '!$M$2:$M$200=COLUMN()-1,"R"&'Risikovurdering - mal '!$A$2:$A$200,""),""))," ;",""),";",","))-2),SUBSTITUTE(SUBSTITUTE(_xlfn.ARRAYTOTEXT(IF('Risikovurdering - mal '!$L$2:$L$200=ROW()-2,IF('Risikovurdering - mal '!$M$2:$M$200=COLUMN()-1,"R"&'Risikovurdering - mal '!$A$2:$A$200,""),""))," ;",""),";",",")))-2),IF(LEFT(SUBSTITUTE(SUBSTITUTE(_xlfn.ARRAYTOTEXT(IF('Risikovurdering - mal '!$L$2:$L$200=ROW()-2,IF('Risikovurdering - mal '!$M$2:$M$200=COLUMN()-1,"R"&'Risikovurdering - mal '!$A$2:$A$200,""),""))," ;",""),";",","),2)=", ",RIGHT(SUBSTITUTE(SUBSTITUTE(_xlfn.ARRAYTOTEXT(IF('Risikovurdering - mal '!$L$2:$L$200=ROW()-2,IF('Risikovurdering - mal '!$M$2:$M$200=COLUMN()-1,"R"&'Risikovurdering - mal '!$A$2:$A$200,""),""))," ;",""),";",","),LEN(SUBSTITUTE(SUBSTITUTE(_xlfn.ARRAYTOTEXT(IF('Risikovurdering - mal '!$L$2:$L$200=ROW()-2,IF('Risikovurdering - mal '!$M$2:$M$200=COLUMN()-1,"R"&'Risikovurdering - mal '!$A$2:$A$200,""),""))," ;",""),";",","))-2),SUBSTITUTE(SUBSTITUTE(_xlfn.ARRAYTOTEXT(IF('Risikovurdering - mal '!$L$2:$L$200=ROW()-2,IF('Risikovurdering - mal '!$M$2:$M$200=COLUMN()-1,"R"&'Risikovurdering - mal '!$A$2:$A$200,""),""))," ;",""),";",",")))} | E2: {=IF(RIGHT(IF(LEFT(SUBSTITUTE(SUBSTITUTE(_xlfn.ARRAYTOTEXT(IF('Risikovurdering - mal '!$L$2:$L$200=ROW()-2,IF('Risikovurdering - mal '!$M$2:$M$200=COLUMN()-1,"R"&'Risikovurdering - mal '!$A$2:$A$200,""),""))," ;",""),";",","),2)=", ",RIGHT(SUBSTITUTE(SUBSTITUTE(_xlfn.ARRAYTOTEXT(IF('Risikovurdering - mal '!$L$2:$L$200=ROW()-2,IF('Risikovurdering - mal '!$M$2:$M$200=COLUMN()-1,"R"&'Risikovurdering - mal '!$A$2:$A$200,""),""))," ;",""),";",","),LEN(SUBSTITUTE(SUBSTITUTE(_xlfn.ARRAYTOTEXT(IF('Risikovurdering - mal '!$L$2:$L$200=ROW()-2,IF('Risikovurdering - mal '!$M$2:$M$200=COLUMN()-1,"R"&'Risikovurdering - mal '!$A$2:$A$200,""),""))," ;",""),";",","))-2),SUBSTITUTE(SUBSTITUTE(_xlfn.ARRAYTOTEXT(IF('Risikovurdering - mal '!$L$2:$L$200=ROW()-2,IF('Risikovurdering - mal '!$M$2:$M$200=COLUMN()-1,"R"&'Risikovurdering - mal '!$A$2:$A$200,""),""))," ;",""),";",",")),2)=", ",LEFT(IF(LEFT(SUBSTITUTE(SUBSTITUTE(_xlfn.ARRAYTOTEXT(IF('Risikovurdering - mal '!$L$2:$L$200=ROW()-2,IF('Risikovurdering - mal '!$M$2:$M$200=COLUMN()-1,"R"&'Risikovurdering - mal '!$A$2:$A$200,""),""))," ;",""),";",","),2)=", ",RIGHT(SUBSTITUTE(SUBSTITUTE(_xlfn.ARRAYTOTEXT(IF('Risikovurdering - mal '!$L$2:$L$200=ROW()-2,IF('Risikovurdering - mal '!$M$2:$M$200=COLUMN()-1,"R"&'Risikovurdering - mal '!$A$2:$A$200,""),""))," ;",""),";",","),LEN(SUBSTITUTE(SUBSTITUTE(_xlfn.ARRAYTOTEXT(IF('Risikovurdering - mal '!$L$2:$L$200=ROW()-2,IF('Risikovurdering - mal '!$M$2:$M$200=COLUMN()-1,"R"&'Risikovurdering - mal '!$A$2:$A$200,""),""))," ;",""),";",","))-2),SUBSTITUTE(SUBSTITUTE(_xlfn.ARRAYTOTEXT(IF('Risikovurdering - mal '!$L$2:$L$200=ROW()-2,IF('Risikovurdering - mal '!$M$2:$M$200=COLUMN()-1,"R"&'Risikovurdering - mal '!$A$2:$A$200,""),""))," ;",""),";",",")),LEN(IF(LEFT(SUBSTITUTE(SUBSTITUTE(_xlfn.ARRAYTOTEXT(IF('Risikovurdering - mal '!$L$2:$L$200=ROW()-2,IF('Risikovurdering - mal '!$M$2:$M$200=COLUMN()-1,"R"&'Risikovurdering - mal '!$A$2:$A$200,""),""))," ;",""),";",","),2)=", ",RIGHT(SUBSTITUTE(SUBSTITUTE(_xlfn.ARRAYTOTEXT(IF('Risikovurdering - mal '!$L$2:$L$200=ROW()-2,IF('Risikovurdering - mal '!$M$2:$M$200=COLUMN()-1,"R"&'Risikovurdering - mal '!$A$2:$A$200,""),""))," ;",""),";",","),LEN(SUBSTITUTE(SUBSTITUTE(_xlfn.ARRAYTOTEXT(IF('Risikovurdering - mal '!$L$2:$L$200=ROW()-2,IF('Risikovurdering - mal '!$M$2:$M$200=COLUMN()-1,"R"&'Risikovurdering - mal '!$A$2:$A$200,""),""))," ;",""),";",","))-2),SUBSTITUTE(SUBSTITUTE(_xlfn.ARRAYTOTEXT(IF('Risikovurdering - mal '!$L$2:$L$200=ROW()-2,IF('Risikovurdering - mal '!$M$2:$M$200=COLUMN()-1,"R"&'Risikovurdering - mal '!$A$2:$A$200,""),""))," ;",""),";",",")))-2),IF(LEFT(SUBSTITUTE(SUBSTITUTE(_xlfn.ARRAYTOTEXT(IF('Risikovurdering - mal '!$L$2:$L$200=ROW()-2,IF('Risikovurdering - mal '!$M$2:$M$200=COLUMN()-1,"R"&'Risikovurdering - mal '!$A$2:$A$200,""),""))," ;",""),";",","),2)=", ",RIGHT(SUBSTITUTE(SUBSTITUTE(_xlfn.ARRAYTOTEXT(IF('Risikovurdering - mal '!$L$2:$L$200=ROW()-2,IF('Risikovurdering - mal '!$M$2:$M$200=COLUMN()-1,"R"&'Risikovurdering - mal '!$A$2:$A$200,""),""))," ;",""),";",","),LEN(SUBSTITUTE(SUBSTITUTE(_xlfn.ARRAYTOTEXT(IF('Risikovurdering - mal '!$L$2:$L$200=ROW()-2,IF('Risikovurdering - mal '!$M$2:$M$200=COLUMN()-1,"R"&'Risikovurdering - mal '!$A$2:$A$200,""),""))," ;",""),";",","))-2),SUBSTITUTE(SUBSTITUTE(_xlfn.ARRAYTOTEXT(IF('Risikovurdering - mal '!$L$2:$L$200=ROW()-2,IF('Risikovurdering - mal '!$M$2:$M$200=COLUMN()-1,"R"&'Risikovurdering - mal '!$A$2:$A$200,""),""))," ;",""),";",",")))}
A3: LITE SANNSYNLIG (25-50%) | B3: {=IF(RIGHT(IF(LEFT(SUBSTITUTE(SUBSTITUTE(_xlfn.ARRAYTOTEXT(IF('Risikovurdering - mal '!$L$2:$L$200=ROW()-2,IF('Risikovurdering - mal '!$M$2:$M$200=COLUMN()-1,"R"&'Risikovurdering - mal '!$A$2:$A$200,""),""))," ;",""),";",","),2)=", ",RIGHT(SUBSTITUTE(SUBSTITUTE(_xlfn.ARRAYTOTEXT(IF('Risikovurdering - mal '!$L$2:$L$200=ROW()-2,IF('Risikovurdering - mal '!$M$2:$M$200=COLUMN()-1,"R"&'Risikovurdering - mal '!$A$2:$A$200,""),""))," ;",""),";",","),LEN(SUBSTITUTE(SUBSTITUTE(_xlfn.ARRAYTOTEXT(IF('Risikovurdering - mal '!$L$2:$L$200=ROW()-2,IF('Risikovurdering - mal '!$M$2:$M$200=COLUMN()-1,"R"&'Risikovurdering - mal '!$A$2:$A$200,""),""))," ;",""),";",","))-2),SUBSTITUTE(SUBSTITUTE(_xlfn.ARRAYTOTEXT(IF('Risikovurdering - mal '!$L$2:$L$200=ROW()-2,IF('Risikovurdering - mal '!$M$2:$M$200=COLUMN()-1,"R"&'Risikovurdering - mal '!$A$2:$A$200,""),""))," ;",""),";",",")),2)=", ",LEFT(IF(LEFT(SUBSTITUTE(SUBSTITUTE(_xlfn.ARRAYTOTEXT(IF('Risikovurdering - mal '!$L$2:$L$200=ROW()-2,IF('Risikovurdering - mal '!$M$2:$M$200=COLUMN()-1,"R"&'Risikovurdering - mal '!$A$2:$A$200,""),""))," ;",""),";",","),2)=", ",RIGHT(SUBSTITUTE(SUBSTITUTE(_xlfn.ARRAYTOTEXT(IF('Risikovurdering - mal '!$L$2:$L$200=ROW()-2,IF('Risikovurdering - mal '!$M$2:$M$200=COLUMN()-1,"R"&'Risikovurdering - mal '!$A$2:$A$200,""),""))," ;",""),";",","),LEN(SUBSTITUTE(SUBSTITUTE(_xlfn.ARRAYTOTEXT(IF('Risikovurdering - mal '!$L$2:$L$200=ROW()-2,IF('Risikovurdering - mal '!$M$2:$M$200=COLUMN()-1,"R"&'Risikovurdering - mal '!$A$2:$A$200,""),""))," ;",""),";",","))-2),SUBSTITUTE(SUBSTITUTE(_xlfn.ARRAYTOTEXT(IF('Risikovurdering - mal '!$L$2:$L$200=ROW()-2,IF('Risikovurdering - mal '!$M$2:$M$200=COLUMN()-1,"R"&'Risikovurdering - mal '!$A$2:$A$200,""),""))," ;",""),";",",")),LEN(IF(LEFT(SUBSTITUTE(SUBSTITUTE(_xlfn.ARRAYTOTEXT(IF('Risikovurdering - mal '!$L$2:$L$200=ROW()-2,IF('Risikovurdering - mal '!$M$2:$M$200=COLUMN()-1,"R"&'Risikovurdering - mal '!$A$2:$A$200,""),""))," ;",""),";",","),2)=", ",RIGHT(SUBSTITUTE(SUBSTITUTE(_xlfn.ARRAYTOTEXT(IF('Risikovurdering - mal '!$L$2:$L$200=ROW()-2,IF('Risikovurdering - mal '!$M$2:$M$200=COLUMN()-1,"R"&'Risikovurdering - mal '!$A$2:$A$200,""),""))," ;",""),";",","),LEN(SUBSTITUTE(SUBSTITUTE(_xlfn.ARRAYTOTEXT(IF('Risikovurdering - mal '!$L$2:$L$200=ROW()-2,IF('Risikovurdering - mal '!$M$2:$M$200=COLUMN()-1,"R"&'Risikovurdering - mal '!$A$2:$A$200,""),""))," ;",""),";",","))-2),SUBSTITUTE(SUBSTITUTE(_xlfn.ARRAYTOTEXT(IF('Risikovurdering - mal '!$L$2:$L$200=ROW()-2,IF('Risikovurdering - mal '!$M$2:$M$200=COLUMN()-1,"R"&'Risikovurdering - mal '!$A$2:$A$200,""),""))," ;",""),";",",")))-2),IF(LEFT(SUBSTITUTE(SUBSTITUTE(_xlfn.ARRAYTOTEXT(IF('Risikovurdering - mal '!$L$2:$L$200=ROW()-2,IF('Risikovurdering - mal '!$M$2:$M$200=COLUMN()-1,"R"&'Risikovurdering - mal '!$A$2:$A$200,""),""))," ;",""),";",","),2)=", ",RIGHT(SUBSTITUTE(SUBSTITUTE(_xlfn.ARRAYTOTEXT(IF('Risikovurdering - mal '!$L$2:$L$200=ROW()-2,IF('Risikovurdering - mal '!$M$2:$M$200=COLUMN()-1,"R"&'Risikovurdering - mal '!$A$2:$A$200,""),""))," ;",""),";",","),LEN(SUBSTITUTE(SUBSTITUTE(_xlfn.ARRAYTOTEXT(IF('Risikovurdering - mal '!$L$2:$L$200=ROW()-2,IF('Risikovurdering - mal '!$M$2:$M$200=COLUMN()-1,"R"&'Risikovurdering - mal '!$A$2:$A$200,""),""))," ;",""),";",","))-2),SUBSTITUTE(SUBSTITUTE(_xlfn.ARRAYTOTEXT(IF('Risikovurdering - mal '!$L$2:$L$200=ROW()-2,IF('Risikovurdering - mal '!$M$2:$M$200=COLUMN()-1,"R"&'Risikovurdering - mal '!$A$2:$A$200,""),""))," ;",""),";",",")))} | C3: {=IF(RIGHT(IF(LEFT(SUBSTITUTE(SUBSTITUTE(_xlfn.ARRAYTOTEXT(IF('Risikovurdering - mal '!$L$2:$L$200=ROW()-2,IF('Risikovurdering - mal '!$M$2:$M$200=COLUMN()-1,"R"&'Risikovurdering - mal '!$A$2:$A$200,""),""))," ;",""),";",","),2)=", ",RIGHT(SUBSTITUTE(SUBSTITUTE(_xlfn.ARRAYTOTEXT(IF('Risikovurdering - mal '!$L$2:$L$200=ROW()-2,IF('Risikovurdering - mal '!$M$2:$M$200=COLUMN()-1,"R"&'Risikovurdering - mal '!$A$2:$A$200,""),""))," ;",""),";",","),LEN(SUBSTITUTE(SUBSTITUTE(_xlfn.ARRAYTOTEXT(IF('Risikovurdering - mal '!$L$2:$L$200=ROW()-2,IF('Risikovurdering - mal '!$M$2:$M$200=COLUMN()-1,"R"&'Risikovurdering - mal '!$A$2:$A$200,""),""))," ;",""),";",","))-2),SUBSTITUTE(SUBSTITUTE(_xlfn.ARRAYTOTEXT(IF('Risikovurdering - mal '!$L$2:$L$200=ROW()-2,IF('Risikovurdering - mal '!$M$2:$M$200=COLUMN()-1,"R"&'Risikovurdering - mal '!$A$2:$A$200,""),""))," ;",""),";",",")),2)=", ",LEFT(IF(LEFT(SUBSTITUTE(SUBSTITUTE(_xlfn.ARRAYTOTEXT(IF('Risikovurdering - mal '!$L$2:$L$200=ROW()-2,IF('Risikovurdering - mal '!$M$2:$M$200=COLUMN()-1,"R"&'Risikovurdering - mal '!$A$2:$A$200,""),""))," ;",""),";",","),2)=", ",RIGHT(SUBSTITUTE(SUBSTITUTE(_xlfn.ARRAYTOTEXT(IF('Risikovurdering - mal '!$L$2:$L$200=ROW()-2,IF('Risikovurdering - mal '!$M$2:$M$200=COLUMN()-1,"R"&'Risikovurdering - mal '!$A$2:$A$200,""),""))," ;",""),";",","),LEN(SUBSTITUTE(SUBSTITUTE(_xlfn.ARRAYTOTEXT(IF('Risikovurdering - mal '!$L$2:$L$200=ROW()-2,IF('Risikovurdering - mal '!$M$2:$M$200=COLUMN()-1,"R"&'Risikovurdering - mal '!$A$2:$A$200,""),""))," ;",""),";",","))-2),SUBSTITUTE(SUBSTITUTE(_xlfn.ARRAYTOTEXT(IF('Risikovurdering - mal '!$L$2:$L$200=ROW()-2,IF('Risikovurdering - mal '!$M$2:$M$200=COLUMN()-1,"R"&'Risikovurdering - mal '!$A$2:$A$200,""),""))," ;",""),";",",")),LEN(IF(LEFT(SUBSTITUTE(SUBSTITUTE(_xlfn.ARRAYTOTEXT(IF('Risikovurdering - mal '!$L$2:$L$200=ROW()-2,IF('Risikovurdering - mal '!$M$2:$M$200=COLUMN()-1,"R"&'Risikovurdering - mal '!$A$2:$A$200,""),""))," ;",""),";",","),2)=", ",RIGHT(SUBSTITUTE(SUBSTITUTE(_xlfn.ARRAYTOTEXT(IF('Risikovurdering - mal '!$L$2:$L$200=ROW()-2,IF('Risikovurdering - mal '!$M$2:$M$200=COLUMN()-1,"R"&'Risikovurdering - mal '!$A$2:$A$200,""),""))," ;",""),";",","),LEN(SUBSTITUTE(SUBSTITUTE(_xlfn.ARRAYTOTEXT(IF('Risikovurdering - mal '!$L$2:$L$200=ROW()-2,IF('Risikovurdering - mal '!$M$2:$M$200=COLUMN()-1,"R"&'Risikovurdering - mal '!$A$2:$A$200,""),""))," ;",""),";",","))-2),SUBSTITUTE(SUBSTITUTE(_xlfn.ARRAYTOTEXT(IF('Risikovurdering - mal '!$L$2:$L$200=ROW()-2,IF('Risikovurdering - mal '!$M$2:$M$200=COLUMN()-1,"R"&'Risikovurdering - mal '!$A$2:$A$200,""),""))," ;",""),";",",")))-2),IF(LEFT(SUBSTITUTE(SUBSTITUTE(_xlfn.ARRAYTOTEXT(IF('Risikovurdering - mal '!$L$2:$L$200=ROW()-2,IF('Risikovurdering - mal '!$M$2:$M$200=COLUMN()-1,"R"&'Risikovurdering - mal '!$A$2:$A$200,""),""))," ;",""),";",","),2)=", ",RIGHT(SUBSTITUTE(SUBSTITUTE(_xlfn.ARRAYTOTEXT(IF('Risikovurdering - mal '!$L$2:$L$200=ROW()-2,IF('Risikovurdering - mal '!$M$2:$M$200=COLUMN()-1,"R"&'Risikovurdering - mal '!$A$2:$A$200,""),""))," ;",""),";",","),LEN(SUBSTITUTE(SUBSTITUTE(_xlfn.ARRAYTOTEXT(IF('Risikovurdering - mal '!$L$2:$L$200=ROW()-2,IF('Risikovurdering - mal '!$M$2:$M$200=COLUMN()-1,"R"&'Risikovurdering - mal '!$A$2:$A$200,""),""))," ;",""),";",","))-2),SUBSTITUTE(SUBSTITUTE(_xlfn.ARRAYTOTEXT(IF('Risikovurdering - mal '!$L$2:$L$200=ROW()-2,IF('Risikovurdering - mal '!$M$2:$M$200=COLUMN()-1,"R"&'Risikovurdering - mal '!$A$2:$A$200,""),""))," ;",""),";",",")))} | D3: {=IF(RIGHT(IF(LEFT(SUBSTITUTE(SUBSTITUTE(_xlfn.ARRAYTOTEXT(IF('Risikovurdering - mal '!$L$2:$L$200=ROW()-2,IF('Risikovurdering - mal '!$M$2:$M$200=COLUMN()-1,"R"&'Risikovurdering - mal '!$A$2:$A$200,""),""))," ;",""),";",","),2)=", ",RIGHT(SUBSTITUTE(SUBSTITUTE(_xlfn.ARRAYTOTEXT(IF('Risikovurdering - mal '!$L$2:$L$200=ROW()-2,IF('Risikovurdering - mal '!$M$2:$M$200=COLUMN()-1,"R"&'Risikovurdering - mal '!$A$2:$A$200,""),""))," ;",""),";",","),LEN(SUBSTITUTE(SUBSTITUTE(_xlfn.ARRAYTOTEXT(IF('Risikovurdering - mal '!$L$2:$L$200=ROW()-2,IF('Risikovurdering - mal '!$M$2:$M$200=COLUMN()-1,"R"&'Risikovurdering - mal '!$A$2:$A$200,""),""))," ;",""),";",","))-2),SUBSTITUTE(SUBSTITUTE(_xlfn.ARRAYTOTEXT(IF('Risikovurdering - mal '!$L$2:$L$200=ROW()-2,IF('Risikovurdering - mal '!$M$2:$M$200=COLUMN()-1,"R"&'Risikovurdering - mal '!$A$2:$A$200,""),""))," ;",""),";",",")),2)=", ",LEFT(IF(LEFT(SUBSTITUTE(SUBSTITUTE(_xlfn.ARRAYTOTEXT(IF('Risikovurdering - mal '!$L$2:$L$200=ROW()-2,IF('Risikovurdering - mal '!$M$2:$M$200=COLUMN()-1,"R"&'Risikovurdering - mal '!$A$2:$A$200,""),""))," ;",""),";",","),2)=", ",RIGHT(SUBSTITUTE(SUBSTITUTE(_xlfn.ARRAYTOTEXT(IF('Risikovurdering - mal '!$L$2:$L$200=ROW()-2,IF('Risikovurdering - mal '!$M$2:$M$200=COLUMN()-1,"R"&'Risikovurdering - mal '!$A$2:$A$200,""),""))," ;",""),";",","),LEN(SUBSTITUTE(SUBSTITUTE(_xlfn.ARRAYTOTEXT(IF('Risikovurdering - mal '!$L$2:$L$200=ROW()-2,IF('Risikovurdering - mal '!$M$2:$M$200=COLUMN()-1,"R"&'Risikovurdering - mal '!$A$2:$A$200,""),""))," ;",""),";",","))-2),SUBSTITUTE(SUBSTITUTE(_xlfn.ARRAYTOTEXT(IF('Risikovurdering - mal '!$L$2:$L$200=ROW()-2,IF('Risikovurdering - mal '!$M$2:$M$200=COLUMN()-1,"R"&'Risikovurdering - mal '!$A$2:$A$200,""),""))," ;",""),";",",")),LEN(IF(LEFT(SUBSTITUTE(SUBSTITUTE(_xlfn.ARRAYTOTEXT(IF('Risikovurdering - mal '!$L$2:$L$200=ROW()-2,IF('Risikovurdering - mal '!$M$2:$M$200=COLUMN()-1,"R"&'Risikovurdering - mal '!$A$2:$A$200,""),""))," ;",""),";",","),2)=", ",RIGHT(SUBSTITUTE(SUBSTITUTE(_xlfn.ARRAYTOTEXT(IF('Risikovurdering - mal '!$L$2:$L$200=ROW()-2,IF('Risikovurdering - mal '!$M$2:$M$200=COLUMN()-1,"R"&'Risikovurdering - mal '!$A$2:$A$200,""),""))," ;",""),";",","),LEN(SUBSTITUTE(SUBSTITUTE(_xlfn.ARRAYTOTEXT(IF('Risikovurdering - mal '!$L$2:$L$200=ROW()-2,IF('Risikovurdering - mal '!$M$2:$M$200=COLUMN()-1,"R"&'Risikovurdering - mal '!$A$2:$A$200,""),""))," ;",""),";",","))-2),SUBSTITUTE(SUBSTITUTE(_xlfn.ARRAYTOTEXT(IF('Risikovurdering - mal '!$L$2:$L$200=ROW()-2,IF('Risikovurdering - mal '!$M$2:$M$200=COLUMN()-1,"R"&'Risikovurdering - mal '!$A$2:$A$200,""),""))," ;",""),";",",")))-2),IF(LEFT(SUBSTITUTE(SUBSTITUTE(_xlfn.ARRAYTOTEXT(IF('Risikovurdering - mal '!$L$2:$L$200=ROW()-2,IF('Risikovurdering - mal '!$M$2:$M$200=COLUMN()-1,"R"&'Risikovurdering - mal '!$A$2:$A$200,""),""))," ;",""),";",","),2)=", ",RIGHT(SUBSTITUTE(SUBSTITUTE(_xlfn.ARRAYTOTEXT(IF('Risikovurdering - mal '!$L$2:$L$200=ROW()-2,IF('Risikovurdering - mal '!$M$2:$M$200=COLUMN()-1,"R"&'Risikovurdering - mal '!$A$2:$A$200,""),""))," ;",""),";",","),LEN(SUBSTITUTE(SUBSTITUTE(_xlfn.ARRAYTOTEXT(IF('Risikovurdering - mal '!$L$2:$L$200=ROW()-2,IF('Risikovurdering - mal '!$M$2:$M$200=COLUMN()-1,"R"&'Risikovurdering - mal '!$A$2:$A$200,""),""))," ;",""),";",","))-2),SUBSTITUTE(SUBSTITUTE(_xlfn.ARRAYTOTEXT(IF('Risikovurdering - mal '!$L$2:$L$200=ROW()-2,IF('Risikovurdering - mal '!$M$2:$M$200=COLUMN()-1,"R"&'Risikovurdering - mal '!$A$2:$A$200,""),""))," ;",""),";",",")))} | E3: {=IF(RIGHT(IF(LEFT(SUBSTITUTE(SUBSTITUTE(_xlfn.ARRAYTOTEXT(IF('Risikovurdering - mal '!$L$2:$L$200=ROW()-2,IF('Risikovurdering - mal '!$M$2:$M$200=COLUMN()-1,"R"&'Risikovurdering - mal '!$A$2:$A$200,""),""))," ;",""),";",","),2)=", ",RIGHT(SUBSTITUTE(SUBSTITUTE(_xlfn.ARRAYTOTEXT(IF('Risikovurdering - mal '!$L$2:$L$200=ROW()-2,IF('Risikovurdering - mal '!$M$2:$M$200=COLUMN()-1,"R"&'Risikovurdering - mal '!$A$2:$A$200,""),""))," ;",""),";",","),LEN(SUBSTITUTE(SUBSTITUTE(_xlfn.ARRAYTOTEXT(IF('Risikovurdering - mal '!$L$2:$L$200=ROW()-2,IF('Risikovurdering - mal '!$M$2:$M$200=COLUMN()-1,"R"&'Risikovurdering - mal '!$A$2:$A$200,""),""))," ;",""),";",","))-2),SUBSTITUTE(SUBSTITUTE(_xlfn.ARRAYTOTEXT(IF('Risikovurdering - mal '!$L$2:$L$200=ROW()-2,IF('Risikovurdering - mal '!$M$2:$M$200=COLUMN()-1,"R"&'Risikovurdering - mal '!$A$2:$A$200,""),""))," ;",""),";",",")),2)=", ",LEFT(IF(LEFT(SUBSTITUTE(SUBSTITUTE(_xlfn.ARRAYTOTEXT(IF('Risikovurdering - mal '!$L$2:$L$200=ROW()-2,IF('Risikovurdering - mal '!$M$2:$M$200=COLUMN()-1,"R"&'Risikovurdering - mal '!$A$2:$A$200,""),""))," ;",""),";",","),2)=", ",RIGHT(SUBSTITUTE(SUBSTITUTE(_xlfn.ARRAYTOTEXT(IF('Risikovurdering - mal '!$L$2:$L$200=ROW()-2,IF('Risikovurdering - mal '!$M$2:$M$200=COLUMN()-1,"R"&'Risikovurdering - mal '!$A$2:$A$200,""),""))," ;",""),";",","),LEN(SUBSTITUTE(SUBSTITUTE(_xlfn.ARRAYTOTEXT(IF('Risikovurdering - mal '!$L$2:$L$200=ROW()-2,IF('Risikovurdering - mal '!$M$2:$M$200=COLUMN()-1,"R"&'Risikovurdering - mal '!$A$2:$A$200,""),""))," ;",""),";",","))-2),SUBSTITUTE(SUBSTITUTE(_xlfn.ARRAYTOTEXT(IF('Risikovurdering - mal '!$L$2:$L$200=ROW()-2,IF('Risikovurdering - mal '!$M$2:$M$200=COLUMN()-1,"R"&'Risikovurdering - mal '!$A$2:$A$200,""),""))," ;",""),";",",")),LEN(IF(LEFT(SUBSTITUTE(SUBSTITUTE(_xlfn.ARRAYTOTEXT(IF('Risikovurdering - mal '!$L$2:$L$200=ROW()-2,IF('Risikovurdering - mal '!$M$2:$M$200=COLUMN()-1,"R"&'Risikovurdering - mal '!$A$2:$A$200,""),""))," ;",""),";",","),2)=", ",RIGHT(SUBSTITUTE(SUBSTITUTE(_xlfn.ARRAYTOTEXT(IF('Risikovurdering - mal '!$L$2:$L$200=ROW()-2,IF('Risikovurdering - mal '!$M$2:$M$200=COLUMN()-1,"R"&'Risikovurdering - mal '!$A$2:$A$200,""),""))," ;",""),";",","),LEN(SUBSTITUTE(SUBSTITUTE(_xlfn.ARRAYTOTEXT(IF('Risikovurdering - mal '!$L$2:$L$200=ROW()-2,IF('Risikovurdering - mal '!$M$2:$M$200=COLUMN()-1,"R"&'Risikovurdering - mal '!$A$2:$A$200,""),""))," ;",""),";",","))-2),SUBSTITUTE(SUBSTITUTE(_xlfn.ARRAYTOTEXT(IF('Risikovurdering - mal '!$L$2:$L$200=ROW()-2,IF('Risikovurdering - mal '!$M$2:$M$200=COLUMN()-1,"R"&'Risikovurdering - mal '!$A$2:$A$200,""),""))," ;",""),";",",")))-2),IF(LEFT(SUBSTITUTE(SUBSTITUTE(_xlfn.ARRAYTOTEXT(IF('Risikovurdering - mal '!$L$2:$L$200=ROW()-2,IF('Risikovurdering - mal '!$M$2:$M$200=COLUMN()-1,"R"&'Risikovurdering - mal '!$A$2:$A$200,""),""))," ;",""),";",","),2)=", ",RIGHT(SUBSTITUTE(SUBSTITUTE(_xlfn.ARRAYTOTEXT(IF('Risikovurdering - mal '!$L$2:$L$200=ROW()-2,IF('Risikovurdering - mal '!$M$2:$M$200=COLUMN()-1,"R"&'Risikovurdering - mal '!$A$2:$A$200,""),""))," ;",""),";",","),LEN(SUBSTITUTE(SUBSTITUTE(_xlfn.ARRAYTOTEXT(IF('Risikovurdering - mal '!$L$2:$L$200=ROW()-2,IF('Risikovurdering - mal '!$M$2:$M$200=COLUMN()-1,"R"&'Risikovurdering - mal '!$A$2:$A$200,""),""))," ;",""),";",","))-2),SUBSTITUTE(SUBSTITUTE(_xlfn.ARRAYTOTEXT(IF('Risikovurdering - mal '!$L$2:$L$200=ROW()-2,IF('Risikovurdering - mal '!$M$2:$M$200=COLUMN()-1,"R"&'Risikovurdering - mal '!$A$2:$A$200,""),""))," ;",""),";",",")))}
A4: SANNSYNLIG (50-75%) | B4: {=IF(RIGHT(IF(LEFT(SUBSTITUTE(SUBSTITUTE(_xlfn.ARRAYTOTEXT(IF('Risikovurdering - mal '!$L$2:$L$200=ROW()-2,IF('Risikovurdering - mal '!$M$2:$M$200=COLUMN()-1,"R"&'Risikovurdering - mal '!$A$2:$A$200,""),""))," ;",""),";",","),2)=", ",RIGHT(SUBSTITUTE(SUBSTITUTE(_xlfn.ARRAYTOTEXT(IF('Risikovurdering - mal '!$L$2:$L$200=ROW()-2,IF('Risikovurdering - mal '!$M$2:$M$200=COLUMN()-1,"R"&'Risikovurdering - mal '!$A$2:$A$200,""),""))," ;",""),";",","),LEN(SUBSTITUTE(SUBSTITUTE(_xlfn.ARRAYTOTEXT(IF('Risikovurdering - mal '!$L$2:$L$200=ROW()-2,IF('Risikovurdering - mal '!$M$2:$M$200=COLUMN()-1,"R"&'Risikovurdering - mal '!$A$2:$A$200,""),""))," ;",""),";",","))-2),SUBSTITUTE(SUBSTITUTE(_xlfn.ARRAYTOTEXT(IF('Risikovurdering - mal '!$L$2:$L$200=ROW()-2,IF('Risikovurdering - mal '!$M$2:$M$200=COLUMN()-1,"R"&'Risikovurdering - mal '!$A$2:$A$200,""),""))," ;",""),";",",")),2)=", ",LEFT(IF(LEFT(SUBSTITUTE(SUBSTITUTE(_xlfn.ARRAYTOTEXT(IF('Risikovurdering - mal '!$L$2:$L$200=ROW()-2,IF('Risikovurdering - mal '!$M$2:$M$200=COLUMN()-1,"R"&'Risikovurdering - mal '!$A$2:$A$200,""),""))," ;",""),";",","),2)=", ",RIGHT(SUBSTITUTE(SUBSTITUTE(_xlfn.ARRAYTOTEXT(IF('Risikovurdering - mal '!$L$2:$L$200=ROW()-2,IF('Risikovurdering - mal '!$M$2:$M$200=COLUMN()-1,"R"&'Risikovurdering - mal '!$A$2:$A$200,""),""))," ;",""),";",","),LEN(SUBSTITUTE(SUBSTITUTE(_xlfn.ARRAYTOTEXT(IF('Risikovurdering - mal '!$L$2:$L$200=ROW()-2,IF('Risikovurdering - mal '!$M$2:$M$200=COLUMN()-1,"R"&'Risikovurdering - mal '!$A$2:$A$200,""),""))," ;",""),";",","))-2),SUBSTITUTE(SUBSTITUTE(_xlfn.ARRAYTOTEXT(IF('Risikovurdering - mal '!$L$2:$L$200=ROW()-2,IF('Risikovurdering - mal '!$M$2:$M$200=COLUMN()-1,"R"&'Risikovurdering - mal '!$A$2:$A$200,""),""))," ;",""),";",",")),LEN(IF(LEFT(SUBSTITUTE(SUBSTITUTE(_xlfn.ARRAYTOTEXT(IF('Risikovurdering - mal '!$L$2:$L$200=ROW()-2,IF('Risikovurdering - mal '!$M$2:$M$200=COLUMN()-1,"R"&'Risikovurdering - mal '!$A$2:$A$200,""),""))," ;",""),";",","),2)=", ",RIGHT(SUBSTITUTE(SUBSTITUTE(_xlfn.ARRAYTOTEXT(IF('Risikovurdering - mal '!$L$2:$L$200=ROW()-2,IF('Risikovurdering - mal '!$M$2:$M$200=COLUMN()-1,"R"&'Risikovurdering - mal '!$A$2:$A$200,""),""))," ;",""),";",","),LEN(SUBSTITUTE(SUBSTITUTE(_xlfn.ARRAYTOTEXT(IF('Risikovurdering - mal '!$L$2:$L$200=ROW()-2,IF('Risikovurdering - mal '!$M$2:$M$200=COLUMN()-1,"R"&'Risikovurdering - mal '!$A$2:$A$200,""),""))," ;",""),";",","))-2),SUBSTITUTE(SUBSTITUTE(_xlfn.ARRAYTOTEXT(IF('Risikovurdering - mal '!$L$2:$L$200=ROW()-2,IF('Risikovurdering - mal '!$M$2:$M$200=COLUMN()-1,"R"&'Risikovurdering - mal '!$A$2:$A$200,""),""))," ;",""),";",",")))-2),IF(LEFT(SUBSTITUTE(SUBSTITUTE(_xlfn.ARRAYTOTEXT(IF('Risikovurdering - mal '!$L$2:$L$200=ROW()-2,IF('Risikovurdering - mal '!$M$2:$M$200=COLUMN()-1,"R"&'Risikovurdering - mal '!$A$2:$A$200,""),""))," ;",""),";",","),2)=", ",RIGHT(SUBSTITUTE(SUBSTITUTE(_xlfn.ARRAYTOTEXT(IF('Risikovurdering - mal '!$L$2:$L$200=ROW()-2,IF('Risikovurdering - mal '!$M$2:$M$200=COLUMN()-1,"R"&'Risikovurdering - mal '!$A$2:$A$200,""),""))," ;",""),";",","),LEN(SUBSTITUTE(SUBSTITUTE(_xlfn.ARRAYTOTEXT(IF('Risikovurdering - mal '!$L$2:$L$200=ROW()-2,IF('Risikovurdering - mal '!$M$2:$M$200=COLUMN()-1,"R"&'Risikovurdering - mal '!$A$2:$A$200,""),""))," ;",""),";",","))-2),SUBSTITUTE(SUBSTITUTE(_xlfn.ARRAYTOTEXT(IF('Risikovurdering - mal '!$L$2:$L$200=ROW()-2,IF('Risikovurdering - mal '!$M$2:$M$200=COLUMN()-1,"R"&'Risikovurdering - mal '!$A$2:$A$200,""),""))," ;",""),";",",")))} | C4: {=IF(RIGHT(IF(LEFT(SUBSTITUTE(SUBSTITUTE(_xlfn.ARRAYTOTEXT(IF('Risikovurdering - mal '!$L$2:$L$200=ROW()-2,IF('Risikovurdering - mal '!$M$2:$M$200=COLUMN()-1,"R"&'Risikovurdering - mal '!$A$2:$A$200,""),""))," ;",""),";",","),2)=", ",RIGHT(SUBSTITUTE(SUBSTITUTE(_xlfn.ARRAYTOTEXT(IF('Risikovurdering - mal '!$L$2:$L$200=ROW()-2,IF('Risikovurdering - mal '!$M$2:$M$200=COLUMN()-1,"R"&'Risikovurdering - mal '!$A$2:$A$200,""),""))," ;",""),";",","),LEN(SUBSTITUTE(SUBSTITUTE(_xlfn.ARRAYTOTEXT(IF('Risikovurdering - mal '!$L$2:$L$200=ROW()-2,IF('Risikovurdering - mal '!$M$2:$M$200=COLUMN()-1,"R"&'Risikovurdering - mal '!$A$2:$A$200,""),""))," ;",""),";",","))-2),SUBSTITUTE(SUBSTITUTE(_xlfn.ARRAYTOTEXT(IF('Risikovurdering - mal '!$L$2:$L$200=ROW()-2,IF('Risikovurdering - mal '!$M$2:$M$200=COLUMN()-1,"R"&'Risikovurdering - mal '!$A$2:$A$200,""),""))," ;",""),";",",")),2)=", ",LEFT(IF(LEFT(SUBSTITUTE(SUBSTITUTE(_xlfn.ARRAYTOTEXT(IF('Risikovurdering - mal '!$L$2:$L$200=ROW()-2,IF('Risikovurdering - mal '!$M$2:$M$200=COLUMN()-1,"R"&'Risikovurdering - mal '!$A$2:$A$200,""),""))," ;",""),";",","),2)=", ",RIGHT(SUBSTITUTE(SUBSTITUTE(_xlfn.ARRAYTOTEXT(IF('Risikovurdering - mal '!$L$2:$L$200=ROW()-2,IF('Risikovurdering - mal '!$M$2:$M$200=COLUMN()-1,"R"&'Risikovurdering - mal '!$A$2:$A$200,""),""))," ;",""),";",","),LEN(SUBSTITUTE(SUBSTITUTE(_xlfn.ARRAYTOTEXT(IF('Risikovurdering - mal '!$L$2:$L$200=ROW()-2,IF('Risikovurdering - mal '!$M$2:$M$200=COLUMN()-1,"R"&'Risikovurdering - mal '!$A$2:$A$200,""),""))," ;",""),";",","))-2),SUBSTITUTE(SUBSTITUTE(_xlfn.ARRAYTOTEXT(IF('Risikovurdering - mal '!$L$2:$L$200=ROW()-2,IF('Risikovurdering - mal '!$M$2:$M$200=COLUMN()-1,"R"&'Risikovurdering - mal '!$A$2:$A$200,""),""))," ;",""),";",",")),LEN(IF(LEFT(SUBSTITUTE(SUBSTITUTE(_xlfn.ARRAYTOTEXT(IF('Risikovurdering - mal '!$L$2:$L$200=ROW()-2,IF('Risikovurdering - mal '!$M$2:$M$200=COLUMN()-1,"R"&'Risikovurdering - mal '!$A$2:$A$200,""),""))," ;",""),";",","),2)=", ",RIGHT(SUBSTITUTE(SUBSTITUTE(_xlfn.ARRAYTOTEXT(IF('Risikovurdering - mal '!$L$2:$L$200=ROW()-2,IF('Risikovurdering - mal '!$M$2:$M$200=COLUMN()-1,"R"&'Risikovurdering - mal '!$A$2:$A$200,""),""))," ;",""),";",","),LEN(SUBSTITUTE(SUBSTITUTE(_xlfn.ARRAYTOTEXT(IF('Risikovurdering - mal '!$L$2:$L$200=ROW()-2,IF('Risikovurdering - mal '!$M$2:$M$200=COLUMN()-1,"R"&'Risikovurdering - mal '!$A$2:$A$200,""),""))," ;",""),";",","))-2),SUBSTITUTE(SUBSTITUTE(_xlfn.ARRAYTOTEXT(IF('Risikovurdering - mal '!$L$2:$L$200=ROW()-2,IF('Risikovurdering - mal '!$M$2:$M$200=COLUMN()-1,"R"&'Risikovurdering - mal '!$A$2:$A$200,""),""))," ;",""),";",",")))-2),IF(LEFT(SUBSTITUTE(SUBSTITUTE(_xlfn.ARRAYTOTEXT(IF('Risikovurdering - mal '!$L$2:$L$200=ROW()-2,IF('Risikovurdering - mal '!$M$2:$M$200=COLUMN()-1,"R"&'Risikovurdering - mal '!$A$2:$A$200,""),""))," ;",""),";",","),2)=", ",RIGHT(SUBSTITUTE(SUBSTITUTE(_xlfn.ARRAYTOTEXT(IF('Risikovurdering - mal '!$L$2:$L$200=ROW()-2,IF('Risikovurdering - mal '!$M$2:$M$200=COLUMN()-1,"R"&'Risikovurdering - mal '!$A$2:$A$200,""),""))," ;",""),";",","),LEN(SUBSTITUTE(SUBSTITUTE(_xlfn.ARRAYTOTEXT(IF('Risikovurdering - mal '!$L$2:$L$200=ROW()-2,IF('Risikovurdering - mal '!$M$2:$M$200=COLUMN()-1,"R"&'Risikovurdering - mal '!$A$2:$A$200,""),""))," ;",""),";",","))-2),SUBSTITUTE(SUBSTITUTE(_xlfn.ARRAYTOTEXT(IF('Risikovurdering - mal '!$L$2:$L$200=ROW()-2,IF('Risikovurdering - mal '!$M$2:$M$200=COLUMN()-1,"R"&'Risikovurdering - mal '!$A$2:$A$200,""),""))," ;",""),";",",")))} | D4: {=IF(RIGHT(IF(LEFT(SUBSTITUTE(SUBSTITUTE(_xlfn.ARRAYTOTEXT(IF('Risikovurdering - mal '!$L$2:$L$200=ROW()-2,IF('Risikovurdering - mal '!$M$2:$M$200=COLUMN()-1,"R"&'Risikovurdering - mal '!$A$2:$A$200,""),""))," ;",""),";",","),2)=", ",RIGHT(SUBSTITUTE(SUBSTITUTE(_xlfn.ARRAYTOTEXT(IF('Risikovurdering - mal '!$L$2:$L$200=ROW()-2,IF('Risikovurdering - mal '!$M$2:$M$200=COLUMN()-1,"R"&'Risikovurdering - mal '!$A$2:$A$200,""),""))," ;",""),";",","),LEN(SUBSTITUTE(SUBSTITUTE(_xlfn.ARRAYTOTEXT(IF('Risikovurdering - mal '!$L$2:$L$200=ROW()-2,IF('Risikovurdering - mal '!$M$2:$M$200=COLUMN()-1,"R"&'Risikovurdering - mal '!$A$2:$A$200,""),""))," ;",""),";",","))-2),SUBSTITUTE(SUBSTITUTE(_xlfn.ARRAYTOTEXT(IF('Risikovurdering - mal '!$L$2:$L$200=ROW()-2,IF('Risikovurdering - mal '!$M$2:$M$200=COLUMN()-1,"R"&'Risikovurdering - mal '!$A$2:$A$200,""),""))," ;",""),";",",")),2)=", ",LEFT(IF(LEFT(SUBSTITUTE(SUBSTITUTE(_xlfn.ARRAYTOTEXT(IF('Risikovurdering - mal '!$L$2:$L$200=ROW()-2,IF('Risikovurdering - mal '!$M$2:$M$200=COLUMN()-1,"R"&'Risikovurdering - mal '!$A$2:$A$200,""),""))," ;",""),";",","),2)=", ",RIGHT(SUBSTITUTE(SUBSTITUTE(_xlfn.ARRAYTOTEXT(IF('Risikovurdering - mal '!$L$2:$L$200=ROW()-2,IF('Risikovurdering - mal '!$M$2:$M$200=COLUMN()-1,"R"&'Risikovurdering - mal '!$A$2:$A$200,""),""))," ;",""),";",","),LEN(SUBSTITUTE(SUBSTITUTE(_xlfn.ARRAYTOTEXT(IF('Risikovurdering - mal '!$L$2:$L$200=ROW()-2,IF('Risikovurdering - mal '!$M$2:$M$200=COLUMN()-1,"R"&'Risikovurdering - mal '!$A$2:$A$200,""),""))," ;",""),";",","))-2),SUBSTITUTE(SUBSTITUTE(_xlfn.ARRAYTOTEXT(IF('Risikovurdering - mal '!$L$2:$L$200=ROW()-2,IF('Risikovurdering - mal '!$M$2:$M$200=COLUMN()-1,"R"&'Risikovurdering - mal '!$A$2:$A$200,""),""))," ;",""),";",",")),LEN(IF(LEFT(SUBSTITUTE(SUBSTITUTE(_xlfn.ARRAYTOTEXT(IF('Risikovurdering - mal '!$L$2:$L$200=ROW()-2,IF('Risikovurdering - mal '!$M$2:$M$200=COLUMN()-1,"R"&'Risikovurdering - mal '!$A$2:$A$200,""),""))," ;",""),";",","),2)=", ",RIGHT(SUBSTITUTE(SUBSTITUTE(_xlfn.ARRAYTOTEXT(IF('Risikovurdering - mal '!$L$2:$L$200=ROW()-2,IF('Risikovurdering - mal '!$M$2:$M$200=COLUMN()-1,"R"&'Risikovurdering - mal '!$A$2:$A$200,""),""))," ;",""),";",","),LEN(SUBSTITUTE(SUBSTITUTE(_xlfn.ARRAYTOTEXT(IF('Risikovurdering - mal '!$L$2:$L$200=ROW()-2,IF('Risikovurdering - mal '!$M$2:$M$200=COLUMN()-1,"R"&'Risikovurdering - mal '!$A$2:$A$200,""),""))," ;",""),";",","))-2),SUBSTITUTE(SUBSTITUTE(_xlfn.ARRAYTOTEXT(IF('Risikovurdering - mal '!$L$2:$L$200=ROW()-2,IF('Risikovurdering - mal '!$M$2:$M$200=COLUMN()-1,"R"&'Risikovurdering - mal '!$A$2:$A$200,""),""))," ;",""),";",",")))-2),IF(LEFT(SUBSTITUTE(SUBSTITUTE(_xlfn.ARRAYTOTEXT(IF('Risikovurdering - mal '!$L$2:$L$200=ROW()-2,IF('Risikovurdering - mal '!$M$2:$M$200=COLUMN()-1,"R"&'Risikovurdering - mal '!$A$2:$A$200,""),""))," ;",""),";",","),2)=", ",RIGHT(SUBSTITUTE(SUBSTITUTE(_xlfn.ARRAYTOTEXT(IF('Risikovurdering - mal '!$L$2:$L$200=ROW()-2,IF('Risikovurdering - mal '!$M$2:$M$200=COLUMN()-1,"R"&'Risikovurdering - mal '!$A$2:$A$200,""),""))," ;",""),";",","),LEN(SUBSTITUTE(SUBSTITUTE(_xlfn.ARRAYTOTEXT(IF('Risikovurdering - mal '!$L$2:$L$200=ROW()-2,IF('Risikovurdering - mal '!$M$2:$M$200=COLUMN()-1,"R"&'Risikovurdering - mal '!$A$2:$A$200,""),""))," ;",""),";",","))-2),SUBSTITUTE(SUBSTITUTE(_xlfn.ARRAYTOTEXT(IF('Risikovurdering - mal '!$L$2:$L$200=ROW()-2,IF('Risikovurdering - mal '!$M$2:$M$200=COLUMN()-1,"R"&'Risikovurdering - mal '!$A$2:$A$200,""),""))," ;",""),";",",")))} | E4: {=IF(RIGHT(IF(LEFT(SUBSTITUTE(SUBSTITUTE(_xlfn.ARRAYTOTEXT(IF('Risikovurdering - mal '!$L$2:$L$200=ROW()-2,IF('Risikovurdering - mal '!$M$2:$M$200=COLUMN()-1,"R"&'Risikovurdering - mal '!$A$2:$A$200,""),""))," ;",""),";",","),2)=", ",RIGHT(SUBSTITUTE(SUBSTITUTE(_xlfn.ARRAYTOTEXT(IF('Risikovurdering - mal '!$L$2:$L$200=ROW()-2,IF('Risikovurdering - mal '!$M$2:$M$200=COLUMN()-1,"R"&'Risikovurdering - mal '!$A$2:$A$200,""),""))," ;",""),";",","),LEN(SUBSTITUTE(SUBSTITUTE(_xlfn.ARRAYTOTEXT(IF('Risikovurdering - mal '!$L$2:$L$200=ROW()-2,IF('Risikovurdering - mal '!$M$2:$M$200=COLUMN()-1,"R"&'Risikovurdering - mal '!$A$2:$A$200,""),""))," ;",""),";",","))-2),SUBSTITUTE(SUBSTITUTE(_xlfn.ARRAYTOTEXT(IF('Risikovurdering - mal '!$L$2:$L$200=ROW()-2,IF('Risikovurdering - mal '!$M$2:$M$200=COLUMN()-1,"R"&'Risikovurdering - mal '!$A$2:$A$200,""),""))," ;",""),";",",")),2)=", ",LEFT(IF(LEFT(SUBSTITUTE(SUBSTITUTE(_xlfn.ARRAYTOTEXT(IF('Risikovurdering - mal '!$L$2:$L$200=ROW()-2,IF('Risikovurdering - mal '!$M$2:$M$200=COLUMN()-1,"R"&'Risikovurdering - mal '!$A$2:$A$200,""),""))," ;",""),";",","),2)=", ",RIGHT(SUBSTITUTE(SUBSTITUTE(_xlfn.ARRAYTOTEXT(IF('Risikovurdering - mal '!$L$2:$L$200=ROW()-2,IF('Risikovurdering - mal '!$M$2:$M$200=COLUMN()-1,"R"&'Risikovurdering - mal '!$A$2:$A$200,""),""))," ;",""),";",","),LEN(SUBSTITUTE(SUBSTITUTE(_xlfn.ARRAYTOTEXT(IF('Risikovurdering - mal '!$L$2:$L$200=ROW()-2,IF('Risikovurdering - mal '!$M$2:$M$200=COLUMN()-1,"R"&'Risikovurdering - mal '!$A$2:$A$200,""),""))," ;",""),";",","))-2),SUBSTITUTE(SUBSTITUTE(_xlfn.ARRAYTOTEXT(IF('Risikovurdering - mal '!$L$2:$L$200=ROW()-2,IF('Risikovurdering - mal '!$M$2:$M$200=COLUMN()-1,"R"&'Risikovurdering - mal '!$A$2:$A$200,""),""))," ;",""),";",",")),LEN(IF(LEFT(SUBSTITUTE(SUBSTITUTE(_xlfn.ARRAYTOTEXT(IF('Risikovurdering - mal '!$L$2:$L$200=ROW()-2,IF('Risikovurdering - mal '!$M$2:$M$200=COLUMN()-1,"R"&'Risikovurdering - mal '!$A$2:$A$200,""),""))," ;",""),";",","),2)=", ",RIGHT(SUBSTITUTE(SUBSTITUTE(_xlfn.ARRAYTOTEXT(IF('Risikovurdering - mal '!$L$2:$L$200=ROW()-2,IF('Risikovurdering - mal '!$M$2:$M$200=COLUMN()-1,"R"&'Risikovurdering - mal '!$A$2:$A$200,""),""))," ;",""),";",","),LEN(SUBSTITUTE(SUBSTITUTE(_xlfn.ARRAYTOTEXT(IF('Risikovurdering - mal '!$L$2:$L$200=ROW()-2,IF('Risikovurdering - mal '!$M$2:$M$200=COLUMN()-1,"R"&'Risikovurdering - mal '!$A$2:$A$200,""),""))," ;",""),";",","))-2),SUBSTITUTE(SUBSTITUTE(_xlfn.ARRAYTOTEXT(IF('Risikovurdering - mal '!$L$2:$L$200=ROW()-2,IF('Risikovurdering - mal '!$M$2:$M$200=COLUMN()-1,"R"&'Risikovurdering - mal '!$A$2:$A$200,""),""))," ;",""),";",",")))-2),IF(LEFT(SUBSTITUTE(SUBSTITUTE(_xlfn.ARRAYTOTEXT(IF('Risikovurdering - mal '!$L$2:$L$200=ROW()-2,IF('Risikovurdering - mal '!$M$2:$M$200=COLUMN()-1,"R"&'Risikovurdering - mal '!$A$2:$A$200,""),""))," ;",""),";",","),2)=", ",RIGHT(SUBSTITUTE(SUBSTITUTE(_xlfn.ARRAYTOTEXT(IF('Risikovurdering - mal '!$L$2:$L$200=ROW()-2,IF('Risikovurdering - mal '!$M$2:$M$200=COLUMN()-1,"R"&'Risikovurdering - mal '!$A$2:$A$200,""),""))," ;",""),";",","),LEN(SUBSTITUTE(SUBSTITUTE(_xlfn.ARRAYTOTEXT(IF('Risikovurdering - mal '!$L$2:$L$200=ROW()-2,IF('Risikovurdering - mal '!$M$2:$M$200=COLUMN()-1,"R"&'Risikovurdering - mal '!$A$2:$A$200,""),""))," ;",""),";",","))-2),SUBSTITUTE(SUBSTITUTE(_xlfn.ARRAYTOTEXT(IF('Risikovurdering - mal '!$L$2:$L$200=ROW()-2,IF('Risikovurdering - mal '!$M$2:$M$200=COLUMN()-1,"R"&'Risikovurdering - mal '!$A$2:$A$200,""),""))," ;",""),";",",")))}
A5: SVÆRT SANNSYNLIG (>75%) | B5: {=IF(RIGHT(IF(LEFT(SUBSTITUTE(SUBSTITUTE(_xlfn.ARRAYTOTEXT(IF('Risikovurdering - mal '!$L$2:$L$200=ROW()-2,IF('Risikovurdering - mal '!$M$2:$M$200=COLUMN()-1,"R"&'Risikovurdering - mal '!$A$2:$A$200,""),""))," ;",""),";",","),2)=", ",RIGHT(SUBSTITUTE(SUBSTITUTE(_xlfn.ARRAYTOTEXT(IF('Risikovurdering - mal '!$L$2:$L$200=ROW()-2,IF('Risikovurdering - mal '!$M$2:$M$200=COLUMN()-1,"R"&'Risikovurdering - mal '!$A$2:$A$200,""),""))," ;",""),";",","),LEN(SUBSTITUTE(SUBSTITUTE(_xlfn.ARRAYTOTEXT(IF('Risikovurdering - mal '!$L$2:$L$200=ROW()-2,IF('Risikovurdering - mal '!$M$2:$M$200=COLUMN()-1,"R"&'Risikovurdering - mal '!$A$2:$A$200,""),""))," ;",""),";",","))-2),SUBSTITUTE(SUBSTITUTE(_xlfn.ARRAYTOTEXT(IF('Risikovurdering - mal '!$L$2:$L$200=ROW()-2,IF('Risikovurdering - mal '!$M$2:$M$200=COLUMN()-1,"R"&'Risikovurdering - mal '!$A$2:$A$200,""),""))," ;",""),";",",")),2)=", ",LEFT(IF(LEFT(SUBSTITUTE(SUBSTITUTE(_xlfn.ARRAYTOTEXT(IF('Risikovurdering - mal '!$L$2:$L$200=ROW()-2,IF('Risikovurdering - mal '!$M$2:$M$200=COLUMN()-1,"R"&'Risikovurdering - mal '!$A$2:$A$200,""),""))," ;",""),";",","),2)=", ",RIGHT(SUBSTITUTE(SUBSTITUTE(_xlfn.ARRAYTOTEXT(IF('Risikovurdering - mal '!$L$2:$L$200=ROW()-2,IF('Risikovurdering - mal '!$M$2:$M$200=COLUMN()-1,"R"&'Risikovurdering - mal '!$A$2:$A$200,""),""))," ;",""),";",","),LEN(SUBSTITUTE(SUBSTITUTE(_xlfn.ARRAYTOTEXT(IF('Risikovurdering - mal '!$L$2:$L$200=ROW()-2,IF('Risikovurdering - mal '!$M$2:$M$200=COLUMN()-1,"R"&'Risikovurdering - mal '!$A$2:$A$200,""),""))," ;",""),";",","))-2),SUBSTITUTE(SUBSTITUTE(_xlfn.ARRAYTOTEXT(IF('Risikovurdering - mal '!$L$2:$L$200=ROW()-2,IF('Risikovurdering - mal '!$M$2:$M$200=COLUMN()-1,"R"&'Risikovurdering - mal '!$A$2:$A$200,""),""))," ;",""),";",",")),LEN(IF(LEFT(SUBSTITUTE(SUBSTITUTE(_xlfn.ARRAYTOTEXT(IF('Risikovurdering - mal '!$L$2:$L$200=ROW()-2,IF('Risikovurdering - mal '!$M$2:$M$200=COLUMN()-1,"R"&'Risikovurdering - mal '!$A$2:$A$200,""),""))," ;",""),";",","),2)=", ",RIGHT(SUBSTITUTE(SUBSTITUTE(_xlfn.ARRAYTOTEXT(IF('Risikovurdering - mal '!$L$2:$L$200=ROW()-2,IF('Risikovurdering - mal '!$M$2:$M$200=COLUMN()-1,"R"&'Risikovurdering - mal '!$A$2:$A$200,""),""))," ;",""),";",","),LEN(SUBSTITUTE(SUBSTITUTE(_xlfn.ARRAYTOTEXT(IF('Risikovurdering - mal '!$L$2:$L$200=ROW()-2,IF('Risikovurdering - mal '!$M$2:$M$200=COLUMN()-1,"R"&'Risikovurdering - mal '!$A$2:$A$200,""),""))," ;",""),";",","))-2),SUBSTITUTE(SUBSTITUTE(_xlfn.ARRAYTOTEXT(IF('Risikovurdering - mal '!$L$2:$L$200=ROW()-2,IF('Risikovurdering - mal '!$M$2:$M$200=COLUMN()-1,"R"&'Risikovurdering - mal '!$A$2:$A$200,""),""))," ;",""),";",",")))-2),IF(LEFT(SUBSTITUTE(SUBSTITUTE(_xlfn.ARRAYTOTEXT(IF('Risikovurdering - mal '!$L$2:$L$200=ROW()-2,IF('Risikovurdering - mal '!$M$2:$M$200=COLUMN()-1,"R"&'Risikovurdering - mal '!$A$2:$A$200,""),""))," ;",""),";",","),2)=", ",RIGHT(SUBSTITUTE(SUBSTITUTE(_xlfn.ARRAYTOTEXT(IF('Risikovurdering - mal '!$L$2:$L$200=ROW()-2,IF('Risikovurdering - mal '!$M$2:$M$200=COLUMN()-1,"R"&'Risikovurdering - mal '!$A$2:$A$200,""),""))," ;",""),";",","),LEN(SUBSTITUTE(SUBSTITUTE(_xlfn.ARRAYTOTEXT(IF('Risikovurdering - mal '!$L$2:$L$200=ROW()-2,IF('Risikovurdering - mal '!$M$2:$M$200=COLUMN()-1,"R"&'Risikovurdering - mal '!$A$2:$A$200,""),""))," ;",""),";",","))-2),SUBSTITUTE(SUBSTITUTE(_xlfn.ARRAYTOTEXT(IF('Risikovurdering - mal '!$L$2:$L$200=ROW()-2,IF('Risikovurdering - mal '!$M$2:$M$200=COLUMN()-1,"R"&'Risikovurdering - mal '!$A$2:$A$200,""),""))," ;",""),";",",")))} | C5: {=IF(RIGHT(IF(LEFT(SUBSTITUTE(SUBSTITUTE(_xlfn.ARRAYTOTEXT(IF('Risikovurdering - mal '!$L$2:$L$200=ROW()-2,IF('Risikovurdering - mal '!$M$2:$M$200=COLUMN()-1,"R"&'Risikovurdering - mal '!$A$2:$A$200,""),""))," ;",""),";",","),2)=", ",RIGHT(SUBSTITUTE(SUBSTITUTE(_xlfn.ARRAYTOTEXT(IF('Risikovurdering - mal '!$L$2:$L$200=ROW()-2,IF('Risikovurdering - mal '!$M$2:$M$200=COLUMN()-1,"R"&'Risikovurdering - mal '!$A$2:$A$200,""),""))," ;",""),";",","),LEN(SUBSTITUTE(SUBSTITUTE(_xlfn.ARRAYTOTEXT(IF('Risikovurdering - mal '!$L$2:$L$200=ROW()-2,IF('Risikovurdering - mal '!$M$2:$M$200=COLUMN()-1,"R"&'Risikovurdering - mal '!$A$2:$A$200,""),""))," ;",""),";",","))-2),SUBSTITUTE(SUBSTITUTE(_xlfn.ARRAYTOTEXT(IF('Risikovurdering - mal '!$L$2:$L$200=ROW()-2,IF('Risikovurdering - mal '!$M$2:$M$200=COLUMN()-1,"R"&'Risikovurdering - mal '!$A$2:$A$200,""),""))," ;",""),";",",")),2)=", ",LEFT(IF(LEFT(SUBSTITUTE(SUBSTITUTE(_xlfn.ARRAYTOTEXT(IF('Risikovurdering - mal '!$L$2:$L$200=ROW()-2,IF('Risikovurdering - mal '!$M$2:$M$200=COLUMN()-1,"R"&'Risikovurdering - mal '!$A$2:$A$200,""),""))," ;",""),";",","),2)=", ",RIGHT(SUBSTITUTE(SUBSTITUTE(_xlfn.ARRAYTOTEXT(IF('Risikovurdering - mal '!$L$2:$L$200=ROW()-2,IF('Risikovurdering - mal '!$M$2:$M$200=COLUMN()-1,"R"&'Risikovurdering - mal '!$A$2:$A$200,""),""))," ;",""),";",","),LEN(SUBSTITUTE(SUBSTITUTE(_xlfn.ARRAYTOTEXT(IF('Risikovurdering - mal '!$L$2:$L$200=ROW()-2,IF('Risikovurdering - mal '!$M$2:$M$200=COLUMN()-1,"R"&'Risikovurdering - mal '!$A$2:$A$200,""),""))," ;",""),";",","))-2),SUBSTITUTE(SUBSTITUTE(_xlfn.ARRAYTOTEXT(IF('Risikovurdering - mal '!$L$2:$L$200=ROW()-2,IF('Risikovurdering - mal '!$M$2:$M$200=COLUMN()-1,"R"&'Risikovurdering - mal '!$A$2:$A$200,""),""))," ;",""),";",",")),LEN(IF(LEFT(SUBSTITUTE(SUBSTITUTE(_xlfn.ARRAYTOTEXT(IF('Risikovurdering - mal '!$L$2:$L$200=ROW()-2,IF('Risikovurdering - mal '!$M$2:$M$200=COLUMN()-1,"R"&'Risikovurdering - mal '!$A$2:$A$200,""),""))," ;",""),";",","),2)=", ",RIGHT(SUBSTITUTE(SUBSTITUTE(_xlfn.ARRAYTOTEXT(IF('Risikovurdering - mal '!$L$2:$L$200=ROW()-2,IF('Risikovurdering - mal '!$M$2:$M$200=COLUMN()-1,"R"&'Risikovurdering - mal '!$A$2:$A$200,""),""))," ;",""),";",","),LEN(SUBSTITUTE(SUBSTITUTE(_xlfn.ARRAYTOTEXT(IF('Risikovurdering - mal '!$L$2:$L$200=ROW()-2,IF('Risikovurdering - mal '!$M$2:$M$200=COLUMN()-1,"R"&'Risikovurdering - mal '!$A$2:$A$200,""),""))," ;",""),";",","))-2),SUBSTITUTE(SUBSTITUTE(_xlfn.ARRAYTOTEXT(IF('Risikovurdering - mal '!$L$2:$L$200=ROW()-2,IF('Risikovurdering - mal '!$M$2:$M$200=COLUMN()-1,"R"&'Risikovurdering - mal '!$A$2:$A$200,""),""))," ;",""),";",",")))-2),IF(LEFT(SUBSTITUTE(SUBSTITUTE(_xlfn.ARRAYTOTEXT(IF('Risikovurdering - mal '!$L$2:$L$200=ROW()-2,IF('Risikovurdering - mal '!$M$2:$M$200=COLUMN()-1,"R"&'Risikovurdering - mal '!$A$2:$A$200,""),""))," ;",""),";",","),2)=", ",RIGHT(SUBSTITUTE(SUBSTITUTE(_xlfn.ARRAYTOTEXT(IF('Risikovurdering - mal '!$L$2:$L$200=ROW()-2,IF('Risikovurdering - mal '!$M$2:$M$200=COLUMN()-1,"R"&'Risikovurdering - mal '!$A$2:$A$200,""),""))," ;",""),";",","),LEN(SUBSTITUTE(SUBSTITUTE(_xlfn.ARRAYTOTEXT(IF('Risikovurdering - mal '!$L$2:$L$200=ROW()-2,IF('Risikovurdering - mal '!$M$2:$M$200=COLUMN()-1,"R"&'Risikovurdering - mal '!$A$2:$A$200,""),""))," ;",""),";",","))-2),SUBSTITUTE(SUBSTITUTE(_xlfn.ARRAYTOTEXT(IF('Risikovurdering - mal '!$L$2:$L$200=ROW()-2,IF('Risikovurdering - mal '!$M$2:$M$200=COLUMN()-1,"R"&'Risikovurdering - mal '!$A$2:$A$200,""),""))," ;",""),";",",")))} | D5: {=IF(RIGHT(IF(LEFT(SUBSTITUTE(SUBSTITUTE(_xlfn.ARRAYTOTEXT(IF('Risikovurdering - mal '!$L$2:$L$200=ROW()-2,IF('Risikovurdering - mal '!$M$2:$M$200=COLUMN()-1,"R"&'Risikovurdering - mal '!$A$2:$A$200,""),""))," ;",""),";",","),2)=", ",RIGHT(SUBSTITUTE(SUBSTITUTE(_xlfn.ARRAYTOTEXT(IF('Risikovurdering - mal '!$L$2:$L$200=ROW()-2,IF('Risikovurdering - mal '!$M$2:$M$200=COLUMN()-1,"R"&'Risikovurdering - mal '!$A$2:$A$200,""),""))," ;",""),";",","),LEN(SUBSTITUTE(SUBSTITUTE(_xlfn.ARRAYTOTEXT(IF('Risikovurdering - mal '!$L$2:$L$200=ROW()-2,IF('Risikovurdering - mal '!$M$2:$M$200=COLUMN()-1,"R"&'Risikovurdering - mal '!$A$2:$A$200,""),""))," ;",""),";",","))-2),SUBSTITUTE(SUBSTITUTE(_xlfn.ARRAYTOTEXT(IF('Risikovurdering - mal '!$L$2:$L$200=ROW()-2,IF('Risikovurdering - mal '!$M$2:$M$200=COLUMN()-1,"R"&'Risikovurdering - mal '!$A$2:$A$200,""),""))," ;",""),";",",")),2)=", ",LEFT(IF(LEFT(SUBSTITUTE(SUBSTITUTE(_xlfn.ARRAYTOTEXT(IF('Risikovurdering - mal '!$L$2:$L$200=ROW()-2,IF('Risikovurdering - mal '!$M$2:$M$200=COLUMN()-1,"R"&'Risikovurdering - mal '!$A$2:$A$200,""),""))," ;",""),";",","),2)=", ",RIGHT(SUBSTITUTE(SUBSTITUTE(_xlfn.ARRAYTOTEXT(IF('Risikovurdering - mal '!$L$2:$L$200=ROW()-2,IF('Risikovurdering - mal '!$M$2:$M$200=COLUMN()-1,"R"&'Risikovurdering - mal '!$A$2:$A$200,""),""))," ;",""),";",","),LEN(SUBSTITUTE(SUBSTITUTE(_xlfn.ARRAYTOTEXT(IF('Risikovurdering - mal '!$L$2:$L$200=ROW()-2,IF('Risikovurdering - mal '!$M$2:$M$200=COLUMN()-1,"R"&'Risikovurdering - mal '!$A$2:$A$200,""),""))," ;",""),";",","))-2),SUBSTITUTE(SUBSTITUTE(_xlfn.ARRAYTOTEXT(IF('Risikovurdering - mal '!$L$2:$L$200=ROW()-2,IF('Risikovurdering - mal '!$M$2:$M$200=COLUMN()-1,"R"&'Risikovurdering - mal '!$A$2:$A$200,""),""))," ;",""),";",",")),LEN(IF(LEFT(SUBSTITUTE(SUBSTITUTE(_xlfn.ARRAYTOTEXT(IF('Risikovurdering - mal '!$L$2:$L$200=ROW()-2,IF('Risikovurdering - mal '!$M$2:$M$200=COLUMN()-1,"R"&'Risikovurdering - mal '!$A$2:$A$200,""),""))," ;",""),";",","),2)=", ",RIGHT(SUBSTITUTE(SUBSTITUTE(_xlfn.ARRAYTOTEXT(IF('Risikovurdering - mal '!$L$2:$L$200=ROW()-2,IF('Risikovurdering - mal '!$M$2:$M$200=COLUMN()-1,"R"&'Risikovurdering - mal '!$A$2:$A$200,""),""))," ;",""),";",","),LEN(SUBSTITUTE(SUBSTITUTE(_xlfn.ARRAYTOTEXT(IF('Risikovurdering - mal '!$L$2:$L$200=ROW()-2,IF('Risikovurdering - mal '!$M$2:$M$200=COLUMN()-1,"R"&'Risikovurdering - mal '!$A$2:$A$200,""),""))," ;",""),";",","))-2),SUBSTITUTE(SUBSTITUTE(_xlfn.ARRAYTOTEXT(IF('Risikovurdering - mal '!$L$2:$L$200=ROW()-2,IF('Risikovurdering - mal '!$M$2:$M$200=COLUMN()-1,"R"&'Risikovurdering - mal '!$A$2:$A$200,""),""))," ;",""),";",",")))-2),IF(LEFT(SUBSTITUTE(SUBSTITUTE(_xlfn.ARRAYTOTEXT(IF('Risikovurdering - mal '!$L$2:$L$200=ROW()-2,IF('Risikovurdering - mal '!$M$2:$M$200=COLUMN()-1,"R"&'Risikovurdering - mal '!$A$2:$A$200,""),""))," ;",""),";",","),2)=", ",RIGHT(SUBSTITUTE(SUBSTITUTE(_xlfn.ARRAYTOTEXT(IF('Risikovurdering - mal '!$L$2:$L$200=ROW()-2,IF('Risikovurdering - mal '!$M$2:$M$200=COLUMN()-1,"R"&'Risikovurdering - mal '!$A$2:$A$200,""),""))," ;",""),";",","),LEN(SUBSTITUTE(SUBSTITUTE(_xlfn.ARRAYTOTEXT(IF('Risikovurdering - mal '!$L$2:$L$200=ROW()-2,IF('Risikovurdering - mal '!$M$2:$M$200=COLUMN()-1,"R"&'Risikovurdering - mal '!$A$2:$A$200,""),""))," ;",""),";",","))-2),SUBSTITUTE(SUBSTITUTE(_xlfn.ARRAYTOTEXT(IF('Risikovurdering - mal '!$L$2:$L$200=ROW()-2,IF('Risikovurdering - mal '!$M$2:$M$200=COLUMN()-1,"R"&'Risikovurdering - mal '!$A$2:$A$200,""),""))," ;",""),";",",")))} | E5: {=IF(RIGHT(IF(LEFT(SUBSTITUTE(SUBSTITUTE(_xlfn.ARRAYTOTEXT(IF('Risikovurdering - mal '!$L$2:$L$200=ROW()-2,IF('Risikovurdering - mal '!$M$2:$M$200=COLUMN()-1,"R"&'Risikovurdering - mal '!$A$2:$A$200,""),""))," ;",""),";",","),2)=", ",RIGHT(SUBSTITUTE(SUBSTITUTE(_xlfn.ARRAYTOTEXT(IF('Risikovurdering - mal '!$L$2:$L$200=ROW()-2,IF('Risikovurdering - mal '!$M$2:$M$200=COLUMN()-1,"R"&'Risikovurdering - mal '!$A$2:$A$200,""),""))," ;",""),";",","),LEN(SUBSTITUTE(SUBSTITUTE(_xlfn.ARRAYTOTEXT(IF('Risikovurdering - mal '!$L$2:$L$200=ROW()-2,IF('Risikovurdering - mal '!$M$2:$M$200=COLUMN()-1,"R"&'Risikovurdering - mal '!$A$2:$A$200,""),""))," ;",""),";",","))-2),SUBSTITUTE(SUBSTITUTE(_xlfn.ARRAYTOTEXT(IF('Risikovurdering - mal '!$L$2:$L$200=ROW()-2,IF('Risikovurdering - mal '!$M$2:$M$200=COLUMN()-1,"R"&'Risikovurdering - mal '!$A$2:$A$200,""),""))," ;",""),";",",")),2)=", ",LEFT(IF(LEFT(SUBSTITUTE(SUBSTITUTE(_xlfn.ARRAYTOTEXT(IF('Risikovurdering - mal '!$L$2:$L$200=ROW()-2,IF('Risikovurdering - mal '!$M$2:$M$200=COLUMN()-1,"R"&'Risikovurdering - mal '!$A$2:$A$200,""),""))," ;",""),";",","),2)=", ",RIGHT(SUBSTITUTE(SUBSTITUTE(_xlfn.ARRAYTOTEXT(IF('Risikovurdering - mal '!$L$2:$L$200=ROW()-2,IF('Risikovurdering - mal '!$M$2:$M$200=COLUMN()-1,"R"&'Risikovurdering - mal '!$A$2:$A$200,""),""))," ;",""),";",","),LEN(SUBSTITUTE(SUBSTITUTE(_xlfn.ARRAYTOTEXT(IF('Risikovurdering - mal '!$L$2:$L$200=ROW()-2,IF('Risikovurdering - mal '!$M$2:$M$200=COLUMN()-1,"R"&'Risikovurdering - mal '!$A$2:$A$200,""),""))," ;",""),";",","))-2),SUBSTITUTE(SUBSTITUTE(_xlfn.ARRAYTOTEXT(IF('Risikovurdering - mal '!$L$2:$L$200=ROW()-2,IF('Risikovurdering - mal '!$M$2:$M$200=COLUMN()-1,"R"&'Risikovurdering - mal '!$A$2:$A$200,""),""))," ;",""),";",",")),LEN(IF(LEFT(SUBSTITUTE(SUBSTITUTE(_xlfn.ARRAYTOTEXT(IF('Risikovurdering - mal '!$L$2:$L$200=ROW()-2,IF('Risikovurdering - mal '!$M$2:$M$200=COLUMN()-1,"R"&'Risikovurdering - mal '!$A$2:$A$200,""),""))," ;",""),";",","),2)=", ",RIGHT(SUBSTITUTE(SUBSTITUTE(_xlfn.ARRAYTOTEXT(IF('Risikovurdering - mal '!$L$2:$L$200=ROW()-2,IF('Risikovurdering - mal '!$M$2:$M$200=COLUMN()-1,"R"&'Risikovurdering - mal '!$A$2:$A$200,""),""))," ;",""),";",","),LEN(SUBSTITUTE(SUBSTITUTE(_xlfn.ARRAYTOTEXT(IF('Risikovurdering - mal '!$L$2:$L$200=ROW()-2,IF('Risikovurdering - mal '!$M$2:$M$200=COLUMN()-1,"R"&'Risikovurdering - mal '!$A$2:$A$200,""),""))," ;",""),";",","))-2),SUBSTITUTE(SUBSTITUTE(_xlfn.ARRAYTOTEXT(IF('Risikovurdering - mal '!$L$2:$L$200=ROW()-2,IF('Risikovurdering - mal '!$M$2:$M$200=COLUMN()-1,"R"&'Risikovurdering - mal '!$A$2:$A$200,""),""))," ;",""),";",",")))-2),IF(LEFT(SUBSTITUTE(SUBSTITUTE(_xlfn.ARRAYTOTEXT(IF('Risikovurdering - mal '!$L$2:$L$200=ROW()-2,IF('Risikovurdering - mal '!$M$2:$M$200=COLUMN()-1,"R"&'Risikovurdering - mal '!$A$2:$A$200,""),""))," ;",""),";",","),2)=", ",RIGHT(SUBSTITUTE(SUBSTITUTE(_xlfn.ARRAYTOTEXT(IF('Risikovurdering - mal '!$L$2:$L$200=ROW()-2,IF('Risikovurdering - mal '!$M$2:$M$200=COLUMN()-1,"R"&'Risikovurdering - mal '!$A$2:$A$200,""),""))," ;",""),";",","),LEN(SUBSTITUTE(SUBSTITUTE(_xlfn.ARRAYTOTEXT(IF('Risikovurdering - mal '!$L$2:$L$200=ROW()-2,IF('Risikovurdering - mal '!$M$2:$M$200=COLUMN()-1,"R"&'Risikovurdering - mal '!$A$2:$A$200,""),""))," ;",""),";",","))-2),SUBSTITUTE(SUBSTITUTE(_xlfn.ARRAYTOTEXT(IF('Risikovurdering - mal '!$L$2:$L$200=ROW()-2,IF('Risikovurdering - mal '!$M$2:$M$200=COLUMN()-1,"R"&'Risikovurdering - mal '!$A$2:$A$200,""),""))," ;",""),";",",")))}
B6: UBETYDELIG | C6: MODERAT | D6: ALVORLIG | E6: KRITISK
A9: Grønn - risikoen er akseptabel og ytterligere tiltak er ikke nødvendig
A10: Gul - det må vurderes om ytterligere tiltak er nødvendig og mulig
A11: Rød - risikoen er uakseptabel og krever ytterligere tiltak

Sheet Risikovurdering - eksempler
A2: RisikoID | B2: Aktørgruppe | C2: Aktør | D2: Uønsket hendelse/risikoscenario (Som <aktør> er det en risiko for at [jeg]…) | E2: Årsak/sårbarhet - beskrivelse av hvorfor den uønskede hendelsen kan inntreffe, eventuelt hvordan det kan skje ( brukes som grunnlag for å beskrive sannsynlighet) | F2: Hva er konsekvensen hvis risikohendelsen inntreffer? (en kort tekstlig beskrivelse av hva som kan skje hvis tiltak ikke blir iverksatt- brukes som grunnlag for å vurdere konsekvens) | G2: Eksisterende tiltak | H2: Initiell sannsynlighet (vurdert etter eksisterende tiltak) | I2: Initiell konsekvens (vurdert etter eksisterende tiltak) | J2: Initiell risikoscore (vurdert etter eksisterende tiltak) | K2: Nye tiltak som kan redusere risiko | L2: Sannsynlighet etter nye tiltak | M2: Konsekvens etter nye tiltak | N2: Risikoscore etter nye tiltak | O2: Ansvarlig for å etablere/gjennomføre nye risikoreduserende tiltak | P2: Frist for å etablere/gjennomføre nye risikoreduserende tiltak
A3: 1 | B3: Kommune | C3: Helge HelseIT | D3: Lydlogg er tilgjengelig for uvedkommende | E3: Dersom lydlogg ikke er sikret tilstrekkelig vil lydlogg-data kunne være tilgjengelig for uvedkommmende. | F3: Sensitiv informasjon på avveie | H3: 2 | I3: 4 | J3: =H3*I3 -> 8 | K3: Sørge for riktig tilgangsstyring for avspilling av lydlogg. Faste rutiner på hvordan lydlogg skal avspilles | L3: 2 | M3: 2 | N3: =L3*M3 -> 4
A4: 2 | B4: Kommune | C4: Siri Systemintegratør | D4: Uønsket nedlastning/bruk av smarttelefon med PAVA app | E4: Telefonene som benyttes er ikke styrt av MDM løsning. For vide rettigheter på smarttelefonene | F4: Uønskede får tilgang til informasjon som kjøres i PAVA app | H4: 2 | I4: 3 | J4: =H4*I4 -> 6 | K4: Smarttelefoner rulles inn i MDM løsning for oppsett av regelsett og rettigheter | L4: 1 | M4: 2 | N4: =L4*M4 -> 2
