Workbook

Sheet Grunnlagsdata enkeltbygg
A2: #VALUE!
A3: El- og oljeforbruket er veiledende forbruk. Eksakt forbruk skal kontrolleres av tilbyder som del av fase 1-oppdraget
A4: Grunnlagsdata for bygg med korrigert energibruk | N4: Byggherre
A5: Oppgitte romtemperaturer er mål for gjennomsnitt romtemp i året.
A6: Bygg
A7: Adresse | E7: Byggeår | I7: Graddagstall
A8: Kontaktp. drift | E8: Rehabilitert/Påbygd | I8: Normal | J8: 2 | L8: Kilde/database
A9: Tlf | E9: Rehabilitert | I9: 2022 | J9: 1
A10: Virksomhet | E10: Påbygd | I10: 2023 | J10: 2
A11: Driftstid t/dag | E11: Oppvarmet bruksareal | H11: m2 | I11: 2024 | J11: 3 | O11: Ja/nei
A12: Driftstid t/uke | E12: Romtemperatur | H12: °C | M12: Vannbasert varmeanlegg?
A13: Planlagt rehabilitering i nær fremtid (ja/nei) | E13: Bygningsvern? (ja/nei) | H13: (hvis ja, jfr egen flik) | M13: Vannbasert ventilasjonsanlegg?
A14: Årsvirkningsgrad Oljekjel | C14: (fordi oppgitt i kWh) | E14: Varmepumper? (ja/nei) | H14: (hvis ja, jfr egen flik)
A15: Olje oppgitt i liter eller kWh? | E15: Målt forbruk | H15: Korrigert forbruk | K15: BASIS | M15: BASIS
A16: Energibærer | B16: Målernr | C16: Tarrif | D16: Temp avh, andel | E16: =+I9 -> 2022 | F16: =+$I$10 -> 2023 | G16: =+$I$11 -> 2024 | H16: =+E16 -> 2022 | I16: =+F16 -> 2023 | J16: =+G16 -> 2024 | K16: Repr. forbr til kontrakt | L16: Max 2020 (kW) | M16: Repr. effekt til kontrakt | N16: Brukstid | O16: Energipris eks fastledd (øre/kWh)
A17: Fastkraft | D17: 0.6 | H17: =IF(J9 > 0,(E17*D17*J8/J9)+(100%-D17)*E17,0) -> 0 | I17: =IF(J10>0,(F17*D17*J8/J10)+(100%-D17)*F17,0) -> 0 | J17: =IF(J11>0,(G17*D17*J8/J11)+(100%-D17)*G17,0) -> 0 | K17: =SUM(H17:J17)/3 -> 0 | M17: =+L17 -> 0 | N17: =IF(M17 > 0,+K17/M17,0) -> 0
A18: Uprioritert kraft | D18: 0.9 | H18: =IF(J9 > 0,(E18*D18*J8/J9)+(100%-D18)*E18,0) -> 0 | I18: =IF(J10>0,(F18*D18*J8/J10)+(100%-D18)*F18,0) -> 0 | J18: =IF(J11>0,(G18*D18*J8/J11)+(100%-D18)*G18,0) -> 0 | K18: =SUM(H18:J18)/3 -> 0 | M18: =+L18 -> 0 | N18: =IF(M18 > 0,+K18/M18,0) -> 0
A19: Olje | B19: oppgitt i : | C19: =B15 -> 0 | D19: 0.9 | H19: =IF(J9>0,IF(B15="kWh",(E19*D19*J8/J9)+(100%-D19)*E19,(E19*10*D19*J8/J9)+(100%-D19)*E19*10),0) -> 0 | I19: =IF(J9>0,IF(B15="kWh",(F19*D19*J8/J10)+(100%-D19)*F19,(F19*10*D19*J8/J10)+(100%-D19)*F19*10),0) -> 0 | J19: =IF(J11>0,IF(B15="kWh",(G19*D19*J8/J11)+(100%-D19)*G19,(G19*10*D19*J8/J11)+(100%-D19)*G19*10),0) -> 0 | K19: =SUM(H19:J19)/3 -> 0
A20: Fjernvarme | D20: 0.9 | H20: =IF(J9>0,(E20*D20*J8/J9)+(100%-D20)*E20,0) -> 0 | I20: =IF(J9>0,(F20*D20*J8/J10)+(100%-D20)*F20,0) -> 0 | J20: =IF(J11>0,(G20*D20*J8/J11)+(100%-D20)*G20,0) -> 0 | K20: =SUM(H20:J20)/3 -> 0
A21: SUM Brutto | E21: =IF(B15="kWh",SUM(E17:E20),E17+E18+(E19*10)+E20) -> 0 | F21: =IF(B15="kWh",SUM(F17:F20),F17+F18+(F19*10)+F20) -> 0 | G21: =IF(B15="kWh",SUM(G17:G20),G17+G18+(G19*10)+G20) -> 0 | H21: =SUM(H17:H20) -> 0 | I21: =SUM(I17:I20) -> 0 | J21: =SUM(J17:J20) -> 0 | K21: =SUM(K17:K20) -> 0 | M21: kWh/m2 B: | N21: =IF(G11 > 0,+K21/G11,0) -> 0 | O21: =IF(K21>0,(+O17*K17+O18*K18+O19*K19+O20*K20)/K21,0) -> 0
A22: Sum Netto | E22: =IF(B15="kWh",E17+E18+E19*B14+E20,E17+E18+(E19*10*B14)+E20) -> 0 | F22: =IF(B15="kWh",F17+F18+F19*B14+F20,F17+F18+(F19*10*B14)+F20) -> 0 | G22: =IF(B15="kWh",G17+G18+G19*B14+G20,G17+G18+(G19*10*B14)+G20) -> 0 | H22: =+H17+H18+H19*B14+H20 -> 0 | I22: =+I17+I18+I19*B14+I20 -> 0 | J22: =+J17+J18+J19*B14+J20 -> 0 | K22: =+K17+K18+K19*B14+K20 -> 0 | M22: kWh/m2 N: | N22: =IF(G11 > 0,+K22/G11,0) -> 0 | O22: =IF(K22>0,(+O17*K17+O18*K18+O19*K19+O20*K20)/K22,0) -> 0
A23: Kommentar dersom representativt forbruk ikke baseres på siste 3 år
A26: Bygg
A27: Adresse | E27: Byggeår | I27: Graddagstall
A28: Kontaktp. drift | E28: Rehabilitert/Påbygd | I28: Normal | L28: Kilde/database
A29: Tlf | E29: Rehabilitert | I29: =+I9 -> 2022
A30: Virksomhet | E30: Påbygd | I30: =+I10 -> 2023
A31: Driftstid t/dag | E31: Oppvarmet bruksareal | H31: m2 | I31: =+I11 -> 2024 | O31: Ja/nei
A32: Driftstid t/uke | E32: Romtemperatur | H32: °C | M32: Vannbasert varmeanlegg?
A33: Planlagt rehabilitering i nær fremtid (ja/nei) | E33: Bygningsvern? (ja/nei) | H33: (hvis ja, jfr egen flik) | M33: Vannbasert ventilasjonsanlegg?
A34: Årsvirkningsgrad Oljekjel | C34: (fordi oppgitt i kWh) | E34: Varmepumper? (ja/nei) | H34: (hvis ja, jfr egen flik)
A35: Olje oppgitt i liter eller kWh? | E35: Målt forbruk | H35: Korrigert forbruk | K35: BASIS | M35: BASIS
A36: Energibærer | B36: Målernr | C36: Tarrif | D36: Temp avh, andel | E36: =+I29 -> 2022 | F36: =+$I$10 -> 2023 | G36: =+$I$11 -> 2024 | H36: =+E36 -> 2022 | I36: =+F36 -> 2023 | J36: =+G36 -> 2024 | K36: Repr. forbr til kontrakt | L36: Max 2020 (kW) | M36: Repr. effekt til kontrakt | N36: Brukstid | O36: Energipris eks fastledd (øre/kWh)
A37: Fastkraft | D37: 0.6 | H37: =IF(J29 > 0,(E37*D37*J28/J29)+(100%-D37)*E37,0) -> 0 | I37: =IF(J30>0,(F37*D37*J28/J30)+(100%-D37)*F37,0) -> 0 | J37: =IF(J31>0,(G37*D37*J28/J31)+(100%-D37)*G37,0) -> 0 | K37: =SUM(H37:J37)/3 -> 0 | M37: =+L37 -> 0 | N37: =IF(M37 > 0,+K37/M37,0) -> 0
A38: Uprioritert kraft | D38: 0.9 | H38: =IF(J29 > 0,(E38*D38*J28/J29)+(100%-D38)*E38,0) -> 0 | I38: =IF(J30>0,(F38*D38*J28/J30)+(100%-D38)*F38,0) -> 0 | J38: =IF(J31>0,(G38*D38*J28/J31)+(100%-D38)*G38,0) -> 0 | K38: =SUM(H38:J38)/3 -> 0 | M38: =+L38 -> 0 | N38: =IF(M38 > 0,+K38/M38,0) -> 0
A39: Olje | B39: oppgitt i : | C39: =B35 -> 0 | D39: 0.9 | H39: =IF(J29>0,IF(B35="kWh",(E39*D39*J28/J29)+(100%-D39)*E39,(E39*10*D39*J28/J29)+(100%-D39)*E39*10),0) -> 0 | I39: =IF(J29>0,IF(B35="kWh",(F39*D39*J28/J30)+(100%-D39)*F39,(F39*10*D39*J28/J30)+(100%-D39)*F39*10),0) -> 0 | J39: =IF(J31>0,IF(B35="kWh",(G39*D39*J28/J31)+(100%-D39)*G39,(G39*10*D39*J28/J31)+(100%-D39)*G39*10),0) -> 0 | K39: =SUM(H39:J39)/3 -> 0
A40: Fjernvarme | D40: 0.9 | H40: =IF(J29>0,(E40*D40*J28/J29)+(100%-D40)*E40,0) -> 0 | I40: =IF(J29>0,(F40*D40*J28/J30)+(100%-D40)*F40,0) -> 0 | J40: =IF(J31>0,(G40*D40*J28/J31)+(100%-D40)*G40,0) -> 0 | K40: =SUM(H40:J40)/3 -> 0
A41: SUM Brutto | E41: =IF(B35="kWh",SUM(E37:E40),E37+E38+(E39*10)+E40) -> 0 | F41: =IF(B35="kWh",SUM(F37:F40),F37+F38+(F39*10)+F40) -> 0 | G41: =IF(B35="kWh",SUM(G37:G40),G37+G38+(G39*10)+G40) -> 0 | H41: =SUM(H37:H40) -> 0 | I41: =SUM(I37:I40) -> 0 | J41: =SUM(J37:J40) -> 0 | K41: =SUM(K37:K40) -> 0 | M41: kWh/m2 B: | N41: =IF(G31 > 0,+K41/G31,0) -> 0 | O41: =IF(K41>0,(+O37*K37+O38*K38+O39*K39+O40*K40)/K41,0) -> 0
A42: Sum Netto | E42: =IF(B35="kWh",E37+E38+E39*B34+E40,E37+E38+(E39*10*B34)+E40) -> 0 | F42: =IF(B35="kWh",F37+F38+F39*B34+F40,F37+F38+(F39*10*B34)+F40) -> 0 | G42: =IF(B35="kWh",G37+G38+G39*B34+G40,G37+G38+(G39*10*B34)+G40) -> 0 | H42: =+H37+H38+H39*B34+H40 -> 0 | I42: =+I37+I38+I39*B34+I40 -> 0 | J42: =+J37+J38+J39*B34+J40 -> 0 | K42: =+K37+K38+K39*B34+K40 -> 0 | M42: kWh/m2 N: | N42: =IF(G31 > 0,+K42/G31,0) -> 0 | O42: =IF(K42>0,(+O37*K37+O38*K38+O39*K39+O40*K40)/K42,0) -> 0
A43: Kommentar dersom representativt forbruk ikke baseres på siste 3 år
A46: Bygg
A47: Adresse | E47: Byggeår | I47: Graddagstall
A48: Kontaktp. drift | E48: Rehabilitert/Påbygd | I48: Normal | L48: Kilde/database
A49: Tlf | E49: Rehabilitert | I49: =+I9 -> 2022
A50: Virksomhet | E50: Påbygd | I50: =+I10 -> 2023
A51: Driftstid t/dag | E51: Oppvarmet bruksareal | H51: m2 | I51: =+I11 -> 2024 | O51: Ja/nei
A52: Driftstid t/uke | E52: Romtemperatur | H52: °C | M52: Vannbasert varmeanlegg?
A53: Planlagt rehabilitering i nær fremtid (ja/nei) | E53: Bygningsvern? (ja/nei) | H53: (hvis ja, jfr egen flik) | M53: Vannbasert ventilasjonsanlegg?
A54: Årsvirkningsgrad Oljekjel | C54: (fordi oppgitt i kWh) | E54: Varmepumper? (ja/nei) | H54: (hvis ja, jfr egen flik)
A55: Olje oppgitt i liter eller kWh? | E55: Målt forbruk | H55: Korrigert forbruk | K55: BASIS | M55: BASIS
A56: Energibærer | B56: Målernr | C56: Tarrif | D56: Temp avh, andel | E56: =+I49 -> 2022 | F56: =+$I$10 -> 2023 | G56: =+$I$11 -> 2024 | H56: =+E56 -> 2022 | I56: =+F56 -> 2023 | J56: =+G56 -> 2024 | K56: Repr. forbr til kontrakt | L56: Max 2020 (kW) | M56: Repr. effekt til kontrakt | N56: Brukstid | O56: Energipris eks fastledd (øre/kWh)
A57: Fastkraft | D57: 0.6 | H57: =IF(J49 > 0,(E57*D57*J48/J49)+(100%-D57)*E57,0) -> 0 | I57: =IF(J50>0,(F57*D57*J48/J50)+(100%-D57)*F57,0) -> 0 | J57: =IF(J51>0,(G57*D57*J48/J51)+(100%-D57)*G57,0) -> 0 | K57: =SUM(H57:J57)/3 -> 0 | M57: =+L57 -> 0 | N57: =IF(M57 > 0,+K57/M57,0) -> 0
A58: Uprioritert kraft | D58: 0.9 | H58: =IF(J49 > 0,(E58*D58*J48/J49)+(100%-D58)*E58,0) -> 0 | I58: =IF(J50>0,(F58*D58*J48/J50)+(100%-D58)*F58,0) -> 0 | J58: =IF(J51>0,(G58*D58*J48/J51)+(100%-D58)*G58,0) -> 0 | K58: =SUM(H58:J58)/3 -> 0 | M58: =+L58 -> 0 | N58: =IF(M58 > 0,+K58/M58,0) -> 0
A59: Olje | B59: oppgitt i : | C59: =B55 -> 0 | D59: 0.9 | H59: =IF(J49>0,IF(B55="kWh",(E59*D59*J48/J49)+(100%-D59)*E59,(E59*10*D59*J48/J49)+(100%-D59)*E59*10),0) -> 0 | I59: =IF(J49>0,IF(B55="kWh",(F59*D59*J48/J50)+(100%-D59)*F59,(F59*10*D59*J48/J50)+(100%-D59)*F59*10),0) -> 0 | J59: =IF(J51>0,IF(B55="kWh",(G59*D59*J48/J51)+(100%-D59)*G59,(G59*10*D59*J48/J51)+(100%-D59)*G59*10),0) -> 0 | K59: =SUM(H59:J59)/3 -> 0
A60: Fjernvarme | D60: 0.9 | H60: =IF(J49>0,(E60*D60*J48/J49)+(100%-D60)*E60,0) -> 0 | I60: =IF(J49>0,(F60*D60*J48/J50)+(100%-D60)*F60,0) -> 0 | J60: =IF(J51>0,(G60*D60*J48/J51)+(100%-D60)*G60,0) -> 0 | K60: =SUM(H60:J60)/3 -> 0
A61: SUM Brutto | E61: =IF(B55="kWh",SUM(E57:E60),E57+E58+(E59*10)+E60) -> 0 | F61: =IF(B55="kWh",SUM(F57:F60),F57+F58+(F59*10)+F60) -> 0 | G61: =IF(B55="kWh",SUM(G57:G60),G57+G58+(G59*10)+G60) -> 0 | H61: =SUM(H57:H60) -> 0 | I61: =SUM(I57:I60) -> 0 | J61: =SUM(J57:J60) -> 0 | K61: =SUM(K57:K60) -> 0 | M61: kWh/m2 B: | N61: =IF(G51 > 0,+K61/G51,0) -> 0 | O61: =IF(K61>0,(+O57*K57+O58*K58+O59*K59+O60*K60)/K61,0) -> 0
A62: Sum Netto | E62: =IF(B55="kWh",E57+E58+E59*B54+E60,E57+E58+(E59*10*B54)+E60) -> 0 | F62: =IF(B55="kWh",F57+F58+F59*B54+F60,F57+F58+(F59*10*B54)+F60) -> 0 | G62: =IF(B55="kWh",G57+G58+G59*B54+G60,G57+G58+(G59*10*B54)+G60) -> 0 | H62: =+H57+H58+H59*B54+H60 -> 0 | I62: =+I57+I58+I59*B54+I60 -> 0 | J62: =+J57+J58+J59*B54+J60 -> 0 | K62: =+K57+K58+K59*B54+K60 -> 0 | M62: kWh/m2 N: | N62: =IF(G51 > 0,+K62/G51,0) -> 0 | O62: =IF(K62>0,(+O57*K57+O58*K58+O59*K59+O60*K60)/K62,0) -> 0
A63: Kommentar dersom representativt forbruk ikke baseres på siste 3 år
A66: Bygg
A67: Adresse | E67: Byggeår | I67: Graddagstall
A68: Kontaktp. drift | E68: Rehabilitert/Påbygd | I68: Normal | L68: Kilde/database
A69: Tlf | E69: Rehabilitert | I69: =+I9 -> 2022
A70: Virksomhet | E70: Påbygd | I70: =+I10 -> 2023
A71: Driftstid t/dag | E71: Oppvarmet bruksareal | H71: m2 | I71: =+I11 -> 2024 | O71: Ja/nei
A72: Driftstid t/uke | E72: Romtemperatur | H72: °C | M72: Vannbasert varmeanlegg?
A73: Planlagt rehabilitering i nær fremtid (ja/nei) | E73: Bygningsvern? (ja/nei) | H73: (hvis ja, jfr egen flik) | M73: Vannbasert ventilasjonsanlegg?
A74: Årsvirkningsgrad Oljekjel | C74: (fordi oppgitt i kWh) | E74: Varmepumper? (ja/nei) | H74: (hvis ja, jfr egen flik)
A75: Olje oppgitt i liter eller kWh? | E75: Målt forbruk | H75: Korrigert forbruk | K75: BASIS | M75: BASIS
A76: Energibærer | B76: Målernr | C76: Tarrif | D76: Temp avh, andel | E76: =+I69 -> 2022 | F76: =+$I$10 -> 2023 | G76: =+$I$11 -> 2024 | H76: =+E76 -> 2022 | I76: =+F76 -> 2023 | J76: =+G76 -> 2024 | K76: Repr. forbr til kontrakt | L76: Max 2020 (kW) | M76: Repr. effekt til kontrakt | N76: Brukstid | O76: Energipris eks fastledd (øre/kWh)
A77: Fastkraft | D77: 0.6 | H77: =IF(J69 > 0,(E77*D77*J68/J69)+(100%-D77)*E77,0) -> 0 | I77: =IF(J70>0,(F77*D77*J68/J70)+(100%-D77)*F77,0) -> 0 | J77: =IF(J71>0,(G77*D77*J68/J71)+(100%-D77)*G77,0) -> 0 | K77: =SUM(H77:J77)/3 -> 0 | M77: =+L77 -> 0 | N77: =IF(M77 > 0,+K77/M77,0) -> 0
A78: Uprioritert kraft | D78: 0.9 | H78: =IF(J69 > 0,(E78*D78*J68/J69)+(100%-D78)*E78,0) -> 0 | I78: =IF(J70>0,(F78*D78*J68/J70)+(100%-D78)*F78,0) -> 0 | J78: =IF(J71>0,(G78*D78*J68/J71)+(100%-D78)*G78,0) -> 0 | K78: =SUM(H78:J78)/3 -> 0 | M78: =+L78 -> 0 | N78: =IF(M78 > 0,+K78/M78,0) -> 0
A79: Olje | B79: oppgitt i : | C79: =B75 -> 0 | D79: 0.9 | H79: =IF(J69>0,IF(B75="kWh",(E79*D79*J68/J69)+(100%-D79)*E79,(E79*10*D79*J68/J69)+(100%-D79)*E79*10),0) -> 0 | I79: =IF(J69>0,IF(B75="kWh",(F79*D79*J68/J70)+(100%-D79)*F79,(F79*10*D79*J68/J70)+(100%-D79)*F79*10),0) -> 0 | J79: =IF(J71>0,IF(B75="kWh",(G79*D79*J68/J71)+(100%-D79)*G79,(G79*10*D79*J68/J71)+(100%-D79)*G79*10),0) -> 0 | K79: =SUM(H79:J79)/3 -> 0
A80: Fjernvarme | D80: 0.9 | H80: =IF(J69>0,(E80*D80*J68/J69)+(100%-D80)*E80,0) -> 0 | I80: =IF(J69>0,(F80*D80*J68/J70)+(100%-D80)*F80,0) -> 0 | J80: =IF(J71>0,(G80*D80*J68/J71)+(100%-D80)*G80,0) -> 0 | K80: =SUM(H80:J80)/3 -> 0
A81: SUM Brutto | E81: =IF(B75="kWh",SUM(E77:E80),E77+E78+(E79*10)+E80) -> 0 | F81: =IF(B75="kWh",SUM(F77:F80),F77+F78+(F79*10)+F80) -> 0 | G81: =IF(B75="kWh",SUM(G77:G80),G77+G78+(G79*10)+G80) -> 0 | H81: =SUM(H77:H80) -> 0 | I81: =SUM(I77:I80) -> 0 | J81: =SUM(J77:J80) -> 0 | K81: =SUM(K77:K80) -> 0 | M81: kWh/m2 B: | N81: =IF(G71 > 0,+K81/G71,0) -> 0 | O81: =IF(K81>0,(+O77*K77+O78*K78+O79*K79+O80*K80)/K81,0) -> 0
A82: Sum Netto | E82: =IF(B75="kWh",E77+E78+E79*B74+E80,E77+E78+(E79*10*B74)+E80) -> 0 | F82: =IF(B75="kWh",F77+F78+F79*B74+F80,F77+F78+(F79*10*B74)+F80) -> 0 | G82: =IF(B75="kWh",G77+G78+G79*B74+G80,G77+G78+(G79*10*B74)+G80) -> 0 | H82: =+H77+H78+H79*B74+H80 -> 0 | I82: =+I77+I78+I79*B74+I80 -> 0 | J82: =+J77+J78+J79*B74+J80 -> 0 | K82: =+K77+K78+K79*B74+K80 -> 0 | M82: kWh/m2 N: | N82: =IF(G71 > 0,+K82/G71,0) -> 0 | O82: =IF(K82>0,(+O77*K77+O78*K78+O79*K79+O80*K80)/K82,0) -> 0
A83: Kommentar dersom representativt forbruk ikke baseres på siste 3 år
A86: Bygg
A87: Adresse | E87: Byggeår | I87: Graddagstall
A88: Kontaktp. drift | E88: Rehabilitert/Påbygd | I88: Normal | L88: Kilde/database
A89: Tlf | E89: Rehabilitert | I89: =+I9 -> 2022
A90: Virksomhet | E90: Påbygd | I90: =+I10 -> 2023
A91: Driftstid t/dag | E91: Oppvarmet bruksareal | H91: m2 | I91: =+I11 -> 2024 | O91: Ja/nei
A92: Driftstid t/uke | E92: Romtemperatur | H92: °C | M92: Vannbasert varmeanlegg?
A93: Planlagt rehabilitering i nær fremtid (ja/nei) | E93: Bygningsvern? (ja/nei) | H93: (hvis ja, jfr egen flik) | M93: Vannbasert ventilasjonsanlegg?
A94: Årsvirkningsgrad Oljekjel | C94: (fordi oppgitt i kWh) | E94: Varmepumper? (ja/nei) | H94: (hvis ja, jfr egen flik)
A95: Olje oppgitt i liter eller kWh? | E95: Målt forbruk | H95: Korrigert forbruk | K95: BASIS | M95: BASIS
A96: Energibærer | B96: Målernr | C96: Tarrif | D96: Temp avh, andel | E96: =+I89 -> 2022 | F96: =+$I$10 -> 2023 | G96: =+$I$11 -> 2024 | H96: =+E96 -> 2022 | I96: =+F96 -> 2023 | J96: =+G96 -> 2024 | K96: Repr. forbr til kontrakt | L96: Max 2020 (kW) | M96: Repr. effekt til kontrakt | N96: Brukstid | O96: Energipris eks fastledd (øre/kWh)
A97: Fastkraft | D97: 0.6 | H97: =IF(J89 > 0,(E97*D97*J88/J89)+(100%-D97)*E97,0) -> 0 | I97: =IF(J90>0,(F97*D97*J88/J90)+(100%-D97)*F97,0) -> 0 | J97: =IF(J91>0,(G97*D97*J88/J91)+(100%-D97)*G97,0) -> 0 | K97: =SUM(H97:J97)/3 -> 0 | M97: =+L97 -> 0 | N97: =IF(M97 > 0,+K97/M97,0) -> 0
A98: Uprioritert kraft | D98: 0.9 | H98: =IF(J89 > 0,(E98*D98*J88/J89)+(100%-D98)*E98,0) -> 0 | I98: =IF(J90>0,(F98*D98*J88/J90)+(100%-D98)*F98,0) -> 0 | J98: =IF(J91>0,(G98*D98*J88/J91)+(100%-D98)*G98,0) -> 0 | K98: =SUM(H98:J98)/3 -> 0 | M98: =+L98 -> 0 | N98: =IF(M98 > 0,+K98/M98,0) -> 0
A99: Olje | B99: oppgitt i : | C99: =B95 -> 0 | D99: 0.9 | H99: =IF(J89>0,IF(B95="kWh",(E99*D99*J88/J89)+(100%-D99)*E99,(E99*10*D99*J88/J89)+(100%-D99)*E99*10),0) -> 0 | I99: =IF(J89>0,IF(B95="kWh",(F99*D99*J88/J90)+(100%-D99)*F99,(F99*10*D99*J88/J90)+(100%-D99)*F99*10),0) -> 0 | J99: =IF(J91>0,IF(B95="kWh",(G99*D99*J88/J91)+(100%-D99)*G99,(G99*10*D99*J88/J91)+(100%-D99)*G99*10),0) -> 0 | K99: =SUM(H99:J99)/3 -> 0
A100: Fjernvarme | D100: 0.9 | H100: =IF(J89>0,(E100*D100*J88/J89)+(100%-D100)*E100,0) -> 0 | I100: =IF(J89>0,(F100*D100*J88/J90)+(100%-D100)*F100,0) -> 0 | J100: =IF(J91>0,(G100*D100*J88/J91)+(100%-D100)*G100,0) -> 0 | K100: =SUM(H100:J100)/3 -> 0
A101: SUM Brutto | E101: =IF(B95="kWh",SUM(E97:E100),E97+E98+(E99*10)+E100) -> 0 | F101: =IF(B95="kWh",SUM(F97:F100),F97+F98+(F99*10)+F100) -> 0 | G101: =IF(B95="kWh",SUM(G97:G100),G97+G98+(G99*10)+G100) -> 0 | H101: =SUM(H97:H100) -> 0 | I101: =SUM(I97:I100) -> 0 | J101: =SUM(J97:J100) -> 0 | K101: =SUM(K97:K100) -> 0 | M101: kWh/m2 B: | N101: =IF(G91 > 0,+K101/G91,0) -> 0 | O101: =IF(K101>0,(+O97*K97+O98*K98+O99*K99+O100*K100)/K101,0) -> 0
A102: Sum Netto | E102: =IF(B95="kWh",E97+E98+E99*B94+E100,E97+E98+(E99*10*B94)+E100) -> 0 | F102: =IF(B95="kWh",F97+F98+F99*B94+F100,F97+F98+(F99*10*B94)+F100) -> 0 | G102: =IF(B95="kWh",G97+G98+G99*B94+G100,G97+G98+(G99*10*B94)+G100) -> 0 | H102: =+H97+H98+H99*B94+H100 -> 0 | I102: =+I97+I98+I99*B94+I100 -> 0 | J102: =+J97+J98+J99*B94+J100 -> 0 | K102: =+K97+K98+K99*B94+K100 -> 0 | M102: kWh/m2 N: | N102: =IF(G91 > 0,+K102/G91,0) -> 0 | O102: =IF(K102>0,(+O97*K97+O98*K98+O99*K99+O100*K100)/K102,0) -> 0
A103: Kommentar dersom representativt forbruk ikke baseres på siste 3 år
A106: Bygg
A107: Adresse | E107: Byggeår | I107: Graddagstall
A108: Kontaktp. drift | E108: Rehabilitert/Påbygd | I108: Normal | L108: Kilde/database
A109: Tlf | E109: Rehabilitert | I109: =+I9 -> 2022
A110: Virksomhet | E110: Påbygd | I110: =+I10 -> 2023
A111: Driftstid t/dag | E111: Oppvarmet bruksareal | H111: m2 | I111: =+I11 -> 2024 | O111: Ja/nei
...

Sheet Oversikt ventilasjon
A1: Oversikt ventilasjon
A2: Bygg: | B2: =+'Grunnlagsdata enkeltbygg'!B6 -> 0
B4: Type ventilasjonsanlegg | C4: Type varmegenvinner | D4: Ca luftmengde | E4: Kommentarer
B5: (avtrekk, balansert, annet) | C5: (rotor, kryss, batteri,annet) | D5: (m³/time)
A7: Ventilasjonsanlegg 1
A8: Ventilasjonsanlegg 2
A9: Ventilasjonsanlegg 3
A10: Ventilasjonsanlegg 4
A11: Ventilasjonsanlegg 5
A12: Ventilasjonsanlegg 6
A15: Bygg: | B15: =+'Grunnlagsdata enkeltbygg'!B26
B17: Type ventilasjonsanlegg | C17: Type varmegenvinner | D17: Ca luftmengde | E17: Kommentarer
B18: (avtrekk, balansert, annet) | C18: (rotor, kryss, batteri,annet) | D18: (m³/time)
A20: Ventilasjonsanlegg 1
A21: Ventilasjonsanlegg 2
A22: Ventilasjonsanlegg 3
A23: Ventilasjonsanlegg 4
A24: Ventilasjonsanlegg 5
A25: Ventilasjonsanlegg 6
A28: Bygg: | B28: ='Grunnlagsdata enkeltbygg'!B46 -> 0
B30: Type ventilasjonsanlegg | C30: Type varmegenvinner | D30: Ca luftmengde | E30: Kommentarer
B31: (avtrekk, balansert, annet) | C31: (rotor, kryss, batteri,annet) | D31: (m³/time)
A33: Ventilasjonsanlegg 1
A34: Ventilasjonsanlegg 2
A35: Ventilasjonsanlegg 3
A36: Ventilasjonsanlegg 4
A37: Ventilasjonsanlegg 5
A38: Ventilasjonsanlegg 6
A41: Bygg: | B41: ='Grunnlagsdata enkeltbygg'!B66 -> 0
B43: Type ventilasjonsanlegg | C43: Type varmegenvinner | D43: Ca luftmengde | E43: Kommentarer
B44: (avtrekk, balansert, annet) | C44: (rotor, kryss, batteri,annet) | D44: (m³/time)
A46: Ventilasjonsanlegg 1
A47: Ventilasjonsanlegg 2
A48: Ventilasjonsanlegg 3
A49: Ventilasjonsanlegg 4
A50: Ventilasjonsanlegg 5
A51: Ventilasjonsanlegg 6
A54: Bygg: | B54: ='Grunnlagsdata enkeltbygg'!B86 -> 0
B56: Type ventilasjonsanlegg | C56: Type varmegenvinner | D56: Ca luftmengde | E56: Kommentarer
B57: (avtrekk, balansert, annet) | C57: (rotor, kryss, batteri,annet) | D57: (m³/time)
A59: Ventilasjonsanlegg 1
A60: Ventilasjonsanlegg 2
A61: Ventilasjonsanlegg 3
A62: Ventilasjonsanlegg 4
A63: Ventilasjonsanlegg 5
A64: Ventilasjonsanlegg 6
A67: Bygg: | B67: ='Grunnlagsdata enkeltbygg'!B106 -> 0
B69: Type ventilasjonsanlegg | C69: Type varmegenvinner | D69: Ca luftmengde | E69: Kommentarer
B70: (avtrekk, balansert, annet) | C70: (rotor, kryss, batteri,annet) | D70: (m³/time)
A72: Ventilasjonsanlegg 1
A73: Ventilasjonsanlegg 2
A74: Ventilasjonsanlegg 3
A75: Ventilasjonsanlegg 4
A76: Ventilasjonsanlegg 5
A77: Ventilasjonsanlegg 6
A80: Bygg: | B80: ='Grunnlagsdata enkeltbygg'!B1126 -> 0
B82: Type ventilasjonsanlegg | C82: Type varmegenvinner | D82: Ca luftmengde | E82: Kommentarer
B83: (avtrekk, balansert, annet) | C83: (rotor, kryss, batteri,annet) | D83: (m³/time)
A85: Ventilasjonsanlegg 1
A86: Ventilasjonsanlegg 2
A87: Ventilasjonsanlegg 3
A88: Ventilasjonsanlegg 4
A89: Ventilasjonsanlegg 5
A90: Ventilasjonsanlegg 6
A93: Bygg: | B93: ='Grunnlagsdata enkeltbygg'!B146 -> 0
B95: Type ventilasjonsanlegg | C95: Type varmegenvinner | D95: Ca luftmengde | E95: Kommentarer
B96: (avtrekk, balansert, annet) | C96: (rotor, kryss, batteri,annet) | D96: (m³/time)
A98: Ventilasjonsanlegg 1
A99: Ventilasjonsanlegg 2
A100: Ventilasjonsanlegg 3
A101: Ventilasjonsanlegg 4
A102: Ventilasjonsanlegg 5
A103: Ventilasjonsanlegg 6
A106: Bygg: | B106: ='Grunnlagsdata enkeltbygg'!B166 -> 0
B108: Type ventilasjonsanlegg | C108: Type varmegenvinner | D108: Ca luftmengde | E108: Kommentarer
B109: (avtrekk, balansert, annet) | C109: (rotor, kryss, batteri,annet) | D109: (m³/time)
A111: Ventilasjonsanlegg 1
A112: Ventilasjonsanlegg 2
A113: Ventilasjonsanlegg 3
A114: Ventilasjonsanlegg 4
A115: Ventilasjonsanlegg 5
A116: Ventilasjonsanlegg 6
A119: Bygg: | B119: ='Grunnlagsdata enkeltbygg'!B186 -> 0
B121: Type ventilasjonsanlegg | C121: Type varmegenvinner | D121: Ca luftmengde | E121: Kommentarer
B122: (avtrekk, balansert, annet) | C122: (rotor, kryss, batteri,annet) | D122: (m³/time)
A124: Ventilasjonsanlegg 1
A125: Ventilasjonsanlegg 2
A126: Ventilasjonsanlegg 3
A127: Ventilasjonsanlegg 4
A128: Ventilasjonsanlegg 5
A129: Ventilasjonsanlegg 6
A132: Bygg: | B132: ='Grunnlagsdata enkeltbygg'!B206 -> 0
B134: Type ventilasjonsanlegg | C134: Type varmegenvinner | D134: Ca luftmengde | E134: Kommentarer
B135: (avtrekk, balansert, annet) | C135: (rotor, kryss, batteri,annet) | D135: (m³/time)
A137: Ventilasjonsanlegg 1
A138: Ventilasjonsanlegg 2
A139: Ventilasjonsanlegg 3
A140: Ventilasjonsanlegg 4
A141: Ventilasjonsanlegg 5
A142: Ventilasjonsanlegg 6
...

Sheet Grunnlagsdata samlet
A1: Grunnlagsdata samlet
A2: =+'Grunnlagsdata enkeltbygg'!O4 -> 0
A3: Bygg | B3: Virksomhet | C3: Byggeår | D3: Areal | E3: Energiforbruk før fase 2 (Basis) | J3: Effekt | K3: Spesifikt
E4: Olje/gass | F4: Uprioritert kraft | G4: Fastkraft | H4: Fjernvarme | I4: Totalt | J4: Maks | K4: forbruk (Brutto)
D5: [m2] | E5: [kWh] | F5: [kWh] | G5: [kWh] | H5: [kWh] | I5: [kWh] | J5: [kW] | K5: [kWh/m2]
A6: ='Grunnlagsdata enkeltbygg'!B6 -> 0 | B6: ='Grunnlagsdata enkeltbygg'!B10 -> 0 | C6: ='Grunnlagsdata enkeltbygg'!G7 -> 0 | D6: ='Grunnlagsdata enkeltbygg'!G11 -> 0 | E6: ='Grunnlagsdata enkeltbygg'!K19 -> 0 | F6: ='Grunnlagsdata enkeltbygg'!K18 -> 0 | G6: ='Grunnlagsdata enkeltbygg'!K17 -> 0 | H6: ='Grunnlagsdata enkeltbygg'!K20 -> 0 | I6: =E6+F6+G6+H6 -> 0 | J6: ='Grunnlagsdata enkeltbygg'!M17+'Grunnlagsdata enkeltbygg'!M18 -> 0 | K6: =IF(D6>0,I6/D6,0) -> 0
A7: ='Grunnlagsdata enkeltbygg'!B26 | B7: ='Grunnlagsdata enkeltbygg'!B30 -> 0 | C7: ='Grunnlagsdata enkeltbygg'!G27 -> 0 | D7: ='Grunnlagsdata enkeltbygg'!G31 -> 0 | E7: ='Grunnlagsdata enkeltbygg'!K39 -> 0 | F7: ='Grunnlagsdata enkeltbygg'!K38 -> 0 | G7: ='Grunnlagsdata enkeltbygg'!K37 -> 0 | H7: ='Grunnlagsdata enkeltbygg'!K40 -> 0 | I7: =E7+F7+G7+H7 -> 0 | J7: ='Grunnlagsdata enkeltbygg'!M37+'Grunnlagsdata enkeltbygg'!M38 -> 0 | K7: =IF(D7>0,I7/D7,0) -> 0
A8: ='Grunnlagsdata enkeltbygg'!B46 -> 0 | B8: ='Grunnlagsdata enkeltbygg'!B50 -> 0 | C8: ='Grunnlagsdata enkeltbygg'!G47 -> 0 | D8: ='Grunnlagsdata enkeltbygg'!G51 -> 0 | E8: ='Grunnlagsdata enkeltbygg'!K59 -> 0 | F8: ='Grunnlagsdata enkeltbygg'!K58 -> 0 | G8: ='Grunnlagsdata enkeltbygg'!K57 -> 0 | H8: ='Grunnlagsdata enkeltbygg'!K60 -> 0 | I8: =E8+F8+G8+H8 -> 0 | J8: ='Grunnlagsdata enkeltbygg'!M57+'Grunnlagsdata enkeltbygg'!M58 -> 0 | K8: =IF(D8>0,I8/D8,0) -> 0
A9: ='Grunnlagsdata enkeltbygg'!B66 -> 0 | B9: ='Grunnlagsdata enkeltbygg'!B70 -> 0 | C9: ='Grunnlagsdata enkeltbygg'!G67 -> 0 | D9: ='Grunnlagsdata enkeltbygg'!G71 -> 0 | E9: ='Grunnlagsdata enkeltbygg'!K79 -> 0 | F9: ='Grunnlagsdata enkeltbygg'!K78 -> 0 | G9: ='Grunnlagsdata enkeltbygg'!K77 -> 0 | H9: ='Grunnlagsdata enkeltbygg'!K80 -> 0 | I9: =E9+F9+G9+H9 -> 0 | J9: ='Grunnlagsdata enkeltbygg'!M77+'Grunnlagsdata enkeltbygg'!M78 -> 0 | K9: =IF(D9>0,I9/D9,0) -> 0
A10: ='Grunnlagsdata enkeltbygg'!B86 -> 0 | B10: ='Grunnlagsdata enkeltbygg'!B90 -> 0 | C10: ='Grunnlagsdata enkeltbygg'!G87 -> 0 | D10: ='Grunnlagsdata enkeltbygg'!G91 -> 0 | E10: ='Grunnlagsdata enkeltbygg'!K99 -> 0 | F10: ='Grunnlagsdata enkeltbygg'!K98 -> 0 | G10: ='Grunnlagsdata enkeltbygg'!K97 -> 0 | H10: ='Grunnlagsdata enkeltbygg'!K100 -> 0 | I10: =E10+F10+G10+H10 -> 0 | J10: ='Grunnlagsdata enkeltbygg'!M97+'Grunnlagsdata enkeltbygg'!M98 -> 0 | K10: =IF(D10>0,I10/D10,0) -> 0
A11: ='Grunnlagsdata enkeltbygg'!B106 -> 0 | B11: ='Grunnlagsdata enkeltbygg'!B110 -> 0 | C11: ='Grunnlagsdata enkeltbygg'!G107 -> 0 | D11: ='Grunnlagsdata enkeltbygg'!G111 -> 0 | E11: ='Grunnlagsdata enkeltbygg'!K119 -> 0 | F11: ='Grunnlagsdata enkeltbygg'!K118 -> 0 | G11: ='Grunnlagsdata enkeltbygg'!K117 -> 0 | H11: ='Grunnlagsdata enkeltbygg'!K120 -> 0 | I11: =E11+F11+G11+H11 -> 0 | J11: ='Grunnlagsdata enkeltbygg'!M117+'Grunnlagsdata enkeltbygg'!M118 -> 0 | K11: =IF(D11>0,I11/D11,0) -> 0
A12: ='Grunnlagsdata enkeltbygg'!B126 -> 0 | B12: ='Grunnlagsdata enkeltbygg'!B130 -> 0 | C12: ='Grunnlagsdata enkeltbygg'!G128 -> 0 | D12: 0 | E12: ='Grunnlagsdata enkeltbygg'!K139 -> 0 | F12: ='Grunnlagsdata enkeltbygg'!K138 -> 0 | G12: 0 | H12: ='Grunnlagsdata enkeltbygg'!K140 -> 0 | I12: =E12+F12+G12+H12 -> 0 | J12: 0 | K12: =IF(D12>0,I12/D12,0) -> 0
A13: ='Grunnlagsdata enkeltbygg'!B146 -> 0 | B13: ='Grunnlagsdata enkeltbygg'!B150 -> 0 | C13: ='Grunnlagsdata enkeltbygg'!G147 -> 0 | D13: ='Grunnlagsdata enkeltbygg'!G151 -> 0 | E13: ='Grunnlagsdata enkeltbygg'!K159 -> 0 | F13: ='Grunnlagsdata enkeltbygg'!K158 -> 0 | G13: ='Grunnlagsdata enkeltbygg'!K157 -> 0 | H13: ='Grunnlagsdata enkeltbygg'!K160 -> 0 | I13: =E13+F13+G13+H13 -> 0 | J13: ='Grunnlagsdata enkeltbygg'!M157+'Grunnlagsdata enkeltbygg'!M158 -> 0 | K13: =IF(D13>0,I13/D13,0) -> 0
A14: ='Grunnlagsdata enkeltbygg'!B166 -> 0 | B14: ='Grunnlagsdata enkeltbygg'!B170 -> 0 | C14: ='Grunnlagsdata enkeltbygg'!G167 -> 0 | D14: ='Grunnlagsdata enkeltbygg'!G171 -> 0 | E14: ='Grunnlagsdata enkeltbygg'!K179 -> 0 | F14: ='Grunnlagsdata enkeltbygg'!K178 -> 0 | G14: ='Grunnlagsdata enkeltbygg'!K177 -> 0 | H14: ='Grunnlagsdata enkeltbygg'!K180 -> 0 | I14: =E14+F14+G14+H14 -> 0 | J14: ='Grunnlagsdata enkeltbygg'!M177+'Grunnlagsdata enkeltbygg'!M178 -> 0 | K14: =IF(D14>0,I14/D14,0) -> 0
A15: ='Grunnlagsdata enkeltbygg'!B186 -> 0 | B15: ='Grunnlagsdata enkeltbygg'!B190 -> 0 | C15: ='Grunnlagsdata enkeltbygg'!G187 -> 0 | D15: ='Grunnlagsdata enkeltbygg'!G191 -> 0 | E15: ='Grunnlagsdata enkeltbygg'!K199 -> 0 | F15: ='Grunnlagsdata enkeltbygg'!K198 -> 0 | G15: ='Grunnlagsdata enkeltbygg'!K197 -> 0 | H15: ='Grunnlagsdata enkeltbygg'!K200 -> 0 | I15: =E15+F15+G15+H15 -> 0 | J15: ='Grunnlagsdata enkeltbygg'!M197+'Grunnlagsdata enkeltbygg'!M198 -> 0 | K15: =IF(D15>0,I15/D15,0) -> 0
A16: ='Grunnlagsdata enkeltbygg'!B206 -> 0 | B16: ='Grunnlagsdata enkeltbygg'!B210 -> 0 | C16: ='Grunnlagsdata enkeltbygg'!G207 -> 0 | D16: ='Grunnlagsdata enkeltbygg'!G211 -> 0 | E16: ='Grunnlagsdata enkeltbygg'!K219 -> 0 | F16: ='Grunnlagsdata enkeltbygg'!K218 -> 0 | G16: ='Grunnlagsdata enkeltbygg'!K217 -> 0 | H16: ='Grunnlagsdata enkeltbygg'!K220 -> 0 | I16: =E16+F16+G16+H16 -> 0 | J16: ='Grunnlagsdata enkeltbygg'!M217+'Grunnlagsdata enkeltbygg'!M218 -> 0 | K16: =IF(D16>0,I16/D16,0) -> 0
A17: ='Grunnlagsdata enkeltbygg'!B226 -> 0 | B17: ='Grunnlagsdata enkeltbygg'!B230 -> 0 | C17: ='Grunnlagsdata enkeltbygg'!G227 -> 0 | D17: ='Grunnlagsdata enkeltbygg'!G231 -> 0 | E17: ='Grunnlagsdata enkeltbygg'!K239 -> 0 | F17: ='Grunnlagsdata enkeltbygg'!K238 -> 0 | G17: ='Grunnlagsdata enkeltbygg'!K237 -> 0 | H17: ='Grunnlagsdata enkeltbygg'!K240 -> 0 | I17: =E17+F17+G17+H17 -> 0 | J17: ='Grunnlagsdata enkeltbygg'!M237+'Grunnlagsdata enkeltbygg'!M238 -> 0 | K17: =IF(D17>0,I17/D17,0) -> 0
A18: ='Grunnlagsdata enkeltbygg'!B246 -> 0 | B18: ='Grunnlagsdata enkeltbygg'!B250 -> 0 | C18: ='Grunnlagsdata enkeltbygg'!G247 -> 0 | D18: ='Grunnlagsdata enkeltbygg'!G251 -> 0 | E18: ='Grunnlagsdata enkeltbygg'!K259 -> 0 | F18: ='Grunnlagsdata enkeltbygg'!K258 -> 0 | G18: ='Grunnlagsdata enkeltbygg'!K257 -> 0 | H18: ='Grunnlagsdata enkeltbygg'!K260 -> 0 | I18: =E18+F18+G18+H18 -> 0 | J18: ='Grunnlagsdata enkeltbygg'!M257+'Grunnlagsdata enkeltbygg'!M258 -> 0 | K18: =IF(D18>0,I18/D18,0) -> 0
A19: ='Grunnlagsdata enkeltbygg'!B266 -> 0 | B19: ='Grunnlagsdata enkeltbygg'!B270 -> 0 | C19: ='Grunnlagsdata enkeltbygg'!G267 -> 0 | D19: ='Grunnlagsdata enkeltbygg'!G271 -> 0 | E19: ='Grunnlagsdata enkeltbygg'!K279 -> 0 | F19: ='Grunnlagsdata enkeltbygg'!K278 -> 0 | G19: ='Grunnlagsdata enkeltbygg'!K277 -> 0 | H19: ='Grunnlagsdata enkeltbygg'!K280 -> 0 | I19: =E19+F19+G19+H19 -> 0 | J19: ='Grunnlagsdata enkeltbygg'!M277+'Grunnlagsdata enkeltbygg'!M278 -> 0 | K19: =IF(D19>0,I19/D19,0) -> 0
A20: ='Grunnlagsdata enkeltbygg'!B286 -> 0 | B20: ='Grunnlagsdata enkeltbygg'!B290 -> 0 | C20: ='Grunnlagsdata enkeltbygg'!G287 -> 0 | D20: ='Grunnlagsdata enkeltbygg'!G291 -> 0 | E20: ='Grunnlagsdata enkeltbygg'!K299 -> 0 | F20: ='Grunnlagsdata enkeltbygg'!K298 -> 0 | G20: ='Grunnlagsdata enkeltbygg'!K297 -> 0 | H20: ='Grunnlagsdata enkeltbygg'!K300 -> 0 | I20: =E20+F20+G20+H20 -> 0 | J20: ='Grunnlagsdata enkeltbygg'!M297+'Grunnlagsdata enkeltbygg'!M298 -> 0 | K20: =IF(D20>0,I20/D20,0) -> 0
A21: ='Grunnlagsdata enkeltbygg'!B306 -> 0 | B21: ='Grunnlagsdata enkeltbygg'!B310 -> 0 | C21: ='Grunnlagsdata enkeltbygg'!G307 -> 0 | D21: ='Grunnlagsdata enkeltbygg'!G311 -> 0 | E21: ='Grunnlagsdata enkeltbygg'!K319 -> 0 | F21: ='Grunnlagsdata enkeltbygg'!K318 -> 0 | G21: ='Grunnlagsdata enkeltbygg'!K317 -> 0 | H21: ='Grunnlagsdata enkeltbygg'!K320 -> 0 | I21: =E21+F21+G21+H21 -> 0 | J21: ='Grunnlagsdata enkeltbygg'!M317+'Grunnlagsdata enkeltbygg'!M318 -> 0 | K21: =IF(D21>0,I21/D21,0) -> 0
A22: ='Grunnlagsdata enkeltbygg'!B326 -> 0 | B22: ='Grunnlagsdata enkeltbygg'!B330 -> 0 | C22: ='Grunnlagsdata enkeltbygg'!G327 -> 0 | D22: ='Grunnlagsdata enkeltbygg'!G331 -> 0 | E22: ='Grunnlagsdata enkeltbygg'!K339 -> 0 | F22: ='Grunnlagsdata enkeltbygg'!K338 -> 0 | G22: ='Grunnlagsdata enkeltbygg'!K337 -> 0 | H22: ='Grunnlagsdata enkeltbygg'!K340 -> 0 | I22: =E22+F22+G22+H22 -> 0 | J22: ='Grunnlagsdata enkeltbygg'!M337+'Grunnlagsdata enkeltbygg'!M338 -> 0 | K22: =IF(D22>0,I22/D22,0) -> 0
A23: ='Grunnlagsdata enkeltbygg'!B346 -> 0 | B23: ='Grunnlagsdata enkeltbygg'!B350 -> 0 | C23: ='Grunnlagsdata enkeltbygg'!G347 -> 0 | D23: ='Grunnlagsdata enkeltbygg'!G351 -> 0 | E23: ='Grunnlagsdata enkeltbygg'!K359 -> 0 | F23: ='Grunnlagsdata enkeltbygg'!K358 -> 0 | G23: ='Grunnlagsdata enkeltbygg'!K357 -> 0 | H23: ='Grunnlagsdata enkeltbygg'!K360 -> 0 | I23: =E23+F23+G23+H23 -> 0 | J23: ='Grunnlagsdata enkeltbygg'!M357+'Grunnlagsdata enkeltbygg'!M358 -> 0 | K23: =IF(D23>0,I23/D23,0) -> 0
A24: ='Grunnlagsdata enkeltbygg'!B366 -> 0 | B24: ='Grunnlagsdata enkeltbygg'!B370 -> 0 | C24: ='Grunnlagsdata enkeltbygg'!G367 -> 0 | D24: ='Grunnlagsdata enkeltbygg'!G371 -> 0 | E24: ='Grunnlagsdata enkeltbygg'!K379 -> 0 | F24: ='Grunnlagsdata enkeltbygg'!K378 -> 0 | G24: ='Grunnlagsdata enkeltbygg'!K377 -> 0 | H24: ='Grunnlagsdata enkeltbygg'!K380 -> 0 | I24: =E24+F24+G24+H24 -> 0 | J24: ='Grunnlagsdata enkeltbygg'!M377+'Grunnlagsdata enkeltbygg'!M378 -> 0 | K24: =IF(D24>0,I24/D24,0) -> 0
A25: ='Grunnlagsdata enkeltbygg'!B386 -> 0 | B25: ='Grunnlagsdata enkeltbygg'!B390 -> 0 | C25: ='Grunnlagsdata enkeltbygg'!G387 -> 0 | D25: ='Grunnlagsdata enkeltbygg'!G391 -> 0 | E25: ='Grunnlagsdata enkeltbygg'!K399 -> 0 | F25: ='Grunnlagsdata enkeltbygg'!K398 -> 0 | G25: ='Grunnlagsdata enkeltbygg'!K397 -> 0 | H25: ='Grunnlagsdata enkeltbygg'!K400 -> 0 | I25: =E25+F25+G25+H25 -> 0 | J25: ='Grunnlagsdata enkeltbygg'!M397+'Grunnlagsdata enkeltbygg'!M398 -> 0 | K25: =IF(D25>0,I25/D25,0) -> 0
A26: ='Grunnlagsdata enkeltbygg'!B406 -> 0 | B26: ='Grunnlagsdata enkeltbygg'!B410 -> 0 | C26: ='Grunnlagsdata enkeltbygg'!G407 -> 0 | D26: ='Grunnlagsdata enkeltbygg'!G411 -> 0 | E26: ='Grunnlagsdata enkeltbygg'!K419 -> 0 | F26: ='Grunnlagsdata enkeltbygg'!K418 -> 0 | G26: ='Grunnlagsdata enkeltbygg'!K417 -> 0 | H26: ='Grunnlagsdata enkeltbygg'!K420 -> 0 | I26: =E26+F26+G26+H26 -> 0 | J26: ='Grunnlagsdata enkeltbygg'!M417+'Grunnlagsdata enkeltbygg'!M418 -> 0 | K26: =IF(D26>0,I26/D26,0) -> 0
A27: ='Grunnlagsdata enkeltbygg'!B426 -> 0 | B27: ='Grunnlagsdata enkeltbygg'!B430 -> 0 | C27: ='Grunnlagsdata enkeltbygg'!G427 -> 0 | D27: ='Grunnlagsdata enkeltbygg'!G431 -> 0 | E27: ='Grunnlagsdata enkeltbygg'!K439 -> 0 | F27: ='Grunnlagsdata enkeltbygg'!K438 -> 0 | G27: ='Grunnlagsdata enkeltbygg'!K437 -> 0 | H27: ='Grunnlagsdata enkeltbygg'!K440 -> 0 | I27: =E27+F27+G27+H27 -> 0 | J27: ='Grunnlagsdata enkeltbygg'!M437+'Grunnlagsdata enkeltbygg'!M438 -> 0 | K27: =IF(D27>0,I27/D27,0) -> 0
A28: ='Grunnlagsdata enkeltbygg'!B446 -> 0 | B28: ='Grunnlagsdata enkeltbygg'!B450 -> 0 | C28: ='Grunnlagsdata enkeltbygg'!G447 -> 0 | D28: ='Grunnlagsdata enkeltbygg'!G451 -> 0 | E28: ='Grunnlagsdata enkeltbygg'!K459 -> 0 | F28: ='Grunnlagsdata enkeltbygg'!K458 -> 0 | G28: ='Grunnlagsdata enkeltbygg'!K457 -> 0 | H28: ='Grunnlagsdata enkeltbygg'!K460 -> 0 | I28: =E28+F28+G28+H28 -> 0 | J28: ='Grunnlagsdata enkeltbygg'!M457+'Grunnlagsdata enkeltbygg'!M458 -> 0 | K28: =IF(D28>0,I28/D28,0) -> 0
A29: ='Grunnlagsdata enkeltbygg'!B466 -> 0 | B29: ='Grunnlagsdata enkeltbygg'!B470 -> 0 | C29: ='Grunnlagsdata enkeltbygg'!G467 -> 0 | D29: ='Grunnlagsdata enkeltbygg'!G471 -> 0 | E29: ='Grunnlagsdata enkeltbygg'!K479 -> 0 | F29: ='Grunnlagsdata enkeltbygg'!K478 -> 0 | G29: ='Grunnlagsdata enkeltbygg'!K477 -> 0 | H29: ='Grunnlagsdata enkeltbygg'!K480 -> 0 | I29: =E29+F29+G29+H29 -> 0 | J29: ='Grunnlagsdata enkeltbygg'!M477+'Grunnlagsdata enkeltbygg'!M478 -> 0 | K29: =IF(D29>0,I29/D29,0) -> 0
A30: ='Grunnlagsdata enkeltbygg'!B486 -> 0 | B30: ='Grunnlagsdata enkeltbygg'!B490 -> 0 | C30: ='Grunnlagsdata enkeltbygg'!G487 -> 0 | D30: ='Grunnlagsdata enkeltbygg'!G491 -> 0 | E30: ='Grunnlagsdata enkeltbygg'!K499 -> 0 | F30: ='Grunnlagsdata enkeltbygg'!K498 -> 0 | G30: ='Grunnlagsdata enkeltbygg'!K497 -> 0 | H30: ='Grunnlagsdata enkeltbygg'!K500 -> 0 | I30: =E30+F30+G30+H30 -> 0 | J30: ='Grunnlagsdata enkeltbygg'!M497+'Grunnlagsdata enkeltbygg'!M498 -> 0 | K30: =IF(D30>0,I30/D30,0) -> 0
A31: osv | D31: =SUM(D6:D30) -> 0 | E31: =SUM(E6:E30) -> 0 | F31: =SUM(F6:F30) -> 0 | G31: =SUM(G6:G30) -> 0 | H31: =SUM(H6:H30) -> 0 | I31: =SUM(I6:I30) -> 0 | J31: =SUM(J6:J30) -> 0
C32: Spes.forbruk | D32: =+I31/D31 -> #DIV/0! | E32: kWh/m2

Sheet Oversikt varmepumper
A1: Oversikt Varmepumper
A2: Bygg: | B2: =+'Grunnlagsdata enkeltbygg'!B6 -> 0
B4: Type varmepumpe | C4: Avgitt varmeffekt (påstempla/prosjektert | D4: Kommentarer
A5: Plassering innedel | B5: luft/luft- luft/vann eller vann/vann | C5: [kW]
A11: Bygg: | B11: =+'Grunnlagsdata enkeltbygg'!B26
B13: Type varmepumpe | C13: Avgitt varmeffekt (påstempla/prosjektert | D13: Kommentarer
A14: Plassering innedel | B14: luft/luft- luft/vann eller vann/vann | C14: [kW]
A20: Bygg: | B20: =+'Grunnlagsdata enkeltbygg'!B46 -> 0
B22: Type varmepumpe | C22: Avgitt varmeffekt (påstempla/prosjektert | D22: Kommentarer
A23: Plassering innedel | B23: luft/luft- luft/vann eller vann/vann | C23: [kW]
A29: Bygg: | B29: =+'Grunnlagsdata enkeltbygg'!B66 -> 0
B31: Type varmepumpe | C31: Avgitt varmeffekt (påstempla/prosjektert | D31: Kommentarer
A32: Plassering innedel | B32: luft/luft- luft/vann eller vann/vann | C32: [kW]
A38: Bygg: | B38: =+'Grunnlagsdata enkeltbygg'!B86 -> 0
B40: Type varmepumpe | C40: Avgitt varmeffekt (påstempla/prosjektert | D40: Kommentarer
A41: Plassering innedel | B41: luft/luft- luft/vann eller vann/vann | C41: [kW]
A47: Bygg: | B47: =+'Grunnlagsdata enkeltbygg'!B106 -> 0
B49: Type varmepumpe | C49: Avgitt varmeffekt (påstempla/prosjektert | D49: Kommentarer
A50: Plassering innedel | B50: luft/luft- luft/vann eller vann/vann | C50: [kW]
A56: Bygg: | B56: =+'Grunnlagsdata enkeltbygg'!B126 -> 0
B58: Type varmepumpe | C58: Avgitt varmeffekt (påstempla/prosjektert | D58: Kommentarer
A59: Plassering innedel | B59: luft/luft- luft/vann eller vann/vann | C59: [kW]
A65: Bygg: | B65: ='[1]Grunnlagsdata enkeltbygg'!B145 -> Publikumsbygget - Museet Kystens Arv - UTGÅR
B67: Type varmepumpe | C67: Avgitt varmeffekt (påstempla/prosjektert | D67: Kommentarer
A68: Plassering innedel | B68: luft/luft- luft/vann eller vann/vann | C68: [kW]
A69: I teknisk rom | B69: luft/vann | C69: 60 | D69: CO2 varmepumpe (kjøres også i kjøling)
A74: Bygg: | B74: =+'Grunnlagsdata enkeltbygg'!B146 -> 0
B76: Type varmepumpe | C76: Avgitt varmeffekt (påstempla/prosjektert | D76: Kommentarer
A77: Plassering innedel | B77: luft/luft- luft/vann eller vann/vann | C77: [kW]
A83: Bygg: | B83: =+'Grunnlagsdata enkeltbygg'!B166 -> 0
B85: Type varmepumpe | C85: Avgitt varmeffekt (påstempla/prosjektert | D85: Kommentarer
A86: Plassering innedel | B86: luft/luft- luft/vann eller vann/vann | C86: [kW]
A93: Bygg: | B93: =+'Grunnlagsdata enkeltbygg'!B186 -> 0
B95: Type varmepumpe | C95: Avgitt varmeffekt (påstempla/prosjektert | D95: Kommentarer
A96: Plassering innedel | B96: luft/luft- luft/vann eller vann/vann | C96: [kW]
A102: Bygg: | B102: =+'Grunnlagsdata enkeltbygg'!B206 -> 0
B104: Type varmepumpe | C104: Avgitt varmeffekt (påstempla/prosjektert | D104: Kommentarer
A105: Plassering innedel | B105: luft/luft- luft/vann eller vann/vann | C105: [kW]
A111: Bygg: | B111: =+'Grunnlagsdata enkeltbygg'!B206 -> 0
B113: Type varmepumpe | C113: Avgitt varmeffekt (påstempla/prosjektert | D113: Kommentarer
A114: Plassering innedel | B114: luft/luft- luft/vann eller vann/vann | C114: [kW]
A120: Bygg: | B120: =+'Grunnlagsdata enkeltbygg'!B226 -> 0
B122: Type varmepumpe | C122: Avgitt varmeffekt (påstempla/prosjektert | D122: Kommentarer
A123: Plassering innedel | B123: luft/luft- luft/vann eller vann/vann | C123: [kW]
A129: Bygg: | B129: ='[1]Grunnlagsdata enkeltbygg'!B305 -> Sjøfartsmuseet (tas ut av prosjektet)
B131: Type varmepumpe | C131: Avgitt varmeffekt (påstempla/prosjektert | D131: Kommentarer
A132: Plassering innedel | B132: luft/luft- luft/vann eller vann/vann | C132: [kW]
A138: Bygg: | B138: ='[1]Grunnlagsdata enkeltbygg'!B325 -> Olrichhallen - utgår
B140: Type varmepumpe | C140: Avgitt varmeffekt (påstempla/prosjektert | D140: Kommentarer
A141: Plassering innedel | B141: luft/luft- luft/vann eller vann/vann | C141: [kW]
A147: Bygg: | B147: =+'Grunnlagsdata enkeltbygg'!B246 -> 0
B149: Type varmepumpe | C149: Avgitt varmeffekt (påstempla/prosjektert | D149: Kommentarer
A150: Plassering innedel | B150: luft/luft- luft/vann eller vann/vann | C150: [kW]
A160: Bygg: | B160: =+'Grunnlagsdata enkeltbygg'!B266 -> 0
B162: Type varmepumpe | C162: Avgitt varmeffekt (påstempla/prosjektert | D162: Kommentarer
A163: Plassering innedel | B163: luft/luft- luft/vann eller vann/vann | C163: [kW]
A169: Bygg: | B169: ='[1]Grunnlagsdata enkeltbygg'!B385 -> Erslandstu - UTGÅR
B171: Type varmepumpe | C171: Avgitt varmeffekt (påstempla/prosjektert | D171: Kommentarer
A172: Plassering innedel | B172: luft/luft- luft/vann eller vann/vann | C172: [kW]
A178: Bygg: | B178: ='[1]Grunnlagsdata enkeltbygg'!B405 -> Servicehuset - MKA (UTGÅR)
B180: Type varmepumpe | C180: Avgitt varmeffekt (påstempla/prosjektert | D180: Kommentarer
A181: Plassering innedel | B181: luft/luft- luft/vann eller vann/vann | C181: [kW]
A187: Bygg: | B187: ='[1]Grunnlagsdata enkeltbygg'!B425 -> Båtbyggeriet - MKA (UTGÅR)
B189: Type varmepumpe | C189: Avgitt varmeffekt (påstempla/prosjektert | D189: Kommentarer
A190: Plassering innedel | B190: luft/luft- luft/vann eller vann/vann | C190: [kW]
A196: Bygg: | B196: ='[1]Grunnlagsdata enkeltbygg'!B405 -> Servicehuset - MKA (UTGÅR)
B198: Type varmepumpe | C198: Avgitt varmeffekt (påstempla/prosjektert | D198: Kommentarer
A199: Plassering innedel | B199: luft/luft- luft/vann eller vann/vann | C199: [kW]
A205: Bygg: | B205: ='[1]Grunnlagsdata enkeltbygg'!B425 -> Båtbyggeriet - MKA (UTGÅR)
B207: Type varmepumpe | C207: Avgitt varmeffekt (påstempla/prosjektert | D207: Kommentarer
A208: Plassering innedel | B208: luft/luft- luft/vann eller vann/vann | C208: [kW]
A214: Bygg: | B214: =+'Grunnlagsdata enkeltbygg'!B286 -> 0
B216: Type varmepumpe | C216: Avgitt varmeffekt (påstempla/prosjektert | D216: Kommentarer
A217: Plassering innedel | B217: luft/luft- luft/vann eller vann/vann | C217: [kW]
A223: Bygg: | B223: =+'Grunnlagsdata enkeltbygg'!B306 -> 0
B225: Type varmepumpe | C225: Avgitt varmeffekt (påstempla/prosjektert | D225: Kommentarer
A226: Plassering innedel | B226: luft/luft- luft/vann eller vann/vann | C226: [kW]
A232: Bygg: | B232: =+'Grunnlagsdata enkeltbygg'!B326 -> 0
B234: Type varmepumpe | C234: Avgitt varmeffekt (påstempla/prosjektert | D234: Kommentarer
A235: Plassering innedel | B235: luft/luft- luft/vann eller vann/vann | C235: [kW]
A241: Bygg: | B241: ='[1]Grunnlagsdata enkeltbygg'!B505 -> Schjølberggården - Sverresborg (UTGÅR)
B243: Type varmepumpe | C243: Avgitt varmeffekt (påstempla/prosjektert | D243: Kommentarer
A244: Plassering innedel | B244: luft/luft- luft/vann eller vann/vann | C244: [kW]
A250: Bygg: | B250: ='[1]Grunnlagsdata enkeltbygg'!B525 -> Tavern - Sverresborg - UTGÅR
B252: Type varmepumpe | C252: Avgitt varmeffekt (påstempla/prosjektert | D252: Kommentarer
A253: Plassering innedel | B253: luft/luft- luft/vann eller vann/vann | C253: [kW]
A259: Bygg: | B259: ='[1]Grunnlagsdata enkeltbygg'!B545 -> Sverresmyra - Sverresborg UTGÅR
B261: Type varmepumpe | C261: Avgitt varmeffekt (påstempla/prosjektert | D261: Kommentarer
A262: Plassering innedel | B262: luft/luft- luft/vann eller vann/vann | C262: [kW]
A268: Bygg: | B268: ='[1]Grunnlagsdata enkeltbygg'!B565 -> Svalsbergplass - Sverresborg - UTGÅR
B270: Type varmepumpe | C270: Avgitt varmeffekt (påstempla/prosjektert | D270: Kommentarer
A271: Plassering innedel | B271: luft/luft- luft/vann eller vann/vann | C271: [kW]
A277: Bygg: | B277: =+'Grunnlagsdata enkeltbygg'!B346 -> 0
B279: Type varmepumpe | C279: Avgitt varmeffekt (påstempla/prosjektert | D279: Kommentarer
A280: Plassering innedel | B280: luft/luft- luft/vann eller vann/vann | C280: [kW]
A286: Bygg: | B286: =+'Grunnlagsdata enkeltbygg'!B366 -> 0
B288: Type varmepumpe | C288: Avgitt varmeffekt (påstempla/prosjektert | D288: Kommentarer
A289: Plassering innedel | B289: luft/luft- luft/vann eller vann/vann | C289: [kW]
A295: Bygg: | B295: =+'Grunnlagsdata enkeltbygg'!B386 -> 0
B297: Type varmepumpe | C297: Avgitt varmeffekt (påstempla/prosjektert | D297: Kommentarer
...

Sheet Oversikt vernestatus
A1: Info om verneklasser
A4: Oversikt vernestatus
A5: Bygg:
A6: Type vern
A7: Beskrivelse (fritekst
A13: Bygg:
A14: Type vern
A15: Beskrivelse (fritekst
A21: Bygg:
A22: Type vern
A23: Beskrivelse (fritekst
A29: Bygg:
... A55: Beskrivelse (fritekst
A61: Bygg: | B61: ='[1]Grunnlagsdata enkeltbygg'!B145 -> Publikumsbygget - Museet Kystens Arv - UTGÅR
A62: Type vern
A63: Beskrivelse (fritekst
A69: Bygg:
A70: Type vern
A71: Beskrivelse (fritekst
A77: Bygg:
A78: Type vern
A79: Beskrivelse (fritekst
A85: Bygg: | B85: ='[1]Grunnlagsdata enkeltbygg'!B205 -> Fraktgodsen - OI Løkken (tas ut av prosjektet)
A86: Type vern
A87: Beskrivelse (fritekst
B88: Opprinnelig del er fredet (500 kvm)
A93: Bygg:
A94: Type vern
A95: Beskrivelse (fritekst
A101: Bygg:
A102: Type vern
A103: Beskrivelse (fritekst
A109: Bygg:
A110: Type vern
A111: Beskrivelse (fritekst
A117: Bygg:
A118: Type vern
A119: Beskrivelse (fritekst
... A151: Beskrivelse (fritekst
A157: Bygg: | B157: ='[1]Grunnlagsdata enkeltbygg'!B385 -> Erslandstu - UTGÅR
A158: Type vern
A159: Beskrivelse (fritekst
B160: Inget formelt vern, men kulturhistorisk verdi må hensynstas
A165: Bygg: | B165: ='[1]Grunnlagsdata enkeltbygg'!B405 -> Servicehuset - MKA (UTGÅR)
A166: Type vern
A167: Beskrivelse (fritekst
A173: Bygg: | B173: ='[1]Grunnlagsdata enkeltbygg'!B425 -> Båtbyggeriet - MKA (UTGÅR)
A174: Type vern
A175: Beskrivelse (fritekst
A181: Bygg:
A182: Type vern
A183: Beskrivelse (fritekst
A189: Bygg:
A190: Type vern
A191: Beskrivelse (fritekst
A197: Bygg:
A198: Type vern
A199: Beskrivelse (fritekst
A205: Bygg: | B205: ='[1]Grunnlagsdata enkeltbygg'!B505 -> Schjølberggården - Sverresborg (UTGÅR)
A206: Type vern
A207: Beskrivelse (fritekst
B208: =+B200 -> 0
A213: Bygg: | B213: ='[1]Grunnlagsdata enkeltbygg'!B525 -> Tavern - Sverresborg - UTGÅR
A214: Type vern
A215: Beskrivelse (fritekst
B216: =+B208 -> 0
B217: Bygget er fredet, dvs at endringer må ha tillatelse fra ekstern
B218: myndighet.
A221: Bygg: | B221: ='[1]Grunnlagsdata enkeltbygg'!B545 -> Sverresmyra - Sverresborg UTGÅR
A222: Type vern
A223: Beskrivelse (fritekst
A229: Bygg: | B229: ='[1]Grunnlagsdata enkeltbygg'!B565 -> Svalsbergplass - Sverresborg - UTGÅR
A230: Type vern
A231: Beskrivelse (fritekst
A237: Bygg: | B237: ='[1]Grunnlagsdata enkeltbygg'!B485 -> Gramgården - Sverresborg
A238: Type vern
A239: Beskrivelse (fritekst
A245: Bygg: | B245: ='[1]Grunnlagsdata enkeltbygg'!B505 -> Schjølberggården - Sverresborg (UTGÅR)
A246: Type vern
A247: Beskrivelse (fritekst
A253: Bygg: | B253: ='[1]Grunnlagsdata enkeltbygg'!B525 -> Tavern - Sverresborg - UTGÅR
A254: Type vern
A255: Beskrivelse (fritekst
A261: Bygg: | B261: ='[1]Grunnlagsdata enkeltbygg'!B545 -> Sverresmyra - Sverresborg UTGÅR
A262: Type vern
A263: Beskrivelse (fritekst
A269: Bygg: | B269: ='[1]Grunnlagsdata enkeltbygg'!B565 -> Svalsbergplass - Sverresborg - UTGÅR
A270: Type vern
A271: Beskrivelse (fritekst
A277: Bygg: | B277: ='[1]Grunnlagsdata enkeltbygg'!B585 -> 0
A278: Type vern
A279: Beskrivelse (fritekst
A285: Bygg: | B285: ='[1]Grunnlagsdata enkeltbygg'!B579 -> 0
A286: Type vern
A287: Beskrivelse (fritekst
A293: Bygg: | B293: ='[1]Grunnlagsdata enkeltbygg'!B599 -> 0
A294: Type vern
A295: Beskrivelse (fritekst
A301: Bygg: | B301: ='[1]Grunnlagsdata enkeltbygg'!B619 -> 0
A302: Type vern
...
