Workbook
Name Barnehagetype: #REF!
Name Barnehagetype: #REF!
Name Barnehagetype: #REF!
Name Barnehagetype: #REF!
Name Gruppering: #REF!
Name Gruppering: #REF!
Name Gruppering: #REF!
Name Gruppering: #REF!

Sheet 1. lim inn BASIL-rådata her
A1: BASIL-RÅDATA ▸ Lim inn hele 'Årsmelding svar'-fanen fra BASIL fra rad 3. Overskrifter i rad 2 er identiske med BASIL-originalen (170 kolonner, riktig rekkefølge). Kolonne FO og FP er beregnet heltidsekvivalent for kontrollformål.
A2: År | B2: 1A. Kommunenr: | C2: 1A. Kommune: | D2: 1A. Bydelsnummer: | E2: 1A. Bydelsnavn: | F2: 1A. Fylkesnummer: | G2: 1A. Fylkesnavn: | H2: 1B. Barnehage: | I2: 1B. Organisasjonsnummer: | J2: 1C. Etablert drift(årstall): | K2: 1D. Barnehagetype: | L2: 2A. Barnehagens eier(Private eiere må fylle ut pkt.C): | M2: 2B. Barnehagens organisasjonsform: | N2: 2C. Nærmere beskrivelse av eieren av barnehagen: | O2: 2D. Har barnehagen en profil? | P2: 2D. Hvis ja, kryss av for profil: | Q2: 2E. Når åpner barnehagen: | R2: 2E. Når stenger barnehagen: | S2: 2E. Timer per dag: (91/2 time =9,5): | T2: 2E. Dager i uken: | U2: 2E. Måneder i året: | V2: 2F. Tilsyn fra barnehagemyndigheten: | W2: 2F. Hvis ja, kryss av for hvilken type tilsyn (mer enn ett kryss mulig): | X2: 2G. Hvis ja, kryss av for hvilken type tilsyn (mer enn ett kryss mulig): | Y2: 3A. Hva er dato for siste godkjenning av barnehagen: | Z2: 3B. Totalt godkjent leke- og oppholdsareal (m2): | AA2: 3B. Eierens vedtektsfestede norm for arealutnytting per barn under 3 år (m2): | AB2: 3B. Eierens vedtektsfestede norm for arealutnytting per barn 3 år og eldre (m2): | AC2: 3C. Dispensasjon fra normen om pedagogisk bemanning: | AD2: 3D. Dispensasjon fra bemanningsnormen: | AE2: 3E. Dispensasjon fra krav om norskferdigheter for ansatte i barnehagen: | AF2: 3F. Er maksimalt antall barn i familiebarnehagen begrenset på grunn av hjemmets egenhet? | AG2: 3F. Hvis ja, Oppgi antall barn: | AH2: 3F. Er noen av hjemmene i familiebarnehagen godkjent for dobbeltgruppe? | AI2: 3F. Et fellesskap mellom to eller flere hjem? | AJ2: 3F. Hvis ja: Antall hjem: | AK2: 3F. Hvis nei: Et enkeltstående hjem? | AL2: 3F. Et fellesskap med en ordinær barnehage? | AM2: 3F. For drift i et ubebodd hjem? | AN2: 4A. Antall barn: 0 år; 0-32 timer: | AO2: 4A. Antall barn: 1 år (1.12-31.12); 0-32 timer: | AP2: 4A. Antall barn: 1 år (1.1-30.11); 0-32 timer: | AQ2: 4A. Antall barn: 2 år; 0-32 timer: | AR2: 4A. Antall barn: 3 år; 0-32 timer: | AS2: 4A. Antall barn: 4 år; 0-32 timer: | AT2: 4A. Antall barn: 5 år; 0-32 timer: | AU2: 4A. Antall barn: 6 år; 0-32 timer: | AV2: 4A. Antall barn totalt, 0-32 timer: | AW2: 4A. Antall barn: 0 år; 33-40 timer: | AX2: 4A. Antall barn: 1 år (1.12-31.12); 33-40 timer: | AY2: 4A. Antall barn: 1 år (1.1-30.11); 33-40 timer: | AZ2: 4A. Antall barn: 2 år; 33-40 timer: | BA2: 4A. Antall barn: 3 år; 33-40 timer: | BB2: 4A. Antall barn: 4 år; 33-40 timer: | BC2: 4A. Antall barn: 5 år; 33-40 timer: | BD2: 4A. Antall barn: 6 år; 33-40 timer: | BE2: 4A. Antall barn totalt, 33-40 timer: | BF2: 4A. Antall barn: 0 år; 41 timer eller mer: | BG2: 4A. Antall barn: 1 år (1.12-31.12); 41 timer eller mer: | BH2: 4A. Antall barn: 1 år (1.1-30.11); 41 timer eller mer: | BI2: 4A. Antall barn: 2 år; 41 timer eller mer: | BJ2: 4A. Antall barn: 3 år; 41 timer eller mer: | BK2: 4A. Antall barn: 4 år; 41 timer eller mer: | BL2: 4A. Antall barn: 5 år; 41 timer eller mer: | BM2: 4A. Antall barn: 6 år; 41 timer eller mer: | BN2: 4A. Antall barn totalt, 41 timer eller mer: | BO2: 4A. Antall barn totalt, 0 år: | BP2: 4A. Antall barn totalt, 1 år (1.12-31.12): | BQ2: 4A. Antall barn totalt, 1 år (1.1-30.11): | BR2: 4A. Antall barn totalt, 2 år: | BS2: 4A. Antall barn totalt, 3 år: | BT2: 4A. Antall barn totalt, 4 år: | BU2: 4A. Antall barn totalt, 5 år: | BV2: 4A. Antall barn totalt, 6 år: | BW2: 4A. Antall barn totalt: | BX2: 4A. Antall barn i åpen barnehage 6-15 timer: | BY2: 4A. Antall barn i åpen barnehage 16 timer eller mer: | BZ2: 4A. Antall barn i åpen barnehage totalt: | CA2: 4B. Avdelingsorganisering: | CB2: 4C. Antall barn i småbarnsgrupper: | CC2: 4C. Antall barn i storbarnsgrupper: | CD2: 4C. Antall barn i aldersblandede grupper: | CE2: 5A. Antall barn: 0 år; 0-32 timer: | CF2: 5A. Antall barn: 1 år; 0-32 timer: | CG2: 5A. Antall barn: 2 år; 0-32 timer: | CH2: 5A. Antall barn: 3 år; 0-32 timer: | CI2: 5A. Antall barn: 4 år; 0-32 timer: | CJ2: 5A. Antall barn: 5 år; 0-32 timer: | CK2: 5A. Antall barn: 6 år; 0-32 timer: | CL2: 5A. Antall barn totalt, 0-32 timer: | CM2: 5A. Antall barn: 0 år; 33-40 timer: | CN2: 5A. Antall barn: 1 år; 33-40 timer: | CO2: 5A. Antall barn: 2 år; 33-40 timer: | CP2: 5A. Antall barn: 3 år; 33-40 timer: | CQ2: 5A. Antall barn: 4 år; 33-40 timer: | CR2: 5A. Antall barn: 5 år; 33-40 timer: | CS2: 5A. Antall barn: 6 år; 33-40 timer: | CT2: 5A. Antall barn totalt, 33-40 timer: | CU2: 5A. Antall barn: 0 år; 41 timer eller mer: | CV2: 5A. Antall barn: 1 år; 41 timer eller mer: | CW2: 5A. Antall barn: 2 år; 41 timer eller mer: | CX2: 5A. Antall barn: 3 år; 41 timer eller mer: | CY2: 5A. Antall barn: 4 år; 41 timer eller mer: | CZ2: 5A. Antall barn: 5 år; 41 timer eller mer: | DA2: 5A. Antall barn: 6 år; 41 timer eller mer: | DB2: 5A. Antall barn totalt, 41 timer eller mer: | DC2: 5A. Antall barn totalt, 0 år: | DD2: 5A. Antall barn totalt, 1 år: | DE2: 5A. Antall barn totalt, 2 år: | DF2: 5A. Antall barn totalt, 3 år: | DG2: 5A. Antall barn totalt, 4 år: | DH2: 5A. Antall barn totalt, 5 år: | DI2: 5A. Antall barn totalt, 6 år: | DJ2: 5A. Antall barn totalt: | DK2: 5B. Antall fordrevne barn fra Ukraina, 0 år: | DL2: 5B. Antall fordrevne barn fra Ukraina, 1 år: | DM2: 5B. Antall fordrevne barn fra Ukraina, 2 år: | DN2: 5B. Antall fordrevne barn fra Ukraina, 3 år: | DO2: 5B. Antall fordrevne barn fra Ukraina, 4 år: | DP2: 5B. Antall fordrevne barn fra Ukraina, 5 år: | DQ2: 5B. Antall fordrevne barn fra Ukraina, 6 år: | DR2: 5B. Antall fordrevne barn fra Ukraina totalt: | DS2: 5C. Oppgi antall minoritetsspråklige barn som får ekstra personalressurser til styrket språkutvikling: | DT2: 5D. Har barnehagen samarbeidet systematisk med andre tjenester for å bedre språkutviklingen til minoritetsspråklige barn? Hvis ja, kryss av for hvilke tjenester barnehagen samarbeider med: | DU2: 5D. Hvis ja, kryss av for hvilke tjenester barnehagen samarbeider med: | DV2: 6A. Antall gutter med vedtak om spesialpedagogisk hjelp, 0 år: | DW2: 6A. Antall gutter med vedtak om spesialpedagogisk hjelp, 1 år: | DX2: 6A. Antall gutter med vedtak om spesialpedagogisk hjelp, 2 år: | DY2: 6A. Antall gutter med vedtak om spesialpedagogisk hjelp, 3 år: | DZ2: 6A. Antall gutter med vedtak om spesialpedagogisk hjelp, 4 år: | EA2: 6A. Antall gutter med vedtak om spesialpedagogisk hjelp, 5 år: | EB2: 6A. Antall gutter med vedtak om spesialpedagogisk hjelp, 6 år: | EC2: 6A. Antall gutter med vedtak om spesialpedagogisk hjelp totalt: | ED2: 6A. Antall jenter med vedtak om spesialpedagogisk hjelp, 0 år: | EE2: 6A. Antall jenter med vedtak om spesialpedagogisk hjelp, 1 år: | EF2: 6A. Antall jenter med vedtak om spesialpedagogisk hjelp, 2 år: | EG2: 6A. Antall jenter med vedtak om spesialpedagogisk hjelp, 3 år: | EH2: 6A. Antall jenter med vedtak om spesialpedagogisk hjelp, 4 år: | EI2: 6A. Antall jenter med vedtak om spesialpedagogisk hjelp, 5 år: | EJ2: 6A. Antall jenter med vedtak om spesialpedagogisk hjelp, 6 år: | EK2: 6A. Antall jenter med vedtak om spesialpedagogisk hjelp totalt: | EL2: 6A. Totalt antall barn med vedtak om spesialpedagogisk hjelp, 0 år: | EM2: 6A. Totalt antall barn med vedtak om spesialpedagogisk hjelp, 1 år: | EN2: 6A. Totalt antall barn med vedtak om spesialpedagogisk hjelp, 2 år: | EO2: 6A. Totalt antall barn med vedtak om spesialpedagogisk hjelp, 3 år: | EP2: 6A. Totalt antall barn med vedtak om spesialpedagogisk hjelp, 4 år: | EQ2: 6A. Totalt antall barn med vedtak om spesialpedagogisk hjelp, 5 år: | ER2: 6A. Totalt antall barn med vedtak om spesialpedagogisk hjelp, 6 år: | ES2: 6A. Totalt antall barn med vedtak om spesialpedagogisk hjelp: | ET2: 6B. Antall barn med nedsatt funksjonsevne som har vedtak etter barnehageloven § 37: | EU2: 6C. Antall barn som får tegnspråkopplæring med vedtak etter barnehageloven § 38: | EV2: 6D. Har barnehagen blitt tildelt ekstra ressurser til arbeid med barnehagegrupper med utvidet behov for tilrettelegging som ikke er oppgitt i punkt 6 A, B og C? | EW2: 7A. Hvor mye betaler foreldrene månedlig i kostpenger per barn med hel plass i barnehagen? | EX2: 7B. Tilsvarer foreldrebetalingen fastsatt maksimalpris? | EY2: 7B. Hvis nei, ligger foreldrebetalingen over eller under fastsatt maksimalpris? | EZ2: 7B. Annet (spesifiser her) | FA2: 7B. HvisOverAnnetTekst | FB2: 7C. Hvor mye betaler foreldre for turer eller aktiviteter utover kostpenger per år? | FC2: 8A. Barn per ansatt: | FD2: 8A. Barn per pedagogisk leder: | FE2: 8E. Oppgi antall årsverk barnehagen har pensjonsforpliktelser for: | FF2: 9A. Har barnehagen beredskapsplaner for å dekke alvorlige hendelser? | FG2: 9B. Dekker beredskapsplanen også alvorlige tilsiktede hendelser (eksempelvis: skyteepisoder, gisselsituasjoner og bombeangrep?) | FH2: 9C. Har barnehagen gjennomført beredskapsøvelser i løpet av året? | FI2: 11A. Navn | FJ2: 11A. E-post | FK2: 11A. Rolle | FL2: 11B. Merknader fra barnehagen: | FM2: 11C. Merknader fra kommunen: | FN2: Skjemastatus | FO2: HEQ 0-2 | FP2: HEQ 3-6
FO3: =0.4667*SUM(AN3:AQ3)+0.8222*SUM(AW3:AZ3)+SUM(BF3:BI3) -> 0 | FP3: =0.4667*SUM(AR3:AU3)+0.8222*SUM(BA3:BD3)+SUM(BJ3:BM3) -> 0
FO4: =0.4667*SUM(AN4:AQ4)+0.8222*SUM(AW4:AZ4)+SUM(BF4:BI4) -> 0 | FP4: =0.4667*SUM(AR4:AU4)+0.8222*SUM(BA4:BD4)+SUM(BJ4:BM4) -> 0
FO5: =0.4667*SUM(AN5:AQ5)+0.8222*SUM(AW5:AZ5)+SUM(BF5:BI5) -> 0 | FP5: =0.4667*SUM(AR5:AU5)+0.8222*SUM(BA5:BD5)+SUM(BJ5:BM5) -> 0
FO6: =0.4667*SUM(AN6:AQ6)+0.8222*SUM(AW6:AZ6)+SUM(BF6:BI6) -> 0 | FP6: =0.4667*SUM(AR6:AU6)+0.8222*SUM(BA6:BD6)+SUM(BJ6:BM6) -> 0
FO7: =0.4667*SUM(AN7:AQ7)+0.8222*SUM(AW7:AZ7)+SUM(BF7:BI7) -> 0 | FP7: =0.4667*SUM(AR7:AU7)+0.8222*SUM(BA7:BD7)+SUM(BJ7:BM7) -> 0
FO8: =0.4667*SUM(AN8:AQ8)+0.8222*SUM(AW8:AZ8)+SUM(BF8:BI8) -> 0 | FP8: =0.4667*SUM(AR8:AU8)+0.8222*SUM(BA8:BD8)+SUM(BJ8:BM8) -> 0
FO9: =0.4667*SUM(AN9:AQ9)+0.8222*SUM(AW9:AZ9)+SUM(BF9:BI9) -> 0 | FP9: =0.4667*SUM(AR9:AU9)+0.8222*SUM(BA9:BD9)+SUM(BJ9:BM9) -> 0
FO10: =0.4667*SUM(AN10:AQ10)+0.8222*SUM(AW10:AZ10)+SUM(BF10:BI10) -> 0 | FP10: =0.4667*SUM(AR10:AU10)+0.8222*SUM(BA10:BD10)+SUM(BJ10:BM10) -> 0
FO11: =0.4667*SUM(AN11:AQ11)+0.8222*SUM(AW11:AZ11)+SUM(BF11:BI11) -> 0 | FP11: =0.4667*SUM(AR11:AU11)+0.8222*SUM(BA11:BD11)+SUM(BJ11:BM11) -> 0
FO12: =0.4667*SUM(AN12:AQ12)+0.8222*SUM(AW12:AZ12)+SUM(BF12:BI12) -> 0 | FP12: =0.4667*SUM(AR12:AU12)+0.8222*SUM(BA12:BD12)+SUM(BJ12:BM12) -> 0
FO13: =0.4667*SUM(AN13:AQ13)+0.8222*SUM(AW13:AZ13)+SUM(BF13:BI13) -> 0 | FP13: =0.4667*SUM(AR13:AU13)+0.8222*SUM(BA13:BD13)+SUM(BJ13:BM13) -> 0
FO14: =0.4667*SUM(AN14:AQ14)+0.8222*SUM(AW14:AZ14)+SUM(BF14:BI14) -> 0 | FP14: =0.4667*SUM(AR14:AU14)+0.8222*SUM(BA14:BD14)+SUM(BJ14:BM14) -> 0
... FO500: =0.4667*SUM(AN500:AQ500)+0.8222*SUM(AW500:AZ500)+SUM(BF500:BI500) -> 0 | FP500: =0.4667*SUM(AR500:AU500)+0.8222*SUM(BA500:BD500)+SUM(BJ500:BM500) -> 0

Sheet 1.BASIL-rådata til tilskuddsmal
A1: BASIL-RÅDATA ▸ Bearbeidet for bruk i tilskuddsmal
A2: År | B2: 1A. Kommunenr: | C2: 1A. Kommune: | D2: 1A. Bydelsnummer: | E2: 1A. Bydelsnavn: | F2: 1A. Fylkesnummer: | G2: 1A. Fylkesnavn: | H2: 1B. Barnehage: | I2: 1B. Organisasjonsnummer: | J2: 1C. Etablert drift(årstall): | K2: 1D. Barnehagetype: | L2: 2A. Barnehagens eier(Private eiere må fylle ut pkt.C): | M2: 8E. Oppgi antall årsverk barnehagen har pensjonsforpliktelser for: | N2: Heltidsplasser 0-2 | O2: Heltidsplasser 3-6
A3: =BasilRadata10[[#This Row],[År]] -> 0 | B3: =BasilRadata10[[#This Row],[1A. Kommunenr:]] -> 0 | C3: =BasilRadata10[[#This Row],[1A. Kommune:]] -> 0 | D3: =BasilRadata10[[#This Row],[1A. Bydelsnummer:]] -> 0 | E3: =BasilRadata10[[#This Row],[1A. Bydelsnavn:]] -> 0 | F3: =BasilRadata10[[#This Row],[1A. Fylkesnummer:]] -> 0 | G3: =BasilRadata10[[#This Row],[1A. Fylkesnavn:]] -> 0 | H3: =BasilRadata10[[#This Row],[1B. Barnehage:]] -> 0 | I3: =BasilRadata10[[#This Row],[1B. Organisasjonsnummer:]] -> 0 | J3: =BasilRadata10[[#This Row],[1C. Etablert drift(årstall):]] -> 0 | K3: =BasilRadata10[[#This Row],[1D. Barnehagetype:]] -> 0 | L3: =BasilRadata10[[#This Row],[2A. Barnehagens eier(Private eiere må fylle ut pkt.C):]] -> 0 | M3: =BasilRadata10[[#This Row],[8E. Oppgi antall årsverk barnehagen har pensjonsforpliktelser for:]] -> 0 | N3: =BasilRadata10[[#This Row],[HEQ 0-2]] -> 0 | O3: =BasilRadata10[[#This Row],[HEQ 3-6]] -> 0
A4: =BasilRadata10[[#This Row],[År]] -> 0 | B4: =BasilRadata10[[#This Row],[1A. Kommunenr:]] -> 0 | C4: =BasilRadata10[[#This Row],[1A. Kommune:]] -> 0 | D4: =BasilRadata10[[#This Row],[1A. Bydelsnummer:]] -> 0 | E4: =BasilRadata10[[#This Row],[1A. Bydelsnavn:]] -> 0 | F4: =BasilRadata10[[#This Row],[1A. Fylkesnummer:]] -> 0 | G4: =BasilRadata10[[#This Row],[1A. Fylkesnavn:]] -> 0 | H4: =BasilRadata10[[#This Row],[1B. Barnehage:]] -> 0 | I4: =BasilRadata10[[#This Row],[1B. Organisasjonsnummer:]] -> 0 | J4: =BasilRadata10[[#This Row],[1C. Etablert drift(årstall):]] -> 0 | K4: =BasilRadata10[[#This Row],[1D. Barnehagetype:]] -> 0 | L4: =BasilRadata10[[#This Row],[2A. Barnehagens eier(Private eiere må fylle ut pkt.C):]] -> 0 | M4: =BasilRadata10[[#This Row],[8E. Oppgi antall årsverk barnehagen har pensjonsforpliktelser for:]] -> 0 | N4: =BasilRadata10[[#This Row],[HEQ 0-2]] -> 0 | O4: =BasilRadata10[[#This Row],[HEQ 3-6]] -> 0
A5: =BasilRadata10[[#This Row],[År]] -> 0 | B5: =BasilRadata10[[#This Row],[1A. Kommunenr:]] -> 0 | C5: =BasilRadata10[[#This Row],[1A. Kommune:]] -> 0 | D5: =BasilRadata10[[#This Row],[1A. Bydelsnummer:]] -> 0 | E5: =BasilRadata10[[#This Row],[1A. Bydelsnavn:]] -> 0 | F5: =BasilRadata10[[#This Row],[1A. Fylkesnummer:]] -> 0 | G5: =BasilRadata10[[#This Row],[1A. Fylkesnavn:]] -> 0 | H5: =BasilRadata10[[#This Row],[1B. Barnehage:]] -> 0 | I5: =BasilRadata10[[#This Row],[1B. Organisasjonsnummer:]] -> 0 | J5: =BasilRadata10[[#This Row],[1C. Etablert drift(årstall):]] -> 0 | K5: =BasilRadata10[[#This Row],[1D. Barnehagetype:]] -> 0 | L5: =BasilRadata10[[#This Row],[2A. Barnehagens eier(Private eiere må fylle ut pkt.C):]] -> 0 | M5: =BasilRadata10[[#This Row],[8E. Oppgi antall årsverk barnehagen har pensjonsforpliktelser for:]] -> 0 | N5: =BasilRadata10[[#This Row],[HEQ 0-2]] -> 0 | O5: =BasilRadata10[[#This Row],[HEQ 3-6]] -> 0
A6: =BasilRadata10[[#This Row],[År]] -> 0 | B6: =BasilRadata10[[#This Row],[1A. Kommunenr:]] -> 0 | C6: =BasilRadata10[[#This Row],[1A. Kommune:]] -> 0 | D6: =BasilRadata10[[#This Row],[1A. Bydelsnummer:]] -> 0 | E6: =BasilRadata10[[#This Row],[1A. Bydelsnavn:]] -> 0 | F6: =BasilRadata10[[#This Row],[1A. Fylkesnummer:]] -> 0 | G6: =BasilRadata10[[#This Row],[1A. Fylkesnavn:]] -> 0 | H6: =BasilRadata10[[#This Row],[1B. Barnehage:]] -> 0 | I6: =BasilRadata10[[#This Row],[1B. Organisasjonsnummer:]] -> 0 | J6: =BasilRadata10[[#This Row],[1C. Etablert drift(årstall):]] -> 0 | K6: =BasilRadata10[[#This Row],[1D. Barnehagetype:]] -> 0 | L6: =BasilRadata10[[#This Row],[2A. Barnehagens eier(Private eiere må fylle ut pkt.C):]] -> 0 | M6: =BasilRadata10[[#This Row],[8E. Oppgi antall årsverk barnehagen har pensjonsforpliktelser for:]] -> 0 | N6: =BasilRadata10[[#This Row],[HEQ 0-2]] -> 0 | O6: =BasilRadata10[[#This Row],[HEQ 3-6]] -> 0
A7: =BasilRadata10[[#This Row],[År]] -> 0 | B7: =BasilRadata10[[#This Row],[1A. Kommunenr:]] -> 0 | C7: =BasilRadata10[[#This Row],[1A. Kommune:]] -> 0 | D7: =BasilRadata10[[#This Row],[1A. Bydelsnummer:]] -> 0 | E7: =BasilRadata10[[#This Row],[1A. Bydelsnavn:]] -> 0 | F7: =BasilRadata10[[#This Row],[1A. Fylkesnummer:]] -> 0 | G7: =BasilRadata10[[#This Row],[1A. Fylkesnavn:]] -> 0 | H7: =BasilRadata10[[#This Row],[1B. Barnehage:]] -> 0 | I7: =BasilRadata10[[#This Row],[1B. Organisasjonsnummer:]] -> 0 | J7: =BasilRadata10[[#This Row],[1C. Etablert drift(årstall):]] -> 0 | K7: =BasilRadata10[[#This Row],[1D. Barnehagetype:]] -> 0 | L7: =BasilRadata10[[#This Row],[2A. Barnehagens eier(Private eiere må fylle ut pkt.C):]] -> 0 | M7: =BasilRadata10[[#This Row],[8E. Oppgi antall årsverk barnehagen har pensjonsforpliktelser for:]] -> 0 | N7: =BasilRadata10[[#This Row],[HEQ 0-2]] -> 0 | O7: =BasilRadata10[[#This Row],[HEQ 3-6]] -> 0
A8: =BasilRadata10[[#This Row],[År]] -> 0 | B8: =BasilRadata10[[#This Row],[1A. Kommunenr:]] -> 0 | C8: =BasilRadata10[[#This Row],[1A. Kommune:]] -> 0 | D8: =BasilRadata10[[#This Row],[1A. Bydelsnummer:]] -> 0 | E8: =BasilRadata10[[#This Row],[1A. Bydelsnavn:]] -> 0 | F8: =BasilRadata10[[#This Row],[1A. Fylkesnummer:]] -> 0 | G8: =BasilRadata10[[#This Row],[1A. Fylkesnavn:]] -> 0 | H8: =BasilRadata10[[#This Row],[1B. Barnehage:]] -> 0 | I8: =BasilRadata10[[#This Row],[1B. Organisasjonsnummer:]] -> 0 | J8: =BasilRadata10[[#This Row],[1C. Etablert drift(årstall):]] -> 0 | K8: =BasilRadata10[[#This Row],[1D. Barnehagetype:]] -> 0 | L8: =BasilRadata10[[#This Row],[2A. Barnehagens eier(Private eiere må fylle ut pkt.C):]] -> 0 | M8: =BasilRadata10[[#This Row],[8E. Oppgi antall årsverk barnehagen har pensjonsforpliktelser for:]] -> 0 | N8: =BasilRadata10[[#This Row],[HEQ 0-2]] -> 0 | O8: =BasilRadata10[[#This Row],[HEQ 3-6]] -> 0
A9: =BasilRadata10[[#This Row],[År]] -> 0 | B9: =BasilRadata10[[#This Row],[1A. Kommunenr:]] -> 0 | C9: =BasilRadata10[[#This Row],[1A. Kommune:]] -> 0 | D9: =BasilRadata10[[#This Row],[1A. Bydelsnummer:]] -> 0 | E9: =BasilRadata10[[#This Row],[1A. Bydelsnavn:]] -> 0 | F9: =BasilRadata10[[#This Row],[1A. Fylkesnummer:]] -> 0 | G9: =BasilRadata10[[#This Row],[1A. Fylkesnavn:]] -> 0 | H9: =BasilRadata10[[#This Row],[1B. Barnehage:]] -> 0 | I9: =BasilRadata10[[#This Row],[1B. Organisasjonsnummer:]] -> 0 | J9: =BasilRadata10[[#This Row],[1C. Etablert drift(årstall):]] -> 0 | K9: =BasilRadata10[[#This Row],[1D. Barnehagetype:]] -> 0 | L9: =BasilRadata10[[#This Row],[2A. Barnehagens eier(Private eiere må fylle ut pkt.C):]] -> 0 | M9: =BasilRadata10[[#This Row],[8E. Oppgi antall årsverk barnehagen har pensjonsforpliktelser for:]] -> 0 | N9: =BasilRadata10[[#This Row],[HEQ 0-2]] -> 0 | O9: =BasilRadata10[[#This Row],[HEQ 3-6]] -> 0
A10: =BasilRadata10[[#This Row],[År]] -> 0 | B10: =BasilRadata10[[#This Row],[1A. Kommunenr:]] -> 0 | C10: =BasilRadata10[[#This Row],[1A. Kommune:]] -> 0 | D10: =BasilRadata10[[#This Row],[1A. Bydelsnummer:]] -> 0 | E10: =BasilRadata10[[#This Row],[1A. Bydelsnavn:]] -> 0 | F10: =BasilRadata10[[#This Row],[1A. Fylkesnummer:]] -> 0 | G10: =BasilRadata10[[#This Row],[1A. Fylkesnavn:]] -> 0 | H10: =BasilRadata10[[#This Row],[1B. Barnehage:]] -> 0 | I10: =BasilRadata10[[#This Row],[1B. Organisasjonsnummer:]] -> 0 | J10: =BasilRadata10[[#This Row],[1C. Etablert drift(årstall):]] -> 0 | K10: =BasilRadata10[[#This Row],[1D. Barnehagetype:]] -> 0 | L10: =BasilRadata10[[#This Row],[2A. Barnehagens eier(Private eiere må fylle ut pkt.C):]] -> 0 | M10: =BasilRadata10[[#This Row],[8E. Oppgi antall årsverk barnehagen har pensjonsforpliktelser for:]] -> 0 | N10: =BasilRadata10[[#This Row],[HEQ 0-2]] -> 0 | O10: =BasilRadata10[[#This Row],[HEQ 3-6]] -> 0
A11: =BasilRadata10[[#This Row],[År]] -> 0 | B11: =BasilRadata10[[#This Row],[1A. Kommunenr:]] -> 0 | C11: =BasilRadata10[[#This Row],[1A. Kommune:]] -> 0 | D11: =BasilRadata10[[#This Row],[1A. Bydelsnummer:]] -> 0 | E11: =BasilRadata10[[#This Row],[1A. Bydelsnavn:]] -> 0 | F11: =BasilRadata10[[#This Row],[1A. Fylkesnummer:]] -> 0 | G11: =BasilRadata10[[#This Row],[1A. Fylkesnavn:]] -> 0 | H11: =BasilRadata10[[#This Row],[1B. Barnehage:]] -> 0 | I11: =BasilRadata10[[#This Row],[1B. Organisasjonsnummer:]] -> 0 | J11: =BasilRadata10[[#This Row],[1C. Etablert drift(årstall):]] -> 0 | K11: =BasilRadata10[[#This Row],[1D. Barnehagetype:]] -> 0 | L11: =BasilRadata10[[#This Row],[2A. Barnehagens eier(Private eiere må fylle ut pkt.C):]] -> 0 | M11: =BasilRadata10[[#This Row],[8E. Oppgi antall årsverk barnehagen har pensjonsforpliktelser for:]] -> 0 | N11: =BasilRadata10[[#This Row],[HEQ 0-2]] -> 0 | O11: =BasilRadata10[[#This Row],[HEQ 3-6]] -> 0
A12: =BasilRadata10[[#This Row],[År]] -> 0 | B12: =BasilRadata10[[#This Row],[1A. Kommunenr:]] -> 0 | C12: =BasilRadata10[[#This Row],[1A. Kommune:]] -> 0 | D12: =BasilRadata10[[#This Row],[1A. Bydelsnummer:]] -> 0 | E12: =BasilRadata10[[#This Row],[1A. Bydelsnavn:]] -> 0 | F12: =BasilRadata10[[#This Row],[1A. Fylkesnummer:]] -> 0 | G12: =BasilRadata10[[#This Row],[1A. Fylkesnavn:]] -> 0 | H12: =BasilRadata10[[#This Row],[1B. Barnehage:]] -> 0 | I12: =BasilRadata10[[#This Row],[1B. Organisasjonsnummer:]] -> 0 | J12: =BasilRadata10[[#This Row],[1C. Etablert drift(årstall):]] -> 0 | K12: =BasilRadata10[[#This Row],[1D. Barnehagetype:]] -> 0 | L12: =BasilRadata10[[#This Row],[2A. Barnehagens eier(Private eiere må fylle ut pkt.C):]] -> 0 | M12: =BasilRadata10[[#This Row],[8E. Oppgi antall årsverk barnehagen har pensjonsforpliktelser for:]] -> 0 | N12: =BasilRadata10[[#This Row],[HEQ 0-2]] -> 0 | O12: =BasilRadata10[[#This Row],[HEQ 3-6]] -> 0
A13: =BasilRadata10[[#This Row],[År]] -> 0 | B13: =BasilRadata10[[#This Row],[1A. Kommunenr:]] -> 0 | C13: =BasilRadata10[[#This Row],[1A. Kommune:]] -> 0 | D13: =BasilRadata10[[#This Row],[1A. Bydelsnummer:]] -> 0 | E13: =BasilRadata10[[#This Row],[1A. Bydelsnavn:]] -> 0 | F13: =BasilRadata10[[#This Row],[1A. Fylkesnummer:]] -> 0 | G13: =BasilRadata10[[#This Row],[1A. Fylkesnavn:]] -> 0 | H13: =BasilRadata10[[#This Row],[1B. Barnehage:]] -> 0 | I13: =BasilRadata10[[#This Row],[1B. Organisasjonsnummer:]] -> 0 | J13: =BasilRadata10[[#This Row],[1C. Etablert drift(årstall):]] -> 0 | K13: =BasilRadata10[[#This Row],[1D. Barnehagetype:]] -> 0 | L13: =BasilRadata10[[#This Row],[2A. Barnehagens eier(Private eiere må fylle ut pkt.C):]] -> 0 | M13: =BasilRadata10[[#This Row],[8E. Oppgi antall årsverk barnehagen har pensjonsforpliktelser for:]] -> 0 | N13: =BasilRadata10[[#This Row],[HEQ 0-2]] -> 0 | O13: =BasilRadata10[[#This Row],[HEQ 3-6]] -> 0
A14: =BasilRadata10[[#This Row],[År]] -> 0 | B14: =BasilRadata10[[#This Row],[1A. Kommunenr:]] -> 0 | C14: =BasilRadata10[[#This Row],[1A. Kommune:]] -> 0 | D14: =BasilRadata10[[#This Row],[1A. Bydelsnummer:]] -> 0 | E14: =BasilRadata10[[#This Row],[1A. Bydelsnavn:]] -> 0 | F14: =BasilRadata10[[#This Row],[1A. Fylkesnummer:]] -> 0 | G14: =BasilRadata10[[#This Row],[1A. Fylkesnavn:]] -> 0 | H14: =BasilRadata10[[#This Row],[1B. Barnehage:]] -> 0 | I14: =BasilRadata10[[#This Row],[1B. Organisasjonsnummer:]] -> 0 | J14: =BasilRadata10[[#This Row],[1C. Etablert drift(årstall):]] -> 0 | K14: =BasilRadata10[[#This Row],[1D. Barnehagetype:]] -> 0 | L14: =BasilRadata10[[#This Row],[2A. Barnehagens eier(Private eiere må fylle ut pkt.C):]] -> 0 | M14: =BasilRadata10[[#This Row],[8E. Oppgi antall årsverk barnehagen har pensjonsforpliktelser for:]] -> 0 | N14: =BasilRadata10[[#This Row],[HEQ 0-2]] -> 0 | O14: =BasilRadata10[[#This Row],[HEQ 3-6]] -> 0
... A39: =BasilRadata10[[#This Row],[År]] -> 0 | B39: =BasilRadata10[[#This Row],[1A. Kommunenr:]] -> 0 | C39: =BasilRadata10[[#This Row],[1A. Kommune:]] -> 0 | D39: =BasilRadata10[[#This Row],[1A. Bydelsnummer:]] -> 0 | E39: =BasilRadata10[[#This Row],[1A. Bydelsnavn:]] -> 0 | F39: =BasilRadata10[[#This Row],[1A. Fylkesnummer:]] -> 0 | G39: =BasilRadata10[[#This Row],[1A. Fylkesnavn:]] -> 0 | H39: =BasilRadata10[[#This Row],[1B. Barnehage:]] -> 0 | I39: =BasilRadata10[[#This Row],[1B. Organisasjonsnummer:]] -> 0 | J39: =BasilRadata10[[#This Row],[1C. Etablert drift(årstall):]] -> 0 | K39: =BasilRadata10[[#This Row],[1D. Barnehagetype:]] -> 0 | L39: =BasilRadata10[[#This Row],[2A. Barnehagens eier(Private eiere må fylle ut pkt.C):]] -> 0 | M39: =BasilRadata10[[#This Row],[8E. Oppgi antall årsverk barnehagen har pensjonsforpliktelser for:]] -> 0 | N39: =BasilRadata10[[#This Row],[HEQ 0-2]] -> 0 | O39: =BasilRadata10[[#This Row],[HEQ 3-6]] -> 0

Sheet 2.lim inn BASILresultatregnskap
A1: BASIL-RÅDATA ▸ Lim inn hele 'Regnskap svar'-fanen fra BASIL fra rad 3. Overskrifter i rad 2 er identiske med BASIL-originalen (189 kolonner, riktig rekkefølge).
A2: År | B2: Organisasjonsnummer | C2: 1A. Barnehagenavn: | D2: 1A. Kommunenummer: | E2: 1A. Kommunenavn: | F2: 1A. Bydelsnummer: | G2: 1A. Bydelsnavn: | H2: 1A. Fylkesnavn: | I2: 1A. Besøksadresse: | J2: 1A. Besøksadresse postnr: | K2: 1A. Besøksadresse poststed: | L2: 1A. Postadresse: | M2: 1A. Postadresse postnr: | N2: 1A. Postadresse poststed: | O2: 1A. Eierens navn: | P2: 1A. Eiers organisasjonsnummer: | Q2: 1B. Antall barn i barnehagen: | R2: 1C. Barnehagens eier: | S2: 1D. Barnehagens organisasjonsform: | T2: 1D. Nærmere beskrivelse av eieren: | U2: 1E. Inngår barnehagen i en skattefri organisasjon? | V2: 1F. Er barnehagen unntatt fra kravet om selvstendig rettssubjekt? | W2: 1G. Barnehagetype: | X2: 1H. Er barnehagen organisert som et selvstendig rettssubjekt? | Y2: 1I. Hvilket prinsipp for regnskap er benyttet? | Z2: 1J. Benytter barnehagen avvikende regnskapsår? | AA2: 1K. Har barnehagen vært i drift hele året? | AB2: 1L. Driver barnehagen tilleggsvirksomhet? | AC2: 1M. Leier barnehagen lokalene? | AD2: 1M. Leier du av: | AE2: 1M. Utleiers organisasjonsnummer: | AF2: 1M. Er leieavtalen barehouse/triple net? | AG2: 1M. Leieperiode fra: | AH2: 1M. Leieperiode til: | AI2: 1M. Totalt antall kvadratmeter som leies: | AJ2: 1N. Inngår barnehagen i et konsern eller en kjede? | AK2: 1N. Konsern/kjede organisasjonsnummer: | AL2: 1O. Har barnehagen gjennomført nedleggelse, eierskifte eller andre organisatoriske endringer? | AM2: 2A. 3000 Salgsinntekt/uttak, innenfor avgiftsområdet: | AN2: 2A. 3200 Salgsinntekt/uttak, utenfor avgiftsområdet: | AO2: 2B. 3400 Ordinært drifts- og kapitaltilskudd: | AP2: 2B. 3406 Refusjon søskenmoderasjon: | AQ2: 2B. 3407 Refusjon foreldres betalingsevne og gratis kjernetid: | AR2: 2B. 3408 Privat støtte og bidrag: | AS2: 2B. 3420 Tilskudd til spesialpedagogiske tiltak og til barn med nedsatt funksjonsevne: | AT2: 2B. 3430 Tilskudd til tiltak for å styrke språkutviklingen blant minoritetsspråklige barn: | AU2: 2B. 3440 Tilskudd til toppet bemanning: | AV2: 2B. 3450 Andre offentlige tilskudd, støtte, kompensasjon o.l.: | AW2: 2B. 3490 Tilbakebetaling tilskudd etter tilsyn (-): | AX2: 2B. 9001 Sum offentlig tilskudd: | AY2: 2C. 3600 Leieinntekt fast eiendom: | AZ2: 2C. 3655 Kostpenger: | BA2: 2C. 3900 Annen driftsrelatert inntekt: | BB2: 2C. 3905 Inntekt tilleggsvirksomhet: | BC2: 2C. 9000 Sum driftsinntekt: | BD2: 2E. Merknader om driftsinntekter: | BE2: 3A. 4001 Kjøp av matvarer: | BF2: 3A. 4009 Kjøp av andre varer: | BG2: 3A. 9002 Sum varekostnader: | BH2: 3B. 5000 Lønn til ansatte: | BI2: 3B. 5001 Lønn til styrer: (utgått) | BJ2: 3B. 5002 Lønn til administrativt/merkantilt personale: (utgått) | BK2: 3B. 5003 Lønn til pedagogisk leder: (utgått) | BL2: 3B. 5004 Lønn til andre ansatte: (utgått) | BM2: 3B. 5200 Annen fordel i arbeidsforhold: | BN2: 3B. 5290 Motkonto annen fordel i arbeidsforhold: | BO2: 3B. 5310 Gruppelivsforsikring: | BP2: 3B. 5330 Godtgjørelse til styre- og bedriftsforsamling: | BQ2: 3B. 5400 Arbeidsgiveravgift: | BR2: 3B. 5420 Innberetningspliktig pensjonskostnad (ikke pensjonsforsikring): | BS2: 3B. 5500 Annen kostnadsgodtgjørelse: | BT2: 3B. 5600 Arbeidsgodtgjørelse til eier i deltakerlignede selskap: | BU2: 3B. 5700 Lærlingtilskudd (-): | BV2: 3B. 5720 Annet lønnstilskudd (-): | BW2: 3B. 5800 Offentlig refusjon vedrørende arbeidskraft (-): | BX2: 3B. 5900 Gave til ansatte: | BY2: 3B. 5920 Yrkesskadeforsikring: | BZ2: 3B. 5930 Annen ikke arbeidsgiveravgiftspliktig forsikring: | CA2: 3B. 5945 Brutto pensjonsforsikring for ansatte: | CB2: 3B. 5947 Ansattes egenandel i pensjonsordning (-): | CC2: 3B. 5990 Andre personalkostnader: | CD2: 3B. 9003 Sum lønnskostnader: | CE2: 3C. 6000 Avskrivning på barnehagens bygning(er): | CF2: 3C. 6001 Avskrivning på annen fast eiendom: | CG2: 3C. 6005 Avskrivning på påkostninger, leid driftsmiddel: | CH2: 3C. 6010 Avskrivning på transportmidler: | CI2: 3C. 6015 Avskrivning på maskiner: | CJ2: 3C. 6017 Avskrivning på inventar: | CK2: 3C. 6020 Avskrivning på immaterielle eiendeler: | CL2: 3C. 6050 Nedskrivning av varige driftsmidler og immaterielle eiendeler: | CM2: 3C. 9004 Sum av-/nedskrivninger: | CN2: 3D. 6100 Frakt og transportkostnad: | CO2: 3D. 6300 Leie barnehagelokaler: | CP2: 3D. 6301 Leie andre lokaler: | CQ2: 3D. 6340 Lys, varme: | CR2: 3D. 6395 Renovasjon, vann, avløp, renhold og annen kostnad til bygg/lokaler: | CS2: 3D. 6495 Leie av maskiner, inventar og lignende: | CT2: 3D. 6595 Verktøy, inventar og driftsmateriale som ikke skal aktiveres: | CU2: 3D. 6600 Reparasjon og vedlikehold av barnehagebygg: | CV2: 3D. 6695 Reparasjon og vedlikehold av utstyr og annet: | CW2: 3D. 6700 Honorar revisor: | CX2: 3D. 6705 Honorar regnskapsfører: | CY2: 3D. 6729 Honorar for økonomisk rådgivning og juridisk bistand: | CZ2: 3D. 6730 Honorar til selskap i samme konsern: | DA2: 3D. 6741 Innleie av personell som arbeider direkte med barn: | DB2: 3D. 6742 Innleie av personell til øvrige oppgaver: | DC2: 3D. 6743 Innleie av pedagogiske ledere: (utgått) | DD2: 3D. 6744 Innleie av andre ansatte: (utgått) | DE2: 3D. 6790 Annen fremmedtjeneste: | DF2: 3D. 6860 Møte, kurs, oppdatering o.l.: | DG2: 3D. 6995 Kontorkostnad, telefon, porto, mv.: | DH2: 3D. 7000 Drivstoff transportmidler: | DI2: 3D. 7020 Vedlikehold transportmidler: | DJ2: 3D. 7040 Forsikring og avgifter transportmidler: | DK2: 3D. 7080 Bilkostnader, bruk av privat bil i næring (ENK): | DL2: 3D. 7155 Reise- og diettkostnader, opplysningspliktig: | DM2: 3D. 7165 Reise- og diettkostnader, ikke opplysningspliktig: | DN2: 3D. 7330 Salgs- og reklamekostnader: | DO2: 3D. 7350 Representasjonskostnader: | DP2: 3D. 7495 Kontingenter: | DQ2: 3D. 7500 Forsikringspremie: | DR2: 3D. 7750 Eiendoms- og festeavgift: | DS2: 3D. 7795 Andre driftskostnader: | DT2: 3D. 7796 Tilleggsvirksomhet (øk.forskr.§ 3): | DU2: 3D. 7797 Eierkostnader og lignende: | DV2: 3D. 7896 Tap på fordringer: | DW2: 3D. 9005 Sum andre driftskostnader: | DX2: 3D. 9010 Sum driftskostnad: | DY2: 3D. 9050 Sum driftsresultat: | DZ2: 4A. 8061 Renteinntekter fra foretak i samme konsern: | EA2: 4A. 8062 Annen finansinntekt: | EB2: 4A. 9060 Sum finansinntekter: | EC2: 4B. 8161 Rentekostnader på gjeld til foretak i samme konsern: | ED2: 4B. 8162 Rentekostnader finansforetak: | EE2: 4B. 8163 Andre finanskostnader: | EF2: 4B. 9070 Sum finanskostnader: | EG2: 4. Sum finanskontoer: | EH2: 4C. 8305 Betalbar skatt/endring utsatt skatt/skattefordel: | EI2: 5A. 9200 Årsresultat: | EJ2: 5B. 8900 Overføring fond: | EK2: 5B. 8920 Avsatt utbytte: | EL2: 5B. 8925 Avsatt tilleggsutbytte: | EM2: 5B. 8926 Avsatt ekstraordinært utbytte: | EN2: 5B. 8930 Mottatt konsernbidrag: | EO2: 5B. 8935 Avsatt konsernbidrag: | EP2: 5B. 8950 Fondsemisjon: | EQ2: 5B. 8960 Overføring til/fra annen egenkapital: | ER2: 5B. 8990 Udekket tap: | ES2: 5B. Sum disponering: | ET2: 6A. 1099 Immaterielle eiendeler: | EU2: 6A. 1100 Barnehagebygg: | EV2: 6A. 1101 Andre bygninger: | EW2: 6A. 1110 Fast teknisk installasjon i bygning: | EX2: 6A. 1150 Tomter: | EY2: 6A. 1230 Transportmidler: | EZ2: 6A. 1260 Fast bygningsinventar, eget bygg: | FA2: 6A. 1265 Fast bygningsinventar, leide lokaler: | FB2: 6A. 1299 Andre driftsmidler: | FC2: 6A. 1320 Lån til selskap i samme konsern: | FD2: 6A. 1370 Fordringer på eiere, styremedlemmer, ansatte og styrere: | FE2: 6A. 1393 Innskuddsfond: | FF2: 6A. 1394 Premiefond: | FG2: 6A. 1399 Andre finansielle anleggsmidler: | FH2: 6B. 1500 Kundefordringer: | FI2: 6B. 1550 Kundefordringer på selskap i samme konsern: | FJ2: 6B. 1560 Andre fordringer på selskap i samme konsern: | FK2: 6B. 1571 Lønnsforskudd: | FL2: 6B. 1572 Andre kortsiktige lån til ansatte: | FM2: 6B. 1576 Kortsiktig fordring eiere/styremedlem o.l.: | FN2: 6B. 1577 Konsernkonto: | FO2: 6B. 1580 Avsetning tap på kundefordringer (-): | FP2: 6B. 1585 Avsetning tap på andre fordringer (-): | FQ2: 6B. 1599 Andre kortsiktige fordringer: | FR2: 6B. 1640 Oppgjørskonto merverdiavgift: | FS2: 6B. 1670 Krav på offentlige tilskudd: | FT2: 6B. 1700 Forskuddsbetalte kostnader: | FU2: 6B. 1750 Påløpte inntekter: | FV2: 6B. 1770 Andre periodiseringer: | FW2: 6B. 1899 Kortsiktige finansinvesteringer: | FX2: 6B. 1920 Bankinnskudd, kontanter o.l.: | FY2: 6. 9400 Sum eiendeler: | FZ2: 7A. 2000 Innskutt aksjekapital/egenkapital: | GA2: 7A. 2050 Annen egenkapital: | GB2: 7A. 2080 Udekket tap (-): | GC2: 7A. 2099 Andre kontoer i kontogruppen: | GD2: 7A. 9450 Sum egenkapital: | GE2: 8A. 2100 Pensjonsforpliktelser: | GF2: 8A. 2199 Andre langsiktige avsetninger for forpliktelser: | GG2: 8A. Sum forpliktelser: | GH2: 8B. 2200 Konvertible lån: | GI2: 8B. 2210 Obligasjonslån: | GJ2: 8B. 2220 Gjeld til kredittinstitusjoner: | GK2: 8B. 2221 Husbanklån: | GL2: 8B. 2250 Gjeld til ansatte og eiere: | GM2: 8B. 2260 Gjeld til selskaper i samme konsern: | GN2: 8B. 2299 Annen langsiktig gjeld: | GO2: 8B. Sum langsiktig gjeld: | GP2: 8C. 2360 Byggelån: | GQ2: 8C. 2390 Annen gjeld til kredittinstitusjon: | GR2: 8C. 2400 Leverandørgjeld: | GS2: 8C. 2460 Leverandørgjeld til selskap i samme konsern: | GT2: 8C. 2600 Forskuddstrekk: | GU2: 8C. 2699 Andre trekk: | GV2: 8C. 2740 Oppgjørskonto merverdiavgift: | GW2: 8C. 2770 Skyldig arbeidsgiveravgift: | GX2: 8C. 2780 Påløpt arbeidsgiveravgift: | GY2: 8C. 2800 Avsatt utbytte: | GZ2: 8C. 2910 Gjeld til ansatte og eiere: | HA2: 8C. 2920 Gjeld til selskap i samme konsern: | HB2: 8C. 2922 Konsernkonto: | HC2: 8C. 2930 Skyldig lønn og feriepenger: | HD2: 8C. 2980 Avsetning honorar: | HE2: 8C. 2999 Annen kortsiktig gjeld: | HF2: 8C. Sum kortsiktig gjeld: | HG2: 8. 9600 Sum gjeld: | HH2: 9A. Sum tilskudd fra kommunen: | HI2: 9B. Mottatt forskudd på kommunalt tilskudd: | HJ2: 9B. Mottatt etterskudd på kommunalt tilskudd: | HK2: 9B. Endelig vedtak tidligere år: | HL2: 9C. Hvilken pensjonsordning har barnehagen? | HM2: 9C. Brutto pensjonsforsikring for ansatte inkludert OTP: | HN2: 9C. Ansattes egenandel pensjonsordning: | HO2: 9C. Oppgi AFP som er inkludert i konto 5945: | HP2: 9C. Oppgi barnehagens bruk av premiefond: | HQ2: 9C. Pensjonsgivende lønn: | HR2: 9D. Sum langsiktig gjeld - inngått totalt lånebeløp: | HS2: 9D. Sum langsiktig gjeld - lånesaldo pr. 31.12: | HT2: 9D. Sum langsiktig gjeld - renter pr. 31.12: | HU2: 11. Har barnehagen i rapporteringsåret foretatt transaksjoner med nærstående? | HV2: 11. Merknader om transaksjoner med nærstående: | HW2: 14A. Navn: | HX2: 14A. E-post: | HY2: 14A. Rolle: | HZ2: 14B. Merknader fra barnehagen: | IA2: 14C. Merknader fra kommunen: | IB2: Skjemastatus: | IC2: Skjemastatus oppdatert:

Sheet 2. bearbei BASILresultatregnsk.
A1: BASIL-RÅDATA ▸ Bearbeidet for innliming i tilskuddsmal
A2: År | B2: Organisasjonsnummer | C2: 1A. Barnehagenavn: | D2: 1A. Kommunenummer: | E2: 1A. Kommunenavn: | F2: 1A. Bydelsnummer: | G2: 1A. Bydelsnavn: | H2: 1C. Barnehagens eier: | I2: 9C. Pensjonsgivende lønn: | J2: Skjemastatus:
A3: ='2.lim inn BASILresultatregnskap'!A3 -> 0 | B3: ='2.lim inn BASILresultatregnskap'!B3 -> 0 | C3: ='2.lim inn BASILresultatregnskap'!C3 -> 0 | D3: ='2.lim inn BASILresultatregnskap'!D3 -> 0 | E3: ='2.lim inn BASILresultatregnskap'!E3 -> 0 | F3: ='2.lim inn BASILresultatregnskap'!F3 -> 0 | G3: ='2.lim inn BASILresultatregnskap'!G3 -> 0 | H3: ='2.lim inn BASILresultatregnskap'!R3 -> 0 | I3: =IFERROR(Regnskapsvar[[#This Row],[9C. Pensjonsgivende lønn:]],"") -> 0 | J3: =IFERROR(Regnskapsvar[[#This Row],[Skjemastatus:]],"") -> 0
A4: ='2.lim inn BASILresultatregnskap'!A4 -> 0 | B4: ='2.lim inn BASILresultatregnskap'!B4 -> 0 | C4: ='2.lim inn BASILresultatregnskap'!C4 -> 0 | D4: ='2.lim inn BASILresultatregnskap'!D4 -> 0 | E4: ='2.lim inn BASILresultatregnskap'!E4 -> 0 | F4: ='2.lim inn BASILresultatregnskap'!F4 -> 0 | G4: ='2.lim inn BASILresultatregnskap'!G4 -> 0 | H4: ='2.lim inn BASILresultatregnskap'!R4 -> 0 | I4: =IFERROR(Regnskapsvar[[#This Row],[9C. Pensjonsgivende lønn:]],"") -> 0 | J4: =IFERROR(Regnskapsvar[[#This Row],[Skjemastatus:]],"") -> 0
A5: ='2.lim inn BASILresultatregnskap'!A5 -> 0 | B5: ='2.lim inn BASILresultatregnskap'!B5 -> 0 | C5: ='2.lim inn BASILresultatregnskap'!C5 -> 0 | D5: ='2.lim inn BASILresultatregnskap'!D5 -> 0 | E5: ='2.lim inn BASILresultatregnskap'!E5 -> 0 | F5: ='2.lim inn BASILresultatregnskap'!F5 -> 0 | G5: ='2.lim inn BASILresultatregnskap'!G5 -> 0 | H5: ='2.lim inn BASILresultatregnskap'!R5 -> 0 | I5: =IFERROR(Regnskapsvar[[#This Row],[9C. Pensjonsgivende lønn:]],"") -> 0 | J5: =IFERROR(Regnskapsvar[[#This Row],[Skjemastatus:]],"") -> 0
A6: ='2.lim inn BASILresultatregnskap'!A6 -> 0 | B6: ='2.lim inn BASILresultatregnskap'!B6 -> 0 | C6: ='2.lim inn BASILresultatregnskap'!C6 -> 0 | D6: ='2.lim inn BASILresultatregnskap'!D6 -> 0 | E6: ='2.lim inn BASILresultatregnskap'!E6 -> 0 | F6: ='2.lim inn BASILresultatregnskap'!F6 -> 0 | G6: ='2.lim inn BASILresultatregnskap'!G6 -> 0 | H6: ='2.lim inn BASILresultatregnskap'!R6 -> 0 | I6: =IFERROR(Regnskapsvar[[#This Row],[9C. Pensjonsgivende lønn:]],"") -> 0 | J6: =IFERROR(Regnskapsvar[[#This Row],[Skjemastatus:]],"") -> 0
A7: ='2.lim inn BASILresultatregnskap'!A7 -> 0 | B7: ='2.lim inn BASILresultatregnskap'!B7 -> 0 | C7: ='2.lim inn BASILresultatregnskap'!C7 -> 0 | D7: ='2.lim inn BASILresultatregnskap'!D7 -> 0 | E7: ='2.lim inn BASILresultatregnskap'!E7 -> 0 | F7: ='2.lim inn BASILresultatregnskap'!F7 -> 0 | G7: ='2.lim inn BASILresultatregnskap'!G7 -> 0 | H7: ='2.lim inn BASILresultatregnskap'!R7 -> 0 | I7: =IFERROR(Regnskapsvar[[#This Row],[9C. Pensjonsgivende lønn:]],"") -> 0 | J7: =IFERROR(Regnskapsvar[[#This Row],[Skjemastatus:]],"") -> 0
A8: ='2.lim inn BASILresultatregnskap'!A8 -> 0 | B8: ='2.lim inn BASILresultatregnskap'!B8 -> 0 | C8: ='2.lim inn BASILresultatregnskap'!C8 -> 0 | D8: ='2.lim inn BASILresultatregnskap'!D8 -> 0 | E8: ='2.lim inn BASILresultatregnskap'!E8 -> 0 | F8: ='2.lim inn BASILresultatregnskap'!F8 -> 0 | G8: ='2.lim inn BASILresultatregnskap'!G8 -> 0 | H8: ='2.lim inn BASILresultatregnskap'!R8 -> 0 | I8: =IFERROR(Regnskapsvar[[#This Row],[9C. Pensjonsgivende lønn:]],"") | J8: =IFERROR(Regnskapsvar[[#This Row],[Skjemastatus:]],"")
A9: ='2.lim inn BASILresultatregnskap'!A9 -> 0 | B9: ='2.lim inn BASILresultatregnskap'!B9 -> 0 | C9: ='2.lim inn BASILresultatregnskap'!C9 -> 0 | D9: ='2.lim inn BASILresultatregnskap'!D9 -> 0 | E9: ='2.lim inn BASILresultatregnskap'!E9 -> 0 | F9: ='2.lim inn BASILresultatregnskap'!F9 -> 0 | G9: ='2.lim inn BASILresultatregnskap'!G9 -> 0 | H9: ='2.lim inn BASILresultatregnskap'!R9 -> 0 | I9: =IFERROR(Regnskapsvar[[#This Row],[9C. Pensjonsgivende lønn:]],"") | J9: =IFERROR(Regnskapsvar[[#This Row],[Skjemastatus:]],"")
A10: ='2.lim inn BASILresultatregnskap'!A10 -> 0 | B10: ='2.lim inn BASILresultatregnskap'!B10 -> 0 | C10: ='2.lim inn BASILresultatregnskap'!C10 -> 0 | D10: ='2.lim inn BASILresultatregnskap'!D10 -> 0 | E10: ='2.lim inn BASILresultatregnskap'!E10 -> 0 | F10: ='2.lim inn BASILresultatregnskap'!F10 -> 0 | G10: ='2.lim inn BASILresultatregnskap'!G10 -> 0 | H10: ='2.lim inn BASILresultatregnskap'!R10 -> 0 | I10: =IFERROR(Regnskapsvar[[#This Row],[9C. Pensjonsgivende lønn:]],"") | J10: =IFERROR(Regnskapsvar[[#This Row],[Skjemastatus:]],"")
A11: ='2.lim inn BASILresultatregnskap'!A11 -> 0 | B11: ='2.lim inn BASILresultatregnskap'!B11 -> 0 | C11: ='2.lim inn BASILresultatregnskap'!C11 -> 0 | D11: ='2.lim inn BASILresultatregnskap'!D11 -> 0 | E11: ='2.lim inn BASILresultatregnskap'!E11 -> 0 | F11: ='2.lim inn BASILresultatregnskap'!F11 -> 0 | G11: ='2.lim inn BASILresultatregnskap'!G11 -> 0 | H11: ='2.lim inn BASILresultatregnskap'!R11 -> 0 | I11: =IFERROR(Regnskapsvar[[#This Row],[9C. Pensjonsgivende lønn:]],"") | J11: =IFERROR(Regnskapsvar[[#This Row],[Skjemastatus:]],"")
A12: ='2.lim inn BASILresultatregnskap'!A12 -> 0 | B12: ='2.lim inn BASILresultatregnskap'!B12 -> 0 | C12: ='2.lim inn BASILresultatregnskap'!C12 -> 0 | D12: ='2.lim inn BASILresultatregnskap'!D12 -> 0 | E12: ='2.lim inn BASILresultatregnskap'!E12 -> 0 | F12: ='2.lim inn BASILresultatregnskap'!F12 -> 0 | G12: ='2.lim inn BASILresultatregnskap'!G12 -> 0 | H12: ='2.lim inn BASILresultatregnskap'!R12 -> 0 | I12: =IFERROR(Regnskapsvar[[#This Row],[9C. Pensjonsgivende lønn:]],"") | J12: =IFERROR(Regnskapsvar[[#This Row],[Skjemastatus:]],"")
A13: ='2.lim inn BASILresultatregnskap'!A13 -> 0 | B13: ='2.lim inn BASILresultatregnskap'!B13 -> 0 | C13: ='2.lim inn BASILresultatregnskap'!C13 -> 0 | D13: ='2.lim inn BASILresultatregnskap'!D13 -> 0 | E13: ='2.lim inn BASILresultatregnskap'!E13 -> 0 | F13: ='2.lim inn BASILresultatregnskap'!F13 -> 0 | G13: ='2.lim inn BASILresultatregnskap'!G13 -> 0 | H13: ='2.lim inn BASILresultatregnskap'!R13 -> 0 | I13: =IFERROR(Regnskapsvar[[#This Row],[9C. Pensjonsgivende lønn:]],"") | J13: =IFERROR(Regnskapsvar[[#This Row],[Skjemastatus:]],"")
A14: ='2.lim inn BASILresultatregnskap'!A14 -> 0 | B14: ='2.lim inn BASILresultatregnskap'!B14 -> 0 | C14: ='2.lim inn BASILresultatregnskap'!C14 -> 0 | D14: ='2.lim inn BASILresultatregnskap'!D14 -> 0 | E14: ='2.lim inn BASILresultatregnskap'!E14 -> 0 | F14: ='2.lim inn BASILresultatregnskap'!F14 -> 0 | G14: ='2.lim inn BASILresultatregnskap'!G14 -> 0 | H14: ='2.lim inn BASILresultatregnskap'!R14 -> 0 | I14: =IFERROR(Regnskapsvar[[#This Row],[9C. Pensjonsgivende lønn:]],"") | J14: =IFERROR(Regnskapsvar[[#This Row],[Skjemastatus:]],"")
