Workbook
Name _G: #REF!
Name Arbeidsgiveravgiftssats: Data!$I$2:$I$100000
Name Arbeidsgivers_kostnad_egenmeldt: Data!$J$2:$J$100000
Name Arbeidsgivers_kostnad_i_arbeidsgiverperioden_eks_pensjon: Data!$O$2:$O$100000
Name Arbeidsgivers_kostnad_legemeldt: Data!$K$2:$K$100000
Name Arbeidsgivers_kostnad_til_arbeidsgiveravgift_på_feriepenger_inntil_6G: Data!$T$2:$T$100000
Name Arbeidsgivers_kostnad_til_arbeidsgiveravgift_på_feriepenger_og_lønn_utover_6G_utenfor_arbeidsgiverperioden: Data!$R$2:$R$100000
Name Arbeidsgivers_kostnad_til_feriepenger_på_lønn_utover_6G_utenfor_arbeidsgiverperioden: Data!$Q$2:$Q$100000
Name Arbeidsgivers_kostnad_til_feriepenger_utover_det_trygden_refunderer_på_lønn_inntil_6G: Data!$S$2:$S$100000
Name Arbeidsgivers_kostnad_til_lønn_utover_6G_utenfor_arbeidsgiverperioden: Data!$P$2:$P$100000
Name Arbeidsgivers_kostnad_utenfor_arbeidsgiverperioden_eks_pensjon: Data!$N$2:$N$100000
Name Data: Data!$A$1:$V$2590
Name Egenmeldt: Data!$D$2:$D$100000
Name Kommuner: Data!$A$2:$A$100000
Name Kostnad_staten: Data!$L$2:$L$100000
Name Legemeldt: Data!$E$2:$E$100000
Name pensjonsgrunnlag: Data!$W$2:$W$100000
Name Pensjonspremie: Data!$H$2:$H$100000
Name Statens_kostnad_legemeldt: Data!$M$2:$M$100000
Name Sykeprosent: Data!$C$2:$C$100000
Name Sykeprosent_i: Data!$F$2:$F$100000
Name Sykeprosent_utenfor: Data!$G$2:$G$100000
Name Tjenesteområder: Data!$B$2:$B$100000
Name Valgt_kommune: 'Kostnader ved sykefravær'!$C$5
Name Valgt_område: 'Kostnader ved sykefravær'!$C$6
Name Årsverk: Data!$U$2:$U$100000

Sheet Kostnader ved sykefravær
B3: Kostnader ved sykefravær
B5: Velg kommune/fylkeskommune | C5: Alle
B6: Velg tjenesteområde | C6: Alle
C7: =IF(E16<10,"For valgt kommune og tjenesteområde er det registrert mindre enn 10 årsverk i PAI-registeret. Modellen kan dessverre ikke oppgi tall i slike tilfeller","")
B8: Forutsetninger
C9: Beregnet | D9: Egne forutsetninger | E9: Brukes i kostnadsberegningene
B10: Samlet sykefravær | C10: {=INDEX(Sykeprosent,MATCH(Valgt_kommune&Valgt_område,Kommuner&Tjenesteområder,0))} -> 0.086253952 | D10: =E13+E14 -> 0.086253952 | E10: =IF(ISNUMBER(D10),D10,C10) -> 0.086253952
B11: Egenmeldt sykefravær | C11: {=INDEX(Egenmeldt,MATCH(Valgt_kommune&Valgt_område,Kommuner&Tjenesteområder,0))} -> 0.01181 | E11: =IF(ISNUMBER(D11),D11,C11) -> 0.01181 | F11: =IF(AND(ISNUMBER(D11),NOT(ISNUMBER(D13))),"Merk at når du legger inn en forutsetning om egenmeldt fravær, endres forutsetningen om sykefravær i arbeidsgiverperioden tilsvarende.","")
B12: Legemeldt sykefravær | C12: {=INDEX(Legemeldt,MATCH(Valgt_kommune&Valgt_område,Kommuner&Tjenesteområder,0))} -> 0.074443952 | E12: =IF(ISNUMBER(D12),D12,C12) -> 0.074443952 | F12: =IF(AND(ISNUMBER(D12),NOT(ISNUMBER(D13)),NOT(ISNUMBER(D14))),"Merk at når du legger inn en forutsetning om legemeldt fravær, endres forutsetningen om sykefravær i og utenfor arbeidsgiverperioden tilsvarende.","")
B13: I arbeidsgiverperioden | C13: {=INDEX(Sykeprosent_i,MATCH(Valgt_kommune&Valgt_område,Kommuner&Tjenesteområder,0))} -> 0.030420988 | E13: =IF(ISNUMBER(D13),D13,C13+E11-C11+0.25*(E12-C12)) -> 0.030420988 | F13: =IF(ABS($E$10-$E$12-$E$11)>0.00001,"Egenmeldt sykefravær pluss legemeldt sykefravær skal være lik samlet sykefravær, men er ikke det med forutsetningene som er lagt inn. Kostnadene kan da bli inkonsistente." & " Merk at samlet sykefravær her er regnet ut som summen av sykefravær i og utenfor arbeidsgiverperioden.","")
B14: Utenfor arbeidsgiverperioden | C14: {=INDEX(Sykeprosent_utenfor,MATCH(Valgt_kommune&Valgt_område,Kommuner&Tjenesteområder,0))} -> 0.055832964 | E14: =IF(ISNUMBER(D14),D14,C14+0.75*(E12-C12)) -> 0.055832964
B15: Pensjonskostnad, i prosent av lønn | C15: 0.175 | E15: =IF(ISNUMBER(D15),D15,C15) -> 0.175
B16: Årsverk beregningene er basert på | E16: {=INDEX(Årsverk,MATCH(Valgt_kommune&Valgt_område,Kommuner&Tjenesteområder,0))} -> 422342.14
B18: Kostnader
C19: Samlet kostnad | D19: Arbeidsgivers kostnad | E19: Statens kostnad
B20: Samlet kostnad | C20: =C23+C24 -> 3.2741626e+10 | D20: =D23+D24 -> 1.5433055e+10 | E20: =E23+E24 -> 1.7308571e+10
B21: Kostnad ved egenmeldt fravær | C21: =D21 -> 4.5389991e+09 | D21: {=INDEX(Arbeidsgivers_kostnad_egenmeldt,MATCH(Valgt_kommune&Valgt_område,Kommuner&Tjenesteområder,0))/(1+INDEX(Arbeidsgiveravgiftssats,MATCH(Valgt_kommune&Valgt_område,Kommuner&Tjenesteområder,0)))*(1+$E$15)*(1+INDEX(Arbeidsgiveravgiftssats,MATCH(Valgt_kommune&Valgt_område,Kommuner&Tjenesteområder,0)))*E11/C11} -> 4.5389991e+09
B22: Kostnad ved legemeldt fravær | C22: =D22+E22 -> 2.8202627e+10 | D22: =D20-D21 -> 1.0894056e+10 | E22: {=INDEX(Kostnad_staten,MATCH(Valgt_kommune&Valgt_område,Kommuner&Tjenesteområder,0))*E12/C12} -> 1.7308571e+10
B23: Kostnad innenfor arbeidsgiverperioden | C23: =D23+E23 -> 1.1585881e+10 | D23: =C27 -> 1.1585881e+10
B24: Kostnad utenfor arbeidsgiverperioden | C24: =D24+E24 -> 2.1155745e+10 | D24: =C31 -> 3.8471736e+09 | E24: {=INDEX(Kostnad_staten,MATCH(Valgt_kommune&Valgt_område,Kommuner&Tjenesteområder,0))*E14/C14} -> 1.7308571e+10
B26: Arbeidsgivers kostnader
B27: Arbeidsgivers kostnad i arbeidsgiverperioden | C27: =SUM(C28:C30) -> 1.1585881e+10
B28: Arbeidsgivers kostnad i arbeidsgiverperioden, eks pensjonskostnad og arbeidsgiveravgift på pensjonskostnad | C28: {=INDEX(Arbeidsgivers_kostnad_i_arbeidsgiverperioden_eks_pensjon,MATCH(Valgt_kommune&Valgt_område,Kommuner&Tjenesteområder,0))*E13/C13} -> 9.8603247e+09
B29: Arbeidsgivers kostnad til pensjon i arbeidsgiverperioden | C29: {=(C28/(1+INDEX(Arbeidsgiveravgiftssats,MATCH(Valgt_kommune&Valgt_område,Kommuner&Tjenesteområder,0))))*E15} -> 1.5321608e+09
B30: Arbeidsgivers kostnad til arbeidsgiveravgift på pensjon i arbeidsgiverperioden | C30: {=C29*INDEX(Arbeidsgiveravgiftssats,MATCH(Valgt_kommune&Valgt_område,Kommuner&Tjenesteområder,0))} -> 1.9339606e+08
B31: Arbeidsgivers kostnad utenfor arbeidsgiverperioden | C31: =C32+C38+C39 -> 3.8471736e+09
B32: Arbeidsgivers kostnad utenfor arbeidsgiverperioden, eks pensjonskostnad og arbeidsgiveravgift på pensjonskostnad | C32: {=INDEX(Arbeidsgivers_kostnad_utenfor_arbeidsgiverperioden_eks_pensjon,MATCH(Valgt_kommune&Valgt_område,Kommuner&Tjenesteområder,0))*E14/C14} -> 6.8346926e+08
B33: Arbeidsgivers kostnad til lønn utover 6G utenfor arbeidsgiverperioden | C33: {=INDEX(Arbeidsgivers_kostnad_til_lønn_utover_6G_utenfor_arbeidsgiverperioden,MATCH(Valgt_kommune&Valgt_område,Kommuner&Tjenesteområder,0))*E14/C14} -> 3.3676025e+08
B34: Arbeidsgivers kostnad til feriepenger på lønn utover 6G utenfor arbeidsgiverperioden | C34: {=INDEX(Arbeidsgivers_kostnad_til_feriepenger_på_lønn_utover_6G_utenfor_arbeidsgiverperioden,MATCH(Valgt_kommune&Valgt_område,Kommuner&Tjenesteområder,0))*E14/C14} -> 41777839
B35: Arbeidsgivers kostnad til arbeidsgiveravgift på feriepenger og lønn utover 6G utenfor arbeidsgiverperioden | C35: {=INDEX(Arbeidsgivers_kostnad_til_arbeidsgiveravgift_på_feriepenger_og_lønn_utover_6G_utenfor_arbeidsgiverperioden,MATCH(Valgt_kommune&Valgt_område,Kommuner&Tjenesteområder,0))*E14/C14} -> 47948949
B36: Arbeidsgivers kostnad til feriepenger utover det trygden refunderer på lønn inntil 6G | C36: {=INDEX(Arbeidsgivers_kostnad_til_feriepenger_utover_det_trygden_refunderer_på_lønn_inntil_6G,MATCH(Valgt_kommune&Valgt_område,Kommuner&Tjenesteområder,0))*E14/C14} -> 2.2831371e+08
B37: Arbeidsgivers kostnad til arbeidsgiveravgift på feriepenger inntil 6G | C37: {=INDEX(Arbeidsgivers_kostnad_til_arbeidsgiveravgift_på_feriepenger_inntil_6G,MATCH(Valgt_kommune&Valgt_område,Kommuner&Tjenesteområder,0))*E14/C14} -> 28668510
B38: Arbeidsgivers kostnad til pensjon utenfor arbeidsgiverperioden | C38: {=(C32+E24/(1+INDEX(Arbeidsgiveravgiftssats,MATCH(Valgt_kommune&Valgt_område,Kommuner&Tjenesteområder,0))))*E15} -> 2.8091244e+09
B39: Arbeidsgivers kostnad til arbeidsgiveravgift på pensjon utenfor arbeidsgiverperioden | C39: {=C38*INDEX(Arbeidsgiveravgiftssats,MATCH(Valgt_kommune&Valgt_område,Kommuner&Tjenesteområder,0))} -> 3.5458001e+08
B40: Sum | C40: =C27+C31 -> 1.5433055e+10

Sheet Hvordan bruke modellen

Sheet Tester
B1: Tester om tallene gir mening og er konsistente
B3: Test 1 | C3: Legemeldt + egenmeldt=samlet, i defaultverdiene
C4: =IF(ABS('Kostnader ved sykefravær'!C12+'Kostnader ved sykefravær'!C11-'Kostnader ved sykefravær'!C10)<0.00001,"OK","FEIL") -> OK
B6: =_xlfn.CONCAT("Test ",1+COUNTA($B$3:B5)) -> Test 2 | C6: I og utenfor arbeidsgiverperioden=samlet, i defaultverdiene
C7: =IF(ABS('Kostnader ved sykefravær'!C13+'Kostnader ved sykefravær'!C14-'Kostnader ved sykefravær'!C10)<0.00001,"OK","FEIL") -> OK
B9: =_xlfn.CONCAT("Test ",1+COUNTA($B$3:B8)) -> Test 3 | C9: Legemeldt + egenmeldt=samlet, i verdiene som brukes
C10: =IF(ABS('Kostnader ved sykefravær'!C12+'Kostnader ved sykefravær'!C11-'Kostnader ved sykefravær'!C10)<0.00001,"OK","FEIL") -> OK
B12: =_xlfn.CONCAT("Test ",1+COUNTA($B$3:B11)) -> Test 4 | C12: Samlet kostnad=arbeidsgivers kostnad+statens kostnad
C13: =IF(ABS('Kostnader ved sykefravær'!E20+'Kostnader ved sykefravær'!D20-'Kostnader ved sykefravær'!C20)<0.5,"OK","FEIL") -> OK
B15: =_xlfn.CONCAT("Test ",1+COUNTA($B$3:B14)) -> Test 5 | C15: Samlet kostnad=arbeidsgivers kostnad+statens kostnad, for egenmeldt
C16: =IF(ABS('Kostnader ved sykefravær'!E21+'Kostnader ved sykefravær'!D21-'Kostnader ved sykefravær'!C21)<0.5,"OK","FEIL") -> OK
B18: =_xlfn.CONCAT("Test ",1+COUNTA($B$3:B17)) -> Test 6 | C18: Samlet kostnad=arbeidsgivers kostnad+statens kostnad, for legemeldt
C19: =IF(ABS('Kostnader ved sykefravær'!E22+'Kostnader ved sykefravær'!D22-'Kostnader ved sykefravær'!C22)<0.5,"OK","FEIL") -> OK
B21: =_xlfn.CONCAT("Test ",1+COUNTA($B$3:B20)) -> Test 7 | C21: Samlet kostnad=arbeidsgivers kostnad+statens kostnad, i arbeidsgiverperioden
C22: =IF(ABS('Kostnader ved sykefravær'!E23+'Kostnader ved sykefravær'!D23-'Kostnader ved sykefravær'!C23)<0.5,"OK","FEIL") -> OK
B24: =_xlfn.CONCAT("Test ",1+COUNTA($B$3:B23)) -> Test 8 | C24: Samlet kostnad=arbeidsgivers kostnad+statens kostnad, utenfor arbeidsgiverperioden
C25: =IF(ABS('Kostnader ved sykefravær'!E24+'Kostnader ved sykefravær'!D24-'Kostnader ved sykefravær'!C24)<0.5,"OK","FEIL") -> OK
B27: =_xlfn.CONCAT("Test ",1+COUNTA($B$3:B26)) -> Test 9 | C27: Kostnad ved egenmeldt + kostnad ved legemeldt =samlet kostnad, samlet
C28: =IF(ABS('Kostnader ved sykefravær'!C22+'Kostnader ved sykefravær'!C21-'Kostnader ved sykefravær'!C20)<0.5,"OK","FEIL") -> OK
B30: =_xlfn.CONCAT("Test ",1+COUNTA($B$3:B29)) -> Test 10 | C30: Kostnad ved egenmeldt + kostnad ved legemeldt =samlet kostnad, arbeidsgiver
C31: =IF(ABS('Kostnader ved sykefravær'!D22+'Kostnader ved sykefravær'!D21-'Kostnader ved sykefravær'!D20)<0.5,"OK","FEIL") -> OK
B33: =_xlfn.CONCAT("Test ",1+COUNTA($B$3:B32)) -> Test 11 | C33: Kostnad ved egenmeldt + kostnad ved legemeldt =samlet kostnad, staten
C34: =IF(ABS('Kostnader ved sykefravær'!E22+'Kostnader ved sykefravær'!E21-'Kostnader ved sykefravær'!E20)<0.5,"OK","FEIL") -> OK
B36: =_xlfn.CONCAT("Test ",1+COUNTA($B$3:B35)) -> Test 12 | C36: Kostnad i arbeidsgiverperioden + kostnad utenfor arbeidsgiverperioden =samlet kostnad, samlet
C37: =IF(ABS('Kostnader ved sykefravær'!C23+'Kostnader ved sykefravær'!C24-'Kostnader ved sykefravær'!C20)<0.5,"OK","FEIL") -> OK
B39: =_xlfn.CONCAT("Test ",1+COUNTA($B$3:B38)) -> Test 13 | C39: Kostnad i arbeidsgiverperioden + kostnad utenfor arbeidsgiverperioden =samlet kostnad, arbeidsgiver
C40: =IF(ABS('Kostnader ved sykefravær'!D23+'Kostnader ved sykefravær'!D24-'Kostnader ved sykefravær'!D20)<0.5,"OK","FEIL") -> OK
B42: =_xlfn.CONCAT("Test ",1+COUNTA($B$3:B41)) -> Test 14 | C42: Kostnad i arbeidsgiverperioden + kostnad utenfor arbeidsgiverperioden =samlet kostnad, staten
C43: =IF(ABS('Kostnader ved sykefravær'!E23+'Kostnader ved sykefravær'!E24-'Kostnader ved sykefravær'!E20)<0.5,"OK","FEIL") -> OK
B45: =_xlfn.CONCAT("Test ",1+COUNTA($B$3:B44)) -> Test 15 | C45: Spesifiseringen av arbeidsgivers kostnader i arbeidsgiverperioden må stemme med hovedtabellen
C46: =IF(ABS('Kostnader ved sykefravær'!D23-'Kostnader ved sykefravær'!C27)<0.5,"OK","FEIL") -> OK
B48: =_xlfn.CONCAT("Test ",1+COUNTA($B$3:B47)) -> Test 16 | C48: Spesifiseringen av arbeidsgivers kostnader utenfor arbeidsgiverperioden må stemme med hovedtabellen
C49: =IF(ABS('Kostnader ved sykefravær'!C31-'Kostnader ved sykefravær'!D24)<0.5,"OK","FEIL") -> OK

Sheet Data
A1: Kommune/fylkeskommune | B1: Tjenesteområde | C1: Sykeprosent | D1: Egenmeldt | E1: Legemeldt | F1: Sykeprosent_i | G1: Sykeprosent_utenfor | H1: Gjennomsnittlig pensjonspremie | I1: arbeidsgiveravgiftssats | J1: Arbeidsgivers kostnad, egenmeldt | K1: Arbeidsgivers kostnad, legemeldt | L1: Kostnad, staten | M1: Statens kostnad, legemeldt | N1: Arbeidsgivers kostnad utenfor arbeidsgiverperioden, eks pensjon | O1: Arbeidsgivers kostnad i arbeidsgiverperioden, eks pensjon | P1: Arbeidsgivers kostnad til lønn utover 6G utenfor arbeidsgiverperioden | Q1: Arbeidsgivers kostnad til feriepenger på lønn utover 6G utenfor arbeidsgiverperioden | R1: Arbeidsgivers kostnad til arbeidsgiveravgift på feriepenger og lønn utover 6G utenfor arbeidsgiverperioden | S1: Arbeidsgivers kostnad til feriepenger utover det trygden refunderer på lønn inntil 6G | T1: Arbeidsgivers kostnad til arbeidsgiveravgift på feriepenger inntil 6G | U1: Årsverk | V1: Lønn
A2: Alle | B2: Alle | C2: 0.086253952 | D2: 0.01181 | E2: 0.074443952 | F2: 0.030420988 | G2: 0.055832964 | H2: 0.175 | I2: 0.12622439 | J2: 3.8629779e+09 | K2: 6.680816e+09 | L2: 1.7308571e+10 | M2: 1.7308571e+10 | N2: 6.8346926e+08 | O2: 9.8603247e+09 | P2: 3.3676025e+08 | Q2: 41777839 | R2: 47948949 | S2: 2.2831371e+08 | T2: 28668510 | U2: 422342.14 | V2: 2.5858335e+11
A3: Alle | B3: Administrasjon | C3: 0.06937941 | D3: 0.01181 | E3: 0.05756941 | F3: 0.026202353 | G3: 0.043177058 | H3: 0.175 | I3: 0.12353301 | J3: 2.7961726e+08 | K3: 4.6051455e+08 | L3: 8.7072744e+08 | M3: 8.7072744e+08 | N3: 1.2770405e+08 | O3: 6.1242776e+08 | P3: 90122215 | Q3: 11304494 | R3: 12977278 | S3: 11836860 | T3: 1463203.8 | U3: 26165.139 | V3: 1.8721071e+10
A4: Alle | B4: Undervisning | C4: 0.075624954 | D4: 0.01181 | E4: 0.063814954 | F4: 0.027763738 | G4: 0.047861215 | H4: 0.175 | I4: 0.12981682 | J4: 1.303568e+09 | K4: 1.9274993e+09 | L4: 5.0319725e+09 | M4: 5.0319725e+09 | N4: 1.8763133e+08 | O4: 3.0434359e+09 | P4: 88481892 | Q4: 10939411 | R4: 13290147 | S4: 66366550 | T4: 8553333.1 | U4: 140433 | V4: 8.6999605e+10
A5: Alle | B5: Barnehager | C5: 0.093717768 | D5: 0.01181 | E5: 0.081907768 | F5: 0.032286942 | G5: 0.061430826 | H5: 0.175 | I5: 0.12486448 | J5: 3.3942949e+08 | K5: 6.2369592e+08 | L5: 1.7244966e+09 | M5: 1.7244966e+09 | N5: 36647788 | O5: 9.2647761e+08 | P5: 8820528.7 | Q5: 1088974.3 | R5: 1290681 | S5: 22632225 | T5: 2815378.7 | U5: 42997.293 | V5: 2.2763132e+10
A6: Alle | B6: Helse/pleie/omsorg | C6: 0.099293165 | D6: 0.01181 | E6: 0.087483165 | F6: 0.033680791 | G6: 0.065612374 | H6: 0.175 | I6: 0.12394436 | J6: 1.5485939e+09 | K6: 3.1117779e+09 | L6: 8.311884e+09 | M6: 8.311884e+09 | N6: 2.5586244e+08 | O6: 4.4045094e+09 | P6: 1.0606084e+08 | Q6: 13056387 | R6: 13922659 | S6: 1.092908e+08 | T6: 13531760 | U6: 172157.47 | V6: 1.0390792e+11
A7: Alle | B7: Samferdsel og teknikk | C7: 0.064567293 | D7: 0.01181 | E7: 0.052757293 | F7: 0.024999323 | G7: 0.03956797 | H7: 0.175 | I7: 0.12756639 | J7: 2.4646743e+08 | K7: 3.2240218e+08 | L7: 7.6832525e+08 | M7: 7.6832525e+08 | N7: 49720326 | O7: 5.1914929e+08 | P7: 29923250 | Q7: 3724424.7 | R7: 4524886.1 | S7: 10236484 | T7: 1311280.1 | U7: 25025.513 | V7: 1.6461284e+10
A8: Alle | B8: Annet | C8: 0.080547385 | D8: 0.01181 | E8: 0.068737385 | F8: 0.028994346 | G8: 0.051553039 | H8: 0.175 | I8: 0.12515372 | J8: 1.453018e+08 | K8: 2.3492613e+08 | L8: 6.0116513e+08 | M8: 6.0116513e+08 | N8: 25903317 | O8: 3.5432461e+08 | P8: 13351530 | Q8: 1664148.2 | R8: 1943298.1 | S8: 7950787.1 | T8: 993554.44 | U8: 15563.722 | V8: 9.7303439e+09
A9: 0301 - Oslo kommune | B9: Alle | C9: 0.084270313 | D9: 0.01181 | E9: 0.072460313 | F9: 0.029925078 | G9: 0.054345235 | H9: 0.175 | I9: 0.141 | J9: 4.03504e+08 | K9: 7.2051287e+08 | L9: 1.7333175e+09 | M9: 1.7333175e+09 | N9: 1.0705527e+08 | O9: 1.0169616e+09 | P9: 63178991 | Q9: 7838754.6 | R9: 10013502 | S9: 22808084 | T9: 3215939.9 | U9: 40346.062 | V9: 2.6678089e+10
A10: 0301 - Oslo kommune | B10: Administrasjon | C10: 0.069732144 | D10: 0.01181 | E10: 0.057922144 | F10: 0.026290536 | G10: 0.043441608 | H10: 0.175 | I10: 0.141 | J10: 39531230 | K10: 78817326 | L10: 1.1517789e+08 | M10: 1.1517789e+08 | N10: 30318523 | O10: 88030033 | P10: 22203287 | Q10: 2778198.5 | R10: 3522389.4 | S10: 1590401.4 | T10: 224246.6 | U10: 3075.1632 | V10: 2.6101472e+09
A11: 0301 - Oslo kommune | B11: Undervisning | C11: 0.080890801 | D11: 0.01181 | E11: 0.069080801 | F11: 0.0290802 | G11: 0.051810601 | H11: 0.175 | I11: 0.141 | J11: 1.3023262e+08 | K11: 2.1392039e+08 | L11: 5.4029797e+08 | M11: 5.4029797e+08 | N11: 25365804 | O11: 3.1878721e+08 | P11: 13476966 | Q11: 1664024.3 | R11: 2134879.6 | S11: 7090214.3 | T11: 999720.21 | U11: 13691.828 | V11: 8.6139144e+09
A12: 0301 - Oslo kommune | B12: Barnehager | C12: 0.085968336 | D12: 0.01181 | E12: 0.074158336 | F12: 0.030349584 | G12: 0.055618752 | H12: 0.175 | I12: 0.141 | J12: 50043962 | K12: 84023292 | L12: 2.3023927e+08 | M12: 2.3023927e+08 | N12: 5457650.9 | O12: 1.286096e+08 | P12: 1603486.3 | Q12: 196612.18 | R12: 253813.88 | S12: 2983118.8 | T12: 420619.75 | U12: 5768.5851 | V12: 3.3104181e+09
A13: 0301 - Oslo kommune | B13: Helse/pleie/omsorg | C13: 0.095467079 | D13: 0.01181 | E13: 0.083657079 | F13: 0.03272427 | G13: 0.062742809 | H13: 0.175 | I13: 0.141 | J13: 1.2961435e+08 | K13: 2.5761131e+08 | L13: 6.5760917e+08 | M13: 6.5760917e+08 | N13: 28806189 | O13: 3.5841947e+08 | P13: 14805382 | Q13: 1828448 | R13: 2345370 | S13: 8612611.2 | T13: 1214378.2 | U13: 12700.95 | V13: 8.5689573e+09
... A52: 1111 - Sokndal kommune | B52: Undervisning | C52: 0.046090668 | D52: 0.01181 | E52: 0.034280668 | F52: 0.020380167 | G52: 0.025710501 | H52: 0.175 | I52: 0.141 | J52: 623116.11 | K52: 483107.6 | L52: 1316438.7 | M52: 1316438.7 | N52: 33221.025 | O52: 1073002.7 | P52: 10763.955 | Q52: 1304.7925 | R52: 1701.6934 | S52: 17046.963 | T52: 2403.6217 | U52: 67.8312 | V52: 41164058
A53: 1111 - Sokndal kommune | B53: Barnehager | U53: 9.6744
A54: 1111 - Sokndal kommune | B54: Helse/pleie/omsorg | C54: 0.081655053 | D54: 0.01181 | E54: 0.069845053 | F54: 0.029271263 | G54: 0.05238379 | H54: 0.175 | I54: 0.141 | J54: 1056593.8 | K54: 1707012.6 | L54: 4729887.3 | M54: 4729887.3 | N54: 97787.631 | O54: 2665818.7 | P54: 21917.128 | Q54: 2630.0554 | R54: 3461.1528 | S54: 61156.262 | T54: 8623.0329 | U54: 122.7442 | V54: 69842880
A55: 1111 - Sokndal kommune | B55: Samferdsel og teknikk | C55: 0.036407179 | D55: 0.01181 | E55: 0.024597179 | F55: 0.017959295 | G55: 0.018447885 | H55: 0.175 | I55: 0.141 | J55: 110238.41 | K55: 58829.034 | L55: 166710.08 | M55: 166710.08 | N55: 2444.2547 | O55: 166623.19 | P55: 0 | Q55: 0 | R55: 0 | S55: 2142.2039 | T55: 302.05076 | U55: 10.7454 | V55: 7279107.8
A56: 1111 - Sokndal kommune | B56: Annet | U56: 3.0948
A57: 1112 - Lund kommune | B57: Alle | C57: 0.075887995 | D57: 0.01181 | E57: 0.064077995 | F57: 0.027829499 | G57: 0.048058497 | H57: 0.175 | I57: 0.141 | J57: 2275063 | K57: 3414077.7 | L57: 8942794.7 | M57: 8942794.7 | N57: 324859.56 | O57: 5364281.1 | P57: 149900.84 | Q57: 18896.545 | R57: 23800.431 | S57: 115917.4 | T57: 16344.353 | U57: 257.12522 | V57: 1.5035101e+08
A58: 1112 - Lund kommune | B58: Administrasjon | C58: 0.073387967 | D58: 0.01181 | E58: 0.061577967 | F58: 0.027204492 | G58: 0.046183475 | H58: 0.175 | I58: 0.141 | J58: 314566.78 | K58: 579711.12 | L58: 1087845.3 | M58: 1087845.3 | N58: 162822.02 | O58: 731455.88 | P58: 113845.88 | Q58: 14408.912 | R58: 18083.926 | S58: 14446.368 | T58: 2036.9378 | U58: 32.6333 | V58: 20760422
A59: 1112 - Lund kommune | B59: Undervisning | C59: 0.07362181 | D59: 0.01181 | E59: 0.06181181 | F59: 0.027262952 | G59: 0.046358857 | H59: 0.175 | I59: 0.141 | J59: 732294.7 | K59: 1025377.1 | L59: 2802368.5 | M59: 2802368.5 | N59: 68440.691 | O59: 1689231.1 | P59: 21002.708 | Q59: 2681.3625 | R59: 3339.4539 | S59: 36299.007 | T59: 5118.16 | U59: 80.8797 | V59: 48383770
A60: 1112 - Lund kommune | B60: Barnehager | C60: 0.077784259 | D60: 0.01181 | E60: 0.065974259 | F60: 0.028303565 | G60: 0.049480694 | H60: 0.175 | I60: 0.141 | J60: 146159.48 | K60: 212277.01 | L60: 601430.81 | M60: 601430.81 | N60: 8850.0514 | O60: 349586.43 | P60: 0 | Q60: 0 | R60: 0 | S60: 7756.3991 | T60: 1093.6523 | U60: 18.6275 | V60: 9676653.5
A61: 1112 - Lund kommune | B61: Helse/pleie/omsorg | C61: 0.078366295 | D61: 0.01181 | E61: 0.066556295 | F61: 0.028449074 | G61: 0.049917221 | H61: 0.175 | I61: 0.141 | J61: 983463.03 | K61: 1463625.4 | L61: 4073925 | M61: 4073925 | N61: 79237.841 | O61: 2367850.6 | P61: 15052.253 | Q61: 1806.2703 | R61: 2377.0517 | S61: 52587.437 | T61: 7414.8287 | U61: 113.11632 | V61: 65022537
A62: 1112 - Lund kommune | B62: Samferdsel og teknikk | U62: 8.8684
A63: 1112 - Lund kommune | B63: Annet | U63: 3
A64: 1114 - Bjerkreim kommune | B64: Alle | C64: 0.069411374 | D64: 0.01181 | E64: 0.057601374 | F64: 0.026210343 | G64: 0.04320103 | H64: 0.175 | I64: 0.141 | J64: 2144747.7 | K64: 2952122 | L64: 7497514.2 | M64: 7497514.2 | N64: 339712.96 | O64: 4757156.8 | P64: 178174.5 | Q64: 21779.342 | R64: 28193.491 | S64: 97778.813 | T64: 13786.813 | U64: 228.9885 | V64: 1.4176292e+08
A65: 1114 - Bjerkreim kommune | B65: Administrasjon | C65: 0.067985305 | D65: 0.01181 | E65: 0.056175305 | F65: 0.025853826 | G65: 0.042131479 | H65: 0.175 | I65: 0.141 | J65: 264958.68 | K65: 481264.75 | L65: 794797.8 | M65: 794797.8 | N65: 162249.11 | O65: 583974.32 | P65: 117307.8 | Q65: 14076.936 | R65: 18525.247 | S65: 10814.312 | T65: 1524.818 | U65: 23.8387 | V65: 17533605
A66: 1114 - Bjerkreim kommune | B66: Undervisning | C66: 0.07045234 | D66: 0.01181 | E66: 0.05864234 | F66: 0.026470585 | G66: 0.043981755 | H66: 0.175 | I66: 0.141 | J66: 811700.81 | K66: 1072061.3 | L66: 2926047.2 | M66: 2926047.2 | N66: 72534.192 | O66: 1811227.9 | P66: 22869.942 | Q66: 2827.0242 | R66: 3623.2723 | S66: 37873.754 | T66: 5340.1993 | U66: 88.4871 | V66: 53631180
A67: 1114 - Bjerkreim kommune | B67: Barnehager | C67: 0.072431105 | D67: 0.01181 | E67: 0.060621105 | F67: 0.026965276 | G67: 0.045465829 | H67: 0.175 | I67: 0.141 | J67: 184570.89 | K67: 250246.47 | L67: 699565.49 | M67: 699565.49 | N67: 12793.477 | O67: 422023.88 | P67: 1940.3776 | Q67: 232.84532 | R67: 306.42444 | S67: 9039.2898 | T67: 1274.5399 | U67: 23.7682 | V67: 12209297
A68: 1114 - Bjerkreim kommune | B68: Helse/pleie/omsorg | C68: 0.06812279 | D68: 0.01181 | E68: 0.05631279 | F68: 0.025888197 | G68: 0.042234592 | H68: 0.175 | I68: 0.141 | J68: 775030.99 | K68: 1009048.8 | L68: 2706941.4 | M68: 2706941.4 | N68: 80051.248 | O68: 1704028.5 | P68: 30993.11 | Q68: 3918.4887 | R68: 4922.5355 | S68: 35247.251 | T68: 4969.8624 | U68: 80.5565 | V68: 51227982
A69: 1114 - Bjerkreim kommune | B69: Samferdsel og teknikk | U69: 5.3738
A70: 1114 - Bjerkreim kommune | B70: Annet | U70: 6.9642
A71: 1119 - Hå kommune | B71: Alle | C71: 0.071776753 | D71: 0.01181 | E71: 0.059966753 | F71: 0.026801688 | G71: 0.044975065 | H71: 0.175 | I71: 0.141 | J71: 13447263 | K71: 19082686 | L71: 48393328 | M71: 48393328 | N71: 2213682.8 | O71: 30316266 | P71: 1166515.4 | Q71: 142597.28 | R71: 184584.89 | S71: 631012.44 | T71: 88972.754 | U71: 1437.5971 | V71: 8.8938239e+08
A72: 1119 - Hå kommune | B72: Administrasjon | C72: 0.057217521 | D72: 0.01181 | E72: 0.045407521 | F72: 0.02316188 | G72: 0.034055641 | H72: 0.175 | I72: 0.141 | J72: 933721.41 | K72: 1214389.2 | L72: 2300784.4 | M72: 2300784.4 | N72: 335595.79 | O72: 1812514.8 | P72: 234083.4 | Q72: 29193.136 | R72: 37121.992 | S72: 30847.736 | T72: 4349.5308 | U72: 87.0333 | V72: 61637053
A73: 1119 - Hå kommune | B73: Undervisning | C73: 0.063602265 | D73: 0.01181 | E73: 0.051792265 | F73: 0.024758066 | G73: 0.038844199 | H73: 0.175 | I73: 0.141 | J73: 3777467.1 | K73: 4490925.2 | L73: 11895680 | M73: 11895680 | N73: 394273.8 | O73: 7874118.5 | P73: 169822.56 | Q73: 20639.506 | R73: 26855.152 | S73: 155089.02 | T73: 21867.552 | U73: 412.1159 | V73: 2.5002562e+08
A74: 1119 - Hå kommune | B74: Barnehager | C74: 0.074582155 | D74: 0.01181 | E74: 0.062772155 | F74: 0.027503039 | G74: 0.047079116 | H74: 0.175 | I74: 0.141 | J74: 2094989 | K74: 2954882.1 | L74: 8142840.6 | M74: 8142840.6 | N74: 180451.39 | O74: 4869419.7 | P74: 46803.945 | Q74: 5751.7254 | R74: 7410.3495 | S74: 105596.29 | T74: 14889.077 | U74: 264.075 | V74: 1.3861238e+08
A75: 1119 - Hå kommune | B75: Helse/pleie/omsorg | C75: 0.080673046 | D75: 0.01181 | E75: 0.068863046 | F75: 0.029025762 | G75: 0.051647285 | H75: 0.175 | I75: 0.141 | J75: 5659508.5 | K75: 9342317.2 | L75: 23406226 | M75: 23406226 | N75: 1155181.5 | O75: 13846644 | P75: 631234.49 | Q75: 76637.202 | R75: 99809.909 | S75: 304557.29 | T75: 42942.578 | U75: 578.88817 | V75: 3.7421498e+08
A76: 1119 - Hå kommune | B76: Samferdsel og teknikk | C76: 0.051172185 | D76: 0.01181 | E76: 0.039362185 | F76: 0.021650546 | G76: 0.029521639 | H76: 0.175 | I76: 0.141 | J76: 504671.3 | K76: 500702.2 | L76: 1110771.3 | M76: 1110771.3 | N76: 97833.817 | O76: 907539.68 | P76: 63161.136 | Q76: 7678.6975 | R76: 9988.4165 | S76: 14904.091 | T76: 2101.4768 | U76: 42.3507 | V76: 33392994
A77: 1119 - Hå kommune | B77: Annet | C77: 0.064583551 | D77: 0.01181 | E77: 0.052773551 | F77: 0.025003388 | G77: 0.039580164 | H77: 0.175 | I77: 0.141 | J77: 476905.19 | K77: 579470.49 | L77: 1537025.3 | M77: 1537025.3 | N77: 50346.543 | O77: 1006029.1 | P77: 21409.908 | Q77: 2697.0129 | R77: 3399.0759 | S77: 20018.008 | T77: 2822.5391 | U77: 53.134 | V77: 31499363
A78: 1120 - Klepp kommune | B78: Alle | C78: 0.087944434 | D78: 0.01181 | E78: 0.076134434 | F78: 0.030843608 | G78: 0.057100825 | H78: 0.175 | I78: 0.141 | J78: 11786386 | K78: 20584617 | L78: 54555642 | M78: 54555642 | N78: 1799552.5 | O78: 30571451 | P78: 773322.91 | Q78: 94779.377 | R78: 122402.42 | S78: 709069.07 | T78: 99978.739 | U78: 1302.1721 | V78: 7.7947695e+08
...
