Workbook
Name _G: #REF!
Name Arbeidsgiveravgiftssats: Data!$I$2:$I$100000
Name Arbeidsgivers_kostnad_egenmeldt: Data!$J$2:$J$100000
Name Arbeidsgivers_kostnad_i_arbeidsgiverperioden_eks_pensjon: Data!$O$2:$O$100000
Name Arbeidsgivers_kostnad_legemeldt: Data!$K$2:$K$100000
Name Arbeidsgivers_kostnad_til_arbeidsgiveravgift_på_feriepenger_inntil_6G: Data!$T$2:$T$100000
Name Arbeidsgivers_kostnad_til_arbeidsgiveravgift_på_feriepenger_og_lønn_utover_6G_utenfor_arbeidsgiverperioden: Data!$R$2:$R$100000
Name Arbeidsgivers_kostnad_til_feriepenger_på_lønn_utover_6G_utenfor_arbeidsgiverperioden: Data!$Q$2:$Q$100000
Name Arbeidsgivers_kostnad_til_feriepenger_utover_det_trygden_refunderer_på_lønn_inntil_6G: Data!$S$2:$S$100000
Name Arbeidsgivers_kostnad_til_lønn_utover_6G_utenfor_arbeidsgiverperioden: Data!$P$2:$P$100000
Name Arbeidsgivers_kostnad_utenfor_arbeidsgiverperioden_eks_pensjon: Data!$N$2:$N$100000
Name Data: Data!$A$1:$V$2590
Name Egenmeldt: Data!$D$2:$D$100000
Name Kommuner: Data!$A$2:$A$100000
Name Kostnad_staten: Data!$L$2:$L$100000
Name Legemeldt: Data!$E$2:$E$100000
Name pensjonsgrunnlag: Data!$W$2:$W$100000
Name Pensjonspremie: Data!$H$2:$H$100000
Name Statens_kostnad_legemeldt: Data!$M$2:$M$100000
Name Sykeprosent: Data!$C$2:$C$100000
Name Sykeprosent_i: Data!$F$2:$F$100000
Name Sykeprosent_utenfor: Data!$G$2:$G$100000
Name Tjenesteområder: Data!$B$2:$B$100000
Name Valgt_kommune: 'Kostnader ved sykefravær'!$C$5
Name Valgt_område: 'Kostnader ved sykefravær'!$C$6
Name Årsverk: Data!$U$2:$U$100000

Sheet Kostnader ved sykefravær
B3: Kostnader ved sykefravær
B5: Velg kommune/fylkeskommune | C5: Alle
B6: Velg tjenesteområde | C6: Alle
C7: =IF(E16<10,"For valgt kommune og tjenesteområde er det registrert mindre enn 10 årsverk i PAI-registeret. Modellen kan dessverre ikke oppgi tall i slike tilfeller","")
B8: Forutsetninger
C9: Beregnet | D9: Egne forutsetninger | E9: Brukes i kostnadsberegningene
B10: Samlet sykefravær | C10: {=INDEX(Sykeprosent,MATCH(Valgt_kommune&Valgt_område,Kommuner&Tjenesteområder,0))} -> 0.086253952 | D10: =E13+E14 -> 0.086253952 | E10: =IF(ISNUMBER(D10),D10,C10) -> 0.086253952
B11: Egenmeldt sykefravær | C11: {=INDEX(Egenmeldt,MATCH(Valgt_kommune&Valgt_område,Kommuner&Tjenesteområder,0))} -> 0.01181 | E11: =IF(ISNUMBER(D11),D11,C11) -> 0.01181 | F11: =IF(AND(ISNUMBER(D11),NOT(ISNUMBER(D13))),"Merk at når du legger inn en forutsetning om egenmeldt fravær, endres forutsetningen om sykefravær i arbeidsgiverperioden tilsvarende.","")
B12: Legemeldt sykefravær | C12: {=INDEX(Legemeldt,MATCH(Valgt_kommune&Valgt_område,Kommuner&Tjenesteområder,0))} -> 0.074443952 | E12: =IF(ISNUMBER(D12),D12,C12) -> 0.074443952 | F12: =IF(AND(ISNUMBER(D12),NOT(ISNUMBER(D13)),NOT(ISNUMBER(D14))),"Merk at når du legger inn en forutsetning om legemeldt fravær, endres forutsetningen om sykefravær i og utenfor arbeidsgiverperioden tilsvarende.","")
B13: I arbeidsgiverperioden | C13: {=INDEX(Sykeprosent_i,MATCH(Valgt_kommune&Valgt_område,Kommuner&Tjenesteområder,0))} -> 0.030420988 | E13: =IF(ISNUMBER(D13),D13,C13+E11-C11+0.25*(E12-C12)) -> 0.030420988 | F13: =IF(ABS($E$10-$E$12-$E$11)>0.00001,"Egenmeldt sykefravær pluss legemeldt sykefravær skal være lik samlet sykefravær, men er ikke det med forutsetningene som er lagt inn. Kostnadene kan da bli inkonsistente." & " Merk at samlet sykefravær her er regnet ut som summen av sykefravær i og utenfor arbeidsgiverperioden.","")
B14: Utenfor arbeidsgiverperioden | C14: {=INDEX(Sykeprosent_utenfor,MATCH(Valgt_kommune&Valgt_område,Kommuner&Tjenesteområder,0))} -> 0.055832964 | E14: =IF(ISNUMBER(D14),D14,C14+0.75*(E12-C12)) -> 0.055832964
B15: Pensjonskostnad, i prosent av lønn | C15: 0.175 | E15: =IF(ISNUMBER(D15),D15,C15) -> 0.175
B16: Årsverk beregningene er basert på | E16: {=INDEX(Årsverk,MATCH(Valgt_kommune&Valgt_område,Kommuner&Tjenesteområder,0))} -> 422342.14
B18: Kostnader
C19: Samlet kostnad | D19: Arbeidsgivers kostnad | E19: Statens kostnad
B20: Samlet kostnad | C20: =C23+C24 -> 3.2741626e+10 | D20: =D23+D24 -> 1.5433055e+10 | E20: =E23+E24 -> 1.7308571e+10
B21: Kostnad ved egenmeldt fravær | C21: =D21 -> 4.5389991e+09 | D21: {=INDEX(Arbeidsgivers_kostnad_egenmeldt,MATCH(Valgt_kommune&Valgt_område,Kommuner&Tjenesteområder,0))/(1+INDEX(Arbeidsgiveravgiftssats,MATCH(Valgt_kommune&Valgt_område,Kommuner&Tjenesteområder,0)))*(1+$E$15)*(1+INDEX(Arbeidsgiveravgiftssats,MATCH(Valgt_kommune&Valgt_område,Kommuner&Tjenesteområder,0)))*E11/C11} -> 4.5389991e+09
B22: Kostnad ved legemeldt fravær | C22: =D22+E22 -> 2.8202627e+10 | D22: =D20-D21 -> 1.0894056e+10 | E22: {=INDEX(Kostnad_staten,MATCH(Valgt_kommune&Valgt_område,Kommuner&Tjenesteområder,0))*E12/C12} -> 1.7308571e+10
B23: Kostnad innenfor arbeidsgiverperioden | C23: =D23+E23 -> 1.1585881e+10 | D23: =C27 -> 1.1585881e+10
B24: Kostnad utenfor arbeidsgiverperioden | C24: =D24+E24 -> 2.1155745e+10 | D24: =C31 -> 3.8471736e+09 | E24: {=INDEX(Kostnad_staten,MATCH(Valgt_kommune&Valgt_område,Kommuner&Tjenesteområder,0))*E14/C14} -> 1.7308571e+10
B26: Arbeidsgivers kostnader
B27: Arbeidsgivers kostnad i arbeidsgiverperioden | C27: =SUM(C28:C30) -> 1.1585881e+10
B28: Arbeidsgivers kostnad i arbeidsgiverperioden, eks pensjonskostnad og arbeidsgiveravgift på pensjonskostnad | C28: {=INDEX(Arbeidsgivers_kostnad_i_arbeidsgiverperioden_eks_pensjon,MATCH(Valgt_kommune&Valgt_område,Kommuner&Tjenesteområder,0))*E13/C13} -> 9.8603247e+09
B29: Arbeidsgivers kostnad til pensjon i arbeidsgiverperioden | C29: {=(C28/(1+INDEX(Arbeidsgiveravgiftssats,MATCH(Valgt_kommune&Valgt_område,Kommuner&Tjenesteområder,0))))*E15} -> 1.5321608e+09
B30: Arbeidsgivers kostnad til arbeidsgiveravgift på pensjon i arbeidsgiverperioden | C30: {=C29*INDEX(Arbeidsgiveravgiftssats,MATCH(Valgt_kommune&Valgt_område,Kommuner&Tjenesteområder,0))} -> 1.9339606e+08
B31: Arbeidsgivers kostnad utenfor arbeidsgiverperioden | C31: =C32+C38+C39 -> 3.8471736e+09
B32: Arbeidsgivers kostnad utenfor arbeidsgiverperioden, eks pensjonskostnad og arbeidsgiveravgift på pensjonskostnad | C32: {=INDEX(Arbeidsgivers_kostnad_utenfor_arbeidsgiverperioden_eks_pensjon,MATCH(Valgt_kommune&Valgt_område,Kommuner&Tjenesteområder,0))*E14/C14} -> 6.8346926e+08
B33: Arbeidsgivers kostnad til lønn utover 6G utenfor arbeidsgiverperioden | C33: {=INDEX(Arbeidsgivers_kostnad_til_lønn_utover_6G_utenfor_arbeidsgiverperioden,MATCH(Valgt_kommune&Valgt_område,Kommuner&Tjenesteområder,0))*E14/C14} -> 3.3676025e+08
B34: Arbeidsgivers kostnad til feriepenger på lønn utover 6G utenfor arbeidsgiverperioden | C34: {=INDEX(Arbeidsgivers_kostnad_til_feriepenger_på_lønn_utover_6G_utenfor_arbeidsgiverperioden,MATCH(Valgt_kommune&Valgt_område,Kommuner&Tjenesteområder,0))*E14/C14} -> 41777839
B35: Arbeidsgivers kostnad til arbeidsgiveravgift på feriepenger og lønn utover 6G utenfor arbeidsgiverperioden | C35: {=INDEX(Arbeidsgivers_kostnad_til_arbeidsgiveravgift_på_feriepenger_og_lønn_utover_6G_utenfor_arbeidsgiverperioden,MATCH(Valgt_kommune&Valgt_område,Kommuner&Tjenesteområder,0))*E14/C14} -> 47948949
B36: Arbeidsgivers kostnad til feriepenger utover det trygden refunderer på lønn inntil 6G | C36: {=INDEX(Arbeidsgivers_kostnad_til_feriepenger_utover_det_trygden_refunderer_på_lønn_inntil_6G,MATCH(Valgt_kommune&Valgt_område,Kommuner&Tjenesteområder,0))*E14/C14} -> 2.2831371e+08
B37: Arbeidsgivers kostnad til arbeidsgiveravgift på feriepenger inntil 6G | C37: {=INDEX(Arbeidsgivers_kostnad_til_arbeidsgiveravgift_på_feriepenger_inntil_6G,MATCH(Valgt_kommune&Valgt_område,Kommuner&Tjenesteområder,0))*E14/C14} -> 28668510
B38: Arbeidsgivers kostnad til pensjon utenfor arbeidsgiverperioden | C38: {=(C32+E24/(1+INDEX(Arbeidsgiveravgiftssats,MATCH(Valgt_kommune&Valgt_område,Kommuner&Tjenesteområder,0))))*E15} -> 2.8091244e+09
B39: Arbeidsgivers kostnad til arbeidsgiveravgift på pensjon utenfor arbeidsgiverperioden | C39: {=C38*INDEX(Arbeidsgiveravgiftssats,MATCH(Valgt_kommune&Valgt_område,Kommuner&Tjenesteområder,0))} -> 3.5458001e+08
B40: Sum | C40: =C27+C31 -> 1.5433055e+10

Sheet Hvordan bruke modellen

Sheet Tester
B1: Tester om tallene gir mening og er konsistente
B3: Test 1 | C3: Legemeldt + egenmeldt=samlet, i defaultverdiene
C4: =IF(ABS('Kostnader ved sykefravær'!C12+'Kostnader ved sykefravær'!C11-'Kostnader ved sykefravær'!C10)<0.00001,"OK","FEIL") -> OK
B6: =_xlfn.CONCAT("Test ",1+COUNTA($B$3:B5)) -> Test 2 | C6: I og utenfor arbeidsgiverperioden=samlet, i defaultverdiene
C7: =IF(ABS('Kostnader ved sykefravær'!C13+'Kostnader ved sykefravær'!C14-'Kostnader ved sykefravær'!C10)<0.00001,"OK","FEIL") -> OK
B9: =_xlfn.CONCAT("Test ",1+COUNTA($B$3:B8)) -> Test 3 | C9: Legemeldt + egenmeldt=samlet, i verdiene som brukes
C10: =IF(ABS('Kostnader ved sykefravær'!C12+'Kostnader ved sykefravær'!C11-'Kostnader ved sykefravær'!C10)<0.00001,"OK","FEIL") -> OK
B12: =_xlfn.CONCAT("Test ",1+COUNTA($B$3:B11)) -> Test 4 | C12: Samlet kostnad=arbeidsgivers kostnad+statens kostnad
C13: =IF(ABS('Kostnader ved sykefravær'!E20+'Kostnader ved sykefravær'!D20-'Kostnader ved sykefravær'!C20)<0.5,"OK","FEIL") -> OK
B15: =_xlfn.CONCAT("Test ",1+COUNTA($B$3:B14)) -> Test 5 | C15: Samlet kostnad=arbeidsgivers kostnad+statens kostnad, for egenmeldt
C16: =IF(ABS('Kostnader ved sykefravær'!E21+'Kostnader ved sykefravær'!D21-'Kostnader ved sykefravær'!C21)<0.5,"OK","FEIL") -> OK
B18: =_xlfn.CONCAT("Test ",1+COUNTA($B$3:B17)) -> Test 6 | C18: Samlet kostnad=arbeidsgivers kostnad+statens kostnad, for legemeldt
C19: =IF(ABS('Kostnader ved sykefravær'!E22+'Kostnader ved sykefravær'!D22-'Kostnader ved sykefravær'!C22)<0.5,"OK","FEIL") -> OK
B21: =_xlfn.CONCAT("Test ",1+COUNTA($B$3:B20)) -> Test 7 | C21: Samlet kostnad=arbeidsgivers kostnad+statens kostnad, i arbeidsgiverperioden
C22: =IF(ABS('Kostnader ved sykefravær'!E23+'Kostnader ved sykefravær'!D23-'Kostnader ved sykefravær'!C23)<0.5,"OK","FEIL") -> OK
B24: =_xlfn.CONCAT("Test ",1+COUNTA($B$3:B23)) -> Test 8 | C24: Samlet kostnad=arbeidsgivers kostnad+statens kostnad, utenfor arbeidsgiverperioden
C25: =IF(ABS('Kostnader ved sykefravær'!E24+'Kostnader ved sykefravær'!D24-'Kostnader ved sykefravær'!C24)<0.5,"OK","FEIL") -> OK
B27: =_xlfn.CONCAT("Test ",1+COUNTA($B$3:B26)) -> Test 9 | C27: Kostnad ved egenmeldt + kostnad ved legemeldt =samlet kostnad, samlet
C28: =IF(ABS('Kostnader ved sykefravær'!C22+'Kostnader ved sykefravær'!C21-'Kostnader ved sykefravær'!C20)<0.5,"OK","FEIL") -> OK
B30: =_xlfn.CONCAT("Test ",1+COUNTA($B$3:B29)) -> Test 10 | C30: Kostnad ved egenmeldt + kostnad ved legemeldt =samlet kostnad, arbeidsgiver
C31: =IF(ABS('Kostnader ved sykefravær'!D22+'Kostnader ved sykefravær'!D21-'Kostnader ved sykefravær'!D20)<0.5,"OK","FEIL") -> OK
B33: =_xlfn.CONCAT("Test ",1+COUNTA($B$3:B32)) -> Test 11 | C33: Kostnad ved egenmeldt + kostnad ved legemeldt =samlet kostnad, staten
C34: =IF(ABS('Kostnader ved sykefravær'!E22+'Kostnader ved sykefravær'!E21-'Kostnader ved sykefravær'!E20)<0.5,"OK","FEIL") -> OK
B36: =_xlfn.CONCAT("Test ",1+COUNTA($B$3:B35)) -> Test 12 | C36: Kostnad i arbeidsgiverperioden + kostnad utenfor arbeidsgiverperioden =samlet kostnad, samlet
C37: =IF(ABS('Kostnader ved sykefravær'!C23+'Kostnader ved sykefravær'!C24-'Kostnader ved sykefravær'!C20)<0.5,"OK","FEIL") -> OK
B39: =_xlfn.CONCAT("Test ",1+COUNTA($B$3:B38)) -> Test 13 | C39: Kostnad i arbeidsgiverperioden + kostnad utenfor arbeidsgiverperioden =samlet kostnad, arbeidsgiver
C40: =IF(ABS('Kostnader ved sykefravær'!D23+'Kostnader ved sykefravær'!D24-'Kostnader ved sykefravær'!D20)<0.5,"OK","FEIL") -> OK
B42: =_xlfn.CONCAT("Test ",1+COUNTA($B$3:B41)) -> Test 14 | C42: Kostnad i arbeidsgiverperioden + kostnad utenfor arbeidsgiverperioden =samlet kostnad, staten
C43: =IF(ABS('Kostnader ved sykefravær'!E23+'Kostnader ved sykefravær'!E24-'Kostnader ved sykefravær'!E20)<0.5,"OK","FEIL") -> OK
B45: =_xlfn.CONCAT("Test ",1+COUNTA($B$3:B44)) -> Test 15 | C45: Spesifiseringen av arbeidsgivers kostnader i arbeidsgiverperioden må stemme med hovedtabellen
C46: =IF(ABS('Kostnader ved sykefravær'!D23-'Kostnader ved sykefravær'!C27)<0.5,"OK","FEIL") -> OK
B48: =_xlfn.CONCAT("Test ",1+COUNTA($B$3:B47)) -> Test 16 | C48: Spesifiseringen av arbeidsgivers kostnader utenfor arbeidsgiverperioden må stemme med hovedtabellen
C49: =IF(ABS('Kostnader ved sykefravær'!C31-'Kostnader ved sykefravær'!D24)<0.5,"OK","FEIL") -> OK

Sheet Data
A1: Kommune/fylkeskommune | B1: Tjenesteområde | C1: Sykeprosent | D1: Egenmeldt | E1: Legemeldt | F1: Sykeprosent_i | G1: Sykeprosent_utenfor | H1: Gjennomsnittlig pensjonspremie | I1: arbeidsgiveravgiftssats | J1: Arbeidsgivers kostnad, egenmeldt | K1: Arbeidsgivers kostnad, legemeldt | L1: Kostnad, staten | M1: Statens kostnad, legemeldt | N1: Arbeidsgivers kostnad utenfor arbeidsgiverperioden, eks pensjon | O1: Arbeidsgivers kostnad i arbeidsgiverperioden, eks pensjon | P1: Arbeidsgivers kostnad til lønn utover 6G utenfor arbeidsgiverperioden | Q1: Arbeidsgivers kostnad til feriepenger på lønn utover 6G utenfor arbeidsgiverperioden | R1: Arbeidsgivers kostnad til arbeidsgiveravgift på feriepenger og lønn utover 6G utenfor arbeidsgiverperioden | S1: Arbeidsgivers kostnad til feriepenger utover det trygden refunderer på lønn inntil 6G | T1: Arbeidsgivers kostnad til arbeidsgiveravgift på feriepenger inntil 6G | U1: Årsverk | V1: Lønn
A2: Alle | B2: Alle | C2: 0.086253952 | D2: 0.01181 | E2: 0.074443952 | F2: 0.030420988 | G2: 0.055832964 | H2: 0.175 | I2: 0.12622439 | J2: 3.8629779e+09 | K2: 6.680816e+09 | L2: 1.7308571e+10 | M2: 1.7308571e+10 | N2: 6.8346926e+08 | O2: 9.8603247e+09 | P2: 3.3676025e+08 | Q2: 41777839 | R2: 47948949 | S2: 2.2831371e+08 | T2: 28668510 | U2: 422342.14 | V2: 2.5858335e+11
A3: Alle | B3: Administrasjon | C3: 0.06937941 | D3: 0.01181 | E3: 0.05756941 | F3: 0.026202353 | G3: 0.043177058 | H3: 0.175 | I3: 0.12353301 | J3: 2.7961726e+08 | K3: 4.6051455e+08 | L3: 8.7072744e+08 | M3: 8.7072744e+08 | N3: 1.2770405e+08 | O3: 6.1242776e+08 | P3: 90122215 | Q3: 11304494 | R3: 12977278 | S3: 11836860 | T3: 1463203.8 | U3: 26165.139 | V3: 1.8721071e+10
A4: Alle | B4: Undervisning | C4: 0.075624954 | D4: 0.01181 | E4: 0.063814954 | F4: 0.027763738 | G4: 0.047861215 | H4: 0.175 | I4: 0.12981682 | J4: 1.303568e+09 | K4: 1.9274993e+09 | L4: 5.0319725e+09 | M4: 5.0319725e+09 | N4: 1.8763133e+08 | O4: 3.0434359e+09 | P4: 88481892 | Q4: 10939411 | R4: 13290147 | S4: 66366550 | T4: 8553333.1 | U4: 140433 | V4: 8.6999605e+10
A5: Alle | B5: Barnehager | C5: 0.093717768 | D5: 0.01181 | E5: 0.081907768 | F5: 0.032286942 | G5: 0.061430826 | H5: 0.175 | I5: 0.12486448 | J5: 3.3942949e+08 | K5: 6.2369592e+08 | L5: 1.7244966e+09 | M5: 1.7244966e+09 | N5: 36647788 | O5: 9.2647761e+08 | P5: 8820528.7 | Q5: 1088974.3 | R5: 1290681 | S5: 22632225 | T5: 2815378.7 | U5: 42997.293 | V5: 2.2763132e+10
A6: Alle | B6: Helse/pleie/omsorg | C6: 0.099293165 | D6: 0.01181 | E6: 0.087483165 | F6: 0.033680791 | G6: 0.065612374 | H6: 0.175 | I6: 0.12394436 | J6: 1.5485939e+09 | K6: 3.1117779e+09 | L6: 8.311884e+09 | M6: 8.311884e+09 | N6: 2.5586244e+08 | O6: 4.4045094e+09 | P6: 1.0606084e+08 | Q6: 13056387 | R6: 13922659 | S6: 1.092908e+08 | T6: 13531760 | U6: 172157.47 | V6: 1.0390792e+11
A7: Alle | B7: Samferdsel og teknikk | C7: 0.064567293 | D7: 0.01181 | E7: 0.052757293 | F7: 0.024999323 | G7: 0.03956797 | H7: 0.175 | I7: 0.12756639 | J7: 2.4646743e+08 | K7: 3.2240218e+08 | L7: 7.6832525e+08 | M7: 7.6832525e+08 | N7: 49720326 | O7: 5.1914929e+08 | P7: 29923250 | Q7: 3724424.7 | R7: 4524886.1 | S7: 10236484 | T7: 1311280.1 | U7: 25025.513 | V7: 1.6461284e+10
A8: Alle | B8: Annet | C8: 0.080547385 | D8: 0.01181 | E8: 0.068737385 | F8: 0.028994346 | G8: 0.051553039 | H8: 0.175 | I8: 0.12515372 | J8: 1.453018e+08 | K8: 2.3492613e+08 | L8: 6.0116513e+08 | M8: 6.0116513e+08 | N8: 25903317 | O8: 3.5432461e+08 | P8: 13351530 | Q8: 1664148.2 | R8: 1943298.1 | S8: 7950787.1 | T8: 993554.44 | U8: 15563.722 | V8: 9.7303439e+09
A9: 0301 - Oslo kommune | B9: Alle | C9: 0.084270313 | D9: 0.01181 | E9: 0.072460313 | F9: 0.029925078 | G9: 0.054345235 | H9: 0.175 | I9: 0.141 | J9: 4.03504e+08 | K9: 7.2051287e+08 | L9: 1.7333175e+09 | M9: 1.7333175e+09 | N9: 1.0705527e+08 | O9: 1.0169616e+09 | P9: 63178991 | Q9: 7838754.6 | R9: 10013502 | S9: 22808084 | T9: 3215939.9 | U9: 40346.062 | V9: 2.6678089e+10
A10: 0301 - Oslo kommune | B10: Administrasjon | C10: 0.069732144 | D10: 0.01181 | E10: 0.057922144 | F10: 0.026290536 | G10: 0.043441608 | H10: 0.175 | I10: 0.141 | J10: 39531230 | K10: 78817326 | L10: 1.1517789e+08 | M10: 1.1517789e+08 | N10: 30318523 | O10: 88030033 | P10: 22203287 | Q10: 2778198.5 | R10: 3522389.4 | S10: 1590401.4 | T10: 224246.6 | U10: 3075.1632 | V10: 2.6101472e+09
A11: 0301 - Oslo kommune | B11: Undervisning | C11: 0.080890801 | D11: 0.01181 | E11: 0.069080801 | F11: 0.0290802 | G11: 0.051810601 | H11: 0.175 | I11: 0.141 | J11: 1.3023262e+08 | K11: 2.1392039e+08 | L11: 5.4029797e+08 | M11: 5.4029797e+08 | N11: 25365804 | O11: 3.1878721e+08 | P11: 13476966 | Q11: 1664024.3 | R11: 2134879.6 | S11: 7090214.3 | T11: 999720.21 | U11: 13691.828 | V11: 8.6139144e+09
A12: 0301 - Oslo kommune | B12: Barnehager | C12: 0.085968336 | D12: 0.01181 | E12: 0.074158336 | F12: 0.030349584 | G12: 0.055618752 | H12: 0.175 | I12: 0.141 | J12: 50043962 | K12: 84023292 | L12: 2.3023927e+08 | M12: 2.3023927e+08 | N12: 5457650.9 | O12: 1.286096e+08 | P12: 1603486.3 | Q12: 196612.18 | R12: 253813.88 | S12: 2983118.8 | T12: 420619.75 | U12: 5768.5851 | V12: 3.3104181e+09
A13: 0301 - Oslo kommune | B13: Helse/pleie/omsorg | C13: 0.095467079 | D13: 0.01181 | E13: 0.083657079 | F13: 0.03272427 | G13: 0.062742809 | H13: 0.175 | I13: 0.141 | J13: 1.2961435e+08 | K13: 2.5761131e+08 | L13: 6.5760917e+08 | M13: 6.5760917e+08 | N13: 28806189 | O13: 3.5841947e+08 | P13: 14805382 | Q13: 1828448 | R13: 2345370 | S13: 8612611.2 | T13: 1214378.2 | U13: 12700.95 | V13: 8.5689573e+09
... A52: 1111 - Sokndal kommune | B52: Undervisning | C52: 0.046090668 | D52: 0.01181 | E52: 0.034280668 | F52: 0.020380167 | G52: 0.025710501 | H52: 0.175 | I52: 0.141 | J52: 623116.11 | K52: 483107.6 | L52: 1316438.7 | M52: 1316438.7 | N52: 33221.025 | O52: 1073002.7 | P52: 10763.955 | Q52: 1304.7925 | R52: 1701.6934 | S52: 17046.963 | T52: 2403.6217 | U52: 67.8312 | V52: 41164058
A53: 1111 - Sokndal kommune | B53: Barnehager | U53: 9.6744
A54: 1111 - Sokndal kommune | B54: Helse/pleie/omsorg | C54: 0.081655053 | D54: 0.01181 | E54: 0.069845053 | F54: 0.029271263 | G54: 0.05238379 | H54: 0.175 | I54: 0.141 | J54: 1056593.8 | K54: 1707012.6 | L54: 4729887.3 | M54: 4729887.3 | N54: 97787.631 | O54: 2665818.7 | P54: 21917.128 | Q54: 2630.0554 | R54: 3461.1528 | S54: 61156.262 | T54: 8623.0329 | U54: 122.7442 | V54: 69842880
A55: 1111 - Sokndal kommune | B55: Samferdsel og teknikk | C55: 0.036407179 | D55: 0.01181 | E55: 0.024597179 | F55: 0.017959295 | G55: 0.018447885 | H55: 0.175 | I55: 0.141 | J55: 110238.41 | K55: 58829.034 | L55: 166710.08 | M55: 166710.08 | N55: 2444.2547 | O55: 166623.19 | P55: 0 | Q55: 0 | R55: 0 | S55: 2142.2039 | T55: 302.05076 | U55: 10.7454 | V55: 7279107.8
A56: 1111 - Sokndal kommune | B56: Annet | U56: 3.0948
A57: 1112 - Lund kommune | B57: Alle | C57: 0.075887995 | D57: 0.01181 | E57: 0.064077995 | F57: 0.027829499 | G57: 0.048058497 | H57: 0.175 | I57: 0.141 | J57: 2275063 | K57: 3414077.7 | L57: 8942794.7 | M57: 8942794.7 | N57: 324859.56 | O57: 5364281.1 | P57: 149900.84 | Q57: 18896.545 | R57: 23800.431 | S57: 115917.4 | T57: 16344.353 | U57: 257.12522 | V57: 1.5035101e+08
A58: 1112 - Lund kommune | B58: Administrasjon | C58: 0.073387967 | D58: 0.01181 | E58: 0.061577967 | F58: 0.027204492 | G58: 0.046183475 | H58: 0.175 | I58: 0.141 | J58: 314566.78 | K58: 579711.12 | L58: 1087845.3 | M58: 1087845.3 | N58: 162822.02 | O58: 731455.88 | P58: 113845.88 | Q58: 14408.912 | R58: 18083.926 | S58: 14446.368 | T58: 2036.9378 | U58: 32.6333 | V58: 20760422
A59: 1112 - Lund kommune | B59: Undervisning | C59: 0.07362181 | D59: 0.01181 | E59: 0.06181181 | F59: 0.027262952 | G59: 0.046358857 | H59: 0.175 | I59: 0.141 | J59: 732294.7 | K59: 1025377.1 | L59: 2802368.5 | M59: 2802368.5 | N59: 68440.691 | O59: 1689231.1 | P59: 21002.708 | Q59: 2681.3625 | R59: 3339.4539 | S59: 36299.007 | T59: 5118.16 | U59: 80.8797 | V59: 48383770
A60: 1112 - Lund kommune | B60: Barnehager | C60: 0.077784259 | D60: 0.01181 | E60: 0.065974259 | F60: 0.028303565 | G60: 0.049480694 | H60: 0.175 | I60: 0.141 | J60: 146159.48 | K60: 212277.01 | L60: 601430.81 | M60: 601430.81 | N60: 8850.0514 | O60: 349586.43 | P60: 0 | Q60: 0 | R60: 0 | S60: 7756.3991 | T60: 1093.6523 | U60: 18.6275 | V60: 9676653.5
A61: 1112 - Lund kommune | B61: Helse/pleie/omsorg | C61: 0.078366295 | D61: 0.01181 | E61: 0.066556295 | F61: 0.028449074 | G61: 0.049917221 | H61: 0.175 | I61: 0.141 | J61: 983463.03 | K61: 1463625.4 | L61: 4073925 | M61: 4073925 | N61: 79237.841 | O61: 2367850.6 | P61: 15052.253 | Q61: 1806.2703 | R61: 2377.0517 | S61: 52587.437 | T61: 7414.8287 | U61: 113.11632 | V61: 65022537
A62: 1112 - Lund kommune | B62: Samferdsel og teknikk | U62: 8.8684
A63: 1112 - Lund kommune | B63: Annet | U63: 3
A64: 1114 - Bjerkreim kommune | B64: Alle | C64: 0.069411374 | D64: 0.01181 | E64: 0.057601374 | F64: 0.026210343 | G64: 0.04320103 | H64: 0.175 | I64: 0.141 | J64: 2144747.7 | K64: 2952122 | L64: 7497514.2 | M64: 7497514.2 | N64: 339712.96 | O64: 4757156.8 | P64: 178174.5 | Q64: 21779.342 | R64: 28193.491 | S64: 97778.813 | T64: 13786.813 | U64: 228.9885 | V64: 1.4176292e+08
A65: 1114 - Bjerkreim kommune | B65: Administrasjon | C65: 0.067985305 | D65: 0.01181 | E65: 0.056175305 | F65: 0.025853826 | G65: 0.042131479 | H65: 0.175 | I65: 0.141 | J65: 264958.68 | K65: 481264.75 | L65: 794797.8 | M65: 794797.8 | N65: 162249.11 | O65: 583974.32 | P65: 117307.8 | Q65: 14076.936 | R65: 18525.247 | S65: 10814.312 | T65: 1524.818 | U65: 23.8387 | V65: 17533605
A66: 1114 - Bjerkreim kommune | B66: Undervisning | C66: 0.07045234 | D66: 0.01181 | E66: 0.05864234 | F66: 0.026470585 | G66: 0.043981755 | H66: 0.175 | I66: 0.141 | J66: 811700.81 | K66: 1072061.3 | L66: 2926047.2 | M66: 2926047.2 | N66: 72534.192 | O66: 1811227.9 | P66: 22869.942 | Q66: 2827.0242 | R66: 3623.2723 | S66: 37873.754 | T66: 5340.1993 | U66: 88.4871 | V66: 53631180
A67: 1114 - Bjerkreim kommune | B67: Barnehager | C67: 0.072431105 | D67: 0.01181 | E67: 0.060621105 | F67: 0.026965276 | G67: 0.045465829 | H67: 0.175 | I67: 0.141 | J67: 184570.89 | K67: 250246.47 | L67: 699565.49 | M67: 699565.49 | N67: 12793.477 | O67: 422023.88 | P67: 1940.3776 | Q67: 232.84532 | R67: 306.42444 | S67: 9039.2898 | T67: 1274.5399 | U67: 23.7682 | V67: 12209297
A68: 1114 - Bjerkreim kommune | B68: Helse/pleie/omsorg | C68: 0.06812279 | D68: 0.01181 | E68: 0.05631279 | F68: 0.025888197 | G68: 0.042234592 | H68: 0.175 | I68: 0.141 | J68: 775030.99 | K68: 1009048.8 | L68: 2706941.4 | M68: 2706941.4 | N68: 80051.248 | O68: 1704028.5 | P68: 30993.11 | Q68: 3918.4887 | R68: 4922.5355 | S68: 35247.251 | T68: 4969.8624 | U68: 80.5565 | V68: 51227982
A69: 1114 - Bjerkreim kommune | B69: Samferdsel og teknikk | U69: 5.3738
A70: 1114 - Bjerkreim kommune | B70: Annet | U70: 6.9642
A71: 1119 - Hå kommune | B71: Alle | C71: 0.071776753 | D71: 0.01181 | E71: 0.059966753 | F71: 0.026801688 | G71: 0.044975065 | H71: 0.175 | I71: 0.141 | J71: 13447263 | K71: 19082686 | L71: 48393328 | M71: 48393328 | N71: 2213682.8 | O71: 30316266 | P71: 1166515.4 | Q71: 142597.28 | R71: 184584.89 | S71: 631012.44 | T71: 88972.754 | U71: 1437.5971 | V71: 8.8938239e+08
A72: 1119 - Hå kommune | B72: Administrasjon | C72: 0.057217521 | D72: 0.01181 | E72: 0.045407521 | F72: 0.02316188 | G72: 0.034055641 | H72: 0.175 | I72: 0.141 | J72: 933721.41 | K72: 1214389.2 | L72: 2300784.4 | M72: 2300784.4 | N72: 335595.79 | O72: 1812514.8 | P72: 234083.4 | Q72: 29193.136 | R72: 37121.992 | S72: 30847.736 | T72: 4349.5308 | U72: 87.0333 | V72: 61637053
A73: 1119 - Hå kommune | B73: Undervisning | C73: 0.063602265 | D73: 0.01181 | E73: 0.051792265 | F73: 0.024758066 | G73: 0.038844199 | H73: 0.175 | I73: 0.141 | J73: 3777467.1 | K73: 4490925.2 | L73: 11895680 | M73: 11895680 | N73: 394273.8 | O73: 7874118.5 | P73: 169822.56 | Q73: 20639.506 | R73: 26855.152 | S73: 155089.02 | T73: 21867.552 | U73: 412.1159 | V73: 2.5002562e+08
A74: 1119 - Hå kommune | B74: Barnehager | C74: 0.074582155 | D74: 0.01181 | E74: 0.062772155 | F74: 0.027503039 | G74: 0.047079116 | H74: 0.175 | I74: 0.141 | J74: 2094989 | K74: 2954882.1 | L74: 8142840.6 | M74: 8142840.6 | N74: 180451.39 | O74: 4869419.7 | P74: 46803.945 | Q74: 5751.7254 | R74: 7410.3495 | S74: 105596.29 | T74: 14889.077 | U74: 264.075 | V74: 1.3861238e+08
A75: 1119 - Hå kommune | B75: Helse/pleie/omsorg | C75: 0.080673046 | D75: 0.01181 | E75: 0.068863046 | F75: 0.029025762 | G75: 0.051647285 | H75: 0.175 | I75: 0.141 | J75: 5659508.5 | K75: 9342317.2 | L75: 23406226 | M75: 23406226 | N75: 1155181.5 | O75: 13846644 | P75: 631234.49 | Q75: 76637.202 | R75: 99809.909 | S75: 304557.29 | T75: 42942.578 | U75: 578.88817 | V75: 3.7421498e+08
A76: 1119 - Hå kommune | B76: Samferdsel og teknikk | C76: 0.051172185 | D76: 0.01181 | E76: 0.039362185 | F76: 0.021650546 | G76: 0.029521639 | H76: 0.175 | I76: 0.141 | J76: 504671.3 | K76: 500702.2 | L76: 1110771.3 | M76: 1110771.3 | N76: 97833.817 | O76: 907539.68 | P76: 63161.136 | Q76: 7678.6975 | R76: 9988.4165 | S76: 14904.091 | T76: 2101.4768 | U76: 42.3507 | V76: 33392994
A77: 1119 - Hå kommune | B77: Annet | C77: 0.064583551 | D77: 0.01181 | E77: 0.052773551 | F77: 0.025003388 | G77: 0.039580164 | H77: 0.175 | I77: 0.141 | J77: 476905.19 | K77: 579470.49 | L77: 1537025.3 | M77: 1537025.3 | N77: 50346.543 | O77: 1006029.1 | P77: 21409.908 | Q77: 2697.0129 | R77: 3399.0759 | S77: 20018.008 | T77: 2822.5391 | U77: 53.134 | V77: 31499363
A78: 1120 - Klepp kommune | B78: Alle | C78: 0.087944434 | D78: 0.01181 | E78: 0.076134434 | F78: 0.030843608 | G78: 0.057100825 | H78: 0.175 | I78: 0.141 | J78: 11786386 | K78: 20584617 | L78: 54555642 | M78: 54555642 | N78: 1799552.5 | O78: 30571451 | P78: 773322.91 | Q78: 94779.377 | R78: 122402.42 | S78: 709069.07 | T78: 99978.739 | U78: 1302.1721 | V78: 7.7947695e+08
A79: 1120 - Klepp kommune | B79: Administrasjon | C79: 0.055567663 | D79: 0.01181 | E79: 0.043757663 | F79: 0.022749416 | G79: 0.032818247 | H79: 0.175 | I79: 0.141 | J79: 518731.71 | K79: 720067.03 | L79: 1220164.6 | M79: 1220164.6 | N79: 235009.12 | O79: 1003789.6 | P79: 168373.46 | Q79: 21102.208 | R79: 26716.07 | S79: 16492.007 | T79: 2325.373 | U79: 44.65 | V79: 34294443
A80: 1120 - Klepp kommune | B80: Undervisning | C80: 0.081307184 | D80: 0.01181 | E80: 0.069497184 | F80: 0.029184296 | G80: 0.052122888 | H80: 0.175 | I80: 0.141 | J80: 4003679.9 | K80: 6384647.8 | L80: 16914532 | M80: 16914532 | N80: 559852.72 | O80: 9828474.9 | P80: 241352.74 | Q80: 29340.324 | R80: 38167.722 | S80: 219975.4 | T80: 31016.532 | U80: 442.50701 | V80: 2.6479228e+08
A81: 1120 - Klepp kommune | B81: Barnehager | C81: 0.085937308 | D81: 0.01181 | E81: 0.074127308 | F81: 0.030341827 | G81: 0.055595481 | H81: 0.175 | I81: 0.141 | J81: 1918041.4 | K81: 3239206.4 | L81: 8807928.4 | M81: 8807928.4 | N81: 227422.67 | O81: 4929825.1 | P81: 75808.726 | Q81: 9097.0471 | R81: 11971.714 | S81: 114412.96 | T81: 16132.227 | U81: 236.6476 | V81: 1.2698505e+08
A82: 1120 - Klepp kommune | B82: Helse/pleie/omsorg | C82: 0.10053403 | D82: 0.01181 | E82: 0.088724035 | F82: 0.033991009 | G82: 0.066543026 | H82: 0.175 | I82: 0.141 | J82: 4585306.6 | K82: 9211575.8 | L82: 24903324 | M82: 24903324 | N82: 682850.69 | O82: 13114032 | P82: 245519.28 | Q82: 29955.817 | R82: 38841.988 | S82: 322991.77 | T82: 45541.84 | U82: 495.3703 | V82: 3.0322743e+08
... A124: 1133 - Hjelmeland kommune | B124: Helse/pleie/omsorg | C124: 0.072804383 | D124: 0.01181 | E124: 0.060994383 | F124: 0.027058596 | G124: 0.045745787 | H124: 0.175 | I124: 0.106 | J124: 904511.04 | K124: 1262092.8 | L124: 3434039.6 | M124: 3434039.6 | N124: 88059.697 | O124: 2078544.2 | P124: 30018.771 | Q124: 3652.9963 | R124: 3569.2074 | S124: 45948.211 | T124: 4870.5104 | U124: 98.6057 | V124: 61695918
A125: 1133 - Hjelmeland kommune | B125: Samferdsel og teknikk | U125: 8.2288
A126: 1133 - Hjelmeland kommune | B126: Annet | U126: 5.9877
A127: 1134 - Suldal kommune | B127: Alle | C127: 0.074488756 | D127: 0.01181 | E127: 0.062678756 | F127: 0.027479689 | G127: 0.047009067 | H127: 0.175 | I127: 0.106 | J127: 3968682.9 | K127: 5847597.5 | L127: 15070825 | M127: 15070825 | N127: 617991.88 | O127: 9198288.6 | P127: 318273.16 | Q127: 38921.801 | R127: 37862.666 | S127: 201568.04 | T127: 21366.212 | U127: 438.906 | V127: 2.705317e+08
A128: 1134 - Suldal kommune | B128: Administrasjon | C128: 0.069301248 | D128: 0.01181 | E128: 0.057491248 | F128: 0.026182812 | G128: 0.043118436 | H128: 0.175 | I128: 0.106 | J128: 303613.76 | K128: 465635.07 | L128: 973196.66 | M128: 973196.66 | N128: 105927.14 | O128: 663321.69 | P128: 73293.813 | Q128: 9234.6238 | R128: 8748.0143 | S128: 13246.553 | T128: 1404.1347 | U128: 29.3067 | V128: 20638726
A129: 1134 - Suldal kommune | B129: Undervisning | C129: 0.070942626 | D129: 0.01181 | E129: 0.059132626 | F129: 0.026593156 | G129: 0.044349469 | H129: 0.175 | I129: 0.106 | J129: 1184226.1 | K129: 1565036.9 | L129: 4348012.6 | M129: 4348012.6 | N129: 86774.52 | O129: 2662488.5 | P129: 18172.422 | Q129: 2240.2362 | R129: 2163.7417 | S129: 58045.317 | T129: 6152.8036 | U129: 133.0533 | V129: 80798697
A130: 1134 - Suldal kommune | B130: Barnehager | C130: 0.083141239 | D130: 0.01181 | E130: 0.071331239 | F130: 0.02964281 | G130: 0.05349843 | H130: 0.175 | I130: 0.106 | J130: 497739.98 | K130: 797330.81 | L130: 2209253.2 | M130: 2209253.2 | N130: 45684.81 | O130: 1249386 | P130: 10529.476 | Q130: 1263.5371 | R130: 1250.0594 | S130: 29513.325 | T130: 3128.4125 | U130: 63.4754 | V130: 33967591
A131: 1134 - Suldal kommune | B131: Helse/pleie/omsorg | C131: 0.077418753 | D131: 0.01181 | E131: 0.065608753 | F131: 0.028212188 | G131: 0.049206565 | H131: 0.175 | I131: 0.106 | J131: 1620463.9 | K131: 2587751.2 | L131: 6366699.9 | M131: 6366699.9 | N131: 349138.43 | O131: 3859076.7 | P131: 205702.41 | Q131: 24876.978 | R131: 24441.415 | S131: 85097.312 | T131: 9020.3151 | U131: 171.2069 | V131: 1.1042653e+08
A132: 1134 - Suldal kommune | B132: Samferdsel og teknikk | C132: 0.060426025 | D132: 0.01181 | E132: 0.048616025 | F132: 0.023964006 | G132: 0.036462019 | H132: 0.175 | I132: 0.106 | J132: 214256.61 | K132: 229110.19 | L132: 634773.48 | M132: 634773.48 | N132: 13139.271 | O132: 430227.53 | P132: 3050.5536 | Q132: 403.48779 | R132: 366.12839 | S132: 8425.9504 | T132: 893.15074 | U132: 25.4907 | V132: 14599032
A133: 1134 - Suldal kommune | B133: Annet | C133: 0.070302994 | D133: 0.01181 | E133: 0.058492994 | F133: 0.026433248 | G133: 0.043869745 | H133: 0.175 | I133: 0.106 | J133: 148382.55 | K133: 202733.38 | L133: 538889.28 | M133: 538889.28 | N133: 17327.716 | O133: 333788.22 | P133: 7524.4898 | Q133: 902.93878 | R133: 893.30743 | S133: 7239.5838 | T133: 767.39588 | U133: 16.373 | V133: 10101123
A134: 1135 - Sauda kommune | B134: Alle | C134: 0.073176116 | D134: 0.01181 | E134: 0.061366116 | F134: 0.027151529 | G134: 0.046024587 | H134: 0.175 | I134: 0.106 | J134: 4082464.2 | K134: 6015893.1 | L134: 15242860 | M134: 15242860 | N134: 701204.83 | O134: 9397152.4 | P134: 382013.78 | Q134: 47010.399 | R134: 45476.563 | S134: 204976.57 | T134: 21727.516 | U134: 454.12994 | V134: 2.7853169e+08
A135: 1135 - Sauda kommune | B135: Administrasjon | C135: 0.10899875 | D135: 0.01181 | E135: 0.097188748 | F135: 0.036107187 | G135: 0.072891561 | H135: 0.175 | I135: 0.106 | J135: 232045.21 | K135: 659294.8 | L135: 1195639 | M135: 1195639 | N135: 195561.35 | O135: 695778.66 | P135: 142169.7 | Q135: 18063.915 | R135: 16984.763 | S135: 16584.968 | T135: 1758.0066 | U135: 20.96 | V135: 15823113
A136: 1135 - Sauda kommune | B136: Undervisning | C136: 0.051227718 | D136: 0.01181 | E136: 0.039417718 | F136: 0.02166443 | G136: 0.029563289 | H136: 0.175 | I136: 0.106 | J136: 970239.21 | K136: 858989.28 | L136: 2335272.2 | M136: 2335272.2 | N136: 60423.906 | O136: 1768804.6 | P136: 20740.785 | Q136: 2583.071 | R136: 2472.3287 | S136: 31308.97 | T136: 3318.7508 | U136: 110.9988 | V136: 66211241
A137: 1135 - Sauda kommune | B137: Barnehager | C137: 0.071794201 | D137: 0.01181 | E137: 0.059984201 | F137: 0.02680605 | G137: 0.04498815 | H137: 0.175 | I137: 0.106 | J137: 390718.73 | K137: 528471.22 | L137: 1458783.5 | M137: 1458783.5 | N137: 31657.546 | O137: 887532.4 | P137: 8152.2694 | Q137: 978.27233 | R137: 967.83742 | S137: 19492.918 | T137: 2066.2493 | U137: 49.9599 | V137: 26653078
A138: 1135 - Sauda kommune | B138: Helse/pleie/omsorg | C138: 0.08016301 | D138: 0.01181 | E138: 0.06835301 | F138: 0.028898253 | G138: 0.051264758 | H138: 0.175 | I138: 0.106 | J138: 2074748.8 | K138: 3325144.9 | L138: 8542941.1 | M138: 8542941.1 | N138: 358123.38 | O138: 5041770.3 | P138: 186733.54 | Q138: 22479.042 | R138: 22176.534 | S138: 114587.94 | T138: 12146.322 | U138: 227.8664 | V138: 1.4155074e+08
A139: 1135 - Sauda kommune | B139: Samferdsel og teknikk | C139: 0.071975879 | D139: 0.01181 | E139: 0.060165879 | F139: 0.02685147 | G139: 0.045124409 | H139: 0.175 | I139: 0.106 | J139: 328322.88 | K139: 481805.48 | L139: 1262154.9 | M139: 1262154.9 | N139: 45815.383 | O139: 764312.98 | P139: 21756.611 | Q139: 2610.7933 | R139: 2582.9448 | S139: 17056.993 | T139: 1808.0413 | U139: 34.384837 | V139: 22411177
A140: 1135 - Sauda kommune | B140: Annet | U140: 9.96
A141: 1144 - Kvitsøy kommune | B141: Alle | C141: 0.092713624 | D141: 0.01181 | E141: 0.080903624 | F141: 0.032035906 | G141: 0.060677718 | H141: 0.175 | I141: 0.141 | J141: 600535.41 | K141: 1307609.4 | L141: 2872181.1 | M141: 2872181.1 | N141: 262661.8 | O141: 1645483 | P141: 171446.27 | Q141: 20767.805 | R141: 27102.185 | S141: 37989.081 | T141: 5356.4604 | U141: 62.0518 | V141: 39665285
A142: 1144 - Kvitsøy kommune | B142: Administrasjon | C142: 0.11279701 | D142: 0.01181 | E142: 0.10098701 | F142: 0.037056753 | G142: 0.075740259 | H142: 0.175 | I142: 0.141 | J142: 119304.6 | K142: 428389.54 | L142: 671266.35 | M142: 671266.35 | N142: 153475.56 | O142: 394218.57 | P142: 111906.08 | Q142: 13428.73 | R142: 17672.209 | S142: 9174.8834 | T142: 1293.6586 | U142: 10.62 | V142: 7877027
A143: 1144 - Kvitsøy kommune | B143: Undervisning | C143: 0.047344877 | D143: 0.01181 | E143: 0.035534877 | F143: 0.020693719 | G143: 0.026651158 | H143: 0.175 | I143: 0.141 | J143: 164082.27 | K143: 132167.61 | L143: 348438.19 | M143: 348438.19 | N143: 12016.162 | O143: 284233.72 | P143: 5341.1635 | Q143: 640.93962 | R143: 843.47654 | S143: 4549.1519 | T143: 641.43042 | U143: 17.3013 | V143: 10838071
A144: 1144 - Kvitsøy kommune | B144: Barnehager | C144: 0.098511522 | D144: 0.01181 | E144: 0.086701522 | F144: 0.033485381 | G144: 0.065026142 | H144: 0.175 | I144: 0.141 | J144: 94723.878 | K144: 191029.11 | L144: 503865.64 | M144: 503865.64 | N144: 17305.426 | O144: 268447.57 | P144: 7675.1727 | Q144: 921.02072 | R144: 1212.0633 | S144: 6570.7007 | T144: 926.4688 | U144: 11.7561 | V144: 6265819.4
A145: 1144 - Kvitsøy kommune | B145: Helse/pleie/omsorg | C145: 0.11048189 | D145: 0.01181 | E145: 0.098671894 | F145: 0.036477973 | G145: 0.07400392 | H145: 0.175 | I145: 0.141 | J145: 189567.81 | K145: 434356.33 | L145: 1091855.3 | M145: 1091855.3 | N145: 52803.417 | O145: 571120.72 | P145: 28410.235 | Q145: 3603.4808 | R145: 4513.9339 | S145: 14264.476 | T145: 2011.2911 | U145: 19.1826 | V145: 12516230
A146: 1144 - Kvitsøy kommune | B146: Samferdsel og teknikk | U146: 1.3418
A147: 1144 - Kvitsøy kommune | B147: Annet | U147: 1.85
A148: 1145 - Bokn kommune | B148: Alle | C148: 0.087661969 | D148: 0.01181 | E148: 0.075851969 | F148: 0.030772992 | G148: 0.056888977 | H148: 0.175 | I148: 0.141 | J148: 989524.51 | K148: 1696296.8 | L148: 4443900.5 | M148: 4443900.5 | N148: 161247.44 | O148: 2524573.8 | P148: 74542.416 | Q148: 8956.6913 | R148: 11773.374 | S148: 57822.053 | T148: 8152.9095 | U148: 106.38258 | V148: 65437016
A149: 1145 - Bokn kommune | B149: Administrasjon | C149: 0.035648341 | D149: 0.01181 | E149: 0.023838341 | F149: 0.017769585 | G149: 0.017878756 | H149: 0.175 | I149: 0.141 | J149: 113179.48 | K149: 49578.559 | L149: 125501.09 | M149: 125501.09 | N149: 5808.6476 | O149: 156949.39 | P149: 3083.4758 | Q149: 370.0171 | R149: 486.9425 | S149: 1637.3463 | T149: 230.86583 | U149: 10.9099 | V149: 7472992.4
A150: 1145 - Bokn kommune | B150: Undervisning | C150: 0.078140067 | D150: 0.01181 | E150: 0.066330067 | F150: 0.028392517 | G150: 0.04974755 | H150: 0.175 | I150: 0.141 | J150: 301035.87 | K150: 443468.78 | L150: 1215489.6 | M150: 1215489.6 | N150: 28729.178 | O150: 715775.47 | P150: 8376.8352 | Q150: 1012.0321 | R150: 1323.8303 | S150: 15790.079 | T150: 2226.4012 | U150: 33.0591 | V150: 19909922
A151: 1145 - Bokn kommune | B151: Barnehager | C151: 0.10313568 | D151: 0.01181 | E151: 0.091325678 | F151: 0.03464142 | G151: 0.068494259 | H151: 0.175 | I151: 0.141 | J151: 99188.026 | K151: 205734.16 | L151: 569369.89 | M151: 569369.89 | N151: 11958.149 | O151: 292964.04 | P151: 2766.2392 | Q151: 331.9487 | R151: 436.84449 | S151: 7382.2229 | T151: 1040.8934 | U151: 12.4021 | V151: 6564285.3
A152: 1145 - Bokn kommune | B152: Helse/pleie/omsorg | C152: 0.10613446 | D152: 0.01181 | E152: 0.094324457 | F152: 0.035391114 | G152: 0.070743343 | H152: 0.175 | I152: 0.141 | J152: 426914.35 | K152: 950615.04 | L152: 2421031.5 | M152: 2421031.5 | N152: 107703.42 | O152: 1269826 | P152: 56109.812 | Q152: 6733.1774 | R152: 8860.8615 | S152: 31550.892 | T152: 4448.6757 | U152: 45.284176 | V152: 28258047
A153: 1145 - Bokn kommune | B153: Samferdsel og teknikk | U153: 2.4711
A154: 1145 - Bokn kommune | B154: Annet | U154: 2.2562
A155: 1146 - Tysvær kommune | B155: Alle | C155: 0.086797348 | D155: 0.01181 | E155: 0.074987348 | F155: 0.030556837 | G155: 0.056240511 | H155: 0.175 | I155: 0.141 | J155: 9046387.1 | K155: 15620938 | L155: 41398690 | M155: 41398690 | N155: 1366031 | O155: 23301294 | P155: 587251.6 | Q155: 72152.708 | R155: 92976.007 | S155: 537818.31 | T155: 75832.381 | U155: 993.9759 | V155: 5.9812065e+08
A156: 1146 - Tysvær kommune | B156: Administrasjon | C156: 0.069133651 | D156: 0.01181 | E156: 0.057323651 | F156: 0.026140913 | G156: 0.042992738 | H156: 0.175 | I156: 0.141 | J156: 415349.91 | K156: 654640.91 | L156: 1317721.8 | M156: 1317721.8 | N156: 161550.22 | O156: 908440.59 | P156: 110479.99 | Q156: 13661.431 | R156: 17503.941 | S156: 17445.1 | T156: 2459.7591 | U156: 38.4168 | V156: 27405939
A157: 1146 - Tysvær kommune | B157: Undervisning | C157: 0.078569593 | D157: 0.01181 | E157: 0.066759593 | F157: 0.028499898 | G157: 0.050069694 | H157: 0.175 | I157: 0.141 | J157: 2821774 | K157: 4278492.9 | L157: 11552866 | M157: 11552866 | N157: 320653.19 | O157: 6779613.7 | P157: 116685.16 | Q157: 14293.054 | R157: 18467.929 | S157: 150050 | T157: 21157.049 | U157: 309.2668 | V157: 1.8656927e+08
A158: 1146 - Tysvær kommune | B158: Barnehager | C158: 0.090204146 | D158: 0.01181 | E158: 0.078394146 | F158: 0.031408536 | G158: 0.058795609 | H158: 0.175 | I158: 0.141 | J158: 1161384.6 | K158: 2063824.7 | L158: 5640119.7 | M158: 5640119.7 | N158: 137838.57 | O158: 3087370.7 | P158: 42470.274 | Q158: 5096.4329 | R158: 6706.9057 | S158: 73238.346 | T158: 10326.607 | U158: 142.5052 | V158: 76852792
A159: 1146 - Tysvær kommune | B159: Helse/pleie/omsorg | C159: 0.096620543 | D159: 0.01181 | E159: 0.084810543 | F159: 0.033012636 | G159: 0.063607907 | H159: 0.175 | I159: 0.141 | J159: 3769720.2 | K159: 7379310.1 | L159: 19560077 | M159: 19560077 | N159: 644463.22 | O159: 10504567 | P159: 276966.88 | Q159: 33833.971 | R159: 43822.92 | S159: 254022.3 | T159: 35817.145 | U159: 406.7843 | V159: 2.4936922e+08
A160: 1146 - Tysvær kommune | B160: Samferdsel og teknikk | C160: 0.068322779 | D160: 0.01181 | E160: 0.056512779 | F160: 0.025938195 | G160: 0.042384584 | H160: 0.175 | I160: 0.141 | J160: 420452.33 | K160: 556124.93 | L160: 1449319.3 | M160: 1449319.3 | N160: 54763.861 | O160: 921813.4 | P160: 25841.884 | Q160: 3358.8997 | R160: 4117.3105 | S160: 18795.589 | T160: 2650.1781 | U160: 45.9085 | V160: 27727372
A161: 1146 - Tysvær kommune | B161: Annet | C161: 0.078770737 | D161: 0.01181 | E161: 0.066960737 | F161: 0.028550184 | G161: 0.050220553 | H161: 0.175 | I161: 0.141 | J161: 457706.07 | K161: 688544.59 | L161: 1878586 | M161: 1878586 | N161: 46761.941 | O161: 1099488.7 | P161: 14807.405 | Q161: 1908.9195 | R161: 2357.0017 | S161: 24266.972 | T161: 3421.643 | U161: 51.0943 | V161: 30196049
A162: 1149 - Karmøy kommune | B162: Alle | C162: 0.08043789 | D162: 0.01181 | E162: 0.06862789 | F162: 0.028966972 | G162: 0.051470917 | H162: 0.175 | I162: 0.141 | J162: 27115155 | K162: 42256030 | L162: 1.1430771e+08 | M162: 1.1430771e+08 | N162: 3115096.1 | O162: 66256089 | P162: 1111853 | Q162: 136546.8 | R162: 176024.37 | S162: 1481745.7 | T162: 208926.15 | U162: 3044.2831 | V162: 1.7934581e+09
A163: 1149 - Karmøy kommune | B163: Administrasjon | C163: 0.055300998 | D163: 0.01181 | E163: 0.043490998 | F163: 0.022682749 | G163: 0.032618248 | H163: 0.175 | I163: 0.141 | J163: 1356819.3 | K163: 1626166.9 | L163: 3287541.5 | M163: 3287541.5 | N163: 397739.78 | O163: 2585246.4 | P163: 270707.89 | Q163: 34133.692 | R163: 42982.664 | S163: 43747.178 | T163: 6168.3521 | U163: 125.98 | V163: 89639621
A164: 1149 - Karmøy kommune | B164: Undervisning | C164: 0.07050813 | D164: 0.01181 | E164: 0.05869813 | F164: 0.026484533 | G164: 0.044023598 | H164: 0.175 | I164: 0.141 | J164: 8188066.3 | K164: 10934663 | L164: 29550075 | M164: 29550075 | N164: 813478.75 | O164: 18309251 | P164: 293139.35 | Q164: 35571.625 | R164: 46348.247 | S164: 384241.48 | T164: 54178.049 | U164: 915.9992 | V164: 5.4166736e+08
A165: 1149 - Karmøy kommune | B165: Barnehager | C165: 0.082259889 | D165: 0.01181 | E165: 0.070449889 | F165: 0.029422472 | G165: 0.052837416 | H165: 0.175 | I165: 0.141 | J165: 1649465.1 | K165: 2594503.1 | L165: 7229784.2 | M165: 7229784.2 | N165: 138431.29 | O165: 4105537 | P165: 24770.611 | Q165: 3079.2731 | R165: 3926.8336 | S165: 93474.649 | T165: 13179.926 | U165: 211.0388 | V165: 1.0910769e+08
A166: 1149 - Karmøy kommune | B166: Helse/pleie/omsorg | C166: 0.09025231 | D166: 0.01181 | E166: 0.07844231 | F166: 0.031420577 | G166: 0.058831732 | H166: 0.175 | I166: 0.141 | J166: 13976565 | K166: 24726081 | L166: 67907141 | M166: 67907141 | N166: 1567775.6 | O166: 37134870 | P166: 442120.77 | Q166: 53784.796 | R166: 69922.685 | S166: 878130.93 | T166: 123816.46 | U166: 1564.4053 | V166: 9.2459307e+08
... A169: 1151 - Utsira kommune | B169: Alle | C169: 0.060655585 | D169: 0.01181 | E169: 0.048845585 | F169: 0.024021396 | G169: 0.036634189 | H169: 0.175 | I169: 0.141 | J169: 412036.44 | K169: 468708.48 | L169: 1174972.7 | M169: 1174972.7 | N169: 57788.195 | O169: 822956.73 | P169: 31238.4 | Q169: 3998.559 | R169: 4968.4113 | S169: 15410.012 | T169: 2172.8117 | U169: 43.1277 | V169: 27214279
A170: 1151 - Utsira kommune | B170: Administrasjon | U170: 8
A171: 1151 - Utsira kommune | B171: Undervisning | C171: 0.073670073 | D171: 0.01181 | E171: 0.061860073 | F171: 0.027275018 | G171: 0.046395054 | H171: 0.175 | I171: 0.141 | J171: 106135.91 | K171: 141619.45 | L171: 377826.43 | M171: 377826.43 | N171: 11757.977 | O171: 235997.38 | P171: 4785.9829 | Q171: 574.31795 | R171: 755.80242 | S171: 4944.6744 | T171: 697.19909 | U171: 10.89 | V171: 7032484.4
A172: 1151 - Utsira kommune | B172: Barnehager | U172: 3.2933
A173: 1151 - Utsira kommune | B173: Helse/pleie/omsorg | C173: 0.069140054 | D173: 0.01181 | E173: 0.057330054 | F173: 0.026142513 | G173: 0.04299754 | H173: 0.175 | I173: 0.141 | J173: 125951.82 | K173: 163700.72 | L173: 439216.92 | M173: 439216.92 | N173: 12971.312 | O173: 276681.23 | P173: 5022.6242 | Q173: 602.7149 | R173: 793.17281 | S173: 5743.0322 | T173: 809.76754 | U173: 13.3104 | V173: 8334538.5
A174: 1151 - Utsira kommune | B174: Samferdsel og teknikk | U174: 4.234
A175: 1151 - Utsira kommune | B175: Annet | U175: 3.4
A176: 1160 - Vindafjord kommune | B176: Alle | C176: 0.074112513 | D176: 0.01181 | E176: 0.062302513 | F176: 0.027385628 | G176: 0.046726884 | H176: 0.175 | I176: 0.141 | J176: 5944931.6 | K176: 8338270.5 | L176: 22618475 | M176: 22618475 | N176: 599084.03 | O176: 13684118 | P176: 206969.67 | Q176: 25469.713 | R176: 32773.952 | S176: 292612.36 | T176: 41258.342 | U176: 662.11643 | V176: 3.9281506e+08
A177: 1160 - Vindafjord kommune | B177: Administrasjon | C177: 0.04981106 | D177: 0.01181 | E177: 0.03800106 | F177: 0.021310265 | G177: 0.028500795 | H177: 0.175 | I177: 0.141 | J177: 370425.19 | K177: 349543.65 | L177: 779199.82 | M177: 779199.82 | N177: 67357.781 | O177: 652611.06 | P177: 43514.652 | Q177: 5292.5314 | R177: 6881.8128 | S177: 10226.805 | T177: 1441.9795 | U177: 35.24 | V177: 24456935
A178: 1160 - Vindafjord kommune | B178: Undervisning | C178: 0.060699287 | D178: 0.01181 | E178: 0.048889287 | F178: 0.024032322 | G178: 0.036666965 | H178: 0.175 | I178: 0.141 | J178: 1791627.3 | K178: 1975401.4 | L178: 5388178.1 | M178: 5388178.1 | N178: 134506.51 | O178: 3632522.1 | P178: 42675.469 | Q178: 5342.3107 | R178: 6770.5069 | S178: 69866.978 | T178: 9851.2439 | U178: 201.1545 | V178: 1.1843321e+08
A179: 1160 - Vindafjord kommune | B179: Barnehager | C179: 0.079854892 | D179: 0.01181 | E179: 0.068044892 | F179: 0.028821223 | G179: 0.051033669 | H179: 0.175 | I179: 0.141 | J179: 525902.52 | K179: 797039.75 | L179: 2234497.5 | M179: 2234497.5 | N179: 39155.435 | O179: 1283786.8 | P179: 4859.7575 | Q179: 583.1709 | R179: 767.45291 | S179: 28873.842 | T179: 4071.2117 | U179: 68.4132 | V179: 34800974
A180: 1160 - Vindafjord kommune | B180: Helse/pleie/omsorg | C180: 0.088238035 | D180: 0.01181 | E180: 0.076428035 | F180: 0.030917009 | G180: 0.057321026 | H180: 0.175 | I180: 0.141 | J180: 2647699.7 | K180: 4579387.2 | L180: 12455425 | M180: 12455425 | N180: 320684.26 | O180: 6906402.7 | P180: 106983.89 | Q180: 13107.919 | R180: 16932.946 | S180: 160963.63 | T180: 22695.872 | U180: 290.64443 | V180: 1.7493246e+08
A181: 1160 - Vindafjord kommune | B181: Samferdsel og teknikk | C181: 0.047720524 | D181: 0.01181 | E181: 0.035910524 | F181: 0.020787631 | G181: 0.026932893 | H181: 0.175 | I181: 0.141 | J181: 304243.7 | K181: 247107.41 | L181: 656615.77 | M181: 656615.77 | N181: 21176.614 | O181: 530174.49 | P181: 8907.3235 | Q181: 1139.6948 | R181: 1416.6296 | S181: 8512.6788 | T181: 1200.2877 | U181: 31.2 | V181: 20056466
...
