Workbook

Sheet 1. Introduksjon og veiledning
A1: Introduksjon og veiledning til Lærlingkalkulatoren
A3: 1 | B3: Innledning og grunnleggende premisser i Lærlingkalkulatoren
B5: Lærlingkalkulatoren er et beregningsverktøy utviklet for å gi kommuner et beslutningsgrunnlag ved planlegging av tilbud om læreplasser. Målet er å øke bevisstheten om lærlingenes bidrag til verdiskaping i kommunen, samt å gi en samlet oversikt over kostnadene ved å tilby læreplasser.
B6: Kalkulatoren tallfester lærlingenes bidrag til verdiskaping, definert som den tiden lærlingene jobber selvstendig i løpet av læretiden (tilsvarende læretidens verdiskapingsdel). Det legges til grunn at lærlinger jobber selvstendig som erstatning for annen bemanning.
B7: Lærlingenes verdiskaping er verdsatt tilsvarende som at en fagarbeider skulle utføre det samme arbeidet, jf. at verdiskaping i offentlig sektor måles som summen av lønnskostnadene i nasjonalregnskapet. Beregning av lærlingenes verdiskapinsbidrag gjøres derfor med følgende formel:
B8: Verdiskapingsbidrag = Antall timer lærlingene jobber selvstendig * Lønnskostnad per time for en fagarbeider
B10: På kostnadssiden sammenstiller verktøyet lønnskostnader for læringer, eventuelle kostnader til samarbeidsorgan (opplæringskontor) og instruktører/veileder, samt kommunens øvrige administrative kostnader. På verdiskapingssiden sammenstilles basistilskudd og eventuelle andre tilskudd kommunen får som lærebedrift og verdsettingen av lærlingenes verdiskapingsbidrag.
B11: Kommuner kan ha andre gevinster ved å være lærebedrift ut over lærlingens selvstendige arbeid, som ikke fanges opp av verktøyet. Lærlingkalkulatoren må derfor brukes som et supplement til andre beslutningsgrunnlag i vurderinger av lærlinginntaket.
B12: Mer utfyllende informasjon og analyse av verdiskapingsbidrag, tilskudd og kostnader forbundet med inntak av lærlinger i kommunal sektor finnes i rapporten: SØA (2025) Kostnader og verdiskaping i lærlingordningen i kommunal sektor.
A14: 2 | B14: Informasjon som hentes ut av Lærlingkalkulatoren
B16: Resultatene fra Lærlingkalkulatoren er oppsummert i Resultat-arket. Her finner du tre sentrale resultater:
B18: 1 | C18: Kommunens kostnader til lærlingordningen
B20: 2 | C20: Lærlingenes verdiskapingsbidrag og tilskudd kommunen får
B22: 3 | C22: Resultat
A25: 3 | B25: Veiledning for bruk av Lærlingkalkulatoren
B27: Du skal kun fylle ut informasjon i hvite celler i ark "2. Brukerinput". Under beskriver vi mer i detalj hvilken informasjon du skal fylle ut. Resultatberegningene i ark 3 gjøres automatisk basert på din input i disse cellene.
B29: 1 | C29: Type og antall lærekontrakter
C30: Her skal du spesifisere hvilket fagbrev lærlingene skal ta, samt antall lærlinger og lengde på lærekontraktene.
C32: Merk! Kalkulatoren lager beregninger for en gruppe av lærlinger som har like vilkår i sine kontrakter. Dersom kommunen skal ta inn ulike grupper av lærlinger (f.eks. både lærlinger med ungdomsrett og lærlinger uten ungdomsrett), må du lage en beregning for hver gruppe. Det vil si at du må lage en kopi av Excel-filen for hver gruppe.
B34: 2 | C34: Kostnader ved inntak av lærlinger
C36: 2.1 | D36: Lærlingenes lønn
D37: Lærlingkalkulatoren forutsetter at lærlingene får lønn målt som andel av garantilønn for en fagarbeider. Du skal derfor først legge inn gjeldende garantilønn for fagarbeidere som lærlingenes lønn beregnes ut fra. Dersom lærlingen har rett på tillegg (f.eks. for kveldsarbeid), må du legge inn anslag på hvor mye tillegget i gjennomsnitt utgjør av lønnen. I tabellen legger du inn informasjon om hvor stor andel av en fagarbeiderlønn lærlingene har i hvert halvår. I mange kommuner er det progresjon i lønnsnivået gjennom læretiden, mens andre har valgt å ha en flat lønn gjennom hele læretiden.
C39: 2.2 | D39: Kompensasjon til veiledere/instruktører
D40: Her skal du fylle ut informasjon dersom kommunen gir kompensasjon til ansatte som påtar seg roller som veiledere/instruktører for lærlinger. Slik kompensasjon kan for eksempel være funksjonstillegg.
D41: Hvis kommunen ikke gir kompensasjon, velg "Nei" i første celle.
C43: 2.3 | D43: Administrative kostnader i lærlingordningen
D44: Denne delen brukes til å beregne kommunens administrative kostnader til inntak og oppfølging av lærlingene.
D45: Først skal du svare på om kommunen er medlem i samarbeidsorgan (opplæringskontor). Hvis ja, forutsetter beregningen at samarbeidorganet tar betalt en andel av det basistilskuddet kommunen får som lærebedrift. Du legger inn andelen som gjelder for dere.
D46: Deretter må du gi et anslag på kommunens øvrige administrasjonskostnader. Disse kan for eksempel være knyttet til stillingsutlysninger, lærlingkoordinator, kurs til veiledere mv. For kommuner som ikke bruker opplæringskontor skal anslaget på kommunens administrative kostnader omfatte de oppgavene som samarbeidsorganet (opplæringskontoret) ellers ville utført.
C48: 2.4 | D48: Andre kjennetegn ved kommunen og kontraktene
D49: For å beregne lønnskostnader trenger modellen informasjon om satser for henholdsvis arbeidsgiveravgift og feriepenger, hvor mye som avsettes til pensjon og betaling av forskringer. Denne informasjonen fylles inn her.
B51: 3 | C51: Verdiskapingsbidrag og tilskudd
C53: 3.1 | D53: Lærlingenes verdiskapingsbidrag
D54: Først skal du legge inn hvordan lærlingenes verdiskapingstid skal verdsettes. I eksempelet er verdsettingen satt lik garantilønnen for en fagarbeider. Dersom lærlingene inngår i ordinær turnus og det selvstendige arbeidet tilsvarer det en gjennomsnittlig fagarbeider på enheten utfører, kan gjennomsnittlig lønn for fagarbeidere i enheten være en annen aktuell verdsetting. Ved endring av forutsetning: Legg inn lønn inkludert eventuelle tillegg, men uten feriepenger, arbeidsgiveravgift og andre sosiale kostnader. I tabellen må du legge inn anslag på hvor stor andel av tiden lærlingene i gjennomsnitt jobber selvstendig. Dette anslaget utgjør verdiskapingsdelen av læretiden. Merk at lærlinger kan jobbe selvstendig og bidra til verdiskaping, også når de kommer i tillegg til grunnbemanningen.
C56: 3.2 | D56: Tilskudd til kommunen
D57: Her skal du fylle inn informasjon om tilskuddene kommunen får som lærebedrift.
D58: Alle organisasjoner som tegner lære- eller opplæringskontrakt har rett på basistilskudd. Tilskuddet varierer med type og lengde på kontrakten. Gjeldende tilskuddssatser finnes på Udir sine hjemmesider:
D59: https://www.udir.no/om-udir/tilskudd-og-prosjektmidler/tilskuddssatser/
D60: Det finnes også andre tilskuddsmidler til organisasjoner som tar inn lærlinger, for eksempel ekstratilskudd for oppfølging av lærlinger og lærekandidater med ekstra behov. Dersom det er aktuelt å søke ektra tilskudd kan du legge inn informasjon om disse i raden som heter "Andre tilskudd".
B63: Tilpasning av Lærlingkalkulatoren for kontrakter som varer lenger enn tre år.
B64: Dersom kommunen har kontrakter som varer lenger enn tre år må verktøyet tilpasses. Klikk på pluss-tegnet til venstre for framgangsmåte.
C65: Beregningsverktøyet er satt opp for å beregne verdiskapingsbidrag og kostnader for kontrakter med varighet på opptil tre år. Dersom du vil gjøre beregninger for kontrakter med lenger varighet, så må du gjøre tilpasninger i beregningsverktøyet. Først må du gå inn i ark 2. Brukerinput. Her må du gjøre tilpasninger alle steder der det er en tabell som spesifiserer forutsetninger om hvert halvår, dette gjelder under; 2.1 Lærlingenes lønn og 3.1 Lærlingenes verdiskapingsbidrag. For å beregne for lenger kontrakter, må du legge inn ny rader i tabellene. Det gjør du på følgende måte: 1. Marker hele rad 38. 2. Høyreklikk og velg "Sett inn". 3. Gjenta steg 2 så du får riktig antall rader i henhold til kontraktens lengde. 4. Skriv inn nummerering under halvår 5. For alle kolonner i tabellen: Velg halvår 6 -> Høyreklikk, velg kopier -> Lim inn i de nye radene i samme kolonne. 6. Juster formlene i total-raden i tabellen, sånn at den inkluderer alle rader i tabellen. Gjenta steg 1-6 med utgangspunkt i rad 86, for å justere tabellen som ligger under 3.1 Lærlingenes verdiskapingsbidrag. For at beregningen av lønnskostnader og verdiskapingsbidrag skal bli riktig må du gjøre følgende: 1. Høyreklikk på ark 1. Introduksjon og veiledning -> Velg "Vis". 2. Velg at arket "Beregning av lønnskostnader" skal vises. 3. I arket "Beregning av lønnskostnader" må du gjenta steg 1-6 i beskrivelsen over for hver av tabellene. Utgangspunktet er linje 12 og 24. Siste steg er å justere tabellene i 3. Resultater på samme måte som i steg 1-6 over, med utgangspunkt i følgende rader: 15, 29 og 42.

Sheet 2. Brukerinput
A1: Forutsetninger for beregningene | K1: Ja
B2: Merk! Du skal kun fylle ut informasjon i hvite celler. | K2: Nei
A4: 1 | B4: Type lærefag og antall lærekontrakter
B5: Her skal du skrive inn type lærefag og antall lærekontrakter, samt lærekontraktens varighet.
B6: Kalkulatoren kan gjøre beregninger for et ubegrenset antall lærlinger med samme vilkår. Hvis kommunen skal ta inn lærlinger med ulike kontrakter må det gjøres en separat beregning for hver gruppe.
B8: Type lærefag | C8: Helsearbeiderfaget
B9: Antall lærekontrakter | C9: 1
B11: Kontraktens varighet (antall halvår) | C11: 4
A15: 2 | B15: Kostnader ved inntak av lærlinger
A18: 2.1 | B18: Lærlingenes lønn
B19: Lærlingkalkulatoren legger til grunn at lærlinger får lønn som andel av garantilønn for fagarbeidere i kommunen. Hvis lærlingene har rett på tillegg, må du legge inn et anslag på hvor mye tilleggene utgjør av lønnen. I tabellen må du legge inn informasjon om lærlingenes lønn som andel av garantilønn for fagarbeidere i hvert halvår. Merk at beregningen i tabellen beregner lønnskostnader, inkludert feriepenger, arbeidsgiveravgift, pensjon og forsikring.
B21: Garantilønn for fagarbeider | C21: 437300
B22: Har lærlingen rett på tillegg? (f.eks. kvelds- og nattillegg) | C22: Ja
B23: Tillegg som andel av lønn | C23: 0.15
B24: Beregningsgrunnlag for lærlinglønn, inkl. tillegg | C24: =IF(C22="Ja",C21*(1+C23),C21) -> 502895
C26: Lærlingenes lønn
B27: Halvår | C27: Andel av garantilønn for fagarbeider | D27: Kroner
B28: 1 | C28: 0.3 | D28: ='Beregning av lønnskostnader'!H6 -> 99407.622
B29: 2 | C29: 0.4 | D29: ='Beregning av lønnskostnader'!H7 -> 132043.5
B30: 3 | C30: 0.5 | D30: ='Beregning av lønnskostnader'!H8 -> 164679.37
B31: 4 | C31: 0.8 | D31: ='Beregning av lønnskostnader'!H9 -> 262586.99
B32: 5 | D32: ='Beregning av lønnskostnader'!H10 -> 0
B33: 6 | D33: ='Beregning av lønnskostnader'!H11 -> 0
B34: Totalt | C34: =AVERAGE(C28:C33) -> 0.5 | D34: =SUM(D28:D33) -> 658717.48
A38: 2.2 | B38: Kompensasjon til veiledere/instruktører
B39: Dersom kommunen gir kompensasjon (f.eks. funksjonstillegg) til veiledere/instruktører, legges dette inn her.
B42: Får instruktører/veiledere funksjonstillegg eller annen kompensasjon? | C42: Ja
B43: Antall instruktører/veiledere som får kompensasjon | C43: 1
B44: Kompensasjon per instruktør, per år | C44: 10000
A48: 2.3 | B48: Administrative kostnader i lærlingordningen
B49: Dersom kommunen er medlem av et samarbeidsorgan/opplæringskontor, angi hvor stor andel av basistilskuddet som går til samarbeidsorganet/opplæringskontoret. Ut over det må du anslå et samlet omfang av kommunens egne administrasjonskostnader knyttet til inntak og oppfølging av lærlinger per år.
B51: Er kommunen medlem i et samarbeidsorgan? | C51: Ja
B52: Andel av basistilskuddet som betales til samarbeidsorganet | C52: 0.35
B55: Anslå kommunens øvrige administrasjonskostnader (per år) | C55: 15000
A59: 2.4 | B59: Andre kjennetegn ved kommunen og kontraktene
B60: Fyll ut andre kjennetegn ved kommunen. Disse brukes for å beregne lønnskostnader.
B62: Sats for arbeidsgiveravgift | C62: 0.141
B63: Sats for feriepenger | C63: 0.12
B64: Pensjon | C64: 0.02
B65: Forsikring | C65: 3000
A68: 3 | B68: Verdiskapingsbidrag og tilskudd
A72: 3.1 | B72: Lærlingenes verdiskapingsbidrag
B73: Lærlingenes verdiskapingsbidrag beregnes med den tiden lærlingene jobber selvstendig. Det selvstendige arbeidet verdsettes med lønnskostnaden for en fagarbeider. Antakelsen er at lærlingene i verdiskapingsdelen av læretiden gjør oppgaver på linje med andre fagarbeidere på arbeidsplassen. Kalkulatoren bruker beregningsgrunnlaget for garantilønn for fagarbeidere som et utgangspunkt, jf. punkt 2.1 over. Et annet relevant sammenligningsgrunnlag kan være gjennomsnittslønnen for fagarbeidere på enheten der lærlingen jobber. Legg i så fall inn lønn inkludert eventuelle tillegg, men uten feriepenger, arbeidsgiveravgift mv. Høyere verdsetting/lønn vil øke lærlingenes beregnede verdiskapingsbidrag.
B75: Verdsetting av lærlingenes verdiskaping | C75: =C24 -> 502895
C78: Lærlingenes verdiskapingsbidrag
B79: Halvår | C79: Andel av tiden lærlingene jobber selvstendig | D79: Kroner
B80: 1 | C80: 0.3 | D80: ='Beregning av lønnskostnader'!H18 -> 99407.622
B81: 2 | C81: 0.4 | D81: ='Beregning av lønnskostnader'!H19 -> 132043.5
B82: 3 | C82: 0.5 | D82: ='Beregning av lønnskostnader'!H20 -> 164679.37
B83: 4 | C83: 0.8 | D83: ='Beregning av lønnskostnader'!H21 -> 262586.99
B84: 5 | D84: ='Beregning av lønnskostnader'!H22 -> 0
B85: 6 | D85: ='Beregning av lønnskostnader'!H23 -> 0
B86: Totalt | C86: =AVERAGE(C80:C85) -> 0.5 | D86: =SUM(D80:D85) -> 658717.48
A89: 3.2 | B89: Tilskudd til kommunen
B90: Som lærebedrift får kommunen basistilskudd per lærekontrakt. Basistilskuddet varierer med type kontrakt. Lærebedrifter kan også søke om andre tilskudd til lærlinger.
B91: Tall om basistilskudd kan hentes fra Udir sine hjemmesider:
B92: https://www.udir.no/om-udir/tilskudd-og-prosjektmidler/tilskuddssatser/
B94: Type tilskudd | C94: Per måned | D94: Totalt i læretiden
B95: BasistilskuddHovedmodell (2+2) | C95: 7328 | D95: =C95*$C$11*6 -> 175872
B96: Andre tilskudd (per lærling) | C96: 0 | D96: =C96*$C$11*6 -> 0
B97: Totalt | C97: =SUM(C95:C96) -> 7328 | D97: =SUM(D95:D96) -> 175872

Sheet 3. Resultater
A1: Resultater
A4: 1 | B4: Kommunens kostnader til lærlingordningen
B5: Denne delen viser en oppsummering av kommunens kostnader til lærlingordningen. Beregningen inkluderer lønnskostnader og ander kostnader, men også tilskudd kommunen får som lærebedrift. Merk at beregnede lønnskostnader inkluderer feriepenger, arbeidsgiveravgift, pensjon og forsikring.
B6: Ettersom de fleste lærlinger starter på høsten, vil halvårene fordeles på ulike budsjettår for kommunen. Første halvår vil være budsjettår 1, andre og tredje halvår vil i hovedsak være budsjettår 2 og fjerde halvår vil være budsjettår 3.
B8: Halvår | C8: Lønnskostnad til lærlinger | D8: Kompensasjon til instruktører | E8: Kostnader til samarbeidsorgan | F8: Kommunens administrasjonskostnader | G8: Totale kostnader
B9: 1 | C9: ='Beregning av lønnskostnader'!H6*'2. Brukerinput'!$C$9 -> 99407.622 | D9: =IF('2. Brukerinput'!$C$42="Ja",IF(C9>0,'2. Brukerinput'!$C$43*'2. Brukerinput'!$C$44/2,0),0) -> 5000 | E9: =IF(B9<'2. Brukerinput'!$C$11+1,IF('2. Brukerinput'!$C$51="Ja",'2. Brukerinput'!$C$52*'2. Brukerinput'!$C$95*6*'2. Brukerinput'!$C$9,0),0) -> 15388.8 | F9: =IF(B9<'2. Brukerinput'!$C$11+1,'2. Brukerinput'!$C$55/2,0) -> 7500 | G9: =SUM(C9:F9) -> 127296.42
B10: 2 | C10: ='Beregning av lønnskostnader'!H7*'2. Brukerinput'!$C$9 -> 132043.5 | D10: =IF('2. Brukerinput'!$C$42="Ja",IF(C10>0,'2. Brukerinput'!$C$43*'2. Brukerinput'!$C$44/2,0),0) -> 5000 | E10: =IF(B10<'2. Brukerinput'!$C$11+1,IF('2. Brukerinput'!$C$51="Ja",'2. Brukerinput'!$C$52*'2. Brukerinput'!$C$95*6*'2. Brukerinput'!$C$9,0),0) -> 15388.8 | F10: =IF(B10<'2. Brukerinput'!$C$11+1,'2. Brukerinput'!$C$55/2,0) -> 7500 | G10: =SUM(C10:F10) -> 159932.3
B11: 3 | C11: ='Beregning av lønnskostnader'!H8*'2. Brukerinput'!$C$9 -> 164679.37 | D11: =IF('2. Brukerinput'!$C$42="Ja",IF(C11>0,'2. Brukerinput'!$C$43*'2. Brukerinput'!$C$44/2,0),0) -> 5000 | E11: =IF(B11<'2. Brukerinput'!$C$11+1,IF('2. Brukerinput'!$C$51="Ja",'2. Brukerinput'!$C$52*'2. Brukerinput'!$C$95*6*'2. Brukerinput'!$C$9,0),0) -> 15388.8 | F11: =IF(B11<'2. Brukerinput'!$C$11+1,'2. Brukerinput'!$C$55/2,0) -> 7500 | G11: =SUM(C11:F11) -> 192568.17
B12: 4 | C12: ='Beregning av lønnskostnader'!H9*'2. Brukerinput'!$C$9 -> 262586.99 | D12: =IF('2. Brukerinput'!$C$42="Ja",IF(C12>0,'2. Brukerinput'!$C$43*'2. Brukerinput'!$C$44/2,0),0) -> 5000 | E12: =IF(B12<'2. Brukerinput'!$C$11+1,IF('2. Brukerinput'!$C$51="Ja",'2. Brukerinput'!$C$52*'2. Brukerinput'!$C$95*6*'2. Brukerinput'!$C$9,0),0) -> 15388.8 | F12: =IF(B12<'2. Brukerinput'!$C$11+1,'2. Brukerinput'!$C$55/2,0) -> 7500 | G12: =SUM(C12:F12) -> 290475.79
B13: 5 | C13: ='Beregning av lønnskostnader'!H10*'2. Brukerinput'!$C$9 -> 0 | D13: =IF('2. Brukerinput'!$C$42="Ja",IF(C13>0,'2. Brukerinput'!$C$43*'2. Brukerinput'!$C$44/2,0),0) -> 0 | E13: =IF(B13<'2. Brukerinput'!$C$11+1,IF('2. Brukerinput'!$C$51="Ja",'2. Brukerinput'!$C$52*'2. Brukerinput'!$C$95*6*'2. Brukerinput'!$C$9,0),0) -> 0 | F13: =IF(B13<'2. Brukerinput'!$C$11+1,'2. Brukerinput'!$C$55/2,0) -> 0 | G13: =SUM(C13:F13) -> 0
B14: 6 | C14: ='Beregning av lønnskostnader'!H11*'2. Brukerinput'!$C$9 -> 0 | D14: =IF('2. Brukerinput'!$C$42="Ja",IF(C14>0,'2. Brukerinput'!$C$43*'2. Brukerinput'!$C$44/2,0),0) -> 0 | E14: =IF(B14<'2. Brukerinput'!$C$11+1,IF('2. Brukerinput'!$C$51="Ja",'2. Brukerinput'!$C$52*'2. Brukerinput'!$C$95*6*'2. Brukerinput'!$C$9,0),0) -> 0 | F14: =IF(B14<'2. Brukerinput'!$C$11+1,'2. Brukerinput'!$C$55/2,0) -> 0 | G14: =SUM(C14:F14) -> 0
B15: Totalt | C15: =SUM(C9:C14) -> 658717.48 | D15: =SUM(D9:D14) -> 20000 | E15: =SUM(E9:E14) -> 61555.2 | F15: =SUM(F9:F14) -> 30000 | G15: =SUM(G9:G14) -> 770272.68
A18: 2 | B18: Lærlingenes verdiskapingsbidrag og tilskudd kommunen får
B19: Denne delen viser en oppsummering av lærlingens bidrag til verdiskaping i kommunen og tilskudd kommunen mottar som lærebedrift.
B20: Lærlingene bidrar til kommunens verdiskaping når de jobber selvstendig, enten det er i tillegg til eller som en del av grunnbemanning.
B22: Halvår | C22: Verdiskapingsbidrag | D22: Basistilskudd | E22: Andre tilskudd | F22: Verdiskapingsbidrag og tilskudd til kommunen
B23: 1 | C23: ='Beregning av lønnskostnader'!H18*'2. Brukerinput'!$C$9 -> 99407.622 | D23: =IF(B23<'2. Brukerinput'!$C$11+1,'2. Brukerinput'!$C$95*6*'2. Brukerinput'!$C$9-E9,0) -> 28579.2 | E23: =IF(B9<'2. Brukerinput'!$C$11+1,'2. Brukerinput'!$C$96*6*'2. Brukerinput'!$C$9,0) -> 0 | F23: =SUM(C23:E23) -> 127986.82
B24: 2 | C24: ='Beregning av lønnskostnader'!H19*'2. Brukerinput'!$C$9 -> 132043.5 | D24: =IF(B24<'2. Brukerinput'!$C$11+1,'2. Brukerinput'!$C$95*6*'2. Brukerinput'!$C$9-E10,0) -> 28579.2 | E24: =IF(B10<'2. Brukerinput'!$C$11+1,'2. Brukerinput'!$C$96*6*'2. Brukerinput'!$C$9,0) -> 0 | F24: =SUM(C24:E24) -> 160622.7
B25: 3 | C25: ='Beregning av lønnskostnader'!H20*'2. Brukerinput'!$C$9 -> 164679.37 | D25: =IF(B25<'2. Brukerinput'!$C$11+1,'2. Brukerinput'!$C$95*6*'2. Brukerinput'!$C$9-E11,0) -> 28579.2 | E25: =IF(B11<'2. Brukerinput'!$C$11+1,'2. Brukerinput'!$C$96*6*'2. Brukerinput'!$C$9,0) -> 0 | F25: =SUM(C25:E25) -> 193258.57
B26: 4 | C26: ='Beregning av lønnskostnader'!H21*'2. Brukerinput'!$C$9 -> 262586.99 | D26: =IF(B26<'2. Brukerinput'!$C$11+1,'2. Brukerinput'!$C$95*6*'2. Brukerinput'!$C$9-E12,0) -> 28579.2 | E26: =IF(B12<'2. Brukerinput'!$C$11+1,'2. Brukerinput'!$C$96*6*'2. Brukerinput'!$C$9,0) -> 0 | F26: =SUM(C26:E26) -> 291166.19
B27: 5 | C27: ='Beregning av lønnskostnader'!H22*'2. Brukerinput'!$C$9 -> 0 | D27: =IF(B27<'2. Brukerinput'!$C$11+1,'2. Brukerinput'!$C$95*6*'2. Brukerinput'!$C$9-E13,0) -> 0 | E27: =IF(B13<'2. Brukerinput'!$C$11+1,'2. Brukerinput'!$C$96*6*'2. Brukerinput'!$C$9,0) -> 0 | F27: =SUM(C27:E27) -> 0
B28: 6 | C28: ='Beregning av lønnskostnader'!H23*'2. Brukerinput'!$C$9 -> 0 | D28: =IF(B28<'2. Brukerinput'!$C$11+1,'2. Brukerinput'!$C$95*6*'2. Brukerinput'!$C$9-E14,0) -> 0 | E28: =IF(B14<'2. Brukerinput'!$C$11+1,'2. Brukerinput'!$C$96*6*'2. Brukerinput'!$C$9,0) -> 0 | F28: =SUM(C28:E28) -> 0
B29: Totalt | C29: =SUM(C23:C28) -> 658717.48 | D29: =SUM(D23:D28) -> 114316.8 | E29: =SUM(E23:E28) -> 0 | F29: =SUM(C29:E29) -> 773034.28
A32: 3 | B32: Resultat
B33: Denne delen sammenstiller de totale kostnadene med beregnet verdiskapingsbidrag og tilskuddene kommunen får. Netto verdiskapingsbidrag er lik verdiskapingsbidrag og tilskudd minus totale kostnader
B35: Halvår | C35: Totale kostnader | D35: Verdiskapingsbidrag og tilskudd | E35: Netto verdiskapingsbidrag
B36: 1 | C36: =G9 -> 127296.42 | D36: =F23 -> 127986.82 | E36: =D36-C36 -> 690.4
B37: 2 | C37: =G10 -> 159932.3 | D37: =F24 -> 160622.7 | E37: =D37-C37 -> 690.4
B38: 3 | C38: =G11 -> 192568.17 | D38: =F25 -> 193258.57 | E38: =D38-C38 -> 690.4
B39: 4 | C39: =G12 -> 290475.79 | D39: =F26 -> 291166.19 | E39: =D39-C39 -> 690.4
B40: 5 | C40: =G13 -> 0 | D40: =F27 -> 0 | E40: =D40-C40 -> 0
B41: 6 | C41: =G14 -> 0 | D41: =F28 -> 0 | E41: =D41-C41 -> 0
B42: Totalt | C42: =G15 -> 770272.68 | D42: =F29 -> 773034.28 | E42: =D42-C42 -> 2761.6
B61: Trykk på diagrammet og juster det blå området i tabellen for å inkludere flere halvår

Sheet Beregning av lønnskostnader
A1: Beregner lønnskostnader for lærlingene
B3: For lærlingene
B5: Halvår | C5: Lønn | D5: Feriepenger | E5: Arbeidsgiveravgift av lønn og feriepenger | F5: Pensjon | G5: Forsikring | H5: Lønnskostnad
B6: 1 | C6: ='2. Brukerinput'!$C$24/2*'2. Brukerinput'!C28 -> 75434.25 | D6: =C6*'2. Brukerinput'!$C$63 -> 9052.11 | E6: ='2. Brukerinput'!$C$62*SUM('Beregning av lønnskostnader'!C6:D6) -> 11912.577 | F6: =$C6*'2. Brukerinput'!$C$64 -> 1508.685 | G6: =IF(C6>0,'2. Brukerinput'!$C$65/2,0) -> 1500 | H6: =SUM(C6:G6) -> 99407.622
B7: 2 | C7: ='2. Brukerinput'!$C$24/2*'2. Brukerinput'!C29 -> 100579 | D7: =C7*'2. Brukerinput'!$C$63 -> 12069.48 | E7: ='2. Brukerinput'!$C$62*SUM('Beregning av lønnskostnader'!C7:D7) -> 15883.436 | F7: =$C7*'2. Brukerinput'!$C$64 -> 2011.58 | G7: =IF(C7>0,'2. Brukerinput'!$C$65/2,0) -> 1500 | H7: =SUM(C7:G7) -> 132043.5
B8: 3 | C8: ='2. Brukerinput'!$C$24/2*'2. Brukerinput'!C30 -> 125723.75 | D8: =C8*'2. Brukerinput'!$C$63 -> 15086.85 | E8: ='2. Brukerinput'!$C$62*SUM('Beregning av lønnskostnader'!C8:D8) -> 19854.295 | F8: =$C8*'2. Brukerinput'!$C$64 -> 2514.475 | G8: =IF(C8>0,'2. Brukerinput'!$C$65/2,0) -> 1500 | H8: =SUM(C8:G8) -> 164679.37
B9: 4 | C9: ='2. Brukerinput'!$C$24/2*'2. Brukerinput'!C31 -> 201158 | D9: =C9*'2. Brukerinput'!$C$63 -> 24138.96 | E9: ='2. Brukerinput'!$C$62*SUM('Beregning av lønnskostnader'!C9:D9) -> 31766.871 | F9: =$C9*'2. Brukerinput'!$C$64 -> 4023.16 | G9: =IF(C9>0,'2. Brukerinput'!$C$65/2,0) -> 1500 | H9: =SUM(C9:G9) -> 262586.99
B10: 5 | C10: ='2. Brukerinput'!$C$24/2*'2. Brukerinput'!C32 -> 0 | D10: =C10*'2. Brukerinput'!$C$63 -> 0 | E10: ='2. Brukerinput'!$C$62*SUM('Beregning av lønnskostnader'!C10:D10) -> 0 | F10: =$C10*'2. Brukerinput'!$C$64 -> 0 | G10: =IF(C10>0,'2. Brukerinput'!$C$65/2,0) -> 0 | H10: =SUM(C10:G10) -> 0
B11: 6 | C11: ='2. Brukerinput'!$C$24/2*'2. Brukerinput'!C33 -> 0 | D11: =C11*'2. Brukerinput'!$C$63 -> 0 | E11: ='2. Brukerinput'!$C$62*SUM('Beregning av lønnskostnader'!C11:D11) -> 0 | F11: =$C11*'2. Brukerinput'!$C$64 -> 0 | G11: =IF(C11>0,'2. Brukerinput'!$C$65/2,0) -> 0 | H11: =SUM(C11:G11) -> 0
B12: Totalt | C12: =SUM(C6:C11) -> 502895 | D12: =SUM(D6:D11) -> 60347.4 | E12: =SUM(E6:E11) -> 79417.178 | F12: =SUM(F6:F11) -> 10057.9 | G12: =SUM(G6:G11) -> 6000 | H12: =SUM(H6:H11) -> 658717.48
B15: For verdsetting av lærlingenes verdiskapingsbidrag
B17: Halvår | C17: Lønn | D17: Feriepenger | E17: Arbeidsgiveravgift av lønn og feriepenger | F17: Pensjon | G17: Forsikring | H17: Lønnskostnad
B18: 1 | C18: ='2. Brukerinput'!$C$75/2*'2. Brukerinput'!C80 -> 75434.25 | D18: =C18*'2. Brukerinput'!$C$63 -> 9052.11 | E18: ='2. Brukerinput'!$C$62*SUM('Beregning av lønnskostnader'!C18:D18) -> 11912.577 | F18: =$C18*'2. Brukerinput'!$C$64 -> 1508.685 | G18: =IF(C18>0,'2. Brukerinput'!$C$65/2,0) -> 1500 | H18: =SUM(C18:G18) -> 99407.622
B19: 2 | C19: ='2. Brukerinput'!$C$75/2*'2. Brukerinput'!C81 -> 100579 | D19: =C19*'2. Brukerinput'!$C$63 -> 12069.48 | E19: ='2. Brukerinput'!$C$62*SUM('Beregning av lønnskostnader'!C19:D19) -> 15883.436 | F19: =$C19*'2. Brukerinput'!$C$64 -> 2011.58 | G19: =IF(C19>0,'2. Brukerinput'!$C$65/2,0) -> 1500 | H19: =SUM(C19:G19) -> 132043.5
B20: 3 | C20: ='2. Brukerinput'!$C$75/2*'2. Brukerinput'!C82 -> 125723.75 | D20: =C20*'2. Brukerinput'!$C$63 -> 15086.85 | E20: ='2. Brukerinput'!$C$62*SUM('Beregning av lønnskostnader'!C20:D20) -> 19854.295 | F20: =$C20*'2. Brukerinput'!$C$64 -> 2514.475 | G20: =IF(C20>0,'2. Brukerinput'!$C$65/2,0) -> 1500 | H20: =SUM(C20:G20) -> 164679.37
B21: 4 | C21: ='2. Brukerinput'!$C$75/2*'2. Brukerinput'!C83 -> 201158 | D21: =C21*'2. Brukerinput'!$C$63 -> 24138.96 | E21: ='2. Brukerinput'!$C$62*SUM('Beregning av lønnskostnader'!C21:D21) -> 31766.871 | F21: =$C21*'2. Brukerinput'!$C$64 -> 4023.16 | G21: =IF(C21>0,'2. Brukerinput'!$C$65/2,0) -> 1500 | H21: =SUM(C21:G21) -> 262586.99
B22: 5 | C22: ='2. Brukerinput'!$C$75/2*'2. Brukerinput'!C84 -> 0 | D22: =C22*'2. Brukerinput'!$C$63 -> 0 | E22: ='2. Brukerinput'!$C$62*SUM('Beregning av lønnskostnader'!C22:D22) -> 0 | F22: =$C22*'2. Brukerinput'!$C$64 -> 0 | G22: =IF(C22>0,'2. Brukerinput'!$C$65/2,0) -> 0 | H22: =SUM(C22:G22) -> 0
B23: 6 | C23: ='2. Brukerinput'!$C$75/2*'2. Brukerinput'!C85 -> 0 | D23: =C23*'2. Brukerinput'!$C$63 -> 0 | E23: ='2. Brukerinput'!$C$62*SUM('Beregning av lønnskostnader'!C23:D23) -> 0 | F23: =$C23*'2. Brukerinput'!$C$64 -> 0 | G23: =IF(C23>0,'2. Brukerinput'!$C$65/2,0) -> 0 | H23: =SUM(C23:G23) -> 0
B24: Totalt | C24: =SUM(C18:C23) -> 502895 | D24: =SUM(D18:D23) -> 60347.4 | E24: =SUM(E18:E23) -> 79417.178 | F24: =SUM(F18:F23) -> 10057.9 | G24: =SUM(G18:G23) -> 6000 | H24: =SUM(H18:H23) -> 658717.48
